Workbook

Sheet CAPA - ORÇAMENTO
C9: ORÇAMENTO
C14: OBJETO: | D14: ='DADOS DA OBRA'!$B$12 -> CONCLUSÃO DO REMANESCENTE DA OBRA DE REFORMA E AMPLIAÇÃO DA EFG EM ARTES BASILEU FRANÇA, LOCALIZADA EM GOIÂNIA-GO.
C15: LOCAL: | D15: ='DADOS DA OBRA'!$B$15&", "&'DADOS DA OBRA'!$B$18&"" -> AVENIDA UNIVERSITÁRIA, N. 1750, SETOR UNIVERSITÁRIO
C16: MUNICÍPIO: | D16: ='DADOS DA OBRA'!$J$18 & "-" & 'DADOS DA OBRA'!$M$18 -> GOIÂNIA-GO
C17: DATA: | D17: 10/04/2026
C18: REVISÃO: | D18: 00
C20: RESPONSÁVEL: | D20: ENGENHEIRO CIVIL LUCIANO MARTINS PARREIRA DE OLIVEIRA E SILVA
C21: CREA: | D21: 101881435-3/D-GO
C22: ART: | D22: 0
C23: RESPONSÁVEL: | D23: ENGENHEIRA CIVIL STEFANY SOARES VIEIRA
C24: CREA: | D24: 101914996-5/D-GO
C25: ART:
B500: CREA 101881435-3/D-GO CREA 1019149965D-GO

Sheet DADOS DA OBRA
B6: DADOS DO EMPREENDIMENTO
B11: OBJETO
B12: CONCLUSÃO DO REMANESCENTE DA OBRA DE REFORMA E AMPLIAÇÃO DA EFG EM ARTES BASILEU FRANÇA, LOCALIZADA EM GOIÂNIA-GO.
B14: ENDEREÇO
B15: AVENIDA UNIVERSITÁRIA, N. 1750
B17: Bairro | J17: Município | M17: UF
B18: SETOR UNIVERSITÁRIO | J18: GOIÂNIA | M18: GO
B20: Área Total de Construção | F20: BDI | J20: Data do Orçamento
F21: ='BDI NORMAL (SD) '!$J$25/100 -> 0.2507 | J21: 10/04/2026
B23: Prazo | F23: BDI REDUZIDO | J23: Valor sem BDI
B24: 6 MESES | F24: ='BDI DIFERENCIADO (SD) '!$J$25/100 -> 0.2086 | J24: ='ORÇAMENTO RESUMO (SD)'!$L$74 -> 25762830
B26: Vantajosidade | F26: Valor R$/M² | J26: Valor com BDI
B27: =VANTAJOSIDADE!$J$16 -> SEM DESONERAÇÃO | F27: ='ORÇAMENTO RESUMO (SD)'!$L$7 -> 0 | J27: ='ORÇAMENTO RESUMO (SD)'!$L$76 -> 31981615
B29: BASES
B30: SINAPI - 02/2026 - Goiás / SICRO3 - 10/2025 - Goiás / ORSE - 02/2026 - Sergipe / SEDOP - 03/2026 - Pará / SEINFRA - 028 - Ceará / SETOP - 01/2026 - Minas Gerais / IOPES - 12/2025 - Espírito Santo / SIURB - 07/2025 - São Paulo / SUDECAP - 10/2025 - Minas Gerais / CPOS/CDHU - 01/2026 - São Paulo / FDE - 01/2026 - São Paulo / AGESUL - 01/2026 - Mato Grosso do Sul / AGETOP CIVIL - 12/2025 - Goiás / AGETOP RODOVIARIA - 12/2025 - Goiás / EMBASA - 06/2025 - sem_encargos / EMOP - 02/2026 - Rio de Janeiro
B499: CREA 101881435-3/D-GO CREA 1019149965D-GO

Sheet CAPA - VANTAJOSIDADE
C13: VANTAJOSIDADE
B500: CREA 101881435-3/D-GO CREA 1019149965D-GO

Sheet VANTAJOSIDADE
B1: CÁLCULO DE VANTAJOSIDADE
B4: OBJETO: | C4: ='DADOS DA OBRA'!$B$12 -> CONCLUSÃO DO REMANESCENTE DA OBRA DE REFORMA E AMPLIAÇÃO DA EFG EM ARTES BASILEU FRANÇA, LOCALIZADA EM GOIÂNIA-GO. | M4: DATA: | N4: ='DADOS DA OBRA'!$J$21 -> 10/04/2026
B5: LOCAL: | C5: ='DADOS DA OBRA'!$B$15&", "&'DADOS DA OBRA'!$B$18&"" -> AVENIDA UNIVERSITÁRIA, N. 1750, SETOR UNIVERSITÁRIO | M5: REVISÃO: | N5: ='CAPA - ORÇAMENTO'!$D$18 -> 00
B6: MUNICÍPIO: | C6: ='DADOS DA OBRA'!$J$18 & "-" & 'DADOS DA OBRA'!$M$18 -> GOIÂNIA-GO
B8: O cálculo de vantajosidade se baseia na comparação direta entre os valores totais do orçamento e a escolha pelo que representa o menor valor, para tanto temos:
F11: a. Orçamento com desoneração: | J11: ='ORÇAMENTO SINTÉTICO (CD)'!L1487 -> 32719400
F12: b. Orçamento sem desoneração: | J12: ='ORÇAMENTO SINTÉTICO (SD)'!L1487 -> 31981615
F14: % de Diferença (a / b) | K14: =(J11/J12)-1 -> 0.023069034
F16: ORÇAMENTO COM MELHOR VANTAJOSIDADE: | J16: =+IF(J12<J11,"SEM DESONERAÇÃO","COM DESONERAÇÃO") -> SEM DESONERAÇÃO
B500: CREA 101881435-3/D-GO CREA 1019149965D-GO

Sheet CAPA - ORÇAMENTO (SD)
C13: ORÇAMENTO SEM DESONERAÇÃO
B500: CREA 101881435-3/D-GO CREA 1019149965D-GO

Sheet ORÇAMENTO RESUMO (SD)
B1: ORÇAMENTO RESUMO SEM DESONERAÇÃO
B3: OBJETO: | C3: ='DADOS DA OBRA'!$B$12 -> CONCLUSÃO DO REMANESCENTE DA OBRA DE REFORMA E AMPLIAÇÃO DA EFG EM ARTES BASILEU FRANÇA, LOCALIZADA EM GOIÂNIA-GO. | H3: DATA: | I3: ='DADOS DA OBRA'!$J$21 -> 10/04/2026 | K3: BDI OBRA: | L3: ='BDI NORMAL (SD) '!$J$25/100 -> 0.2507
B4: LOCAL: | C4: ='DADOS DA OBRA'!$B$15&", "&'DADOS DA OBRA'!$B$18&"" -> AVENIDA UNIVERSITÁRIA, N. 1750, SETOR UNIVERSITÁRIO | H4: REVISÃO: | I4: ='CAPA - ORÇAMENTO'!$D$18 -> 00 | K4: BDI DIFERENCIADO: | L4: ='BDI DIFERENCIADO (SD) '!$J$25/100 -> 0.2086
B5: MUNICÍPIO: | C5: ='DADOS DA OBRA'!$J$18 & "-" & 'DADOS DA OBRA'!$M$18 -> GOIÂNIA-GO | H5: PRAZO: | I5: ='DADOS DA OBRA'!$B$24 -> 6 MESES
B9: Item | E9: Descrição | J9: Total Sem BDI | K9: Total Com BDI | L9: Peso (%)
B10: ='ORÇAMENTO SINTÉTICO (SD)'!B11 -> 1 | E10: =VLOOKUP(B10,'ORÇAMENTO SINTÉTICO (SD)'!$B$11:$L$1488,4,FALSE) -> ADMINISTRAÇÃO LOCAL | J10: =VLOOKUP(B10,'ORÇAMENTO SINTÉTICO (SD)'!B6:L796,8,FALSE) -> 524239.2 | K10: =VLOOKUP(B10,'ORÇAMENTO SINTÉTICO (SD)'!B6:L796,11,FALSE) -> 655665.6 | L10: =K10/$L$76 -> 0.020501329
B11: ='ORÇAMENTO SINTÉTICO (SD)'!B20 -> 2 | E11: =VLOOKUP(B11,'ORÇAMENTO SINTÉTICO (SD)'!$B$11:$L$1488,4,FALSE) -> IMPLANTAÇÃO E ABRIGO DE RESÍDUOS | J11: =VLOOKUP(B11,'ORÇAMENTO SINTÉTICO (SD)'!B7:L796,8,FALSE) -> 3140874.4 | K11: =VLOOKUP(B11,'ORÇAMENTO SINTÉTICO (SD)'!B7:L796,11,FALSE) -> 3919512.6 | L11: =K11/$L$76 -> 0.12255518
B12: ='ORÇAMENTO SINTÉTICO (SD)'!B21 -> 2.1 | E12: =VLOOKUP(B12,'ORÇAMENTO SINTÉTICO (SD)'!$B$11:$L$1488,4,FALSE) -> SERVIÇOS PRELIMINARES | J12: =VLOOKUP(B12,'ORÇAMENTO SINTÉTICO (SD)'!B8:L796,8,FALSE) -> 18621.38 | K12: =VLOOKUP(B12,'ORÇAMENTO SINTÉTICO (SD)'!B8:L796,11,FALSE) -> 23288.99 | L12: =K12/$L$76 -> 0.00072819932
B13: ='ORÇAMENTO SINTÉTICO (SD)'!B25 -> 2.2 | E13: =VLOOKUP(B13,'ORÇAMENTO SINTÉTICO (SD)'!$B$11:$L$1488,4,FALSE) -> SERVIÇO EM TERRA | J13: =VLOOKUP(B13,'ORÇAMENTO SINTÉTICO (SD)'!B9:L796,8,FALSE) -> 14352.6 | K13: =VLOOKUP(B13,'ORÇAMENTO SINTÉTICO (SD)'!B9:L796,11,FALSE) -> 17934.58 | L13: =K13/$L$76 -> 0.00056077781
B14: ='ORÇAMENTO SINTÉTICO (SD)'!B31 -> 2.3 | E14: =VLOOKUP(B14,'ORÇAMENTO SINTÉTICO (SD)'!$B$11:$L$1488,4,FALSE) -> TRANSPORTES | J14: =VLOOKUP(B14,'ORÇAMENTO SINTÉTICO (SD)'!B10:L796,8,FALSE) -> 138864.66 | K14: =VLOOKUP(B14,'ORÇAMENTO SINTÉTICO (SD)'!B10:L796,11,FALSE) -> 173384.04 | L14: =K14/$L$76 -> 0.005421366
B15: ='ORÇAMENTO SINTÉTICO (SD)'!B34 -> 2.4 | E15: =VLOOKUP(B15,'ORÇAMENTO SINTÉTICO (SD)'!$B$11:$L$1488,4,FALSE) -> FUNDAÇÕES E SONDAGENS | J15: =VLOOKUP(B15,'ORÇAMENTO SINTÉTICO (SD)'!B11:L796,8,FALSE) -> 233644.18 | K15: =VLOOKUP(B15,'ORÇAMENTO SINTÉTICO (SD)'!B11:L796,11,FALSE) -> 292192.81 | L15: =K15/$L$76 -> 0.0091362744
B16: ='ORÇAMENTO SINTÉTICO (SD)'!B95 -> 2.5 | E16: =VLOOKUP(B16,'ORÇAMENTO SINTÉTICO (SD)'!$B$11:$L$1488,4,FALSE) -> ESTRUTURA | J16: =VLOOKUP(B16,'ORÇAMENTO SINTÉTICO (SD)'!B12:L796,8,FALSE) -> 137320.13 | K16: =VLOOKUP(B16,'ORÇAMENTO SINTÉTICO (SD)'!B12:L796,11,FALSE) -> 171725.24 | L16: =K16/$L$76 -> 0.0053694987
B17: ='ORÇAMENTO SINTÉTICO (SD)'!B114 -> 2.6 | E17: =VLOOKUP(B17,'ORÇAMENTO SINTÉTICO (SD)'!$B$11:$L$1488,4,FALSE) -> INST. ELÉT./TELEFÔNICA/CABEAMENTO ESTRUTURADO | J17: =VLOOKUP(B17,'ORÇAMENTO SINTÉTICO (SD)'!B13:L796,8,FALSE) -> 491877.87 | K17: =VLOOKUP(B17,'ORÇAMENTO SINTÉTICO (SD)'!B13:L796,11,FALSE) -> 615145.87 | L17: =K17/$L$76 -> 0.019234359
B18: ='ORÇAMENTO SINTÉTICO (SD)'!B229 -> 2.7 | E18: =VLOOKUP(B18,'ORÇAMENTO SINTÉTICO (SD)'!$B$11:$L$1488,4,FALSE) -> INSTALAÇÕES HDRO-SANITÁRIAS | J18: =VLOOKUP(B18,'ORÇAMENTO SINTÉTICO (SD)'!B14:L796,8,FALSE) -> 521582.13 | K18: =VLOOKUP(B18,'ORÇAMENTO SINTÉTICO (SD)'!B14:L796,11,FALSE) -> 645620.88 | L18: =K18/$L$76 -> 0.020187251
B19: ='ORÇAMENTO SINTÉTICO (SD)'!B360 -> 2.8 | E19: =VLOOKUP(B19,'ORÇAMENTO SINTÉTICO (SD)'!$B$11:$L$1488,4,FALSE) -> ALVENARIAS E DIVISÓRIAS | J19: =VLOOKUP(B19,'ORÇAMENTO SINTÉTICO (SD)'!B15:L796,8,FALSE) -> 155085.83 | K19: =VLOOKUP(B19,'ORÇAMENTO SINTÉTICO (SD)'!B15:L796,11,FALSE) -> 193961.57 | L19: =K19/$L$76 -> 0.0060647835
B20: ='ORÇAMENTO SINTÉTICO (SD)'!B367 -> 2.9 | E20: =VLOOKUP(B20,'ORÇAMENTO SINTÉTICO (SD)'!$B$11:$L$1488,4,FALSE) -> IMPERMEABILIZAÇÃO | J20: =VLOOKUP(B20,'ORÇAMENTO SINTÉTICO (SD)'!B16:L1483,8,FALSE) -> 11183.43 | K20: =VLOOKUP(B20,'ORÇAMENTO SINTÉTICO (SD)'!B16:L1483,11,FALSE) -> 13985.74 | L20: =K20/$L$76 -> 0.00043730562
B21: ='ORÇAMENTO SINTÉTICO (SD)'!B372 -> 2.10 | E21: =VLOOKUP(B21,'ORÇAMENTO SINTÉTICO (SD)'!$B$11:$L$1488,4,FALSE) -> COBERTURA | J21: =VLOOKUP(B21,'ORÇAMENTO SINTÉTICO (SD)'!B17:L1484,8,FALSE) -> 7181.04 | K21: =VLOOKUP(B21,'ORÇAMENTO SINTÉTICO (SD)'!B17:L1484,11,FALSE) -> 8979.99 | L21: =K21/$L$76 -> 0.00028078601
B22: ='ORÇAMENTO SINTÉTICO (SD)'!B377 -> 2.11 | E22: =VLOOKUP(B22,'ORÇAMENTO SINTÉTICO (SD)'!$B$11:$L$1488,4,FALSE) -> ESQUADRIAS METÁLICAS | J22: =VLOOKUP(B22,'ORÇAMENTO SINTÉTICO (SD)'!B18:L1485,8,FALSE) -> 201837.98 | K22: =VLOOKUP(B22,'ORÇAMENTO SINTÉTICO (SD)'!B18:L1485,11,FALSE) -> 252435.97 | L22: =K22/$L$76 -> 0.007893159
B23: ='ORÇAMENTO SINTÉTICO (SD)'!B388 -> 2.12 | E23: =VLOOKUP(B23,'ORÇAMENTO SINTÉTICO (SD)'!$B$11:$L$1488,4,FALSE) -> REVESTIMENTO DE PAREDES | J23: =VLOOKUP(B23,'ORÇAMENTO SINTÉTICO (SD)'!B19:L1486,8,FALSE) -> 268944.48 | K23: =VLOOKUP(B23,'ORÇAMENTO SINTÉTICO (SD)'!B19:L1486,11,FALSE) -> 336361.82 | L23: =K23/$L$76 -> 0.010517349
B24: ='ORÇAMENTO SINTÉTICO (SD)'!B393 -> 2.13 | E24: =VLOOKUP(B24,'ORÇAMENTO SINTÉTICO (SD)'!$B$11:$L$1488,4,FALSE) -> FORROS | J24: =VLOOKUP(B24,'ORÇAMENTO SINTÉTICO (SD)'!B20:L1487,8,FALSE) -> 1671.06 | K24: =VLOOKUP(B24,'ORÇAMENTO SINTÉTICO (SD)'!B20:L1487,11,FALSE) -> 2089.85 | L24: =K24/$L$76 -> 6.5345356e-05
B25: ='ORÇAMENTO SINTÉTICO (SD)'!B395 -> 2.14 | E25: =VLOOKUP(B25,'ORÇAMENTO SINTÉTICO (SD)'!$B$11:$L$1488,4,FALSE) -> REVESTIMENTO DE PISO | J25: =VLOOKUP(B25,'ORÇAMENTO SINTÉTICO (SD)'!B21:L1488,8,FALSE) -> 618097.74 | K25: =VLOOKUP(B25,'ORÇAMENTO SINTÉTICO (SD)'!B21:L1488,11,FALSE) -> 773015.85 | L25: =K25/$L$76 -> 0.024170632
B26: ='ORÇAMENTO SINTÉTICO (SD)'!B407 -> 2.15 | E26: =VLOOKUP(B26,'ORÇAMENTO SINTÉTICO (SD)'!$B$11:$L$1488,4,FALSE) -> PINTURA | J26: =VLOOKUP(B26,'ORÇAMENTO SINTÉTICO (SD)'!B22:L1489,8,FALSE) -> 96574.51 | K26: =VLOOKUP(B26,'ORÇAMENTO SINTÉTICO (SD)'!B22:L1489,11,FALSE) -> 120748.87 | L26: =K26/$L$76 -> 0.0037755714
B27: ='ORÇAMENTO SINTÉTICO (SD)'!B424 -> 2.16 | E27: =VLOOKUP(B27,'ORÇAMENTO SINTÉTICO (SD)'!$B$11:$L$1488,4,FALSE) -> PAISAGISMO | J27: =VLOOKUP(B27,'ORÇAMENTO SINTÉTICO (SD)'!B23:L1490,8,FALSE) -> 105575.81 | K27: =VLOOKUP(B27,'ORÇAMENTO SINTÉTICO (SD)'!B23:L1490,11,FALSE) -> 132020.16 | L27: =K27/$L$76 -> 0.0041280017
B28: ='ORÇAMENTO SINTÉTICO (SD)'!B437 -> 2.17 | E28: =VLOOKUP(B28,'ORÇAMENTO SINTÉTICO (SD)'!B11:L1488,4,FALSE) -> DIVERSOS | J28: =VLOOKUP(B28,'ORÇAMENTO SINTÉTICO (SD)'!B24:L1491,8,FALSE) -> 118459.53 | K28: =VLOOKUP(B28,'ORÇAMENTO SINTÉTICO (SD)'!B24:L1491,11,FALSE) -> 146620.4 | L28: =K28/$L$76 -> 0.0045845215
B29: ='ORÇAMENTO SINTÉTICO (SD)'!B444 -> 3 | E29: =VLOOKUP(B29,'ORÇAMENTO SINTÉTICO (SD)'!B11:L1488,4,FALSE) -> BLOCO 01 | J29: =VLOOKUP(B29,'ORÇAMENTO SINTÉTICO (SD)'!B25:L1492,8,FALSE) -> 4117305.1 | K29: =VLOOKUP(B29,'ORÇAMENTO SINTÉTICO (SD)'!B25:L1492,11,FALSE) -> 5080657.8 | L29: =K29/$L$76 -> 0.15886183
B30: ='ORÇAMENTO SINTÉTICO (SD)'!B445 -> 3.1 | E30: =VLOOKUP(B30,'ORÇAMENTO SINTÉTICO (SD)'!B24:L1488,4,FALSE) -> SERVIÇOS PRELIMINARES | J30: =VLOOKUP(B30,'ORÇAMENTO SINTÉTICO (SD)'!B25:L1493,8,FALSE) -> 32387.4 | K30: =VLOOKUP(B30,'ORÇAMENTO SINTÉTICO (SD)'!B25:L1493,11,FALSE) -> 40505.16 | L30: =K30/$L$76 -> 0.0012665139
B31: ='ORÇAMENTO SINTÉTICO (SD)'!B449 -> 3.2 | E31: =VLOOKUP(B31,'ORÇAMENTO SINTÉTICO (SD)'!B25:L1489,4,FALSE) -> SERVIÇO EM TERRA | J31: =VLOOKUP(B31,'ORÇAMENTO SINTÉTICO (SD)'!B25:L1494,8,FALSE) -> 13476.94 | K31: =VLOOKUP(B31,'ORÇAMENTO SINTÉTICO (SD)'!B25:L1494,11,FALSE) -> 16850.45 | L31: =K31/$L$76 -> 0.00052687927
B32: ='ORÇAMENTO SINTÉTICO (SD)'!B452 -> 3.3 | E32: =VLOOKUP(B32,'ORÇAMENTO SINTÉTICO (SD)'!B25:L1490,4,FALSE) -> TRANSPORTES | J32: =VLOOKUP(B32,'ORÇAMENTO SINTÉTICO (SD)'!B25:L1495,8,FALSE) -> 37823.4 | K32: =VLOOKUP(B32,'ORÇAMENTO SINTÉTICO (SD)'!B25:L1495,11,FALSE) -> 47243.8 | L32: =K32/$L$76 -> 0.0014772175
B33: ='ORÇAMENTO SINTÉTICO (SD)'!B455 -> 3.4 | E33: =VLOOKUP(B33,'ORÇAMENTO SINTÉTICO (SD)'!B25:L1491,4,FALSE) -> INST. ELÉT./TELEFÔNICA/CABEAMENTO ESTRUTURADO | J33: =VLOOKUP(B33,'ORÇAMENTO SINTÉTICO (SD)'!B25:L1496,8,FALSE) -> 397902.6 | K33: =VLOOKUP(B33,'ORÇAMENTO SINTÉTICO (SD)'!B25:L1496,11,FALSE) -> 497527.27 | L33: =K33/$L$76 -> 0.015556665
B34: ='ORÇAMENTO SINTÉTICO (SD)'!B553 -> 3.5 | E34: =VLOOKUP(B34,'ORÇAMENTO SINTÉTICO (SD)'!B25:L1492,4,FALSE) -> INSTALAÇÕES HDRO-SANITÁRIAS | J34: =VLOOKUP(B34,'ORÇAMENTO SINTÉTICO (SD)'!B25:L1497,8,FALSE) -> 250243.89 | K34: =VLOOKUP(B34,'ORÇAMENTO SINTÉTICO (SD)'!B25:L1497,11,FALSE) -> 312957.23 | L34: =K34/$L$76 -> 0.0097855356
B35: ='ORÇAMENTO SINTÉTICO (SD)'!B688 -> 3.6 | E35: =VLOOKUP(B35,'ORÇAMENTO SINTÉTICO (SD)'!B25:L1493,4,FALSE) -> INSTALAÇÕES ESPECIAIS | J35: =VLOOKUP(B35,'ORÇAMENTO SINTÉTICO (SD)'!B25:L1498,8,FALSE) -> 824932.53 | K35: =VLOOKUP(B35,'ORÇAMENTO SINTÉTICO (SD)'!B25:L1498,11,FALSE) -> 997002.32 | L35: =K35/$L$76 -> 0.031174233
B36: ='ORÇAMENTO SINTÉTICO (SD)'!B710 -> 3.7 | E36: =VLOOKUP(B36,'ORÇAMENTO SINTÉTICO (SD)'!B25:L1494,4,FALSE) -> ELEVADOR | J36: =VLOOKUP(B36,'ORÇAMENTO SINTÉTICO (SD)'!B25:L1499,8,FALSE) -> 224200 | K36: =VLOOKUP(B36,'ORÇAMENTO SINTÉTICO (SD)'!B25:L1499,11,FALSE) -> 270968.12 | L36: =K36/$L$76 -> 0.0084726216
B37: ='ORÇAMENTO SINTÉTICO (SD)'!B712 -> 3.8 | E37: =VLOOKUP(B37,'ORÇAMENTO SINTÉTICO (SD)'!B25:L1495,4,FALSE) -> ALVENARIAS E DIVISÓRIAS | J37: =VLOOKUP(B37,'ORÇAMENTO SINTÉTICO (SD)'!B26:L1500,8,FALSE) -> 447624.66 | K37: =VLOOKUP(B37,'ORÇAMENTO SINTÉTICO (SD)'!B26:L1500,11,FALSE) -> 559841.35 | L37: =K37/$L$76 -> 0.0175051
B38: ='ORÇAMENTO SINTÉTICO (SD)'!B718 -> 3.9 | E38: =VLOOKUP(B38,'ORÇAMENTO SINTÉTICO (SD)'!B25:L1496,4,FALSE) -> ISOLAMENTO TÉRMICO E ACÚSTICO | J38: =VLOOKUP(B38,'ORÇAMENTO SINTÉTICO (SD)'!B29:L1501,8,FALSE) -> 296508.57 | K38: =VLOOKUP(B38,'ORÇAMENTO SINTÉTICO (SD)'!B29:L1501,11,FALSE) -> 358358.77 | L38: =K38/$L$76 -> 0.011205149
B39: ='ORÇAMENTO SINTÉTICO (SD)'!B722 -> 3.10 | E39: =VLOOKUP(B39,'ORÇAMENTO SINTÉTICO (SD)'!B22:L1494,4,FALSE) -> ESQUADRIAS DE MADEIRA | J39: =VLOOKUP(B39,'ORÇAMENTO SINTÉTICO (SD)'!B27:L1499,8,FALSE) -> 211348.32 | K39: =VLOOKUP(B39,'ORÇAMENTO SINTÉTICO (SD)'!B27:L1499,11,FALSE) -> 264332.96 | L39: =K39/$L$76 -> 0.0082651536
B40: ='ORÇAMENTO SINTÉTICO (SD)'!B730 -> 3.11 | E40: =VLOOKUP(B40,'ORÇAMENTO SINTÉTICO (SD)'!B22:L1495,4,FALSE) -> ESQUADRIAS METÁLICAS | J40: =VLOOKUP(B40,'ORÇAMENTO SINTÉTICO (SD)'!B31:L1500,8,FALSE) -> 301763.99 | K40: =VLOOKUP(B40,'ORÇAMENTO SINTÉTICO (SD)'!B31:L1500,11,FALSE) -> 377414.56 | L40: =K40/$L$76 -> 0.011800985
B41: ='ORÇAMENTO SINTÉTICO (SD)'!B741 -> 3.12 | E41: =VLOOKUP(B41,'ORÇAMENTO SINTÉTICO (SD)'!B22:L1496,4,FALSE) -> BRISES FACHADAS | J41: =VLOOKUP(B41,'ORÇAMENTO SINTÉTICO (SD)'!B31:L1501,8,FALSE) -> 368402.4 | K41: =VLOOKUP(B41,'ORÇAMENTO SINTÉTICO (SD)'!B31:L1501,11,FALSE) -> 448957.03 | L41: =K41/$L$76 -> 0.014037973
B42: ='ORÇAMENTO SINTÉTICO (SD)'!B744 -> 3.13 | E42: =VLOOKUP(B42,'ORÇAMENTO SINTÉTICO (SD)'!B25:L1497,4,FALSE) -> VIDROS | J42: =VLOOKUP(B42,'ORÇAMENTO SINTÉTICO (SD)'!B30:L1502,8,FALSE) -> 23296.63 | K42: =VLOOKUP(B42,'ORÇAMENTO SINTÉTICO (SD)'!B30:L1502,11,FALSE) -> 29136.47 | L42: =K42/$L$76 -> 0.00091103811
B43: ='ORÇAMENTO SINTÉTICO (SD)'!B746 -> 3.14 | E43: =VLOOKUP(B43,'ORÇAMENTO SINTÉTICO (SD)'!B22:L1495,4,FALSE) -> REVESTIMENTO DE PAREDES | J43: =VLOOKUP(B43,'ORÇAMENTO SINTÉTICO (SD)'!B31:L1500,8,FALSE) -> 17444.64 | K43: =VLOOKUP(B43,'ORÇAMENTO SINTÉTICO (SD)'!B31:L1500,11,FALSE) -> 21813.27 | L43: =K43/$L$76 -> 0.00068205655
B44: ='ORÇAMENTO SINTÉTICO (SD)'!B749 -> 3.15 | E44: =VLOOKUP(B44,'ORÇAMENTO SINTÉTICO (SD)'!B22:L1496,4,FALSE) -> FORROS | J44: =VLOOKUP(B44,'ORÇAMENTO SINTÉTICO (SD)'!B31:L1501,8,FALSE) -> 168114.65 | K44: =VLOOKUP(B44,'ORÇAMENTO SINTÉTICO (SD)'!B31:L1501,11,FALSE) -> 210244.07 | L44: =K44/$L$76 -> 0.0065739041
...

Sheet ORÇAMENTO SINTÉTICO (SD)
B1: ORÇAMENTO SINTÉTICO SEM DESONERAÇÃO
H3: DATA: | I3: ='DADOS DA OBRA'!$J$21 -> 10/04/2026 | K3: BDI OBRA: | L3: ='BDI NORMAL (SD) '!$J$25/100 -> 0.2507
B4: OBJETO: | C4: ='DADOS DA OBRA'!B12 -> CONCLUSÃO DO REMANESCENTE DA OBRA DE REFORMA E AMPLIAÇÃO DA EFG EM ARTES BASILEU FRANÇA, LOCALIZADA EM GOIÂNIA-GO. | H4: REVISÃO: | I4: ='CAPA - ORÇAMENTO'!$D$18 -> 00 | K4: BDI DIFERENCIADO: | L4: ='BDI DIFERENCIADO (SD) '!$J$25/100 -> 0.2086
B5: LOCAL: | C5: ='DADOS DA OBRA'!$B$15&", "&'DADOS DA OBRA'!$B$18&"" -> AVENIDA UNIVERSITÁRIA, N. 1750, SETOR UNIVERSITÁRIO | H5: PRAZO: | I5: ='DADOS DA OBRA'!$B$24 -> 6 MESES
B6: MUNICÍPIO: | C6: ='DADOS DA OBRA'!$J$18 & "-" & 'DADOS DA OBRA'!$M$18 -> GOIÂNIA-GO
B10: Item | C10: Código | D10: Banco | E10: Descrição | F10: Und | G10: Qtd | H10: Valor Unit | I10: Valor Total sem BDI | J10: BDI | K10: Valor Unit com BDI | L10: Valor Total com BDI
B11: 1 | E11: ADMINISTRAÇÃO LOCAL | I11: =SUBTOTAL(9,I12:I19) -> 524239.2 | L11: =SUBTOTAL(9,L12:L19) -> 655665.6
B12: 1.1 | C12: 250101 | D12: AGETOP CIVIL | E12: ENGENHEIRO - (OBRAS CIVIS) | F12: MÊS | G12: 6 | H12: 24998.87 | I12: =TRUNC(G12 * H12, 2) -> 149993.22 | J12: =+$L$3 -> 0.2507 | K12: =TRUNC(H12 * (1 + J12), 2) -> 31266.08 | L12: =TRUNC(G12 * K12, 2) -> 187596.48
B13: 1.2 | C13: 250102 | D13: AGETOP CIVIL | E13: MESTRE DE OBRA - (OBRAS CIVIS) | F13: MÊS | G13: 6 | H13: 12985.9 | I13: =TRUNC(G13 * H13, 2) -> 77915.4 | J13: =+$L$3 -> 0.2507 | K13: =TRUNC(H13 * (1 + J13), 2) -> 16241.46 | L13: =TRUNC(G13 * K13, 2) -> 97448.76
B14: 1.3 | C14: 250103 | D14: AGETOP CIVIL | E14: ENCARREGADO - (OBRAS CIVIS) | F14: MÊS | G14: 12 | H14: 7069.47 | I14: =TRUNC(G14 * H14, 2) -> 84833.64 | J14: =+$L$3 -> 0.2507 | K14: =TRUNC(H14 * (1 + J14), 2) -> 8841.78 | L14: =TRUNC(G14 * K14, 2) -> 106101.36
B15: 1.4 | C15: 250105 | D15: AGETOP CIVIL | E15: ALMOXARIFE - (OBRAS CIVIS) | F15: MÊS | G15: 6 | H15: 5372.51 | I15: =TRUNC(G15 * H15, 2) -> 32235.06 | J15: =+$L$3 -> 0.2507 | K15: =TRUNC(H15 * (1 + J15), 2) -> 6719.39 | L15: =TRUNC(G15 * K15, 2) -> 40316.34
B16: 1.5 | C16: 250112 | D16: AGETOP CIVIL | E16: ADMINISTRATIVO DE OBRAS - (OBRAS CIVIS ) | F16: MÊS | G16: 6 | H16: 6301.56 | I16: =TRUNC(G16 * H16, 2) -> 37809.36 | J16: =+$L$3 -> 0.2507 | K16: =TRUNC(H16 * (1 + J16), 2) -> 7881.36 | L16: =TRUNC(G16 * K16, 2) -> 47288.16
B17: 1.6 | C17: 250109 | D17: AGETOP CIVIL | E17: APONTADOR - (OBRAS CIVIS) | F17: MÊS | G17: 6 | H17: 5372.51 | I17: =TRUNC(G17 * H17, 2) -> 32235.06 | J17: =+$L$3 -> 0.2507 | K17: =TRUNC(H17 * (1 + J17), 2) -> 6719.39 | L17: =TRUNC(G17 * K17, 2) -> 40316.34
B18: 1.7 | C18: 250113 | D18: AGETOP CIVIL | E18: TÉCNICO EM SEGURANÇA DO TRABALHO (O. CIVIS) | F18: MÊS | G18: 6 | H18: 6881.96 | I18: =TRUNC(G18 * H18, 2) -> 41291.76 | J18: =+$L$3 -> 0.2507 | K18: =TRUNC(H18 * (1 + J18), 2) -> 8607.26 | L18: =TRUNC(G18 * K18, 2) -> 51643.56
B19: 1.8 | C19: 250104 | D19: AGETOP CIVIL | E19: VIGIA DE OBRAS DIURNO - OBRAS CIVIS | F19: MÊS | G19: 18 | H19: 3773.65 | I19: =TRUNC(G19 * H19, 2) -> 67925.7 | J19: =+$L$3 -> 0.2507 | K19: =TRUNC(H19 * (1 + J19), 2) -> 4719.7 | L19: =TRUNC(G19 * K19, 2) -> 84954.6
B20: 2 | E20: IMPLANTAÇÃO E ABRIGO DE RESÍDUOS | I20: =SUBTOTAL(9,I21:I443) -> 3140874.4 | L20: =SUBTOTAL(9,L21:L443) -> 3919512.6
B21: 2.1 | E21: SERVIÇOS PRELIMINARES | I21: =SUBTOTAL(9,I22:I24) -> 18621.38 | L21: =SUBTOTAL(9,L22:L24) -> 23288.99
B22: 2.1.1 | C22: 020701 | D22: AGETOP CIVIL | E22: LOCAÇÃO DA OBRA, EXECUÇÃO DE GABARITO SEM REAPROVEITAMENTO, INCLUSO PINTURA (FACE INTERNA DO RIPÃO 15CM) E PIQUETE COM TESTEMUNHA | F22: m² | G22: 34.97 | H22: 6.15 | I22: =TRUNC(G22 * H22, 2) -> 215.06 | J22: =+$L$3 -> 0.2507 | K22: =TRUNC(H22 * (1 + J22), 2) -> 7.69 | L22: =TRUNC(G22 * K22, 2) -> 268.91
B23: 2.1.2 | C23: 98459 | D23: SINAPI | E23: TAPUME COM TELHA METÁLICA. AF_03/2024 | F23: m² | G23: 160 | H23: 102.69 | I23: =TRUNC(G23 * H23, 2) -> 16430.4 | J23: =+$L$3 -> 0.2507 | K23: =TRUNC(H23 * (1 + J23), 2) -> 128.43 | L23: =TRUNC(G23 * K23, 2) -> 20548.8
B24: 2.1.3 | C24: 180304 | D24: AGETOP CIVIL | E24: PORTÃO DE ABRIR 01 FOLHA CHAPA 14 PT-4 C/FERRAGENS | F24: m² | G24: 4 | H24: 493.98 | I24: =TRUNC(G24 * H24, 2) -> 1975.92 | J24: =+$L$3 -> 0.2507 | K24: =TRUNC(H24 * (1 + J24), 2) -> 617.82 | L24: =TRUNC(G24 * K24, 2) -> 2471.28
B25: 2.2 | E25: SERVIÇO EM TERRA | I25: =SUBTOTAL(9,I26:I30) -> 14352.6 | L25: =SUBTOTAL(9,L26:L30) -> 17934.58
B26: 2.2.1 | C26: 040101 | D26: AGETOP CIVIL | E26: ESCAVACAO MANUAL DE VALAS < 1 MTS. (OBRAS CIVIS) | F26: m³ | G26: 179.99 | H26: 52.26 | I26: =TRUNC(G26 * H26, 2) -> 9406.27 | J26: =+$L$3 -> 0.2507 | K26: =TRUNC(H26 * (1 + J26), 2) -> 65.36 | L26: =TRUNC(G26 * K26, 2) -> 11764.14
B27: 2.2.2 | C27: 040904 | D27: AGETOP CIVIL | E27: REATERRO COM APILOAMENTO MECÂNICO | F27: m³ | G27: 409.33 | H27: 5.49 | I27: =TRUNC(G27 * H27, 2) -> 2247.22 | J27: =+$L$3 -> 0.2507 | K27: =TRUNC(H27 * (1 + J27), 2) -> 6.86 | L27: =TRUNC(G27 * K27, 2) -> 2808
B28: 2.2.3 | C28: 041004 | D28: AGETOP CIVIL | E28: ESCAVACAO MECANICA | F28: m³ | G28: 44.5 | H28: 2.39 | I28: =TRUNC(G28 * H28, 2) -> 106.35 | J28: =+$L$3 -> 0.2507 | K28: =TRUNC(H28 * (1 + J28), 2) -> 2.98 | L28: =TRUNC(G28 * K28, 2) -> 132.61
B29: 2.2.4 | C29: 040905 | D29: AGETOP CIVIL | E29: APILOAMENTO MECÂNICO | F29: m² | G29: 448.81 | H29: 0.59 | I29: =TRUNC(G29 * H29, 2) -> 264.79 | J29: =+$L$3 -> 0.2507 | K29: =TRUNC(H29 * (1 + J29), 2) -> 0.73 | L29: =TRUNC(G29 * K29, 2) -> 327.63
B30: 2.2.5 | C30: 041005 | D30: AGETOP CIVIL | E30: CARGA MECANIZADA | F30: m³ | G30: 1551.98 | H30: 1.5 | I30: =TRUNC(G30 * H30, 2) -> 2327.97 | J30: =+$L$3 -> 0.2507 | K30: =TRUNC(H30 * (1 + J30), 2) -> 1.87 | L30: =TRUNC(G30 * K30, 2) -> 2902.2
B31: 2.3 | E31: TRANSPORTES | I31: =SUBTOTAL(9,I32:I33) -> 138864.66 | L31: =SUBTOTAL(9,L32:L33) -> 173384.04
B32: 2.3.1 | C32: 030105 | D32: AGETOP CIVIL | E32: TRANSPORTE DE ENTULHO EM CAÇAMBA ESTACIONÁRIA INCLUSO A CARGA MANUAL | F32: m³ | G32: 514.48 | H32: 111.24 | I32: =TRUNC(G32 * H32, 2) -> 57230.75 | J32: =+$L$3 -> 0.2507 | K32: =TRUNC(H32 * (1 + J32), 2) -> 139.12 | L32: =TRUNC(G32 * K32, 2) -> 71574.45
B33: 2.3.2 | C33: 041006 | D33: AGETOP CIVIL | E33: TRANSPORTE DE MATERIAL ESCAVADO M3.KM | F33: m3km | G33: 31039.51 | H33: 2.63 | I33: =TRUNC(G33 * H33, 2) -> 81633.91 | J33: =+$L$3 -> 0.2507 | K33: =TRUNC(H33 * (1 + J33), 2) -> 3.28 | L33: =TRUNC(G33 * K33, 2) -> 101809.59
B34: 2.4 | E34: FUNDAÇÕES E SONDAGENS | I34: =SUBTOTAL(9,I35:I94) -> 233644.18 | L34: =SUBTOTAL(9,L35:L94) -> 292192.81
B35: 2.4.1 | E35: ESTACAS | I35: =SUBTOTAL(9,I36:I43) -> 26138.43 | L35: =SUBTOTAL(9,L36:L43) -> 32686.5
B36: 2.4.1.1 | C36: 00112 | D36: Próprio | E36: CÓPIA DE FDE (02.02.101) - ESTACA ESCAVADA MECANICAMENTE DIAM 30CM, EXCLUSO CONCRETO. (Adaptado para atendimento ao Decreto Estadual 9900/2021). | F36: M | G36: 158 | H36: 22.79 | I36: =TRUNC(G36 * H36, 2) -> 3600.82 | J36: =+$L$3 -> 0.2507 | K36: =TRUNC(H36 * (1 + J36), 2) -> 28.5 | L36: =TRUNC(G36 * K36, 2) -> 4503
B37: 2.4.1.2 | C37: 052004 | D37: AGETOP CIVIL | E37: ACO CA-50 - 8,0 MM (5/16") - (OBRAS CIVIS) | F37: Kg | G37: 77.23 | H37: 12.13 | I37: =TRUNC(G37 * H37, 2) -> 936.79 | J37: =+$L$3 -> 0.2507 | K37: =TRUNC(H37 * (1 + J37), 2) -> 15.17 | L37: =TRUNC(G37 * K37, 2) -> 1171.57
B38: 2.4.1.3 | C38: 052005 | D38: AGETOP CIVIL | E38: ACO CA-50 - 10,0 MM (3/8") - (OBRAS CIVIS) | F38: Kg | G38: 138.37 | H38: 11.86 | I38: =TRUNC(G38 * H38, 2) -> 1641.06 | J38: =+$L$3 -> 0.2507 | K38: =TRUNC(H38 * (1 + J38), 2) -> 14.83 | L38: =TRUNC(G38 * K38, 2) -> 2052.02
B39: 2.4.1.4 | C39: 052014 | D39: AGETOP CIVIL | E39: ACO CA-60 - 5,0 MM - (OBRAS CIVIS) | F39: Kg | G39: 560.48 | H39: 12.11 | I39: =TRUNC(G39 * H39, 2) -> 6787.41 | J39: =+$L$3 -> 0.2507 | K39: =TRUNC(H39 * (1 + J39), 2) -> 15.14 | L39: =TRUNC(G39 * K39, 2) -> 8485.66
B40: 2.4.1.5 | C40: 060525 | D40: AGETOP CIVIL | E40: CONCRETO USINADO BOMBEÁVEL FCK=30 MPA (O.C.) | F40: m³ | G40: 17.98 | H40: 604.6 | I40: =TRUNC(G40 * H40, 2) -> 10870.7 | J40: =+$L$3 -> 0.2507 | K40: =TRUNC(H40 * (1 + J40), 2) -> 756.17 | L40: =TRUNC(G40 * K40, 2) -> 13595.93
B41: 2.4.1.6 | C41: 051045 | D41: AGETOP CIVIL | E41: TAXA DE BOMBEAMENTO CONCRETO MÍNIMO - 10 M3 (O.C.) | F41: m³ | G41: 17.98 | H41: 56.67 | I41: =TRUNC(G41 * H41, 2) -> 1018.92 | J41: =+$L$3 -> 0.2507 | K41: =TRUNC(H41 * (1 + J41), 2) -> 70.87 | L41: =TRUNC(G41 * K41, 2) -> 1274.24
B42: 2.4.1.7 | C42: 051060 | D42: AGETOP CIVIL | E42: LANÇAMENTO/APLICAÇÃO/ADENSAMENTO DE CONCRETO USINADO BOMBEADO EM FUNDAÇÃO | F42: m³ | G42: 17.98 | H42: 58.3 | I42: =TRUNC(G42 * H42, 2) -> 1048.23 | J42: =+$L$3 -> 0.2507 | K42: =TRUNC(H42 * (1 + J42), 2) -> 72.91 | L42: =TRUNC(G42 * K42, 2) -> 1310.92
B43: 2.4.1.8 | C43: 050251 | D43: AGETOP CIVIL | E43: CORPO DE PROVA | F43: Un | G43: 14 | H43: 16.75 | I43: =TRUNC(G43 * H43, 2) -> 234.5 | J43: =+$L$3 -> 0.2507 | K43: =TRUNC(H43 * (1 + J43), 2) -> 20.94 | L43: =TRUNC(G43 * K43, 2) -> 293.16
B44: 2.4.2 | E44: SAPATAS | I44: =SUBTOTAL(9,I45:I55) -> 4878.86 | L44: =SUBTOTAL(9,L45:L55) -> 6101.7
...

Sheet CAPA - COMPOSIÇÕES (SD)
C13: COMPOSIÇÕES SEM DESONERAÇÃO
B500: CREA 101881435-3/D-GO CREA 1019149965D-GO

Sheet COMPOSIÇÕES (SD)
B1: COMPOSIÇÕES SEM DESONERAÇÃO SEM INCIDÊNCIA DE BDI
B2: OBJETO: | C2: ='DADOS DA OBRA'!B12 -> CONCLUSÃO DO REMANESCENTE DA OBRA DE REFORMA E AMPLIAÇÃO DA EFG EM ARTES BASILEU FRANÇA, LOCALIZADA EM GOIÂNIA-GO. | G2: DATA: | H2: ='DADOS DA OBRA'!$J$21 -> 10/04/2026 | K2: BDI OBRA: | L2: ='BDI NORMAL (SD) '!$J$25/100 -> 0.2507
B3: LOCAL: | C3: ='DADOS DA OBRA'!$B$15&", "&'DADOS DA OBRA'!$B$18&"" -> AVENIDA UNIVERSITÁRIA, N. 1750, SETOR UNIVERSITÁRIO | G3: REVISÃO: | H3: ='CAPA - ORÇAMENTO'!$D$18 -> 00 | K3: BDI DIFERENCIADO: | L3: ='BDI DIFERENCIADO (SD) '!$J$25/100 -> 0.2086
B4: MUNICÍPIO: | C4: ='DADOS DA OBRA'!$J$18 & "-" & 'DADOS DA OBRA'!$M$18 -> GOIÂNIA-GO | G4: PRAZO: | H4: ='DADOS DA OBRA'!$B$24 -> 6 MESES | K4: ÁREA CONSTRUÍDA (m²) | L4: ='ORÇAMENTO RESUMO (SD)'!$L$5 -> 0
K5: ÁREA VIRTUAL (m²) | L5: ='ORÇAMENTO RESUMO (SD)'!$L$6 -> 0
K6: VALOR R$/M² | L6: ='ORÇAMENTO RESUMO (SD)'!$L$7 -> 0
B8: Composições Principais
B9: 1.1 | C9: Código | D9: Banco | E9: Descrição | F9: Tipo | H9: Und | I9: Quant. | J9: Porcent. | K9: Valor Unit | L9: Total
B10: Composição | C10: 250101 | D10: AGETOP CIVIL | E10: ENGENHEIRO - (OBRAS CIVIS) | F10: 2501 | H10: MÊS | I10: 1 | K10: 24998.87 | L10: 24998.87
B11: Insumo | C11: 0001 | D11: AGETOP CIVIL | E11: ENGENHEIRO | F11: Mão de Obra | H11: MES | I11: 1 | J11: 0 | K11: 24998.87 | L11: 24998.87
G12: MO sem LS => | H12: 24998.87 | I12: LS => | J12: 0 | K12: MO com LS => | L12: 24998.87
G13: Valor do BDI => | H13: 0 | J13: Valor com BDI => | L13: 24998.87
B15: 1.2 | C15: Código | D15: Banco | E15: Descrição | F15: Tipo | H15: Und | I15: Quant. | J15: Porcent. | K15: Valor Unit | L15: Total
B16: Composição | C16: 250102 | D16: AGETOP CIVIL | E16: MESTRE DE OBRA - (OBRAS CIVIS) | F16: 2501 | H16: MÊS | I16: 1 | K16: 12985.9 | L16: 12985.9
B17: Insumo | C17: 0003 | D17: AGETOP CIVIL | E17: MESTRE DE OBRAS | F17: Mão de Obra | H17: MES | I17: 1 | J17: 0 | K17: 12985.9 | L17: 12985.9
G18: MO sem LS => | H18: 12985.9 | I18: LS => | J18: 0 | K18: MO com LS => | L18: 12985.9
G19: Valor do BDI => | H19: 0 | J19: Valor com BDI => | L19: 12985.9
B21: 1.3 | C21: Código | D21: Banco | E21: Descrição | F21: Tipo | H21: Und | I21: Quant. | J21: Porcent. | K21: Valor Unit | L21: Total
B22: Composição | C22: 250103 | D22: AGETOP CIVIL | E22: ENCARREGADO - (OBRAS CIVIS) | F22: 2501 | H22: MÊS | I22: 1 | K22: 7069.47 | L22: 7069.47
B23: Insumo | C23: 0002 | D23: AGETOP CIVIL | E23: ENCARREGADO | F23: Mão de Obra | H23: MES | I23: 1 | J23: 0 | K23: 7069.47 | L23: 7069.47
G24: MO sem LS => | H24: 7069.47 | I24: LS => | J24: 0 | K24: MO com LS => | L24: 7069.47
G25: Valor do BDI => | H25: 0 | J25: Valor com BDI => | L25: 7069.47
B27: 1.4 | C27: Código | D27: Banco | E27: Descrição | F27: Tipo | H27: Und | I27: Quant. | J27: Porcent. | K27: Valor Unit | L27: Total
B28: Composição | C28: 250105 | D28: AGETOP CIVIL | E28: ALMOXARIFE - (OBRAS CIVIS) | F28: 2501 | H28: MÊS | I28: 1 | K28: 5372.51 | L28: 5372.51
B29: Insumo | C29: 0017 | D29: AGETOP CIVIL | E29: ALMOXARIFE/APONTADOR | F29: Mão de Obra | H29: MES | I29: 1 | J29: 0 | K29: 5372.51 | L29: 5372.51
G30: MO sem LS => | H30: 5372.51 | I30: LS => | J30: 0 | K30: MO com LS => | L30: 5372.51
G31: Valor do BDI => | H31: 0 | J31: Valor com BDI => | L31: 5372.51
B33: 1.5 | C33: Código | D33: Banco | E33: Descrição | F33: Tipo | H33: Und | I33: Quant. | J33: Porcent. | K33: Valor Unit | L33: Total
B34: Composição | C34: 250112 | D34: AGETOP CIVIL | E34: ADMINISTRATIVO DE OBRAS - (OBRAS CIVIS ) | F34: 2501 | H34: MÊS | I34: 1 | K34: 6301.56 | L34: 6301.56
B35: Insumo | C35: 0035 | D35: AGETOP CIVIL | E35: ADMINISTRATIVO DE OBRAS | F35: Mão de Obra | H35: MES | I35: 1 | J35: 0 | K35: 6301.56 | L35: 6301.56
G36: MO sem LS => | H36: 6301.56 | I36: LS => | J36: 0 | K36: MO com LS => | L36: 6301.56
G37: Valor do BDI => | H37: 0 | J37: Valor com BDI => | L37: 6301.56
B39: 1.6 | C39: Código | D39: Banco | E39: Descrição | F39: Tipo | H39: Und | I39: Quant. | J39: Porcent. | K39: Valor Unit | L39: Total
B40: Composição | C40: 250109 | D40: AGETOP CIVIL | E40: APONTADOR - (OBRAS CIVIS) | F40: 2501 | H40: MÊS | I40: 1 | K40: 5372.51 | L40: 5372.51
B41: Insumo | C41: 0017 | D41: AGETOP CIVIL | E41: ALMOXARIFE/APONTADOR | F41: Mão de Obra | H41: MES | I41: 1 | J41: 0 | K41: 5372.51 | L41: 5372.51
G42: MO sem LS => | H42: 5372.51 | I42: LS => | J42: 0 | K42: MO com LS => | L42: 5372.51
G43: Valor do BDI => | H43: 0 | J43: Valor com BDI => | L43: 5372.51
B45: 1.7 | C45: Código | D45: Banco | E45: Descrição | F45: Tipo | H45: Und | I45: Quant. | J45: Porcent. | K45: Valor Unit | L45: Total
B46: Composição | C46: 250113 | D46: AGETOP CIVIL | E46: TÉCNICO EM SEGURANÇA DO TRABALHO (O. CIVIS) | F46: 2501 | H46: MÊS | I46: 1 | K46: 6881.96 | L46: 6881.96
B47: Insumo | C47: 0038 | D47: AGETOP CIVIL | E47: TÉCNICO EM SEGURANÇA DO TRABALHO | F47: Mão de Obra | H47: MES | I47: 1 | J47: 0 | K47: 6881.96 | L47: 6881.96
...

Sheet CAPA - CRONOGRAMA (SD)
C13: CRONOGRAMA FÍSICO-FINANCEIRO SEM DESONERAÇÃO
B500: CREA 101881435-3/D-GO CREA 1019149965D-GO

Sheet CRONOGRAMA (SD)
B1: CRONOGRAMA FÍSICO-FINANCEIRO SEM DESONERAÇÃO / COM INCIDÊNCIA DE BDI
G7: DATA: | J7: ='DADOS DA OBRA'!J21 -> 10/04/2026 | Z7: BDI OBRA: | AA7: ='BDI NORMAL (SD) '!$J$25/100 -> 0.2507
B8: OBJETO: | C8: ='DADOS DA OBRA'!B12 -> CONCLUSÃO DO REMANESCENTE DA OBRA DE REFORMA E AMPLIAÇÃO DA EFG EM ARTES BASILEU FRANÇA, LOCALIZADA EM GOIÂNIA-GO. | G8: REVISÃO: | J8: 00 | Z8: BDI DIFERENCIADO: | AA8: ='BDI DIFERENCIADO (SD) '!$J$25/100 -> 0.2086
B9: LOCAL: | C9: ='DADOS DA OBRA'!$B$15&", "&'DADOS DA OBRA'!$B$18&"" -> AVENIDA UNIVERSITÁRIA, N. 1750, SETOR UNIVERSITÁRIO | G9: PRAZO: | J9: ='DADOS DA OBRA'!B24 -> 6 MESES
B10: MUNICÍPIO: | C10: ='DADOS DA OBRA'!$J$18 & "-" & 'DADOS DA OBRA'!$M$18 -> GOIÂNIA-GO
B13: ITEM | C13: SERVIÇOS | D13: TOTAL POR ETAPA | F13: MESES
F14: MÊS 01 - 30 DIAS | J14: MÊS 02 - 60 DIAS | N14: MÊS 03 - 90 DIAS | R14: MÊS 04 - 120 DIAS | V14: MÊS 05 - 150 DIAS | Z14: MÊS 06 - 180 DIAS
B16: ='ORÇAMENTO RESUMO (SD)'!B10 -> 1 | C16: =VLOOKUP(B16,'ORÇAMENTO RESUMO (SD)'!$B$10:$L$72,4,FALSE) -> ADMINISTRAÇÃO LOCAL | D16: =VLOOKUP(B16,'ORÇAMENTO RESUMO (SD)'!$B$10:$L$72,10,FALSE) -> 655665.6 | F16: =F18*$D16 -> 55066.019 | J16: =J18*$D16 -> 131413.96 | N16: =N18*$D16 -> 133076.68 | R16: =R18*$D16 -> 173274.35 | V16: =V18*$D16 -> 134948.2 | Z16: =Z18*$D16 -> 27886.387
D17: =ROUND(D16/$D$205,6) -> 0.020501 | E17: =ROUND(SUM(F18:AC18),4) -> 1
F18: =+SUM(F22,F25,F28,F31,F34,F37,F40,F43,F46,F49,F52,F55,F58,F61,F64,F67,F70,F76,F79,F82,F85,F88,F91,F94,F97,F100,F103,F106,F109,F112,F115,F118,F121,F124,F127,F130,F136,F139,F142,F145,F148,F151,F154,F157,F160,F163,F166,F169,F172,F175,F178,F181,F184,F187,F190,F193,F196,F199,F202)/($D$205-$D$16) -> 0.083984914 | J18: =+SUM(J22,J25,J28,J31,J34,J37,J40,J43,J46,J49,J52,J55,J58,J61,J64,J67,J70,J76,J79,J82,J85,J88,J91,J94,J97,J100,J103,J106,J109,J112,J115,J118,J121,J124,J127,J130,J136,J139,J142,J145,J148,J151,J154,J157,J160,J163,J166,J169,J172,J175,J178,J181,J184,J187,J190,J193,J196,J199,J202)/($D$205-$D$16) -> 0.20042833 | N18: =+SUM(N22,N25,N28,N31,N34,N37,N40,N43,N46,N49,N52,N55,N58,N61,N64,N67,N70,N76,N79,N82,N85,N88,N91,N94,N97,N100,N103,N106,N109,N112,N115,N118,N121,N124,N127,N130,N136,N139,N142,N145,N148,N151,N154,N157,N160,N163,N166,N169,N172,N175,N178,N181,N184,N187,N190,N193,N196,N199,N202)/($D$205-$D$16) -> 0.20296426 | R18: =+SUM(R22,R25,R28,R31,R34,R37,R40,R43,R46,R49,R52,R55,R58,R61,R64,R67,R70,R76,R79,R82,R85,R88,R91,R94,R97,R100,R103,R106,R109,R112,R115,R118,R121,R124,R127,R130,R136,R139,R142,R145,R148,R151,R154,R157,R160,R163,R166,R169,R172,R175,R178,R181,R184,R187,R190,R193,R196,R199,R202)/($D$205-$D$16) -> 0.26427244 | V18: =+SUM(V22,V25,V28,V31,V34,V37,V40,V43,V46,V49,V52,V55,V58,V61,V64,V67,V70,V76,V79,V82,V85,V88,V91,V94,V97,V100,V103,V106,V109,V112,V115,V118,V121,V124,V127,V130,V136,V139,V142,V145,V148,V151,V154,V157,V160,V163,V166,V169,V172,V175,V178,V181,V184,V187,V190,V193,V196,V199,V202)/($D$205-$D$16) -> 0.20581864 | Z18: =+SUM(Z22,Z25,Z28,Z31,Z34,Z37,Z40,Z43,Z46,Z49,Z52,Z55,Z58,Z61,Z64,Z67,Z70,Z76,Z79,Z82,Z85,Z88,Z91,Z94,Z97,Z100,Z103,Z106,Z109,Z112,Z115,Z118,Z121,Z124,Z127,Z130,Z136,Z139,Z142,Z145,Z148,Z151,Z154,Z157,Z160,Z163,Z166,Z169,Z172,Z175,Z178,Z181,Z184,Z187,Z190,Z193,Z196,Z199,Z202)/($D$205-$D$16) -> 0.042531417
B19: ='ORÇAMENTO RESUMO (SD)'!B11 -> 2 | C19: =VLOOKUP(B19,'ORÇAMENTO RESUMO (SD)'!$B$10:$L$72,4,FALSE) -> IMPLANTAÇÃO E ABRIGO DE RESÍDUOS | D19: =VLOOKUP(B19,'ORÇAMENTO RESUMO (SD)'!$B$10:$L$72,10,FALSE) -> 3919512.6
D20: =ROUND(D19/$D$205,6) -> 0.122555
B22: ='ORÇAMENTO RESUMO (SD)'!B12 -> 2.1 | C22: =VLOOKUP(B22,'ORÇAMENTO RESUMO (SD)'!$B$10:$L$72,4,FALSE) -> SERVIÇOS PRELIMINARES | D22: =VLOOKUP(B22,'ORÇAMENTO RESUMO (SD)'!$B$10:$L$72,10,FALSE) -> 23288.99 | F22: =F24*$D22 -> 23288.99 | J22: =J24*$D22 -> 0 | N22: =N24*$D22 -> 0 | R22: =R24*$D22 -> 0 | V22: =V24*$D22 -> 0 | Z22: =Z24*$D22 -> 0
D23: =ROUND(D22/$D$205,6) -> 0.000728 | E23: =ROUND(SUM(F24:AC24),4) -> 1
F24: 1
B25: ='ORÇAMENTO RESUMO (SD)'!B13 -> 2.2 | C25: =VLOOKUP(B25,'ORÇAMENTO RESUMO (SD)'!$B$10:$L$72,4,FALSE) -> SERVIÇO EM TERRA | D25: =VLOOKUP(B25,'ORÇAMENTO RESUMO (SD)'!$B$10:$L$72,10,FALSE) -> 17934.58 | F25: =F27*$D25 -> 5380.374 | J25: =J27*$D25 -> 5380.374 | N25: =N27*$D25 -> 7173.832 | R25: =R27*$D25 -> 0 | V25: =V27*$D25 -> 0 | Z25: =Z27*$D25 -> 0
D26: =ROUND(D25/$D$205,6) -> 0.000561 | E26: =ROUND(SUM(F27:AC27),4) -> 1
F27: 0.3 | J27: 0.3 | N27: 0.4
B28: ='ORÇAMENTO RESUMO (SD)'!B14 -> 2.3 | C28: =VLOOKUP(B28,'ORÇAMENTO RESUMO (SD)'!$B$10:$L$72,4,FALSE) -> TRANSPORTES | D28: =VLOOKUP(B28,'ORÇAMENTO RESUMO (SD)'!$B$10:$L$72,10,FALSE) -> 173384.04 | F28: =F30*$D28 -> 26007.606 | J28: =J30*$D28 -> 26007.606 | N28: =N30*$D28 -> 34676.808 | R28: =R30*$D28 -> 34676.808 | V28: =V30*$D28 -> 26007.606 | Z28: =Z30*$D28 -> 26007.606
D29: =ROUND(D28/$D$205,6) -> 0.005421 | E29: =ROUND(SUM(F30:AC30),4) -> 1
F30: 0.15 | J30: 0.15 | N30: 0.2 | R30: 0.2 | V30: 0.15 | Z30: 0.15
B31: ='ORÇAMENTO RESUMO (SD)'!B15 -> 2.4 | C31: =VLOOKUP(B31,'ORÇAMENTO RESUMO (SD)'!$B$10:$L$72,4,FALSE) -> FUNDAÇÕES E SONDAGENS | D31: =VLOOKUP(B31,'ORÇAMENTO RESUMO (SD)'!$B$10:$L$72,10,FALSE) -> 292192.81 | F31: =F33*$D31 -> 116877.12 | J31: =J33*$D31 -> 116877.12 | N31: =N33*$D31 -> 58438.562 | R31: =R33*$D31 -> 0 | V31: =V33*$D31 -> 0 | Z31: =Z33*$D31 -> 0
D32: =ROUND(D31/$D$205,6) -> 0.009136 | E32: =ROUND(SUM(F33:AC33),4) -> 1
F33: 0.4 | J33: 0.4 | N33: 0.2
B34: ='ORÇAMENTO RESUMO (SD)'!B16 -> 2.5 | C34: =VLOOKUP(B34,'ORÇAMENTO RESUMO (SD)'!$B$10:$L$72,4,FALSE) -> ESTRUTURA | D34: =VLOOKUP(B34,'ORÇAMENTO RESUMO (SD)'!$B$10:$L$72,10,FALSE) -> 171725.24 | F34: =F36*$D34 -> 0 | J34: =J36*$D34 -> 85862.62 | N34: =N36*$D34 -> 85862.62 | R34: =R36*$D34 -> 0 | V34: =V36*$D34 -> 0 | Z34: =Z36*$D34 -> 0
D35: =ROUND(D34/$D$205,6) -> 0.005369 | E35: =ROUND(SUM(F36:AC36),4) -> 1
J36: 0.5 | N36: 0.5
B37: ='ORÇAMENTO RESUMO (SD)'!B17 -> 2.6 | C37: =VLOOKUP(B37,'ORÇAMENTO RESUMO (SD)'!$B$10:$L$72,4,FALSE) -> INST. ELÉT./TELEFÔNICA/CABEAMENTO ESTRUTURADO | D37: =VLOOKUP(B37,'ORÇAMENTO RESUMO (SD)'!$B$10:$L$72,10,FALSE) -> 615145.87 | F37: =F39*$D37 -> 0 | J37: =J39*$D37 -> 153786.47 | N37: =N39*$D37 -> 153786.47 | R37: =R39*$D37 -> 153786.47 | V37: =V39*$D37 -> 153786.47 | Z37: =Z39*$D37 -> 0
D38: =ROUND(D37/$D$205,6) -> 0.019234 | E38: =ROUND(SUM(F39:AC39),4) -> 1
J39: 0.25 | N39: 0.25 | R39: 0.25 | V39: 0.25
B40: ='ORÇAMENTO RESUMO (SD)'!B18 -> 2.7 | C40: =VLOOKUP(B40,'ORÇAMENTO RESUMO (SD)'!$B$10:$L$72,4,FALSE) -> INSTALAÇÕES HDRO-SANITÁRIAS | D40: =VLOOKUP(B40,'ORÇAMENTO RESUMO (SD)'!$B$10:$L$72,10,FALSE) -> 645620.88 | F40: =F42*$D40 -> 129124.18 | J40: =J42*$D40 -> 129124.18 | N40: =N42*$D40 -> 129124.18 | R40: =R42*$D40 -> 129124.18 | V40: =V42*$D40 -> 64562.088 | Z40: =Z42*$D40 -> 64562.088
D41: =ROUND(D40/$D$205,6) -> 0.020187 | E41: =ROUND(SUM(F42:AC42),4) -> 1
F42: 0.2 | J42: 0.2 | N42: 0.2 | R42: 0.2 | V42: 0.1 | Z42: 0.1
B43: ='ORÇAMENTO RESUMO (SD)'!B19 -> 2.8 | C43: =VLOOKUP(B43,'ORÇAMENTO RESUMO (SD)'!$B$10:$L$72,4,FALSE) -> ALVENARIAS E DIVISÓRIAS | D43: =VLOOKUP(B43,'ORÇAMENTO RESUMO (SD)'!$B$10:$L$72,10,FALSE) -> 193961.57 | F43: =F45*$D43 -> 0 | J43: =J45*$D43 -> 0 | N43: =N45*$D43 -> 77584.628 | R43: =R45*$D43 -> 77584.628 | V43: =V45*$D43 -> 38792.314 | Z43: =Z45*$D43 -> 0
D44: =ROUND(D43/$D$205,6) -> 0.006065 | E44: =ROUND(SUM(F45:AC45),4) -> 1
N45: 0.4 | R45: 0.4 | V45: 0.2
B46: ='ORÇAMENTO RESUMO (SD)'!B20 -> 2.9 | C46: =VLOOKUP(B46,'ORÇAMENTO RESUMO (SD)'!$B$10:$L$72,4,FALSE) -> IMPERMEABILIZAÇÃO | D46: =VLOOKUP(B46,'ORÇAMENTO RESUMO (SD)'!$B$10:$L$72,10,FALSE) -> 13985.74 | F46: =F48*$D46 -> 0 | J46: =J48*$D46 -> 0 | N46: =N48*$D46 -> 13985.74 | R46: =R48*$D46 -> 0 | V46: =V48*$D46 -> 0 | Z46: =Z48*$D46 -> 0
D47: =ROUND(D46/$D$205,6) -> 0.000437 | E47: =ROUND(SUM(F48:AC48),4) -> 1
N48: 1
B49: ='ORÇAMENTO RESUMO (SD)'!B21 -> 2.10 | C49: =VLOOKUP(B49,'ORÇAMENTO RESUMO (SD)'!$B$10:$L$72,4,FALSE) -> COBERTURA | D49: =VLOOKUP(B49,'ORÇAMENTO RESUMO (SD)'!$B$10:$L$72,10,FALSE) -> 8979.99 | F49: =F51*$D49 -> 0 | J49: =J51*$D49 -> 0 | N49: =N51*$D49 -> 8979.99 | R49: =R51*$D49 -> 0 | V49: =V51*$D49 -> 0 | Z49: =Z51*$D49 -> 0
...

Sheet CAPA - CURVA ABC DE SERVIÇO(SD)
C13: CURVA ABC DE SERVIÇOS SEM DESONERAÇÃO
B500: CREA 101881435-3/D-GO CREA 1019149965D-GO

Sheet CURVA ABC DE SERVIÇOS (SD)
B1: CURVA ABC DE SERVIÇOS SEM DESONERAÇÃO / SEM INCIDÊNCIA DE BDI
B3: OBJETO: | C3: ='DADOS DA OBRA'!$B$12 -> CONCLUSÃO DO REMANESCENTE DA OBRA DE REFORMA E AMPLIAÇÃO DA EFG EM ARTES BASILEU FRANÇA, LOCALIZADA EM GOIÂNIA-GO. | E3: DATA: | F3: ='DADOS DA OBRA'!$J$21 -> 10/04/2026 | I3: BDI OBRA: | J3: ='BDI NORMAL (SD) '!$J$25/100 -> 0.2507
B4: LOCAL: | C4: ='DADOS DA OBRA'!$B$15&", "&'DADOS DA OBRA'!$B$18&"" -> AVENIDA UNIVERSITÁRIA, N. 1750, SETOR UNIVERSITÁRIO | E4: REVISÃO: | F4: ='CAPA - ORÇAMENTO'!$D$18 -> 00 | I4: BDI DIFERENCIADO: | J4: ='BDI DIFERENCIADO (SD) '!$J$25/100 -> 0.2086
B5: MUNICÍPIO: | C5: ='DADOS DA OBRA'!$J$18 & "-" & 'DADOS DA OBRA'!$M$18 -> GOIÂNIA-GO | E5: PRAZO: | F5: ='DADOS DA OBRA'!$B$24 -> 6 MESES
B10: Código | C10: Banco | D10: Descrição | E10: Und | F10: Quant. | G10: Valor Unit | H10: Total | I10: Peso (%) | J10: Peso Acumulado (%)
B11: 00266 | C11: Próprio | D11: Copia da SINAPI (100763) - VIGA METÁLICA EM PERFIL LAMINADO OU SOLDADO EM AÇO ESTRUTURAL, COM CONEXÕES PARAFUSADAS, INCLUSOS MÃO DE OBRA, TRANSPORTE E IÇAMENTO UTILIZANDO GUINDASTE - FORNECIMENTO E INSTALAÇÃO. (ADAPTADO CONFORME DECRETO ESTADUAL GO 9900/2021) | E11: KG | F11: 90556.34 | G11: 15.78 | H11: =TRUNC(F11*G11,2) -> 1428979 | I11: =H11/$J$761 -> 0.055466695 | J11: =I11 -> 0.055466695
B12: 00293 | C12: Próprio | D12: ADAPTADO DE SINAPI 96369 - PAREDE COM SISTEMA EM CHAPAS DE GESSO PARA DRYWALL, USO INTERNO, COM DUAS FACES DUPLAS E ESTRUTURA METÁLICA COM GUIAS DUPLAS (ST) E ISOLAMENTO COM LÃ DE VIDRO 50 MM. (Adaptado para atendimento do Decreto 9900/2021) | E12: m² | F12: 3538.07 | G12: 269.21 | H12: =TRUNC(F12*G12,2) -> 952483.82 | I12: =H12/$J$761 -> 0.036971242 | J12: =I12+J11 -> 0.092437937
B13: 22.06.300 | C13: CPOS/CDHU | D13: ELEMENTO METÁLICO VAZADO INSTALADO EM FACHADA | E13: m² | F13: 1240.14 | G13: 651.12 | H13: =TRUNC(F13*G13,2) -> 807479.95 | I13: =H13/$J$761 -> 0.031342828 | J13: =I13+J12 -> 0.12378077
B14: 11.050.0010-0 | C14: EMOP | D14: ESCORAMENTO METALICO (ALUGUEL),COM ESCORAS TELESCOPAVEIS OU TORRES DE CARGA,PARA ESTRUTURA CONVENCIONAL DE CONCRETO ARMA DO,EXCLUSIVE MONTAGEM E DESMONTAGEM (VIDE ITEM 11.055.0010). MEDICAO PELO VOLUME DE ESCORAMENTO | E14: M3XMES | F14: 29260.29 | G14: 27 | H14: =TRUNC(F14*G14,2) -> 790027.83 | I14: =H14/$J$761 -> 0.030665413 | J14: =I14+J13 -> 0.15444618
B15: 103263 | C15: SINAPI | D15: AR CONDICIONADO SPLIT INVERTER, PISO TETO, 48000 BTU/H, CICLO FRIO - FORNECIMENTO E INSTALAÇÃO. AF_11/2021_P. (ADAPTADO CONFORME DECRETO ESTADUAL 9900/2021) | E15: UN | F15: 48 | G15: 15456.44 | H15: =TRUNC(F15*G15,2) -> 741909.12 | I15: =H15/$J$761 -> 0.028797656 | J15: =I15+J14 -> 0.18324384
B16: 00162 | C16: Próprio | D16: CÓPIA DE SINAPI (103265) - AR CONDICIONADO SPLIT INVERTER, PISO TETO, APRESENTANDO ENTRE 60000 BTU/H, CICLO FRIO - FORNECIMENTO E INSTALAÇÃO. AF_11/2021_P. (ADAPTADO CONFORME DECRETO ESTADUAL 9900/2021) | E16: UN | F16: 41 | G16: 16693.81 | H16: =TRUNC(F16*G16,2) -> 684446.21 | I16: =H16/$J$761 -> 0.026567198 | J16: =I16+J15 -> 0.20981103
B17: C4062 | C17: SEINFRA | D17: GRUPO GERADOR 636/780 KVA C/ QUADRO AUTOMÁTICO - COMPLETO (ADAPTADO CONFORME DECRETO ESTADUAL N° 9900/2021) | E17: UN | F17: 1 | G17: 660863.7 | H17: =TRUNC(F17*G17,2) -> 660863.7 | I17: =H17/$J$761 -> 0.025651829 | J17: =I17+J16 -> 0.23546286
B18: 060525 | C18: AGETOP CIVIL | D18: CONCRETO USINADO BOMBEÁVEL FCK=30 MPA (O.C.) | E18: m³ | F18: 1062.13 | G18: 604.6 | H18: =TRUNC(F18*G18,2) -> 642163.79 | I18: =H18/$J$761 -> 0.02492598 | J18: =I18+J17 -> 0.26038884
B19: 00284 | C19: Próprio | D19: (ADAPTADO DA ORSE 4356) - PISO FLUTUANTE EM MADEIRA TARUGADO REVESTIDO COM PISO LINÓLEO (ADAPTADO CONFORME DECRETO ESTADUAL 9900/2021) | E19: m² | F19: 1094.13 | G19: 575.82 | H19: =TRUNC(F19*G19,2) -> 630021.93 | I19: =H19/$J$761 -> 0.024454687 | J19: =I19+J18 -> 0.28484353
B20: 13.01.350 | C20: CPOS/CDHU | D20: (ADAPTADO DE CPOS/CDHU 13.01.350) LAJE PRÉ-FABRICADA MISTA VIGOTA TRELIÇADA/EPS - LT 30 (25+5) SEM CAPA DE CONCRETO. (ADAPTADO CONFORME DECRETO ESTADUAL GO 9900/2021) | E20: m² | F20: 2884.98 | G20: 213.02 | H20: =TRUNC(F20*G20,2) -> 614558.43 | I20: =H20/$J$761 -> 0.023854461 | J20: =I20+J19 -> 0.30869799
B21: 150204 | C21: AGETOP CIVIL | D21: ESTRUTURA METÁLICA CONVENCIONAL EM AÇO DO TIPO MR-250 / ASTM A36 COM FUNDO ANTICORROSIVO | E21: Kg | F21: 28473.87 | G21: 18.82 | H21: =TRUNC(F21*G21,2) -> 535878.23 | I21: =H21/$J$761 -> 0.020800441 | J21: =I21+J20 -> 0.32949843
B22: 060204 | C22: AGETOP CIVIL | D22: FORMA CHAPA DE COMPENSADO PLASTIFICADO 17MM U=4 V (OBRAS CIVIS) | E22: m² | F22: 4652.93 | G22: 103.65 | H22: =TRUNC(F22*G22,2) -> 482276.19 | I22: =H22/$J$761 -> 0.018719845 | J22: =I22+J21 -> 0.34821828
B23: 100603 | C23: AGETOP CIVIL | D23: ALVENARIA DE TIJOLO LAMINADO 1 VEZ - ARG. (1CI | E23: m² | F23: 729.13 | G23: 623.07 | H23: =TRUNC(F23*G23,2) -> 454299.02 | I23: =H23/$J$761 -> 0.017633894 | J23: =I23+J22 -> 0.36585217
... B196: 103244 | C196: SINAPI | D196: AR CONDICIONADO SPLIT INVERTER, HI-WALL (PAREDE), 9000 BTU/H, CICLO FRIO - FORNECIMENTO E INSTALAÇÃO. AF_11/2021_PE (ADAPTADO CONFORME DECRETO ESTADUAL 9900/2021) | E196: UN | F196: 8 | G196: 2465.81 | H196: =TRUNC(F196*G196,2) -> 19726.48 | I196: =H196/$J$761 -> 0.00076569539 | J196: =I196+J195 -> 0.92620672
B197: 072660 | C197: AGETOP CIVIL | D197: VERGALHAO ROSCA TOTAL D=1/4" | E197: M | F197: 1190.335 | G197: 16.42 | H197: =TRUNC(F197*G197,2) -> 19545.3 | I197: =H197/$J$761 -> 0.00075866277 | J197: =I197+J196 -> 0.92696539 | L197: =+H197-1.06 -> 19544.24
B198: 070422 | C198: AGETOP CIVIL | D198: BUCHA E ARRUELA METALICA Ø 1" | E198: PAR | F198: 5446 | G198: 3.56 | H198: =TRUNC(F198*G198,2) -> 19387.76 | I198: =H198/$J$761 -> 0.00075254776 | J198: =I198+J197 -> 0.92771793 | L198: =+L197/G197 -> 1190.2704
B199: 00161 | C199: Próprio | D199: CONTRAPISO EM CONCRETO DESEMPENSADO, FCK 20 MPA, ESP.: 8 CM | E199: m² | F199: 341.72 | G199: 55.89 | H199: =TRUNC(F199*G199,2) -> 19098.73 | I199: =H199/$J$761 -> 0.00074132889 | J199: =I199+J198 -> 0.92845926
B200: 89471 | C200: SINAPI | D200: ALVENARIA DE CANALETA DE CONCRETO ESTRUTURAL 14X19X39 CM, (ESPESSURA 14 CM), FBK = 4,5 MPA, PARA PAREDES COM ÁREA LÍQUIDA MAIOR OU IGUAL A 6M², SEM VÃOS, UTILIZANDO COLHER DE PEDREIRO. (ADAPTADO CONFORME DECRETO ESTADUAL GO N° 9900/2021) | E200: m² | F200: 181.76 | G200: 104.54 | H200: =TRUNC(F200*G200,2) -> 19001.19 | I200: =H200/$J$761 -> 0.00073754281 | J200: =I200+J199 -> 0.92919681
B201: 00280 | C201: Próprio | D201: PORTA DE MADEIRA COM ISOLAMENTO ACÚSTICO, GIRO, 80x210 cm (ADAPTADO CONFORME DECRETO ESTADUAL 9900/2021) | E201: UN | F201: 6 | G201: 3155.88 | H201: =TRUNC(F201*G201,2) -> 18935.28 | I201: =H201/$J$761 -> 0.00073498447 | J201: =I201+J200 -> 0.92993179
B202: 080541 | C202: AGETOP CIVIL | D202: LAVATÓRIO MÉDIO COM COLUNA - MEDIDAS APROXIMADAS 360X460X180 MM (C x L x A) | E202: Un | F202: 59 | G202: 320.49 | H202: =TRUNC(F202*G202,2) -> 18908.91 | I202: =H202/$J$761 -> 0.00073396091 | J202: =I202+J201 -> 0.93066575
B203: 200101 | C203: AGETOP CIVIL | D203: CHAPISCO COMUM | E203: m² | F203: 2624.71 | G203: 7.15 | H203: =TRUNC(F203*G203,2) -> 18766.67 | I203: =H203/$J$761 -> 0.00072843977 | J203: =I203+J202 -> 0.93139419
B204: 082331 | C204: AGETOP CIVIL | D204: TUBO LEVE PVC RIGIDO DIAMETRO 150 MM | E204: M | F204: 259.96 | G204: 70.6 | H204: =TRUNC(F204*G204,2) -> 18353.17 | I204: =H204/$J$761 -> 0.00071238952 | J204: =I204+J203 -> 0.93210658
B205: 080573 | C205: AGETOP CIVIL | D205: TORNEIRA DE MESA PARA PcD COM FECHAMENTO AUTOMÁTICO TEMPORIZADO PARA LAVATÓRIO DIÂMETRO DE 1/2" | E205: un | F205: 29 | G205: 628.92 | H205: =TRUNC(F205*G205,2) -> 18238.68 | I205: =H205/$J$761 -> 0.00070794552 | J205: =I205+J204 -> 0.93281453
B206: 11316 | C206: ORSE | D206: Exaustor 18w, modelo APC-210, da Aerotec ou similar - fornecimento e instalação (ADAPTADO CONFORME DECRETO ESTADUAL 9900/2021) | E206: un | F206: 38 | G206: 474.61 | H206: =TRUNC(F206*G206,2) -> 18035.18 | I206: =H206/$J$761 -> 0.00070004654 | J206: =I206+J205 -> 0.93351457
B207: 071381 | C207: AGETOP CIVIL | D207: HASTE REV.COBRE(COPPERWELD) 5/8" X 3,00 M C/CONECTOR | E207: Un | F207: 102 | G207: 172.37 | H207: =TRUNC(F207*G207,2) -> 17581.74 | I207: =H207/$J$761 -> 0.00068244599 | J207: =I207+J206 -> 0.93419702
B208: 97892 | C208: SINAPI | D208: CAIXA ENTERRADA ELÉTRICA RETANGULAR, EM ALVENARIA COM BLOCOS DE CONCRETO, FUNDO COM BRITA, DIMENSÕES INTERNAS: 0,6X0,6X0,6 M. AF_12/2020 (ADAPTADO CONFORME DECRETO ESTADUAL 9900/2021) | E208: UN | F208: 44 | G208: 395.41 | H208: =TRUNC(F208*G208,2) -> 17398.04 | I208: =H208/$J$761 -> 0.00067531556 | J208: =I208+J207 -> 0.93487233
B209: 61.14.100 | C209: CPOS/CDHU | D209: VENTILADOR CENTRÍFUGO DE DUPLA ASPIRAÇÃO "LIMITE-LOAD", VAZÃO 20.000 M³/H, PRESSÃO 50 MMCA - 380/660 V / 60 HZ. (ADAPTADO CONFORME DECRETO ESTADUAL 9900/2021) | E209: un | F209: 1 | G209: 17121.35 | H209: =TRUNC(F209*G209,2) -> 17121.35 | I209: =H209/$J$761 -> 0.00066457567 | J209: =I209+J208 -> 0.93553691
B210: 103336 | C210: SINAPI | D210: ALVENARIA DE VEDAÇÃO DE BLOCOS VAZADOS DE CONCRETO APARENTE DE 9X19X39 CM (ESPESSURA 9 CM) E ARGAMASSA DE ASSENTAMENTO COM PREPARO EM BETONEIRA. AF_12/2021. (ADAPTADO CONFORME DECRETO ESTADUAL 9900/2021) | E210: m² | F210: 196.96 | G210: 85.34 | H210: =TRUNC(F210*G210,2) -> 16808.56 | I210: =H210/$J$761 -> 0.00065243454 | J210: =I210+J209 -> 0.93618934
... B380: 071181 | C380: AGETOP CIVIL | D380: DISJUNTOR TRIPOLAR DE 300 A 350-A | E380: Un | F380: 3 | G380: 1141.08 | H380: =TRUNC(F380*G380,2) -> 3423.24 | I380: =H380/$J$761 -> 0.00013287515 | J380: =I380+J379 -> 0.98662632
B381: 071173 | C381: AGETOP CIVIL | D381: DISJUNTOR TRIPOLAR DE 10 A 35-A | E381: Un | F381: 35 | G381: 97.45 | H381: =TRUNC(F381*G381,2) -> 3410.75 | I381: =H381/$J$761 -> 0.00013239035 | J381: =I381+J12 -> 0.092570328
B382: 37.18.010 | C382: CPOS/CDHU | D382: TRANSFORMADOR DE POTENCIAL MONOFÁSICO ATÉ 1000 VA CLASSE 15 KV, A SECO, COM FUSÍVEIS (ADAPTADO CONFORME DECRETO ESTADUAL N° 9900/2021) | E382: un | F382: 1 | G382: 3385.71 | H382: =TRUNC(F382*G382,2) -> 3385.71 | I382: =H382/$J$761 -> 0.0001314184 | J382: =I382+J381 -> 0.092701746
B383: 081733 | C383: AGETOP CIVIL | D383: CURVA 90 GRAUS CURTA DIAM. 100 MM (ESGOTO) | E383: Un | F383: 62 | G383: 53.87 | H383: =TRUNC(F383*G383,2) -> 3339.94 | I383: =H383/$J$761 -> 0.00012964181 | J383: =I383+J382 -> 0.092831388
B384: 00155 | C384: Próprio | D384: CÓPIA DE SINAPI (104174) - JUNÇÃO SIMPLES, PVC, ESGOTO, DN 150 X 100 MM, JUNTA ELÁSTICA, FORNECIDO E INSTALADO EM RAMAL DE ENCAMINHAMENTO.. (ADAPTADO CONFORME DECRETO ESTADUAL 9900/2021) | E384: UN | F384: 15 | G384: 220.82 | H384: =TRUNC(F384*G384,2) -> 3312.3 | I384: =H384/$J$761 -> 0.00012856895 | J384: =I384+J383 -> 0.092959957
B385: 270206 | C385: AGETOP CIVIL | D385: IRRIGACAO PARA 30 DIAS / AREA PLANTADA | E385: m² | F385: 1111.52 | G385: 2.94 | H385: =TRUNC(F385*G385,2) -> 3267.86 | I385: =H385/$J$761 -> 0.00012684398 | J385: =I385+J384 -> 0.093086801
B386: 071440 | C386: AGETOP CIVIL | D386: INTERRUPTOR SIMPLES (1 SECAO) | E386: Un | F386: 166 | G386: 19.68 | H386: =TRUNC(F386*G386,2) -> 3266.88 | I386: =H386/$J$761 -> 0.00012680595 | J386: =I386+J385 -> 0.093213607
...

Sheet CAPA - CURVA ABC DE INSUMO (SD)
C13: CURVA ABC DE SERVIÇOS SEM DESONERAÇÃO
B500: CREA 101881435-3/D-GO CREA 1019149965D-GO

Sheet CURVA ABC DE INSUMO (SD) 
B1: CURVA ABC DE INSUMOS SEM DESONERAÇÃO / SEM INCIDÊNCIA DE BDI
B3: OBJETO: | C3: ='DADOS DA OBRA'!B12 -> CONCLUSÃO DO REMANESCENTE DA OBRA DE REFORMA E AMPLIAÇÃO DA EFG EM ARTES BASILEU FRANÇA, LOCALIZADA EM GOIÂNIA-GO. | F3: DATA: | G3: ='DADOS DA OBRA'!$J$21 -> 10/04/2026 | J3: BDI OBRA: | K3: ='BDI NORMAL (SD) '!$J$25/100 -> 0.2507
B4: LOCAL: | C4: ='DADOS DA OBRA'!$B$15&", "&'DADOS DA OBRA'!$B$18&"" -> AVENIDA UNIVERSITÁRIA, N. 1750, SETOR UNIVERSITÁRIO | F4: REVISÃO: | G4: ='CAPA - ORÇAMENTO'!$D$18 -> 00 | J4: BDI DIFERENCIADO: | K4: ='BDI DIFERENCIADO (SD) '!$J$25/100 -> 0.2086
B5: MUNICÍPIO: | C5: ='DADOS DA OBRA'!$J$18 & "-" & 'DADOS DA OBRA'!$M$18 -> GOIÂNIA-GO | F5: PRAZO: | G5: ='DADOS DA OBRA'!B24 -> 6 MESES
B10: Código | C10: Banco | D10: Descrição | E10: Tipo | F10: Und | G10: Quant. | H10: Valor Unit | I10: Total | J10: Peso (%) | K10: Peso Acumulado (%)
B11: 0005 | C11: AGETOP CIVIL | D11: SERVENTE | E11: Mão de Obra | F11: H | G11: 59915.719 | H11: 20.37 | I11: 1220483.2 | J11: =(I11/$K$987) -> 0.047373802 | K11: =J11 -> 0.047373802
B12: 00043082 | C12: SINAPI | D12: PERFIL "I" OU "W" EM ACO LAMINADO, QUAISQUER DIMENSOES | E12: Material | F12: KG | G12: 98796.967 | H12: 10 | I12: 987969.67 | J12: =(I12/$K$987) -> 0.038348647 | K12: =(J12+K11) -> 0.085722449
B13: 13800 | C13: EMOP | D13: LOCACAO DE ESCORAMENTO METALICO COM ESCO RAS TELESCOPICAS OU TORRES DE CARGA, PAR A ESTRUT.CONVENCIONAL CONCRETO,EXCL.TRAN | E13: Material | F13: M3XMES | G13: 29994.44 | H13: 27 | I13: 809849.88 | J13: =(I13/$K$987) -> 0.031434818 | K13: =(J13+K12) -> 0.11715727
B14: E.08.000.025053 | C14: CPOS/CDHU | D14: Brise metálico curvo e móvel em chapa microperfurada de alumínio pré-pintada; ref. AS288 Retrátil da Refax, SM A300 da Sul Metais ou equivalente - instalado | E14: Material | F14: m² | G14: 1240.14 | H14: 651.12 | I14: 807479.96 | J14: =(I14/$K$987) -> 0.031342828 | K14: =(J14+K13) -> 0.1485001
B15: 0008 | C15: AGETOP CIVIL | D15: AJUDANTE | E15: Mão de Obra | F15: H | G15: 32540.357 | H15: 22.31 | I15: 725975.36 | J15: =(I15/$K$987) -> 0.028179178 | K15: =(J15+K14) -> 0.17667927
B16: 00042420 | C16: SINAPI | D16: AR CONDICIONADO SPLIT INVERTER, PISO TETO, 48000 BTU/H, CICLO FRIO, 60HZ, CLASSIFICACAO ENERGETICA A OU B (SELO PROCEL), GAS HFC, CONTROLE S/FIO | E16: Equipamento para Aquisição Permanente | F16: UN | G16: 48 | H16: 14851 | I16: 712848 | J16: =(I16/$K$987) -> 0.027669631 | K16: =(J16+K15) -> 0.2043489
B17: E00037 | C17: SEDOP | D17: Aparelho Air-Split 60.000 BTU's | E17: Material | F17: UN | G17: 41 | H17: 16088.37 | I17: 659623.17 | J17: =(I17/$K$987) -> 0.025603677 | K17: =(J17+K16) -> 0.22995258
B18: I7888 | C18: SEINFRA | D18: GRUPO GERADOR 636/780 KVA C/ QUADRO AUTOMÁTICO - COMPLETO, INCLUSIVE TANQUE DE COMBUSTÍVEL | E18: Material | F18: UN | G18: 1 | H18: 655200 | I18: 655200 | J18: =(I18/$K$987) -> 0.025431989 | K18: =(J18+K17) -> 0.25538457
B19: 2667 | C19: AGETOP CIVIL | D19: CONCRETO USINADO BOMBEÁVEL FCK=30 MPA | E19: Material | F19: m³ | G19: 1083.3726 | H19: 592.75 | I19: 642169.11 | J19: =(I19/$K$987) -> 0.024926187 | K19: =(J19+K18) -> 0.28031076
B20: 0004 | C20: AGETOP CIVIL | D20: PEDREIRO | E20: Mão de Obra | F20: H | G20: 20540.047 | H20: 29.12 | I20: 598126.16 | J20: =(I20/$K$987) -> 0.023216633 | K20: =(J20+K19) -> 0.30352739
B21: 1326 | C21: AGETOP CIVIL | D21: ESTRUTURA METALICA MR250 / ASTM A36 - COTAÇÃO (FABRICAÇÃO E MONTAGEM) | E21: Material | F21: Kg | G21: 31321.257 | H21: 17.11 | I21: 535906.71 | J21: =(I21/$K$987) -> 0.020801547 | K21: =(J21+K20) -> 0.32432894
B22: 11789 | C22: ORSE | D22: Piso de madeira, flutuante, c/amortecedores de impacto ( 75x50x10mm), réguas de madeira aparelh.(50x25mm), chapas OSB 14mm, assoalho de madeira de lei grápia, 4 demarcações(handball,volei,futsal e basquete), inclusive frete, alimen,transp,hospedagem | E22: Material | F22: m² | G22: 1094.13 | H22: 445.85 | I22: 487817.86 | J22: =(I22/$K$987) -> 0.018934949 | K22: =(J22+K21) -> 0.34326388
B23: 0010 | C23: AGETOP CIVIL | D23: CARPINTEIRO | E23: Mão de Obra | F23: H | G23: 15086.456 | H23: 29.14 | I23: 439619.34 | J23: =(I23/$K$987) -> 0.017064093 | K23: =(J23+K22) -> 0.36032798
... B984: I0749 | C984: SEINFRA | D984: MÁQUINA DE SOLDA (CHP) | E984: Equipamento | F984: H | G984: 0.48 | H984: 0.0972345 | I984: 0.04667256 | J984: =(I984/$K$987) -> 1.811624e-09 | K984: =(J984+K983) -> 1
J987: Total sem BDI | K987: ='ORÇAMENTO RESUMO (SD)'!$L$74 -> 25762830
J988: Total do BDI | K988: =K989-K987 -> 6218784.9
J989: Total Geral | K989: ='ORÇAMENTO RESUMO (SD)'!$L$76 -> 31981615

Sheet CAPA - BDI (SD)
C13: BONIFICAÇÃO DE DESPESAS INDIRETAS - BDIs SEM DESONERAÇÃO
B500: CREA 101881435-3/D-GO CREA 1019149965D-GO

Sheet BDI NORMAL (SD) 
B1: BONIFICAÇÃO DE DESPESAS INDIRETAS BDI - NORMAL SEM DESONERAÇÃO
B4: OBJETO: | C4: ='DADOS DA OBRA'!B12 -> CONCLUSÃO DO REMANESCENTE DA OBRA DE REFORMA E AMPLIAÇÃO DA EFG EM ARTES BASILEU FRANÇA, LOCALIZADA EM GOIÂNIA-GO. | L4: DATA: | M4: ='DADOS DA OBRA'!$J$21 -> 10/04/2026
B5: LOCAL: | C5: ='DADOS DA OBRA'!$B$15&", "&'DADOS DA OBRA'!$B$18&"" -> AVENIDA UNIVERSITÁRIA, N. 1750, SETOR UNIVERSITÁRIO | L5: REVISÃO: | M5: ='CAPA - ORÇAMENTO'!$D$18 -> 00
B6: MUNICÍPIO: | C6: ='DADOS DA OBRA'!$J$18 & "-" & 'DADOS DA OBRA'!$M$18 -> GOIÂNIA-GO
B8: Município da Obra: | E8: ='DADOS DA OBRA'!$J$18 & "-" & 'DADOS DA OBRA'!$M$18 -> GOIÂNIA-GO
B9: Base de cálculo ISS do município: | E9: 1 | F9: ISS: | G9: 0.05
G12: Descrição | J12: Valor percentual adotado
G14: (AC) - Administração Central | J14: 4
G15: (S) + (G) - Seguro e Garantia | J15: 0.12
G16: (R) - Risco | J16: 0.97
G17: (DF) - Despesas Financeiras | J17: 1.23
G18: (L) - Lucro | J18: 7.4
G19: (I1) - PIS | J19: 0.65
G20: (I2) - COFINS | J20: 3
G21: (I3) - ISS | J21: 5
G22: (IVA) - Imposto Valor Agregado | H22: IBS - (Imposto sobre Bens e Serviços) | J22: =0.1*0 -> 0
H23: CBS - (Contribuição sobre Bens e Serviços) | J23: =0.9*0 -> 0
G24: (I4) - Contribuição Previdenciária (CPRB) | J24: =2.7*0 -> 0
G25: BDI Adotado | J25: =TRUNC((((((1+J14/100+J15/100+J16/100)*(1+J17/100)*(1+J18/100))/(1-(J19/100+J20/100+J21/100+J24/100+J22/100+J23/100)))-1)*100),2) -> 25.07
B27: O valores do BDI acima foram calculados com emprego da equação a seguir:
B28: Onde:
B29: AC - taxa de rateio da Administração Central
B30: R, S, G - taxa de risco, seguro e garantia do empreendimento
B31: DF - taxa das despesas financeiras
B32: L - taxa de lucro
B33: I - taxa de tributos, soma (I1 + I2 + I3 + I4) .: (onerado: I = COFINS+PIS+ISS / desonerado: I = COFINS+PIS+ISS+CPRB)
B34: IVA - Imposto sobre Valor Agregado: composto por IBS (0,1% menos deduções) e CBS (0,9% menos deduções). Apartir de 01 janeiro até 31 de dezembro de 2026, essas alíquotas possuem caráter apenas demonstrativo
B35: *Fonte da composição, valores de referência e fórmula do BDI: GOINFRA CIVIL (ONERADO-JULHO/2025). Acrescido do IVA (Lei Complementar nº 214), vigente desde 01 Janeiro de 2026. Devido à desatualização da tabela oficial, a demonstração foi inserida para cumprimento legal.
B36: *Alíquota do IVA conforme a Lei Complementar nº 214, de 16 de janeiro de 2025, art. 343, 346 e 348, conforme disposições da nova Reforma Tributária, sendo consideradas alíquotas de teste com deduções e compensações. As incorporadoras, por já recolherem COFINS, ISS e PIS, ficam isentas da incidência do IVA (IBS + CBS), permanecendo apenas demonstrado para fins de teste da reforma tributária.
B504: CREA 101881435-3/D-GO CREA 1019149965D-GO

Sheet BDI DIFERENCIADO (SD)  
B1: BONIFICAÇÃO DE DESPESAS INDIRETAS BDI - NORMAL SEM DESONERAÇÃO
B4: OBJETO: | C4: ='DADOS DA OBRA'!B12 -> CONCLUSÃO DO REMANESCENTE DA OBRA DE REFORMA E AMPLIAÇÃO DA EFG EM ARTES BASILEU FRANÇA, LOCALIZADA EM GOIÂNIA-GO. | L4: DATA: | M4: ='DADOS DA OBRA'!$J$21 -> 10/04/2026
B5: LOCAL: | C5: ='DADOS DA OBRA'!$B$15&", "&'DADOS DA OBRA'!$B$18&"" -> AVENIDA UNIVERSITÁRIA, N. 1750, SETOR UNIVERSITÁRIO | L5: REVISÃO: | M5: ='CAPA - ORÇAMENTO'!$D$18 -> 00
B6: MUNICÍPIO: | C6: ='DADOS DA OBRA'!$J$18 & "-" & 'DADOS DA OBRA'!$M$18 -> GOIÂNIA-GO
B8: Município da Obra: | E8: ='DADOS DA OBRA'!$J$18 & "-" & 'DADOS DA OBRA'!$M$18 -> GOIÂNIA-GO
B9: Base de cálculo ISS do município: | E9: 0.4 | F9: ISS: | G9: 0.05
G12: Descrição | J12: Valor percentual adotado
G14: (AC) - Administração Central | J14: 3.45
G15: (S) + (G) - Seguro e Garantia | J15: 0.06
G16: (R) - Risco | J16: 0.56
G17: (DF) - Despesas Financeiras | J17: 1.23
G18: (L) - Lucro | J18: 4.8
G19: (I1) - PIS | J19: 0.65
G20: (I2) - COFINS | J20: 3
G21: (I3) - ISS | J21: 5
G22: (IVA) - Imposto Valor Agregado | H22: IBS - (Imposto sobre Bens e Serviços) | J22: =0.1*0 -> 0
H23: CBS - (Contribuição sobre Bens e Serviços) | J23: =0.9*0 -> 0
G24: (I4) - Contribuição Previdenciária (CPRB) | J24: =2.7*0 -> 0
G25: BDI Adotado | J25: =TRUNC((((((1+J14/100+J15/100+J16/100)*(1+J17/100)*(1+J18/100))/(1-(J19/100+J20/100+J21/100+J24/100+J22/100+J23/100)))-1)*100),2) -> 20.86
B27: O valores do BDI acima foram calculados com emprego da equação a seguir:
B28: Onde:
B29: AC - taxa de rateio da Administração Central
B30: R, S, G - taxa de risco, seguro e garantia do empreendimento
B31: DF - taxa das despesas financeiras
B32: L - taxa de lucro
B33: I - taxa de tributos, soma (I1 + I2 + I3 + I4) .: (onerado: I = COFINS+PIS+ISS / desonerado: I = COFINS+PIS+ISS+CPRB)
B34: IVA - Imposto sobre Valor Agregado: composto por IBS (0,1% menos deduções) e CBS (0,9% menos deduções). Apartir de 01 janeiro até 31 de dezembro de 2026, essas alíquotas possuem caráter apenas demonstrativo
B35: *Fonte da composição, valores de referência e fórmula do BDI: GOINFRA CIVIL (ONERADO-JULHO/2025). Acrescido do IVA (Lei Complementar nº 214), vigente desde 01 Janeiro de 2026. Devido à desatualização da tabela oficial, a demonstração foi inserida para cumprimento legal.
B36: *Alíquota do IVA conforme a Lei Complementar nº 214, de 16 de janeiro de 2025, art. 343, 346 e 348, conforme disposições da nova Reforma Tributária, sendo consideradas alíquotas de teste com deduções e compensações. As incorporadoras, por já recolherem COFINS, ISS e PIS, ficam isentas da incidência do IVA (IBS + CBS), permanecendo apenas demonstrado para fins de teste da reforma tributária.
B500: CREA 101881435-3/D-GO CREA 1019149965D-GO

