Workbook

Sheet DADOS DA OBRA
B10: DADOS DO EMPREENDIMENTO
B12: OBJETO
B13: CONSTRUÇÃO NOVA FÁBRICA SEAPA (AGROINDÚSTRIA DE POLPA DE FRUTAS)
B15: ENDEREÇO
B16: RUA 22 , LT.01 - A, QUADRA 01-A
B18: Bairro | J18: Cidade | P18: UF
B19: SETOR RETIRADA | J19: FLORES DE GOIÁS | P19: GO
B21: Área Total de Construção | F21: BDI | J21: ENCARGOS SOCIAIS HORISTAS | N21: Data do Orçamento
B22: 691.41 | F22: ='BDI NORMAL (SD) '!F21/100 -> 0.2232 | J22: ='ENCARGOS SOCIAIS'!F43 -> 1.1737 | N22: 13/06/2025
B24: Prazo | F24: BDI REDUZIDO | J24: ENCARGOS SOCIAIS MENSALISTAS | N24: Revisão
B25: 06 MESES | F25: ='BDI DIFERENCIADO (SD) '!F21/100 -> 0.182 | J25: ='ENCARGOS SOCIAIS'!G43 -> 0.7419 | N25: 00
B27: BASE
B28: SINAPI - 04/2025 - Goiás / SICRO3 - 01/2025 - Goiás / ORSE - 03/2025 - Sergipe / SEINFRA - 028 - Ceará / SETOP - 01/2025 - Minas Gerais - Central / IOPES - 02/2025 - Espírito Santo / SIURB - 01/2025 - São Paulo / SIURB INFRA - 01/2025 - São Paulo / CPOS - 04/2025 - São Paulo / FDE - 01/2025 - São Paulo / AGESUL - 01/2025 - Mato Grosso do Sul / AGETOP CIVIL - 02/2025 - Goiás / AGETOP RODOVIARIA - 02/2025 - Goiás / EMBASA - 01/2025 - sem encargos / EMOP - 04/2025 - Rio de Janeiro / SCO - 04/2025 - Rio de Janeiro.

Sheet CAPA - ORÇAMENTO
C9: ORÇAMENTO
C15: OBJETO: | D15: ='DADOS DA OBRA'!B13 -> CONSTRUÇÃO NOVA FÁBRICA SEAPA (AGROINDÚSTRIA DE POLPA DE FRUTAS)
C16: LOCAL: | D16: ='DADOS DA OBRA'!B16 -> RUA 22 , LT.01 - A, QUADRA 01-A
C17: DATA: | D17: ='DADOS DA OBRA'!N22 -> 13/06/2025
C18: RESPONSÁVEL: | D18: ENGENHEIRO CIVIL LUCIANO MARTINS PARREIRA DE OLIVEIRA E SILVA
C19: CREA: | D19: 101881435-3/D-GO
C20: ART: | D20: 1020250168245

Sheet CAPA - VANTAJOSIDADE
C13: VANTAJOSIDADE

Sheet VANTAJOSIDADE
B1: CÁLCULO DE VANTAJOSIDADE
B4: OBJETO: | C4: ='DADOS DA OBRA'!B13 -> CONSTRUÇÃO NOVA FÁBRICA SEAPA (AGROINDÚSTRIA DE POLPA DE FRUTAS) | M4: DATA: | N4: ='DADOS DA OBRA'!$N$22 -> 13/06/2025
B5: LOCAL: | C5: ='DADOS DA OBRA'!B16 -> RUA 22 , LT.01 - A, QUADRA 01-A | M5: REVISÃO: | N5: ='DADOS DA OBRA'!$N$25 -> 00
B7: O cálculo de vantajosidade se baseia na comparação direta entre os valores totais do orçamento e a escolha pelo que representa o menor valor, para tanto temos:
F10: a. Orçamento com desoneração: | J10: ='ORÇAMENTO SINTÉTICO (CD)'!L715 -> 4543291.7
F11: b. Orçamento sem desoneração: | J11: ='ORÇAMENTO SINTÉTICO (SD)'!L715 -> 4468039.8
F13: % de Diferença (a / b) | K13: =(J10/J11)-1 -> 0.016842265
F15: ORÇAMENTO COM MELHOR VANTAJOSIDADE: | J15: =+IF(J11<J10,"SEM DESONERAÇÃO","COM DESONERAÇÃO") -> SEM DESONERAÇÃO

Sheet CAPA - ORÇAMENTO (SD)
C13: ORÇAMENTO SEM DESONERAÇÃO

Sheet ORÇAMENTO RESUMO (SD)
B1: ORÇAMENTO RESUMO SEM DESONERAÇÃO
B3: OBJETO: | C3: ='DADOS DA OBRA'!B13 -> CONSTRUÇÃO NOVA FÁBRICA SEAPA (AGROINDÚSTRIA DE POLPA DE FRUTAS) | F3: DATA: | G3: ='DADOS DA OBRA'!$N$22 -> 13/06/2025 | J3: ENCARGOS SOCIAIS HORISTAS: | K3: =+'ENCARGOS SOCIAIS'!F43 -> 1.1737
B4: LOCAL: | C4: ='DADOS DA OBRA'!B16 -> RUA 22 , LT.01 - A, QUADRA 01-A | F4: REVISÃO: | G4: ='DADOS DA OBRA'!$N$25 -> 00 | J4: ENCARGOS SOCIAIS MENSALISTAS: | K4: =+'ENCARGOS SOCIAIS'!G43 -> 0.7419
F5: PRAZO: | G5: {='DADOS DA OBRA'!B25:D25} -> 06 MESES | H5: 0 | I5: 0 | J5: BDI OBRA: | K5: ='ORÇAMENTO SINTÉTICO (SD)'!L5 -> 0.2232
J6: BDI DIFERENCIADO: | K6: ='ORÇAMENTO SINTÉTICO (SD)'!L6 -> 0.182
B8: Item | E8: Descrição | J8: Total Sem BDI | K8: Total Com BDI
B9: 1 | E9: ='ORÇAMENTO SINTÉTICO (SD)'!E9 -> ADMINISTRAÇÃO LOCAL E CUSTOS INDIRETOS | J9: ='ORÇAMENTO SINTÉTICO (SD)'!I9 -> 323456.43 | K9: ='ORÇAMENTO SINTÉTICO (SD)'!L9 -> 395615.12
B10: 2 | E10: ='ORÇAMENTO SINTÉTICO (SD)'!E17 -> CANTEIRO DE OBRA E SERVIÇOS PRELIMINARES | J10: ='ORÇAMENTO SINTÉTICO (SD)'!I17 -> 159698.89 | K10: ='ORÇAMENTO SINTÉTICO (SD)'!L17 -> 195309.68
B11: 3 | E11: ='ORÇAMENTO SINTÉTICO (SD)'!E38 -> SERVIÇOS EM TERRA | J11: ='ORÇAMENTO SINTÉTICO (SD)'!I38 -> 5002.99 | K11: ='ORÇAMENTO SINTÉTICO (SD)'!L38 -> 6107.13
B12: 4 | E12: ='ORÇAMENTO SINTÉTICO (SD)'!E46 -> FUNDAÇÕES | J12: ='ORÇAMENTO SINTÉTICO (SD)'!I46 -> 147175.57 | K12: ='ORÇAMENTO SINTÉTICO (SD)'!L46 -> 179990.82
B13: 5 | E13: ='ORÇAMENTO SINTÉTICO (SD)'!E64 -> ESTRUTURA EM CONCRETO ARMADO | J13: ='ORÇAMENTO SINTÉTICO (SD)'!I64 -> 374725.33 | K13: ='ORÇAMENTO SINTÉTICO (SD)'!L64 -> 458323.53
B14: 6 | E14: ='ORÇAMENTO SINTÉTICO (SD)'!E81 -> ESTRUTURA METÁLICA | J14: ='ORÇAMENTO SINTÉTICO (SD)'!I81 -> 271690.21 | K14: ='ORÇAMENTO SINTÉTICO (SD)'!L81 -> 332202.1
B15: 7 | E15: ='ORÇAMENTO SINTÉTICO (SD)'!E84 -> INSTALAÇÕES HIDROSSANITÁRIAS/ LOUÇAS/ METAIS | J15: ='ORÇAMENTO SINTÉTICO (SD)'!I84 -> 452635.79 | K15: ='ORÇAMENTO SINTÉTICO (SD)'!L84 -> 543500.83
B16: 8 | E16: ='ORÇAMENTO SINTÉTICO (SD)'!E319 -> INSTALAÇÕES ELÉTRICAS/ CAB. EST. (LÓGICA E DADOS) / CFTV / SPDA | J16: ='ORÇAMENTO SINTÉTICO (SD)'!I319 -> 442192.04 | K16: ='ORÇAMENTO SINTÉTICO (SD)'!L319 -> 533899.79
B17: 9 | E17: ='ORÇAMENTO SINTÉTICO (SD)'!E520 -> INSTALAÇÕES MECÂNICAS | J17: ='ORÇAMENTO SINTÉTICO (SD)'!I520 -> 264059.81 | K17: ='ORÇAMENTO SINTÉTICO (SD)'!L520 -> 318237.69
B18: 10 | E18: ='ORÇAMENTO SINTÉTICO (SD)'!E583 -> INSTALAÇÕES DE PLANO DE PREVENÇÃO DE COMBATE A INCÊNDIO - (PPCI) | J18: ='ORÇAMENTO SINTÉTICO (SD)'!I583 -> 10121.15 | K18: ='ORÇAMENTO SINTÉTICO (SD)'!L583 -> 12379.84
B19: 11 | E19: ='ORÇAMENTO SINTÉTICO (SD)'!E589 -> ALVENARIAS E DIVISÓRIAS | J19: ='ORÇAMENTO SINTÉTICO (SD)'!I589 -> 221385.67 | K19: ='ORÇAMENTO SINTÉTICO (SD)'!L589 -> 270787.2
B20: 12 | E20: ='ORÇAMENTO SINTÉTICO (SD)'!E600 -> IMPERMEABILIZAÇÕES | J20: ='ORÇAMENTO SINTÉTICO (SD)'!I600 -> 43641.61 | K20: ='ORÇAMENTO SINTÉTICO (SD)'!L600 -> 53376.81
B21: 13 | E21: ='ORÇAMENTO SINTÉTICO (SD)'!E607 -> COBERTURA | J21: ='ORÇAMENTO SINTÉTICO (SD)'!I607 -> 146480.4 | K21: ='ORÇAMENTO SINTÉTICO (SD)'!L607 -> 179173.34
B22: 14 | E22: ='ORÇAMENTO SINTÉTICO (SD)'!E611 -> ESQUADRIAS | J22: ='ORÇAMENTO SINTÉTICO (SD)'!I611 -> 77501.39 | K22: ='ORÇAMENTO SINTÉTICO (SD)'!L611 -> 94798.94
B23: 15 | E23: ='ORÇAMENTO SINTÉTICO (SD)'!E627 -> VIDROS | J23: ='ORÇAMENTO SINTÉTICO (SD)'!I627 -> 4142.11 | K23: ='ORÇAMENTO SINTÉTICO (SD)'!L627 -> 5066.63
B24: 16 | E24: ='ORÇAMENTO SINTÉTICO (SD)'!E630 -> BANCADAS | J24: ='ORÇAMENTO SINTÉTICO (SD)'!I630 -> 16483.07 | K24: ='ORÇAMENTO SINTÉTICO (SD)'!L630 -> 20161.96
B25: 17 | E25: ='ORÇAMENTO SINTÉTICO (SD)'!E633 -> REVESTIMENTOS DE PAREDES | J25: ='ORÇAMENTO SINTÉTICO (SD)'!I633 -> 169828.08 | K25: ='ORÇAMENTO SINTÉTICO (SD)'!L633 -> 207714.38
B26: 18 | E26: ='ORÇAMENTO SINTÉTICO (SD)'!E641 -> REVESTIMENTOS DE PISO | J26: ='ORÇAMENTO SINTÉTICO (SD)'!I641 -> 333619.56 | K26: ='ORÇAMENTO SINTÉTICO (SD)'!L641 -> 408064.41
B27: 19 | E27: ='ORÇAMENTO SINTÉTICO (SD)'!E664 -> FORROS | J27: ='ORÇAMENTO SINTÉTICO (SD)'!I664 -> 47624.55 | K27: ='ORÇAMENTO SINTÉTICO (SD)'!L664 -> 58250.41
B28: 20 | E28: ='ORÇAMENTO SINTÉTICO (SD)'!E669 -> FERRAGENS | J28: ='ORÇAMENTO SINTÉTICO (SD)'!I669 -> 4889.7 | K28: ='ORÇAMENTO SINTÉTICO (SD)'!L669 -> 5981
B29: 21 | E29: ='ORÇAMENTO SINTÉTICO (SD)'!E673 -> PINTURAS | J29: ='ORÇAMENTO SINTÉTICO (SD)'!I673 -> 45653.05 | K29: ='ORÇAMENTO SINTÉTICO (SD)'!L673 -> 55821.9
B30: 22 | E30: ='ORÇAMENTO SINTÉTICO (SD)'!E688 -> DIVERSOS | J30: ='ORÇAMENTO SINTÉTICO (SD)'!I688 -> 108968.14 | K30: ='ORÇAMENTO SINTÉTICO (SD)'!L688 -> 133276.27
B32: BASE: | C32: ='DADOS DA OBRA'!B28 -> SINAPI - 04/2025 - Goiás / SICRO3 - 01/2025 - Goiás / ORSE - 03/2025 - Sergipe / SEINFRA - 028 - Ceará / SETOP - 01/2025 - Minas Gerais - Central / IOPES - 02/2025 - Espírito Santo / SIURB - 01/2025 - São Paulo / SIURB INFRA - 01/2025 - São Paulo / CPOS - 04/2025 - São Paulo / FDE - 01/2025 - São Paulo / AGESUL - 01/2025 - Mato Grosso do Sul / AGETOP CIVIL - 02/2025 - Goiás / AGETOP RODOVIARIA - 02/2025 - Goiás / EMBASA - 01/2025 - sem encargos / EMOP - 04/2025 - Rio de Janeiro / SCO - 04/2025 - Rio de Janeiro. | J32: Total sem BDI | K32: =SUM(J9:J30) -> 3670975.5
J33: Total do BDI | K33: =K34-K32 -> 797064.24
J34: Total Geral | K34: =SUM(K9:K30) -> 4468039.8

Sheet ORÇAMENTO SINTÉTICO (SD)
B1: ORÇAMENTO SINTÉTICO SEM DESONERAÇÃO
B3: OBJETO: | C3: ='DADOS DA OBRA'!B13 -> CONSTRUÇÃO NOVA FÁBRICA SEAPA (AGROINDÚSTRIA DE POLPA DE FRUTAS) | G3: DATA: | H3: ='DADOS DA OBRA'!$N$22 -> 13/06/2025 | K3: ENCARGOS SOCIAIS HORISTAS: | L3: ='ENCARGOS SOCIAIS'!F43 -> 1.1737
B4: LOCAL: | C4: ='DADOS DA OBRA'!B16 -> RUA 22 , LT.01 - A, QUADRA 01-A | G4: REVISÃO: | H4: ='DADOS DA OBRA'!$N$25 -> 00 | K4: ENCARGOS SOCIAIS MENSALISTAS: | L4: ='ENCARGOS SOCIAIS'!G43 -> 0.7419
G5: PRAZO: | H5: ='DADOS DA OBRA'!B25 -> 06 MESES | K5: BDI OBRA: | L5: ='BDI NORMAL (SD) '!F21/100 -> 0.2232
K6: BDI DIFERENCIADO: | L6: ='BDI DIFERENCIADO (SD) '!F21/100 -> 0.182
B8: Item | C8: Código | D8: Banco | E8: Descrição | F8: Und | G8: Qtd | H8: Valor Unit | I8: Valor Total sem BDI | J8: BDI | K8: Valor Unit com BDI | L8: Valor Total com BDI
B9: 1 | E9: ADMINISTRAÇÃO LOCAL E CUSTOS INDIRETOS | I9: =SUBTOTAL(9,I10:I16) -> 323456.43 | L9: =SUBTOTAL(9,L10:L16) -> 395615.12 | N9: =+L9/L715 -> 0.08854333
B10: 1.1 | C10: 250101 | D10: AGETOP CIVIL | E10: ENGENHEIRO - (OBRAS CIVIS) | F10: H | G10: 980 | H10: 102.16 | I10: =TRUNC(G10 * H10, 2) -> 100116.8 | J10: =+$L$5 -> 0.2232 | K10: =TRUNC(H10 * (1 + J10), 2) -> 124.96 | L10: =TRUNC(G10 * K10, 2) -> 122460.8
B11: 1.2 | C11: 250102 | D11: AGETOP CIVIL | E11: MESTRE DE OBRA - (OBRAS CIVIS) | F11: H | G11: =220*6 -> 1320 | H11: 51.73 | I11: =TRUNC(G11 * H11, 2) -> 68283.6 | J11: =+$L$5 -> 0.2232 | K11: =TRUNC(H11 * (1 + J11), 2) -> 63.27 | L11: =TRUNC(G11 * K11, 2) -> 83516.4
B12: 1.3 | C12: 250114 | D12: AGETOP CIVIL | E12: APONTARIFE - (OBRAS CIVIS) | F12: h | G12: =+G11 -> 1320 | H12: 24.38 | I12: =TRUNC(G12 * H12, 2) -> 32181.6 | J12: =+$L$5 -> 0.2232 | K12: =TRUNC(H12 * (1 + J12), 2) -> 29.82 | L12: =TRUNC(G12 * K12, 2) -> 39362.4
B13: 1.4 | C13: 271500 | D13: AGETOP CIVIL | E13: CAFE DA MANHA | F13: RE | G13: ='QUANTIDADE MÃO DE OBRA'!E45 -> 3275 | H13: 3.38 | I13: =TRUNC(G13 * H13, 2) -> 11069.5 | J13: =+$L$5 -> 0.2232 | K13: =TRUNC(H13 * (1 + J13), 2) -> 4.13 | L13: =TRUNC(G13 * K13, 2) -> 13525.75
B14: 1.5 | C14: 271502 | D14: AGETOP CIVIL | E14: CANTINA - (OBRAS CIVIS) | F14: RE | G14: =+G13 -> 3275 | H14: 22.5 | I14: =TRUNC(G14 * H14, 2) -> 73687.5 | J14: =+$L$5 -> 0.2232 | K14: =TRUNC(H14 * (1 + J14), 2) -> 27.52 | L14: =TRUNC(G14 * K14, 2) -> 90128
B15: 1.6 | C15: 021602 | D15: AGETOP CIVIL | E15: EPI/PGR/PCMSO/EXAMES/TREINAMENTOS/VISITAS - ÁREAS EDIFICADAS/COBERTAS/FECHADAS | F15: m² | G15: 691.41 | H15: 48.22 | I15: =TRUNC(G15 * H15, 2) -> 33339.79 | J15: =+$L$5 -> 0.2232 | K15: =TRUNC(H15 * (1 + J15), 2) -> 58.98 | L15: =TRUNC(G15 * K15, 2) -> 40779.36
B16: 1.7 | C16: 020200 | D16: AGETOP CIVIL | E16: FERRAMENTAS (MANUAIS/ELÉTRICAS) E MATERIAL DE LIMPEZA PERMANENTE DA OBRA - ÁREAS EDIFICADAS/COBERTAS/FECHADAS | F16: m² | G16: 691.41 | H16: 6.91 | I16: =TRUNC(G16 * H16, 2) -> 4777.64 | J16: =+$L$5 -> 0.2232 | K16: =TRUNC(H16 * (1 + J16), 2) -> 8.45 | L16: =TRUNC(G16 * K16, 2) -> 5842.41
B17: 2 | E17: CANTEIRO DE OBRA E SERVIÇOS PRELIMINARES | I17: =SUBTOTAL(9,I18:I37) -> 159698.89 | L17: =SUBTOTAL(9,L18:L37) -> 195309.68
B18: 2.1 | E18: SERVIÇOS E INSTALAÇÕES PROVISÓRIAS, CANTEIRO DE OBRA E FERRAMENTAS | I18: =SUBTOTAL(9,I19:I32) -> 140375.84 | L18: =SUBTOTAL(9,L19:L32) -> 171673.93
B19: 2.1.1 | C19: 020212 | D19: AGETOP CIVIL | E19: BARRACÃO DE OBRAS PADRÃO GOINFRA ( BLOCOS,COBERTURAS,PASSARELAS E MÓVEIS), SEM ALOJAMENTO E LAVANDERIA , COM PINTURA, EM CONSONÂNCIA COM AS NR'S, EM ESPECIAL A NR-18, INCLUSO INSTALAÇÕES ELÉTRICAS E HIDROSSANITÁRIAS - ( COM REAPROVEITAMENTO 1 VEZ ). | F19: m² | G19: 43.2 | H19: 303.95 | I19: =TRUNC(G19 * H19, 2) -> 13130.64 | J19: =+$L$5 -> 0.2232 | K19: =TRUNC(H19 * (1 + J19), 2) -> 371.79 | L19: =TRUNC(G19 * K19, 2) -> 16061.32
B20: 2.1.2 | C20: 020303 | D20: AGETOP CIVIL | E20: DEPÓSITO PARA CIMENTO TIPO II COM PINTURA PADRÃO GOINFRA (3,30 X 3,30 M) A=10,89 M2 (C/ REAPROV. 1 VEZ ) - INCLUSO PALETES | F20: un | G20: 1 | H20: 3675.93 | I20: =TRUNC(G20 * H20, 2) -> 3675.93 | J20: =+$L$5 -> 0.2232 | K20: =TRUNC(H20 * (1 + J20), 2) -> 4496.39 | L20: =TRUNC(G20 * K20, 2) -> 4496.39
B21: 2.1.3 | C21: 020600 | D21: AGETOP CIVIL | E21: TAPUME EM CHAPA COMPENSADA RESINADA 6MM COM PORTÕES E FERRAGENS - PADRÃO GOINFRA | F21: m² | G21: 348.57 | H21: 75.97 | I21: =TRUNC(G21 * H21, 2) -> 26480.86 | J21: =+$L$5 -> 0.2232 | K21: =TRUNC(H21 * (1 + J21), 2) -> 92.92 | L21: =TRUNC(G21 * K21, 2) -> 32389.12
B22: 2.1.4 | C22: 021301 | D22: AGETOP CIVIL | E22: PLACA DE OBRA PLOTADA EM CHAPA METÁLICA 26 , AFIXADA EM CAVALETES DE MADEIRA DE LEI (VIGOTAS 6X12CM) - PADRÃO GOINFRA | F22: m² | G22: 7.5 | H22: 372.37 | I22: =TRUNC(G22 * H22, 2) -> 2792.77 | J22: =+$L$5 -> 0.2232 | K22: =TRUNC(H22 * (1 + J22), 2) -> 455.48 | L22: =TRUNC(G22 * K22, 2) -> 3416.1
B23: 2.1.5 | C23: 020701 | D23: AGETOP CIVIL | E23: LOCAÇÃO DA OBRA, EXECUÇÃO DE GABARITO SEM REAPROVEITAMENTO, INCLUSO PINTURA (FACE INTERNA DO RIPÃO 15CM) E PIQUETE COM TESTEMUNHA | F23: m² | G23: 691.41 | H23: 5.28 | I23: =TRUNC(G23 * H23, 2) -> 3650.64 | J23: =+$L$5 -> 0.2232 | K23: =TRUNC(H23 * (1 + J23), 2) -> 6.45 | L23: =TRUNC(G23 * K23, 2) -> 4459.59
B24: 2.1.6 | C24: 020190 | D24: AGETOP CIVIL | E24: LIMPEZA MECÂNICA DE TERRENO | F24: m² | G24: 1546.29 | H24: 0.25 | I24: =TRUNC(G24 * H24, 2) -> 386.57 | J24: =+$L$5 -> 0.2232 | K24: =TRUNC(H24 * (1 + J24), 2) -> 0.3 | L24: =TRUNC(G24 * K24, 2) -> 463.88
B25: 2.1.7 | C25: 020400 | D25: AGETOP CIVIL | E25: LIGAÇÃO PROVISÓRIA DE ÁGUA (INCLUSO RETIRADA DO ESGOTO SANITÁRIO) - PD. GOINFRA | F25: Un | G25: 1 | H25: 3482.69 | I25: =TRUNC(G25 * H25, 2) -> 3482.69 | J25: =+$L$5 -> 0.2232 | K25: =TRUNC(H25 * (1 + J25), 2) -> 4260.02 | L25: =TRUNC(G25 * K25, 2) -> 4260.02
B26: 2.1.8 | C26: 020501 | D26: AGETOP CIVIL | E26: LIGAÇÃO PROVISÓRIA LUZ E FORÇA - PD. GOINFRA | F26: Un | G26: 1 | H26: 4847.87 | I26: =TRUNC(G26 * H26, 2) -> 4847.87 | J26: =+$L$5 -> 0.2232 | K26: =TRUNC(H26 * (1 + J26), 2) -> 5929.91 | L26: =TRUNC(G26 * K26, 2) -> 5929.91
B27: 2.1.9 | C27: 021400 | D27: AGETOP CIVIL | E27: CONSUMO DE ÁGUA | F27: m³ | G27: 319.98 | H27: 11.73 | I27: =TRUNC(G27 * H27, 2) -> 3753.36 | J27: =+$L$5 -> 0.2232 | K27: =TRUNC(H27 * (1 + J27), 2) -> 14.34 | L27: =TRUNC(G27 * K27, 2) -> 4588.51
B28: 2.1.10 | C28: 021399 | D28: AGETOP CIVIL | E28: CONSUMO DE ESGOTO | F28: m³ | G28: 319.98 | H28: 9.38 | I28: =TRUNC(G28 * H28, 2) -> 3001.41 | J28: =+$L$5 -> 0.2232 | K28: =TRUNC(H28 * (1 + J28), 2) -> 11.47 | L28: =TRUNC(G28 * K28, 2) -> 3670.17
B29: 2.1.11 | C29: 021401 | D29: AGETOP CIVIL | E29: CONSUMO DE ENERGIA ELÉTRICA | F29: KWH | G29: 2278.31 | H29: 0.92 | I29: =TRUNC(G29 * H29, 2) -> 2096.04 | J29: =+$L$5 -> 0.2232 | K29: =TRUNC(H29 * (1 + J29), 2) -> 1.12 | L29: =TRUNC(G29 * K29, 2) -> 2551.7
B30: 2.1.12 | C30: 060104 | D30: AGETOP CIVIL | E30: ANDAIME METALICO TORRE (ALUGUEL/MES) | F30: m | G30: 384 | H30: 35.49 | I30: =TRUNC(G30 * H30, 2) -> 13628.16 | J30: =+$L$5 -> 0.2232 | K30: =TRUNC(H30 * (1 + J30), 2) -> 43.41 | L30: =TRUNC(G30 * K30, 2) -> 16669.44
... B32: 2.1.14 | C32: 62.00.95 | D32: EMBASA | E32: VIGILÂNCIA REMOTA COM CFTV, POR CÂMERA MES (ADAPTADO CONFORME DECRETO ESTADUAL N° 9900/2021) | F32: UNxMÊS | G32: 60 | H32: 286.79 | I32: =TRUNC(G32 * H32, 2) -> 17207.4 | J32: =+$L$5 -> 0.2232 | K32: =TRUNC(H32 * (1 + J32), 2) -> 350.8 | L32: =TRUNC(G32 * K32, 2) -> 21048
B33: 2.2 | E33: TRANSPORTES E EQUIPAMENTOS | I33: =SUBTOTAL(9,I34:I37) -> 19323.05 | L33: =SUBTOTAL(9,L34:L37) -> 23635.75
B34: 2.2.1 | C34: 030101 | D34: AGETOP CIVIL | E34: TRANSPORTE DE ENTULHO EM CAMINHÃO INCLUSO A CARGA MANUAL | F34: m³ | G34: 48.4 | H34: 51.99 | I34: =TRUNC(G34 * H34, 2) -> 2516.31 | J34: =+$L$5 -> 0.2232 | K34: =TRUNC(H34 * (1 + J34), 2) -> 63.59 | L34: =TRUNC(G34 * K34, 2) -> 3077.75
B35: 2.2.2 | C35: 030114 | D35: AGETOP CIVIL | E35: MOBILIZAÇÃO DO CANTEIRO DE OBRAS - INCLUSIVE CARGA E DESCARGA E A HORA IMPRODUTIVA DO CAMINHÃO - ( EXCLUSO O TRANSPORTE ) | F35: un | G35: 1 | H35: 403.37 | I35: =TRUNC(G35 * H35, 2) -> 403.37 | J35: =+$L$5 -> 0.2232 | K35: =TRUNC(H35 * (1 + J35), 2) -> 493.4 | L35: =TRUNC(G35 * K35, 2) -> 493.4
B36: 2.2.3 | C36: 030116 | D36: AGETOP CIVIL | E36: DESMOBILIZAÇÃO DO CANTEIRO DE OBRAS - INCLUSIVE CARGA E DESCARGA E A HORA IMPRODUTIVA DO CAMINHÃO - ( EXCLUSO O TRANSPORTE ) | F36: un | G36: 1 | H36: 403.37 | I36: =TRUNC(G36 * H36, 2) -> 403.37 | J36: =+$L$5 -> 0.2232 | K36: =TRUNC(H36 * (1 + J36), 2) -> 493.4 | L36: =TRUNC(G36 * K36, 2) -> 493.4
B37: 2.2.4 | C37: 072080 | D37: AGETOP CIVIL | E37: POSTE/TRAFO - CAMINHÃO MUNCK 12 TON. (MÍNIMO 4H/DIA) | F37: H | G37: 80 | H37: 200 | I37: =TRUNC(G37 * H37, 2) -> 16000 | J37: =+$L$5 -> 0.2232 | K37: =TRUNC(H37 * (1 + J37), 2) -> 244.64 | L37: =TRUNC(G37 * K37, 2) -> 19571.2
B38: 3 | E38: SERVIÇOS EM TERRA | I38: =SUBTOTAL(9,I39:I45) -> 5002.99 | L38: =SUBTOTAL(9,L39:L45) -> 6107.13
B39: 3.1 | E39: MOVIMENTO DE TERRA | I39: =SUBTOTAL(9,I40:I45) -> 5002.99 | L39: =SUBTOTAL(9,L40:L45) -> 6107.13
B40: 3.1.1 | C40: 041004 | D40: AGETOP CIVIL | E40: ESCAVACAO MECANICA | F40: m³ | G40: 265.56 | H40: 2.49 | I40: =TRUNC(G40 * H40, 2) -> 661.24 | J40: =+$L$5 -> 0.2232 | K40: =TRUNC(H40 * (1 + J40), 2) -> 3.04 | L40: =TRUNC(G40 * K40, 2) -> 807.3
B41: 3.1.2 | C41: 041007 | D41: AGETOP CIVIL | E41: ESPALHAMENTO MECANICO | F41: m² | G41: 2505.95 | H41: 0.42 | I41: =TRUNC(G41 * H41, 2) -> 1052.49 | J41: =+$L$5 -> 0.2232 | K41: =TRUNC(H41 * (1 + J41), 2) -> 0.51 | L41: =TRUNC(G41 * K41, 2) -> 1278.03
B42: 3.1.3 | C42: 041008 | D42: AGETOP CIVIL | E42: COMPACTAÇÃO MECÂNICA COM CONTROLE DA UMIDADE (95% PN) | F42: m³ | G42: 347.84 | H42: 5.44 | I42: =TRUNC(G42 * H42, 2) -> 1892.24 | J42: =+$L$5 -> 0.2232 | K42: =TRUNC(H42 * (1 + J42), 2) -> 6.65 | L42: =TRUNC(G42 * K42, 2) -> 2313.13
B43: 3.1.4 | C43: 041010 | D43: AGETOP CIVIL | E43: TRANSPORTE COM LÂMINA ATE 100 M - (OBRAS CIVIS) | F43: m³ | G43: 265.56 | H43: 1.57 | I43: =TRUNC(G43 * H43, 2) -> 416.92 | J43: =+$L$5 -> 0.2232 | K43: =TRUNC(H43 * (1 + J43), 2) -> 1.92 | L43: =TRUNC(G43 * K43, 2) -> 509.87
...

Sheet MEMORIAL DE CÁLCULO (SD)
B1: MEMORIAL DE CÁLCULO SEM DESONERAÇÃO
B3: OBJETO: | C3: ='[1]DADOS DA OBRA'!B13 -> CONSTRUÇÃO NOVA FÁBRICA SEAPA (AGROINDÚSTRIA DE POLPA DE FRUTAS) | F3: DATA: | G3: ='[1]DADOS DA OBRA'!$N$22 -> 13/06/2025 | J3: ENCARGOS SOCIAIS HORISTAS: | K3: ='[1]ENCARGOS SOCIAIS'!F43 -> 1.1737
B4: LOCAL: | C4: ='[1]DADOS DA OBRA'!B16 -> RUA 22 , LT.01 - A, QUADRA 01-A | F4: REVISÃO: | G4: ='[1]DADOS DA OBRA'!$N$25 -> 00 | J4: ENCARGOS SOCIAIS MENSALISTAS: | K4: ='[1]ENCARGOS SOCIAIS'!G43 -> 0.7419
F5: PRAZO: | G5: ='[1]DADOS DA OBRA'!B25 -> 06 MESES | J5: BDI OBRA: | K5: ='[1]BDI NORMAL (SD) '!F21/100 -> 0.2232
J6: BDI DIFERENCIADO: | K6: ='[1]BDI DIFERENCIADO (SD) '!F21/100 -> 0.182
B8: Item | C8: Código | D8: Banco | E8: Descrição | F8: Und | G8: Qtd | H8: Valor Unit | I8: Valor Unit sem BDI | J8: Total | K8: Peso (%)
B9: 1 | E9: ADMINISTRAÇÃO LOCAL E CUSTOS INDIRETOS | G9: 1 | I9: 323792.87 | J9: 323792.87 | K9: 0.088195305
B10: 1.1 | C10: 250101 | D10: AGETOP CIVIL | E10: ENGENHEIRO - (OBRAS CIVIS) | F10: H | G10: 980 | H10: 102.16 | I10: 102.16 | J10: 100116.8 | K10: 0.02727
B11: Local | E11: Descrição | F11: Fórmula | J11: Quantidade
B12: PREVISÃO ENGENHARIA DE CUSTO - SEINFRA | E12: (6 MESES) = 980HORAS | F12: 980 | J12: 980
B13: 1.2 | C13: 250102 | D13: AGETOP CIVIL | E13: MESTRE DE OBRA - (OBRAS CIVIS) | F13: H | G13: 1320 | H13: 51.73 | I13: 51.73 | J13: 68283.6 | K13: 0.018599214
B14: Local | E14: Descrição | F14: Fórmula | J14: Quantidade
B15: PREVISÃO ENGENHARIA DE CUSTO - SEINFRA | E15: (220 H/MÊS * QUANTIDADE DE MÊS OBRA * 6 MESES) | F15: 220*6 | J15: 1320
B16: 1.3 | C16: 250114 | D16: AGETOP CIVIL | E16: APONTARIFE - (OBRAS CIVIS) | F16: h | G16: 1320 | H16: 24.38 | I16: 24.38 | J16: 32181.6 | K16: 0.0087656841
B17: Local | E17: Descrição | F17: Fórmula | J17: Quantidade
B18: PREVISÃO ENGENHARIA DE CUSTO - SEINFRA | E18: (220 H/MÊS * QUANTIDADE DE MÊS OBRA * 6 MESES) | F18: 220*6 | J18: 1320
B19: 1.4 | C19: 271500 | D19: AGETOP CIVIL | E19: CAFE DA MANHA | F19: RE | G19: 3288 | H19: 3.38 | I19: 3.38 | J19: 11113.44 | K19: 0.0030270995
B20: Local | E20: Descrição | F20: Fórmula | J20: Quantidade
B21: PREVISÃO ENGENHARIA DE CUSTO - SEINFRA | E21: CONFORME CRITÉRIOS PARA ORÇAMENTO DE OBRAS CIVIS PL-GECOC (GO INFRA) PAG. 25/28 - CAFÉ DA MANHÃ: A QUANTIDADE RELATIVA AO CAFÉ DA MANHÃ DEVE SER CALCULADA BASEANDO-SE NO TOTAL DE HORAS TRABALHADAS SOMADAS DOS PROFISSIONAIS, COM EXCEÇÃO DO ENGENHEIRO (DE ACORDO COM AS COMPOSIÇÕES DOS SERVIÇOS), DIVIDIDO POR 8,8 (OITO VÍRGULA OITO HORAS/DIA) E MULTIPLICADO POR 0,85. NÃO CONSIDERAR OS PROFISSIONAIS TERCEIRIZADOS, A NÃO SER QUE NA PROPOSTA DE PREÇOS SEJA EXIGIDO. | F21: 3288 | J21: 3288
B22: 1.5 | C22: 271502 | D22: AGETOP CIVIL | E22: CANTINA - (OBRAS CIVIS) | F22: RE | G22: 3288 | H22: 22.5 | I22: 22.5 | J22: 73980 | K22: 0.02015081
B23: Local | E23: Descrição | F23: Fórmula | J23: Quantidade
B24: PREVISÃO ENGENHARIA DE CUSTO - SEINFRA | E24: CONFORME CRITÉRIOS PARA ORÇAMENTO DE OBRAS CIVIS PL-GECOC (GO INFRA) PAG. 26/28 - CANTINA: A QUANTIDADE DE REFEIÇÕES RELATIVA À CANTINA DEVE SER CALCULADA BASEADA NO TOTAL DE HORAS TRABALHADAS SOMADAS DOS PROFISSIONAIS, COM EXCEÇÃO DO ENGENHEIRO (DE ACORDO COM AS COMPOSIÇÕES DOS SERVIÇOS), DIVIDIDO POR 8,8 (OITO VÍRGULA OITO HORAS/DIA) E MULTIPLICADO POR 0,85. NÃO CONSIDERAR OS PROFISSIONAIS TERCEIRIZADOS, A NÃO SER QUE NA PROPOSTA DE PREÇOS SEJA EXIGIDO O FORNECIMENTO DO CAFÉ DA MANHÃ PARA OS ESTES FUNCIONÁRIOS. | F24: 3288 | J24: 3288
B25: 1.6 | C25: 021602 | D25: AGETOP CIVIL | E25: EPI/PGR/PCMSO/EXAMES/TREINAMENTOS/VISITAS - ÁREAS EDIFICADAS/COBERTAS/FECHADAS | F25: m² | G25: 691.41 | H25: 48.22 | I25: 48.22 | J25: 33339.79 | K25: 0.0090811541
B26: Local | E26: Descrição | F26: Fórmula | J26: Quantidade
B27: PREVISÃO ENGENHARIA DE CUSTO - SEINFRA | E27: PRANCHA 001 - SEIN- SEAP- ARQ- EX-001- CVG- QDR- R00 - TABELA DE ÁREA CONSTRUÍDA - AGROINDUSTRIA - CONFORME CRITÉRIOS PARA ORÇAMENTO DE OBRAS CIVIS PL-GECOC (GO INFRA) ITEM 2.1.8 - PAG. 6/28 | F27: 691,41 | J27: 691.41
B28: 1.7 | C28: 020200 | D28: AGETOP CIVIL | E28: FERRAMENTAS (MANUAIS/ELÉTRICAS) E MATERIAL DE LIMPEZA PERMANENTE DA OBRA - ÁREAS EDIFICADAS/COBERTAS/FECHADAS | F28: m² | G28: 691.41 | H28: 6.91 | I28: 6.91 | J28: 4777.64 | K28: 0.0013013425
B29: Local | E29: Descrição | F29: Fórmula | J29: Quantidade
B30: PREVISÃO ENGENHARIA DE CUSTO - SEINFRA | E30: PRANCHA 001 - SEIN- SEAP- ARQ- EX-001- CVG- QDR- R00 - TABELA DE ÁREA CONSTRUÍDA - AGROINDUSTRIA - CONFORME CRITÉRIOS PARA ORÇAMENTO DE OBRAS CIVIS PL-GECOC (GO INFRA) ITEM 2.1.2 - PAG. 4/28 | F30: 691,41 | J30: 691.41
B31: 2 | E31: CANTEIRO DE OBRA E SERVIÇOS PRELIMINARES | G31: 1 | I31: 159698.93 | J31: 159698.93 | K31: 0.043499092
B32: 2.1 | E32: SERVIÇOS E INSTALAÇÕES PROVISÓRIAS, CANTEIRO DE OBRA E FERRAMENTAS | G32: 1 | I32: 140375.87 | J32: 140375.87 | K32: 0.038235841
B33: 2.1.1 | C33: 020212 | D33: AGETOP CIVIL | E33: BARRACÃO DE OBRAS PADRÃO GOINFRA ( BLOCOS,COBERTURAS,PASSARELAS E MÓVEIS), SEM ALOJAMENTO E LAVANDERIA , COM PINTURA, EM CONSONÂNCIA COM AS NR'S, EM ESPECIAL A NR-18, INCLUSO INSTALAÇÕES ELÉTRICAS E HIDROSSANITÁRIAS - ( COM REAPROVEITAMENTO 1 VEZ ). | F33: m² | G33: 43.2 | H33: 303.95 | I33: 303.95 | J33: 13130.64 | K33: 0.0035765482
B34: Local | E34: Descrição | F34: Fórmula | J34: Quantidade
B35: PREVISÃO ENGENHARIA DE CUSTO - SEINFRA | E35: 1 UNIDADE NECESSÁRIA PARA ESCRITÓRIO, 1 UNIDADE NECESSÁRIA PARA SANITÁRIO E 1 UNIDADE PARA ALMOXARIFADO .: “ESCRITÓRIO COM REVESTIMENTO INTERNO, PARA ESCRITÓRIO 6,00 X 2,40 M – MESMO TAMANHO DE UM CONTAINER” + “SANITÁRIO MISTO 6,00 X 2,40 M, COM VASOS, LAVATÓRIO E MICTÓRIO - MESMO TAMANHO DE UM CONTAINER” + “SEM REVESTIMENTO INTERNO PARA ALMOXARIFADO 6,00 X 2,40 M - MESMO TAMANHO DE UM CONTAINER” | F35: (6*2,40)*3 | J35: 43.2
B36: 2.1.2 | C36: 020303 | D36: AGETOP CIVIL | E36: DEPÓSITO PARA CIMENTO TIPO II COM PINTURA PADRÃO GOINFRA (3,30 X 3,30 M) A=10,89 M2 (C/ REAPROV. 1 VEZ ) - INCLUSO PALETES | F36: un | G36: 1 | H36: 3675.93 | I36: 3675.93 | J36: 3675.93 | K36: 0.0010012567
B37: Local | E37: Descrição | F37: Fórmula | J37: Quantidade
B38: PREVISÃO ENGENHARIA DE CUSTO - SEINFRA | E38: 1 UNIDADE NECESSÁRIA PARA ARMAZENAR CIMENTO | F38: 1 | J38: 1
B39: 2.1.3 | C39: 020600 | D39: AGETOP CIVIL | E39: TAPUME EM CHAPA COMPENSADA RESINADA 6MM COM PORTÕES E FERRAGENS - PADRÃO GOINFRA | F39: m² | G39: 348.57 | H39: 75.97 | I39: 75.97 | J39: 26480.86 | K39: 0.007212906
B40: Local | E40: Descrição | F40: Fórmula | J40: Quantidade
E41: CONFORME SEIN- SEAP- ARQ- EX-001- CVG- QDR- R00 - PRANCHA 001 - PLANTA DE SITUAÇÃO - PREVISÃO DE TAPUME EM TODO PERIMETRO DA EDIFICAÇÃO, FOI VERIFICADO A NECESSIDADE POIS, A QUADRA ESTÁ VAZIA. PORTANTO SOMA TOTAL DOS PERIMETROS DO LOTA 1-A, E A NR-18 estabelece que os tapumes devem ser fixados de forma resistente e ter uma altura mínima de 2,20 metros em relação ao nivel do terreno. | F41: (50,21+24,18+41,65+3,58+3,95+3,35+31,52)*2,20 | J41: 348.568
B42: ARREDONDAMENTO PARA 2 CASAS | F42: 348,568-348,57 | J42: 0.002
...

Sheet COMPOSIÇÕES (SD)
B1: COMPOSIÇÕES SEM DESONERAÇÃO
B3: OBJETO: | C3: ='DADOS DA OBRA'!B13 -> CONSTRUÇÃO NOVA FÁBRICA SEAPA (AGROINDÚSTRIA DE POLPA DE FRUTAS) | H3: DATA: | I3: ='DADOS DA OBRA'!N22 -> 13/06/2025 | K3: ENCARGOS SOCIAIS HORISTAS: | L3: ='DADOS DA OBRA'!J22 -> 1.1737
B4: LOCAL: | C4: ='DADOS DA OBRA'!B16 -> RUA 22 , LT.01 - A, QUADRA 01-A | H4: REVISÃO: | I4: ='DADOS DA OBRA'!N25 -> 00 | K4: ENCARGOS SOCIAIS MENSALISTAS: | L4: ='DADOS DA OBRA'!J25 -> 0.7419
H5: PRAZO: | I5: ='DADOS DA OBRA'!B25 -> 06 MESES | K5: BDI OBRA: | L5: ='DADOS DA OBRA'!F22 -> 0.2232
K6: BDI DIFERENCIADO: | L6: ='DADOS DA OBRA'!F25 -> 0.182
B7: 1 | E7: ADMINISTRAÇÃO LOCAL E CUSTOS INDIRETOS | L7: 323792.87
B8: 1.1 | C8: Código | D8: Banco | E8: Descrição | F8: Tipo | H8: Und | I8: Quant. | J8: Porcent. | K8: Valor Unit | L8: Total
B9: Composição | C9: 250101 | D9: AGETOP CIVIL | E9: ENGENHEIRO - (OBRAS CIVIS) | F9: 2501 | H9: H | I9: 1 | K9: 102.16 | L9: 102.16
B10: Insumo | C10: 0001 | D10: AGETOP CIVIL | E10: ENGENHEIRO | F10: Mão de Obra | H10: MES | I10: 1 | J10: 0 | K10: 102.16 | L10: 102.16
G11: MO sem LS => | H11: 65.5 | I11: LS => | J11: 36.66 | K11: MO com LS => | L11: 102.16
G12: Valor do BDI => | H12: 0 | J12: Valor com BDI => | L12: 102.16
I13: Quant. => | J13: 980,00 | K13: Preço Total => | L13: 100116.8
B15: 1.2 | C15: Código | D15: Banco | E15: Descrição | F15: Tipo | H15: Und | I15: Quant. | J15: Porcent. | K15: Valor Unit | L15: Total
B16: Composição | C16: 250102 | D16: AGETOP CIVIL | E16: MESTRE DE OBRA - (OBRAS CIVIS) | F16: 2501 | H16: H | I16: 1 | K16: 51.73 | L16: 51.73
B17: Insumo | C17: 0003 | D17: AGETOP CIVIL | E17: MESTRE DE OBRAS | F17: Mão de Obra | H17: MES | I17: 1 | J17: 0 | K17: 51.73 | L17: 51.73
G18: MO sem LS => | H18: 33.17 | I18: LS => | J18: 18.56 | K18: MO com LS => | L18: 51.73
G19: Valor do BDI => | H19: 0 | J19: Valor com BDI => | L19: 51.73
I20: Quant. => | J20: 1.320,00 | K20: Preço Total => | L20: 68283.6
B22: 1.3 | C22: Código | D22: Banco | E22: Descrição | F22: Tipo | H22: Und | I22: Quant. | J22: Porcent. | K22: Valor Unit | L22: Total
B23: Composição | C23: 250114 | D23: AGETOP CIVIL | E23: APONTARIFE - (OBRAS CIVIS) | F23: 2501 | H23: h | I23: 1 | K23: 24.38 | L23: 24.38
B24: Insumo | C24: 0039 | D24: AGETOP CIVIL | E24: APONTARIFE | F24: Mão de Obra | H24: MES | I24: 1 | J24: 0 | K24: 24.38 | L24: 24.38
G25: MO sem LS => | H25: 15.63 | I25: LS => | J25: 8.75 | K25: MO com LS => | L25: 24.38
G26: Valor do BDI => | H26: 0 | J26: Valor com BDI => | L26: 24.38
I27: Quant. => | J27: 1.320,00 | K27: Preço Total => | L27: 32181.6
B29: 1.4 | C29: Código | D29: Banco | E29: Descrição | F29: Tipo | H29: Und | I29: Quant. | J29: Porcent. | K29: Valor Unit | L29: Total
B30: Composição | C30: 271500 | D30: AGETOP CIVIL | E30: CAFE DA MANHA | F30: 2715 | H30: RE | I30: 1 | K30: 3.38 | L30: 3.38
B31: Insumo | C31: 2537 | D31: AGETOP CIVIL | E31: CAFÉ DA MANHA (COMP. AUXILIAR)** | F31: Material | H31: un | I31: 1 | J31: 0 | K31: 3.38 | L31: 3.38
G32: MO sem LS => | H32: 0 | I32: LS => | J32: 0 | K32: MO com LS => | L32: 0
G33: Valor do BDI => | H33: 0 | J33: Valor com BDI => | L33: 3.38
I34: Quant. => | J34: 3.288,00 | K34: Preço Total => | L34: 11113.44
B36: 1.5 | C36: Código | D36: Banco | E36: Descrição | F36: Tipo | H36: Und | I36: Quant. | J36: Porcent. | K36: Valor Unit | L36: Total
B37: Composição | C37: 271502 | D37: AGETOP CIVIL | E37: CANTINA - (OBRAS CIVIS) | F37: 2715 | H37: RE | I37: 1 | K37: 22.5 | L37: 22.5
B38: Insumo | C38: 1941 | D38: AGETOP CIVIL | E38: REFEICAO | F38: Material | H38: un | I38: 1 | J38: 0 | K38: 22.5 | L38: 22.5
G39: MO sem LS => | H39: 0 | I39: LS => | J39: 0 | K39: MO com LS => | L39: 0
G40: Valor do BDI => | H40: 0 | J40: Valor com BDI => | L40: 22.5
I41: Quant. => | J41: 3.275,00 | K41: Preço Total => | L41: 73687.5
B43: 1.6 | C43: Código | D43: Banco | E43: Descrição | F43: Tipo | H43: Und | I43: Quant. | J43: Porcent. | K43: Valor Unit | L43: Total
B44: Composição | C44: 021602 | D44: AGETOP CIVIL | E44: EPI/PGR/PCMSO/EXAMES/TREINAMENTOS/VISITAS - ÁREAS EDIFICADAS/COBERTAS/FECHADAS | F44: 216 | H44: m² | I44: 1 | K44: 48.22 | L44: 48.22
B45: Insumo | C45: 2538 | D45: AGETOP CIVIL | E45: EPI/PGR/PCMSO / EXAMES/TREINAMENTOS/VISITAS (COMP. AUXILIAR) | F45: Material | H45: m² | I45: 1 | J45: 0 | K45: 48.22 | L45: 48.22
G46: MO sem LS => | H46: 0 | I46: LS => | J46: 0 | K46: MO com LS => | L46: 0
...

Sheet CRONOGRAMA (SD)
B1: CRONOGRAMA FISICO-FINANCEIRO SEM DESONERAÇÃO
B8: OBJETO: | C8: ='DADOS DA OBRA'!B13 -> CONSTRUÇÃO NOVA FÁBRICA SEAPA (AGROINDÚSTRIA DE POLPA DE FRUTAS) | Y8: DATA: | AA8: =+'DADOS DA OBRA'!$N$22 -> 13/06/2025
B9: LOCAL: | C9: ='DADOS DA OBRA'!B16 -> RUA 22 , LT.01 - A, QUADRA 01-A | Y9: REVISÃO: | AA9: ='DADOS DA OBRA'!$N$25 -> 00
B11: ITEM | C11: SERVIÇO | D11: VALORES | E11: MESES
E12: MÊS 01 | I12: MÊS 02 | M12: MÊS 03 | Q12: MÊS 04 | U12: MÊS 05 | Y12: MÊS 06
B14: 1 | C14: ='ORÇAMENTO RESUMO (SD)'!E9 -> ADMINISTRAÇÃO LOCAL E CUSTOS INDIRETOS | D14: ='ORÇAMENTO RESUMO (SD)'!K9 -> 395615.12 | E14: =E16*$D14 -> 9806.1621 | I14: =I16*$D14 -> 50693.913 | M14: =M16*$D14 -> 69151.596 | Q14: =Q16*$D14 -> 119723.36 | U14: =U16*$D14 -> 97862.142 | Y14: =Y16*$D14 -> 48377.949
D16: =D14/$D$80 -> 0.08854333 | E16: =+SUM(E26,E29,E32,E35,E38,E41,E44,E47,E50,E53,E56,E59,E62,E65,E71,E68,E20,E23,E74,E77)/($D$80-$D$14-$D$17) -> 0.024787127 | I16: =+SUM(I26,I29,I32,I35,I38,I41,I44,I47,I50,I53,I56,I59,I62,I65,I71,I68,I20,I23,I74,I77)/($D$80-$D$14-$D$17) -> 0.12813947 | M16: =+SUM(M26,M29,M32,M35,M38,M41,M44,M47,M50,M53,M56,M59,M62,M65,M71,M68,M20,M23,M74,M77)/($D$80-$D$14-$D$17) -> 0.17479513 | Q16: =+SUM(Q26,Q29,Q32,Q35,Q38,Q41,Q44,Q47,Q50,Q53,Q56,Q59,Q62,Q65,Q71,Q68,Q20,Q23,Q74,Q77)/($D$80-$D$14-$D$17) -> 0.30262584 | U16: =+SUM(U26,U29,U32,U35,U38,U41,U44,U47,U50,U53,U56,U59,U62,U65,U71,U68,U20,U23,U74,U77)/($D$80-$D$14-$D$17) -> 0.24736704 | Y16: =+SUM(Y26,Y29,Y32,Y35,Y38,Y41,Y44,Y47,Y50,Y53,Y56,Y59,Y62,Y65,Y71,Y68,Y20,Y23,Y74,Y77)/($D$80-$D$14-$D$17) -> 0.12228539
B17: 2 | C17: ='ORÇAMENTO RESUMO (SD)'!E10 -> CANTEIRO DE OBRA E SERVIÇOS PRELIMINARES | D17: ='ORÇAMENTO RESUMO (SD)'!K10 -> 195309.68 | E17: =E19*$D17 -> 4841.1658 | I17: =I19*$D17 -> 25026.879 | M17: =M19*$D17 -> 34139.181 | Q17: =Q19*$D17 -> 59105.756 | U17: =U19*$D17 -> 48313.178 | Y17: =Y19*$D17 -> 23883.52
D19: =D17/$D$80 -> 0.04371261 | E19: =E16 -> 0.024787127 | I19: =I16 -> 0.12813947 | M19: =M16 -> 0.17479513 | Q19: =Q16 -> 0.30262584 | U19: =U16 -> 0.24736704 | Y19: =Y16 -> 0.12228539
B20: 3 | C20: ='ORÇAMENTO RESUMO (SD)'!E11 -> SERVIÇOS EM TERRA | D20: ='ORÇAMENTO RESUMO (SD)'!K11 -> 6107.13 | E20: =E22*$D20 -> 6107.13 | I20: =I22*$D20 -> 0 | M20: =M22*$D20 -> 0 | Q20: =Q22*$D20 -> 0 | U20: =U22*$D20 -> 0 | Y20: =Y22*$D20 -> 0
D22: =D20/$D$80 -> 0.0013668477 | E22: 1
B23: 4 | C23: ='ORÇAMENTO RESUMO (SD)'!E12 -> FUNDAÇÕES | D23: ='ORÇAMENTO RESUMO (SD)'!K12 -> 179990.82 | E23: =E25*$D23 -> 89995.41 | I23: =I25*$D23 -> 89995.41 | M23: =M25*$D23 -> 0 | Q23: =Q25*$D23 -> 0 | U23: =U25*$D23 -> 0 | Y23: =Y25*$D23 -> 0
D25: =D23/$D$80 -> 0.040284068 | E25: 0.5 | I25: 0.5
B26: 5 | C26: ='ORÇAMENTO RESUMO (SD)'!E13 -> ESTRUTURA EM CONCRETO ARMADO | D26: ='ORÇAMENTO RESUMO (SD)'!K13 -> 458323.53 | E26: =E28*$D26 -> 0 | I26: =I28*$D26 -> 183329.41 | M26: =M28*$D26 -> 274994.12 | Q26: =Q28*$D26 -> 0 | U26: =U28*$D26 -> 0 | Y26: =Y28*$D26 -> 0
D28: =D26/$D$80 -> 0.10257821 | I28: 0.4 | M28: 0.6
B29: 6 | C29: ='ORÇAMENTO RESUMO (SD)'!E14 -> ESTRUTURA METÁLICA | D29: ='ORÇAMENTO RESUMO (SD)'!K14 -> 332202.1 | E29: =E31*$D29 -> 0 | I29: =I31*$D29 -> 0 | M29: =M31*$D29 -> 99660.63 | Q29: =Q31*$D29 -> 232541.47 | U29: =U31*$D29 -> 0 | Y29: =Y31*$D29 -> 0
D31: =D29/$D$80 -> 0.074350748 | M31: 0.3 | Q31: 0.7
B32: 7 | C32: ='ORÇAMENTO RESUMO (SD)'!E15 -> INSTALAÇÕES HIDROSSANITÁRIAS/ LOUÇAS/ METAIS | D32: ='ORÇAMENTO RESUMO (SD)'!K15 -> 543500.83 | E32: =E34*$D32 -> 0 | I32: =I34*$D32 -> 108700.17 | M32: =M34*$D32 -> 108700.17 | Q32: =Q34*$D32 -> 163050.25 | U32: =U34*$D32 -> 108700.17 | Y32: =Y34*$D32 -> 54350.083
D34: =D32/$D$80 -> 0.1216419 | I34: 0.2 | M34: 0.2 | Q34: 0.3 | U34: 0.2 | Y34: 0.1
B35: 8 | C35: ='ORÇAMENTO RESUMO (SD)'!E16 -> INSTALAÇÕES ELÉTRICAS/ CAB. EST. (LÓGICA E DADOS) / CFTV / SPDA | D35: ='ORÇAMENTO RESUMO (SD)'!K16 -> 533899.79 | E35: =E37*$D35 -> 0 | I35: =I37*$D35 -> 106779.96 | M35: =M37*$D35 -> 106779.96 | Q35: =Q37*$D35 -> 106779.96 | U35: =U37*$D35 -> 106779.96 | Y35: =Y37*$D35 -> 106779.96
D37: =D35/$D$80 -> 0.11949307 | I37: 0.2 | M37: 0.2 | Q37: 0.2 | U37: 0.2 | Y37: 0.2
B38: 9 | C38: ='ORÇAMENTO RESUMO (SD)'!E17 -> INSTALAÇÕES MECÂNICAS | D38: ='ORÇAMENTO RESUMO (SD)'!K17 -> 318237.69 | E38: =E40*$D38 -> 0 | I38: =I40*$D38 -> 0 | M38: =M40*$D38 -> 79559.422 | Q38: =Q40*$D38 -> 79559.422 | U38: =U40*$D38 -> 79559.422 | Y38: =Y40*$D38 -> 79559.422
D40: =D38/$D$80 -> 0.071225348 | M40: 0.25 | Q40: 0.25 | U40: 0.25 | Y40: 0.25
B41: 10 | C41: ='ORÇAMENTO RESUMO (SD)'!E18 -> INSTALAÇÕES DE PLANO DE PREVENÇÃO DE COMBATE A INCÊNDIO - (PPCI) | D41: ='ORÇAMENTO RESUMO (SD)'!K18 -> 12379.84 | E41: =E43*$D41 -> 0 | I41: =I43*$D41 -> 0 | M41: =M43*$D41 -> 0 | Q41: =Q43*$D41 -> 0 | U41: =U43*$D41 -> 0 | Y41: =Y43*$D41 -> 12379.84
D43: =D41/$D$80 -> 0.0027707542 | Y43: 1
B44: 11 | C44: ='ORÇAMENTO RESUMO (SD)'!E19 -> ALVENARIAS E DIVISÓRIAS | D44: ='ORÇAMENTO RESUMO (SD)'!K19 -> 270787.2 | E44: =E46*$D44 -> 0 | I44: =I46*$D44 -> 0 | M44: =M46*$D44 -> 0 | Q44: =Q46*$D44 -> 189551.04 | U44: =U46*$D44 -> 81236.16 | Y44: =Y46*$D44 -> 0
D46: =D44/$D$80 -> 0.060605369 | Q46: 0.7 | U46: 0.3
B47: 12 | C47: ='ORÇAMENTO RESUMO (SD)'!E20 -> IMPERMEABILIZAÇÕES | D47: ='ORÇAMENTO RESUMO (SD)'!K20 -> 53376.81 | E47: =E49*$D47 -> 0 | I47: =I49*$D47 -> 8006.5215 | M47: =M49*$D47 -> 8006.5215 | Q47: =Q49*$D47 -> 26688.405 | U47: =U49*$D47 -> 10675.362 | Y47: =Y49*$D47 -> 0
D49: =D47/$D$80 -> 0.01194636 | I49: 0.15 | M49: 0.15 | Q49: 0.5 | U49: 0.2
B50: 13 | C50: ='ORÇAMENTO RESUMO (SD)'!E21 -> COBERTURA | D50: ='ORÇAMENTO RESUMO (SD)'!K21 -> 179173.34 | E50: =E52*$D50 -> 0 | I50: =I52*$D50 -> 0 | M50: =M52*$D50 -> 0 | Q50: =Q52*$D50 -> 89586.67 | U50: =U52*$D50 -> 89586.67 | Y50: =Y52*$D50 -> 0
D52: =D50/$D$80 -> 0.040101107 | Q52: 0.5 | U52: 0.5
B53: 14 | C53: ='ORÇAMENTO RESUMO (SD)'!E22 -> ESQUADRIAS | D53: ='ORÇAMENTO RESUMO (SD)'!K22 -> 94798.94 | E53: =E55*$D53 -> 0 | I53: =I55*$D53 -> 0 | M53: =M55*$D53 -> 0 | Q53: =Q55*$D53 -> 0 | U53: =U55*$D53 -> 66359.258 | Y53: =Y55*$D53 -> 28439.682
D55: =D53/$D$80 -> 0.021217121 | U55: 0.7 | Y55: 0.3
B56: 15 | C56: ='ORÇAMENTO RESUMO (SD)'!E23 -> VIDROS | D56: ='ORÇAMENTO RESUMO (SD)'!K23 -> 5066.63 | E56: =E58*$D56 -> 0 | I56: =I58*$D56 -> 0 | M56: =M58*$D56 -> 0 | Q56: =Q58*$D56 -> 0 | U56: =U58*$D56 -> 0 | Y56: =Y58*$D56 -> 5066.63
D58: =D56/$D$80 -> 0.0011339716 | Y58: 1
B59: 16 | C59: ='ORÇAMENTO RESUMO (SD)'!E24 -> BANCADAS | D59: ='ORÇAMENTO RESUMO (SD)'!K24 -> 20161.96 | E59: =E61*$D59 -> 0 | I59: =I61*$D59 -> 0 | M59: =M61*$D59 -> 0 | Q59: =Q61*$D59 -> 0 | U59: =U61*$D59 -> 18145.764 | Y59: =Y61*$D59 -> 2016.196
D61: =D59/$D$80 -> 0.0045124844 | U61: 0.9 | Y61: 0.1
B62: 17 | C62: ='ORÇAMENTO RESUMO (SD)'!E25 -> REVESTIMENTOS DE PAREDES | D62: ='ORÇAMENTO RESUMO (SD)'!K25 -> 207714.38 | E62: =E64*$D62 -> 0 | I62: =I64*$D62 -> 0 | M62: =M64*$D62 -> 0 | Q62: =Q64*$D62 -> 41542.876 | U62: =U64*$D62 -> 166171.5 | Y62: =Y64*$D62 -> 0
D64: =D62/$D$80 -> 0.046488928 | Q64: 0.2 | U64: 0.8
B65: 18 | C65: ='ORÇAMENTO RESUMO (SD)'!E26 -> REVESTIMENTOS DE PISO | D65: ='ORÇAMENTO RESUMO (SD)'!K26 -> 408064.41 | E65: =E67*$D65 -> 0 | I65: =I67*$D65 -> 0 | M65: =M67*$D65 -> 0 | Q65: =Q67*$D65 -> 204032.21 | U65: =U67*$D65 -> 122419.32 | Y65: =Y67*$D65 -> 81612.882
...

Sheet CURVA ABC DE SERVIÇOS (SD)
B1: CURVA ABC DE SERVIÇOS SEM DESONERAÇÃO
B3: OBJETO: | C3: ='DADOS DA OBRA'!B13 -> CONSTRUÇÃO NOVA FÁBRICA SEAPA (AGROINDÚSTRIA DE POLPA DE FRUTAS) | E3: DATA: | F3: ='DADOS DA OBRA'!$N$22 -> 13/06/2025 | I3: ENCARGOS SOCIAIS HORISTAS: | J3: ='ENCARGOS SOCIAIS'!F43 -> 1.1737
B4: LOCAL: | C4: ='DADOS DA OBRA'!B16 -> RUA 22 , LT.01 - A, QUADRA 01-A | E4: REVISÃO: | F4: ='DADOS DA OBRA'!$N$25 -> 00 | I4: ENCARGOS SOCIAIS MENSALISTAS: | J4: ='ENCARGOS SOCIAIS'!G43 -> 0.7419
E5: PRAZO: | F5: ='DADOS DA OBRA'!B25 -> 06 MESES | I5: BDI OBRA: | J5: ='BDI NORMAL (SD) '!F21/100 -> 0.2232
I6: BDI DIFERENCIADO: | J6: ='BDI DIFERENCIADO (SD) '!F21/100 -> 0.182
B8: Banco | C8: Código | D8: Descrição | E8: Und | F8: Quant. | G8: Valor Unit | H8: Total | I8: Peso (%) | J8: Peso Acumulado (%)
B9: 150204 | C9: AGETOP CIVIL | D9: ESTRUTURA METÁLICA CONVENCIONAL EM AÇO DO TIPO MR-250 / ASTM A36 COM FUNDO ANTICORROSIVO | E9: Kg | F9: 15.125,66 | G9: 17,78 | H9: 268934.23 | I9: =H9/$J$537 -> 0.073259608 | J9: =+I9 -> 0.073259608
B10: C4846 | C10: SEINFRA | D10: ESTAÇÃO DE TRATAMENTO DE ESGOTO (ETE), VAZÃO DE 10,00 M3/DIA, CONFECCIONADA EM POLIESTER REFORÇADA E FIBRA DE VIDRO, COMPLETA INCLUINDO FORNECIMENTO, MONTAGEM E TREINAMENTO (ADAPTADO CONFORME DECRETO ESTADUAL N° 9900/2021) | E10: UN | F10: 1,0 | G10: 206.055,74 | H10: 206055.74 | I10: =H10/$J$537 -> 0.056131058 | J10: =+J9+I10 -> 0.12939067
B11: 00100 | C11: Próprio | D11: GRUPO GERADOR CARENADO, COM QUADRO DE TRANSFERÊNCIA AUTOMÁTICO, VELOCIDADE DE 1800 RPM, FREQUENCIA DE 60 HZ, POTENCIA STANDART ENTRE 100 E 110 KVA | E11: UN | F11: 1,0 | G11: 167.054,83 | H11: 167054.83 | I11: =H11/$J$537 -> 0.045506931 | J11: =+J10+I11 -> 0.1748976
B12: 060209 | C12: AGETOP CIVIL | D12: FORMA CHAPA DE COMPENSADO RESINADO 12MM-VIGA/PILAR U=4V - (OBRAS CIVIS) | E12: m² | F12: 1.872,7 | G12: 86,26 | H12: 161539.1 | I12: =H12/$J$537 -> 0.044004407 | J12: =+J11+I12 -> 0.218902
B13: 160971 | C13: AGETOP CIVIL | D13: COBERTURA COM TELHA TERMOACUSTICA TRAPEZOIDAL NÚCLEO PIR 30MM EM AÇO GALVALUME, #0,43MM (TELHA/FILME) | E13: m² | F13: 627,79 | G13: 226,62 | H13: 142269.77 | I13: =H13/$J$537 -> 0.038755303 | J13: =+J12+I13 -> 0.25765731
B14: 103338 | C14: SINAPI | D14: ALVENARIA DE VEDAÇÃO DE BLOCOS VAZADOS DE CONCRETO APARENTE DE 14X19X39 CM (ESPESSURA 14 CM) E ARGAMASSA DE ASSENTAMENTO COM PREPARO EM BETONEIRA. AF_12/2021 (ADAPTADO CONFORME DECRETO ESTADUAL N° 9900/2021) | E14: m² | F14: 1.337,31 | G14: 106,07 | H14: 141848.47 | I14: =H14/$J$537 -> 0.038640538 | J14: =+J13+I14 -> 0.29629784
B15: CPU 940 | C15: Próprio | D15: REVESTIMENTO COM CERÂMICA TIPO PORCELANATO ELIANE BRANCO 30x60 OU SIMILAR - (REF. GOINFRA CIVIL 201302) | E15: m² | F15: 1.256,41 | G15: 101,85 | H15: 127965.36 | I15: =H15/$J$537 -> 0.03485868 | J15: =+J14+I15 -> 0.33115652
B16: 060525 | C16: AGETOP CIVIL | D16: CONCRETO USINADO BOMBEÁVEL FCK=30 MPA (O.C.) | E16: m³ | F16: 198,5 | G16: 616,92 | H16: 122458.62 | I16: =H16/$J$537 -> 0.033358604 | J16: =+J15+I16 -> 0.36451513
B17: 250101 | C17: AGETOP CIVIL | D17: ENGENHEIRO - (OBRAS CIVIS) | E17: H | F17: 980,0 | G17: 102,16 | H17: 100116.8 | I17: =H17/$J$537 -> 0.027272533 | J17: =+J16+I17 -> 0.39178766
B18: 101747 | C18: SINAPI | D18: PISO EM CONCRETO 25 MPA PREPARO MECÂNICO, ESPESSURA 10CM. AF_09/2020 - (ADAPTADO CONFORME DECRETO ESTADUAL N° 9900/2021) | E18: m² | F18: 487,73 | G18: 187,57 | H18: 91483.52 | I18: =H18/$J$537 -> 0.024920765 | J18: =+J17+I18 -> 0.41670843
B19: 271502 | C19: AGETOP CIVIL | D19: CANTINA - (OBRAS CIVIS) | E19: RE | F19: 3.275,0 | G19: 22,50 | H19: 73687.5 | I19: =H19/$J$537 -> 0.020073002 | J19: =+J18+I19 -> 0.43678143
B20: 250102 | C20: AGETOP CIVIL | D20: MESTRE DE OBRA - (OBRAS CIVIS) | E20: H | F20: 1.320,0 | G20: 51,73 | H20: 68283.6 | I20: =H20/$J$537 -> 0.018600941 | J20: =+J19+I20 -> 0.45538237
B21: 270236 | C21: AGETOP CIVIL | D21: PAVIMENTO INTERTRAVADO ESPESSURA DE 10CM E FCK = 35 MPA | E21: m² | F21: 595,66 | G21: 110,09 | H21: 65576.21 | I21: =H21/$J$537 -> 0.017863429 | J21: =+J20+I21 -> 0.4732458
... B535: 00105 | C535: Próprio | D535: ADAPTADO DA ORSE (1212) - Anel de borracha para tubo pvc sanitario d = 75mm | E535: un | F535: 1,0 | G535: 4,83 | H535: 4.83 | I535: =H535/$J$537 -> 1.3157266e-06 | J535: =+J534+I535 -> 1
I537: Total sem BDI | J537: =SUM(H9:H535) -> 3670975.5
I538: Total do BDI | J538: =+'ORÇAMENTO RESUMO (SD)'!K33 -> 797064.24
I539: Total Geral | J539: ='ORÇAMENTO RESUMO (SD)'!K34 -> 4468039.8

Sheet QUANTIDADE MÃO DE OBRA
B1: QUANTIDADE DE MÃO DE OBRA SEM DESONERAÇÃO
B3: OBJETO: | C3: ='DADOS DA OBRA'!B13 -> CONSTRUÇÃO NOVA FÁBRICA SEAPA (AGROINDÚSTRIA DE POLPA DE FRUTAS) | I3: DATA: | J3: ='DADOS DA OBRA'!N22 -> 13/06/2025 | L3: ENCARGOS SOCIAIS HORISTAS: | M3: ='ENCARGOS SOCIAIS'!F43 -> 1.1737
B4: LOCAL: | C4: ='DADOS DA OBRA'!B16 -> RUA 22 , LT.01 - A, QUADRA 01-A | I4: REVISÃO: | J4: ='DADOS DA OBRA'!N25 -> 00 | L4: ENCARGOS SOCIAIS MENSALISTAS: | M4: ='ENCARGOS SOCIAIS'!G43 -> 0.7419
I5: PRAZO: | J5: ='DADOS DA OBRA'!B25 -> 06 MESES | L5: BDI OBRA: | M5: ='BDI NORMAL (SD) '!F21/100 -> 0.2232
L6: BDI DIFERENCIADO: | M6: ='BDI DIFERENCIADO (SD) '!F21/100 -> 0.182
B8: Banco | C8: Código | D8: Descrição | E8: Tipo | F8: Unidade | G8: Quantidade | H8: Valor Unitário Operativa | I8: Total Operativa | J8: Geral | K8: Peso | L8: Valor Acumulado | M8: Geral
B9: 0005 | C9: AGETOP CIVIL | D9: SERVENTE | E9: Mão de Obra | F9: H | G9: 10135.859 | H9: 15,30 | I9: 155.078,65 | J9: 155078.65 | K9: 4,22% | L9: 795087.11 | M9: =L9/$M$40 -> 0.21658742
B10: 0001 | C10: AGETOP CIVIL | D10: ENGENHEIRO | E10: Mão de Obra | F10: MES | G10: 1140 | H10: 102,16 | I10: 116.462,40 | J10: 116462.4 | K10: 3,17% | L10: 1169157.6 | M10: =L10/$M$40 -> 0.3184869
B11: 0004 | C11: AGETOP CIVIL | D11: PEDREIRO | E11: Mão de Obra | F11: H | G11: 4010.8191 | H11: 23,41 | I11: 93.893,28 | J11: 93893.275 | K11: 2,56% | L11: 1263050.9 | M11: =L11/$M$40 -> 0.3440641
B12: 0008 | C12: AGETOP CIVIL | D12: AJUDANTE | E12: Mão de Obra | F12: H | G12: 5293.8242 | H12: 16,78 | I12: 88.830,37 | J12: 88830.37 | K12: 2,42% | L12: 1351881.3 | M12: =L12/$M$40 -> 0.36826213
B13: 0010 | C13: AGETOP CIVIL | D13: CARPINTEIRO | E13: Mão de Obra | F13: H | G13: 3254.8694 | H13: 23,41 | I13: 76.196,49 | J13: 76196.493 | K13: 2,08% | L13: 1584775.9 | M13: =L13/$M$40 -> 0.43170431
B14: 0003 | C14: AGETOP CIVIL | D14: MESTRE DE OBRAS | E14: Mão de Obra | F14: MES | G14: 1320 | H14: 51,73 | I14: 68.283,60 | J14: 68283.6 | K14: 1,86% | L14: 1726747 | M14: =L14/$M$40 -> 0.47037825
B15: 0012 | C15: AGETOP CIVIL | D15: ELETRICISTA | E15: Mão de Obra | F15: H | G15: 1991.6833 | H15: 23,41 | I15: 46.625,31 | J15: 46625.306 | K15: 1,27% | L15: 1997572.5 | M15: =L15/$M$40 -> 0.54415303
B16: 0039 | C16: AGETOP CIVIL | D16: APONTARIFE | E16: Mão de Obra | F16: MES | G16: 1320 | H16: 24,38 | I16: 32.181,60 | J16: 32181.6 | K16: 0,88% | L16: 2199508.8 | M16: =L16/$M$40 -> 0.59916193
B17: 0025 | C17: AGETOP CIVIL | D17: OFICIAL "B" | E17: Mão de Obra | F17: H | G17: 1268.1508 | H17: 23,41 | I17: 29.687,41 | J17: 29687.41 | K17: 0,81% | L17: 2320137.8 | M17: =L17/$M$40 -> 0.63202212
B18: 0011 | C18: AGETOP CIVIL | D18: ENCANADOR | E18: Mão de Obra | F18: H | G18: 1129.2034 | H18: 23,41 | I18: 26.434,65 | J18: 26434.653 | K18: 0,72% | L18: 2402552.4 | M18: =L18/$M$40 -> 0.65447245
B19: 0006 | C19: AGETOP CIVIL | D19: ARMADOR | E19: Mão de Obra | F19: H | G19: 1101.734 | H19: 23,41 | I19: 25.791,59 | J19: 25791.594 | K19: 0,70% | L19: 2454344 | M19: =L19/$M$40 -> 0.66858085
B20: 0028 | C20: AGETOP CIVIL | D20: AZULEJISTA | E20: Mão de Obra | F20: H | G20: 907.87363 | H20: 23,41 | I20: 21.253,32 | J20: 21253.322 | K20: 0,58% | L20: 2613489.5 | M20: =L20/$M$40 -> 0.71193324
... B38: 0023 | C38: AGETOP CIVIL | D38: APLICADOR DE EPOXI | E38: Mão de Obra | F38: H | G38: 0.06912 | H38: 23,41 | I38: 1,62 | J38: 1.6180992 | K38: 0,00% | L38: 3670975.5 | M38: =L38/$M$40 -> 1
L40: Total sem BDI | M40: ='ORÇAMENTO RESUMO (SD)'!K32 -> 3670975.5
L41: Total do BDI | M41: =M42-M40 -> 797064.24
D42: QUANTIDADE HORA TOTAL | E42: =SUM(G9:G38) -> 36069.002 | L42: Total Geral | M42: ='ORÇAMENTO RESUMO (SD)'!K34 -> 4468039.8
D43: QUANTIDADE HORA MENOS ENGENHEIRO, AGETOP RODOVIÁRIA E VIGIA TERCERIZADO. | E43: =E42-((G10)+(G35+G37+G36+G34+G32+G31+G30+G23+G25)) -> 33905.174
D44: QUANTIDADE HORA - CALCULADA | E44: =(E43/8.8)*0.85 -> 3274.9316
D45: QUANTIDADE HORA - CALCULADA ARREDONDADA. | E45: =ROUND(E44,0) -> 3275
D47: ADM LOCAL | E47: =SUM('ORÇAMENTO SINTÉTICO (SD)'!I10:I12) -> 200582
D48: CANTINA | E48: ='ORÇAMENTO SINTÉTICO (SD)'!I14 -> 73687.5
D49: CAFÉ | E49: ='ORÇAMENTO SINTÉTICO (SD)'!I13 -> 11069.5
D50: EPI | E50: ='ORÇAMENTO SINTÉTICO (SD)'!I15 -> 33339.79
D51: FERRAMENTAS | E51: ='ORÇAMENTO SINTÉTICO (SD)'!I16 -> 4777.64
D52: TOTAL GER. ADM LOCAL | E52: =SUM(E47:E51) -> 323456.43
D53: PERCENTUAL ADM LOCAL | E53: =E52/M40 -> 0.088111846

Sheet BDI NORMAL (SD) 
B1: BONIFICAÇÃO DE DESPESAS INDIRETAS BDI - NORMAL SEM DESONERAÇÃO
B4: OBJETO: | C4: ='DADOS DA OBRA'!B13 -> CONSTRUÇÃO NOVA FÁBRICA SEAPA (AGROINDÚSTRIA DE POLPA DE FRUTAS) | N4: DATA: | O4: =+'DADOS DA OBRA'!$N$22 -> 13/06/2025
B5: LOCAL: | C5: ='DADOS DA OBRA'!B16 -> RUA 22 , LT.01 - A, QUADRA 01-A | N5: REVISÃO: | O5: ='DADOS DA OBRA'!$N$25 -> 00
B7: Município da Obra | E7: ='DADOS DA OBRA'!J19 -> FLORES DE GOIÁS
B8: Base de cálculo ISS do município | E8: 1 | F8: ISS: | G8: 0.03
C10: Descrição | F10: Valor percentual adotado | I10: Limites das parcelas do BDI para obras do tipo acima selecionado. Acórdão TCU 2622/2013 | M10: Limites do valor do BDI para obras do tipo acima selecionado. Acórdão TCU 2622/2013
I11: Mín | J11: Med. | K11: Máx. | M11: 20.34 | N11: 22.12 | O11: 25
C12: (AC) - Administração Central | F12: 4 | I12: 3 | J12: 4 | K12: 5.5
C13: (S) + (G) - Seguro e Garantia | F13: 0.12 | I13: 0.8 | J13: 0.8 | K13: 1
C14: (R) - Risco | F14: =I14 -> 0.97 | I14: 0.97 | J14: 1.27 | K14: 1.27
C15: (DF) - Despesas Financeiras | F15: 1.17 | I15: 0.59 | J15: 1.23 | K15: 1.39
C16: (L) - Lucro | F16: 7.4 | I16: 6.16 | J16: 7.4 | K16: 8.96
C17: (I1) - PIS | F17: =I17 -> 0.65 | I17: 0.65 | J17: 0.65 | K17: 0.65
C18: (I2) - COFINS | F18: =I18 -> 3 | I18: 3 | J18: 3 | K18: 3
C19: (I3) - ISS | F19: 3 | I19: 2 | J19: 2 | K19: 5
C20: (I4) - Contribuição Previdenciária (CPRB)
C21: BDI Adotado | F21: =TRUNC((((((1+F12/100+F13/100+F14/100)*(1+F15/100)*(1+F16/100))/(1-(F17/100+F18/100+F19/100+F20/100)))-1)*100),2) -> 22.32 | I21: *Fonte da composição, valores de referência e fórmula do BDI: Acórdão 2622/2013-TCU-Plenário
B23: O valores do BDI acima foram calculados com emprego da equação a seguir:
B25: Onde:
B26: AC - taxa de rateio da Administração Central
B27: DF - taxa das despesas financeiras
B28: R, S, G - taxa de risco, seguro e garantia do empreendimento
B29: I - taxa de tributos (onerado: I = COFINS+PIS+ISS / desonerado: I = COFINS+PIS+ISS+CPRB)
B30: L - taxa de lucro

Sheet BDI DIFERENCIADO (SD) 
B1: BONIFICAÇÃO DE DESPESAS INDIRETAS BDI - DIFERENCIADO SEM DESONERAÇÃO
B4: OBJETO: | C4: ='ORÇAMENTO RESUMO (SD)'!C3 -> CONSTRUÇÃO NOVA FÁBRICA SEAPA (AGROINDÚSTRIA DE POLPA DE FRUTAS) | N4: DATA: | O4: =+'DADOS DA OBRA'!$N$22 -> 13/06/2025
B5: LOCAL: | C5: ='DADOS DA OBRA'!B16 -> RUA 22 , LT.01 - A, QUADRA 01-A | N5: REVISÃO: | O5: ='DADOS DA OBRA'!$N$25 -> 00
B7: Município da Obra | E7: ='DADOS DA OBRA'!J19 -> FLORES DE GOIÁS
B8: Base de cálculo ISS do município | E8: 1 | F8: ISS: | G8: 0.03
C10: Descrição | F10: Valor percentual adotado | I10: Limites das parcelas do BDI para obras do tipo acima selecionado. Acórdão TCU 2622/2013 | M10: Limites do valor do BDI para obras do tipo acima selecionado. Acórdão TCU 2622/2013
I11: Mín | J11: Med. | K11: Máx. | M11: 11.1 | N11: 14.02 | O11: 16.8
C12: (AC) - Administração Central | F12: 3.45 | I12: 1.5 | J12: 3.45 | K12: 4.49
C13: (S) + (G) - Seguro e Garantia | F13: 0.06 | I13: 0.3 | J13: 0.48 | K13: 0.82
C14: (R) - Risco | F14: =I14 -> 0.56 | I14: 0.56 | J14: 0.85 | K14: 0.89
C15: (DF) - Despesas Financeiras | F15: 1.17 | I15: 0.85 | J15: 0.85 | K15: 1.11
C16: (L) - Lucro | F16: 4.8 | I16: 3.5 | J16: 5.11 | K16: 6.22
C17: (I1) - PIS | F17: =I17 -> 0.65 | I17: 0.65 | J17: 0.65 | K17: 0.65
C18: (I2) - COFINS | F18: =I18 -> 3 | I18: 3 | J18: 3 | K18: 3
C19: (I3) - ISS | F19: 3 | I19: 2 | J19: 2 | K19: 5
C20: (I4) - Contribuição Previdenciária (CPRB)
C21: BDI Adotado | F21: =TRUNC((((((1+F12/100+F13/100+F14/100)*(1+F15/100)*(1+F16/100))/(1-(F17/100+F18/100+F19/100+F20/100)))-1)*100),2) -> 18.2 | I21: *Fonte da composição, valores de referência e fórmula do BDI: Acórdão 2622/2013-TCU-Plenário
B23: O valores do BDI acima foram calculados com emprego da equação a seguir:
B25: Onde:
B26: AC - taxa de rateio da Administração Central
B27: DF - taxa das despesas financeiras
B28: R, S, G - taxa de risco, seguro e garantia do empreendimento
B29: I - taxa de tributos (onerado: I = COFINS+PIS+ISS / desonerado: I = COFINS+PIS+ISS+CPRB)
B30: L - taxa de lucro

Sheet ENCARGOS SOCIAIS
B1: DEMONSTRATIVO DE ENCARGOS SOCIAIS
B3: OBJETO: | C3: ='ORÇAMENTO RESUMO (SD)'!C3 -> CONSTRUÇÃO NOVA FÁBRICA SEAPA (AGROINDÚSTRIA DE POLPA DE FRUTAS) | F3: DATA: | G3: ='DADOS DA OBRA'!$N$22 -> 13/06/2025
B4: LOCAL: | C4: ='ORÇAMENTO RESUMO (SD)'!C4 -> RUA 22 , LT.01 - A, QUADRA 01-A | F4: REVISÃO: | G4: ='DADOS DA OBRA'!$N$25 -> 00
B7: CÓDIGO | C7: DESCRIÇÃO | D7: COM DESONERAÇÃO | F7: SEM DESONERAÇÃO
D8: HORISTA % | E8: MENSALISTA % | F8: HORISTA % | G8: MENSALISTA %
B9: GRUPO A
B10: A1 | C10: INSS | D10: 0.05 | E10: 0.05 | F10: 0.2 | G10: 0.2
B11: A2 | C11: FGTS | D11: 0.08 | E11: 0.08 | F11: 0.08 | G11: 0.08
B12: A3 | C12: SESI | D12: 0.015 | E12: 0.015 | F12: 0.015 | G12: 0.015
B13: A4 | C13: SENAI | D13: 0.01 | E13: 0.01 | F13: 0.01 | G13: 0.01
B14: A5 | C14: INCRA | D14: 0.002 | E14: 0.002 | F14: 0.002 | G14: 0.002
B15: A6 | C15: Salário Educação | D15: 0.025 | E15: 0.025 | F15: 0.025 | G15: 0.025
B16: A7 | C16: Seguro Contra Acidentes de Trabalho INSS | D16: 0.03 | E16: 0.03 | F16: 0.03 | G16: 0.03
B17: A8 | C17: SEBRAE | D17: 0.006 | E17: 0.006 | F17: 0.006 | G17: 0.006
B18: A9 | C18: SECONCI | D18: 0.01 | E18: 0.01 | F18: 0.01 | G18: 0.01
B19: A | C19: Total | D19: =SUM(D10:D18) -> 0.228 | E19: =SUM(E10:E18) -> 0.228 | F19: =SUM(F10:F18) -> 0.378 | G19: =SUM(G10:G18) -> 0.378
B20: GRUPO B
B21: B1 | C21: Repouso Semanal Remunerado | D21: 0.1816 | E21: Não incide | F21: 0.1816 | G21: Não incide
B22: B2 | C22: Feriados | D22: 0.0417 | E22: Não incide | F22: 0.0417 | G22: Não incide
B23: B3 | C23: Auxílio Enfermidade | D23: 0.0094 | E23: 0.007 | F23: 0.0094 | G23: 0.007
B24: B4 | C24: Auxílio Acidente | D24: 0.0005 | E24: 0.0004 | F24: 0.0005 | G24: 0.0004
B25: B5 | C25: Licença Paternidade | D25: 0.0006 | E25: 0.0005 | F25: 0.0006 | G25: 0.0005
B26: B6 | C26: Faltas Justificadas | D26: 0.0075 | E26: 0.0056 | F26: 0.0075 | G26: 0.0056
B27: B7 | C27: Férias gozadas | D27: 0.119 | E27: 0.0888 | F27: 0.119 | G27: 0.0888
B28: B8 | C28: Licença Maternidade | D28: 0.0001 | E28: 0.0001 | F28: 0.0001 | G28: 0.0001
B29: B9 | C29: 13° Salário | D29: 0.1117 | E29: 0.0833 | F29: 0.1117 | G29: 0.0833
B30: B | C30: Total | D30: =SUM(D21:D29) -> 0.4721 | E30: =SUM(E21:E29) -> 0.1857 | F30: =SUM(F21:F29) -> 0.4721 | G30: =SUM(G21:G29) -> 0.1857
B31: GRUPO C
B32: C1 | C32: Aviso Prévio Indenizado | D32: 0.0698 | E32: 0.052 | F32: 0.0698 | G32: 0.052
B33: C2 | C33: Aviso Prévio Trabalhado | D33: 0.0016 | E33: 0.0012 | F33: 0.0016 | G33: 0.0012
B34: C3 | C34: Férias Indenizadas + 1/3 | D34: 0.0235 | E34: 0.0174 | F34: 0.0235 | G34: 0.0174
B35: C4 | C35: Multa por Rescisão do Contrato de Trabalho sem Justa Causa | D35: 0.0381 | E35: 0.0283 | F35: 0.0381 | G35: 0.0283
B36: C5 | C36: Indenização Adicional | D36: 0.0059 | E36: 0.0044 | F36: 0.0059 | G36: 0.0044
B37: C | C37: Total | D37: =SUM(D32:D36) -> 0.1389 | E37: =SUM(E32:E36) -> 0.1033 | F37: =SUM(F32:F36) -> 0.1389 | G37: =SUM(G32:G36) -> 0.1033
B38: GRUPO D
B39: D1 | C39: Incidência do Grupo A sobre B | D39: 0.1021 | E39: 0.0382 | F39: 0.1785 | G39: 0.0702
B40: D2 | C40: Incidência do Grupo A sobre o aviso prévio trabalhado | D40: 0.0004 | E40: 0.0003 | F40: 0.0006 | G40: 0.0005
B41: D3 | C41: Incidência do FGTS sobre o aviso prévio indenizado | D41: 0.0056 | E41: 0.0042 | F41: 0.0056 | G41: 0.0042
B42: D | C42: Total | D42: =SUM(D39:D41) -> 0.1081 | E42: =SUM(E39:E41) -> 0.0427 | F42: =SUM(F39:F41) -> 0.1847 | G42: =SUM(G39:G41) -> 0.0749
B43: TOTAL(A+B+C+D) | D43: =SUM(D42,D37,D30,D19) -> 0.9471 | E43: =SUM(E42,E37,E30,E19) -> 0.5597 | F43: =SUM(F42,F37,F30,F19) -> 1.1737 | G43: =SUM(G42,G37,G30,G19) -> 0.7419
...

Sheet CAPA - ORÇAMENTO (CD)
C12: ORÇAMENTO COM DESONERAÇÃO

Sheet ORÇAMENTO SINTÉTICO (CD)
B1: ORÇAMENTO SINTÉTICO COM DESONERAÇÃO
B3: OBJETO: | C3: ='DADOS DA OBRA'!B13 -> CONSTRUÇÃO NOVA FÁBRICA SEAPA (AGROINDÚSTRIA DE POLPA DE FRUTAS) | G3: DATA: | H3: ='DADOS DA OBRA'!$N$22 -> 13/06/2025 | K3: ENCARGOS SOCIAIS HORISTAS: | L3: ='ENCARGOS SOCIAIS'!D43 -> 0.9471
B4: LOCAL: | C4: ='DADOS DA OBRA'!B16 -> RUA 22 , LT.01 - A, QUADRA 01-A | G4: REVISÃO: | H4: ='DADOS DA OBRA'!$N$25 -> 00 | K4: ENCARGOS SOCIAIS MENSALISTAS: | L4: ='ENCARGOS SOCIAIS'!E43 -> 0.5597
G5: PRAZO: | H5: {='DADOS DA OBRA'!B25:D25} -> 06 MESES | I5: 0 | J5: 0 | K5: BDI OBRA: | L5: ='BDI NORMAL (CD)'!F21/100 -> 0.2723
K6: BDI DIFERENCIADO: | L6: ='BDI DIFERENCIADO (CD)'!F21/100 -> 0.2294
B8: Item | C8: Código | D8: Banco | E8: Descrição | F8: Und | G8: Qtd | H8: Valor Unit | I8: Valor Total sem BDI | J8: BDI | K8: Valor Unit com BDI | L8: Valor Total com BDI
B9: 1 | E9: ADMINISTRAÇÃO LOCAL E CUSTOS INDIRETOS | I9: =SUBTOTAL(9,I10:I16) -> 303922.31 | L9: =SUBTOTAL(9,L10:L16) -> 386638.61
B10: 1.1 | C10: 250101 | D10: AGETOP CIVIL | E10: ENGENHEIRO - (OBRAS CIVIS) | F10: H | G10: 980 | H10: 91.47 | I10: =TRUNC(G10 * H10, 2) -> 89640.6 | J10: =+$L$5 -> 0.2723 | K10: =TRUNC(H10 * (1 + J10), 2) -> 116.37 | L10: =TRUNC(G10 * K10, 2) -> 114042.6
B11: 1.2 | C11: 250102 | D11: AGETOP CIVIL | E11: MESTRE DE OBRA - (OBRAS CIVIS) | F11: H | G11: =220*6 -> 1320 | H11: 46.32 | I11: =TRUNC(G11 * H11, 2) -> 61142.4 | J11: =+$L$5 -> 0.2723 | K11: =TRUNC(H11 * (1 + J11), 2) -> 58.93 | L11: =TRUNC(G11 * K11, 2) -> 77787.6
B12: 1.3 | C12: 250114 | D12: AGETOP CIVIL | E12: APONTARIFE - (OBRAS CIVIS) | F12: h | G12: =220*6 -> 1320 | H12: 21.83 | I12: =TRUNC(G12 * H12, 2) -> 28815.6 | J12: =+$L$5 -> 0.2723 | K12: =TRUNC(H12 * (1 + J12), 2) -> 27.77 | L12: =TRUNC(G12 * K12, 2) -> 36656.4
B13: 1.4 | C13: 271500 | D13: AGETOP CIVIL | E13: CAFE DA MANHA | F13: RE | G13: 3331 | H13: 3.38 | I13: =TRUNC(G13 * H13, 2) -> 11258.78 | J13: =+$L$5 -> 0.2723 | K13: =TRUNC(H13 * (1 + J13), 2) -> 4.3 | L13: =TRUNC(G13 * K13, 2) -> 14323.3
B14: 1.5 | C14: 271502 | D14: AGETOP CIVIL | E14: CANTINA - (OBRAS CIVIS) | F14: RE | G14: 3331 | H14: 22.5 | I14: =TRUNC(G14 * H14, 2) -> 74947.5 | J14: =+$L$5 -> 0.2723 | K14: =TRUNC(H14 * (1 + J14), 2) -> 28.62 | L14: =TRUNC(G14 * K14, 2) -> 95333.22
B15: 1.6 | C15: 021602 | D15: AGETOP CIVIL | E15: EPI/PGR/PCMSO/EXAMES/TREINAMENTOS/VISITAS - ÁREAS EDIFICADAS/COBERTAS/FECHADAS | F15: m² | G15: 691.41 | H15: 48.22 | I15: =TRUNC(G15 * H15, 2) -> 33339.79 | J15: =+$L$5 -> 0.2723 | K15: =TRUNC(H15 * (1 + J15), 2) -> 61.35 | L15: =TRUNC(G15 * K15, 2) -> 42418
B16: 1.7 | C16: 020200 | D16: AGETOP CIVIL | E16: FERRAMENTAS (MANUAIS/ELÉTRICAS) E MATERIAL DE LIMPEZA PERMANENTE DA OBRA - ÁREAS EDIFICADAS/COBERTAS/FECHADAS | F16: m² | G16: 691.41 | H16: 6.91 | I16: =TRUNC(G16 * H16, 2) -> 4777.64 | J16: =+$L$5 -> 0.2723 | K16: =TRUNC(H16 * (1 + J16), 2) -> 8.79 | L16: =TRUNC(G16 * K16, 2) -> 6077.49
B17: 2 | E17: CANTEIRO DE OBRA E SERVIÇOS PRELIMINARES | I17: =SUBTOTAL(9,I18:I37) -> 155581.01 | L17: =SUBTOTAL(9,L18:L37) -> 197921.84
B18: 2.1 | E18: SERVIÇOS E INSTALAÇÕES PROVISÓRIAS, CANTEIRO DE OBRA E FERRAMENTAS | I18: =SUBTOTAL(9,I19:I32) -> 136407.64 | L18: =SUBTOTAL(9,L19:L32) -> 173528.03
B19: 2.1.1 | C19: 020212 | D19: AGETOP CIVIL | E19: BARRACÃO DE OBRAS PADRÃO GOINFRA ( BLOCOS,COBERTURAS,PASSARELAS E MÓVEIS), SEM ALOJAMENTO E LAVANDERIA , COM PINTURA, EM CONSONÂNCIA COM AS NR'S, EM ESPECIAL A NR-18, INCLUSO INSTALAÇÕES ELÉTRICAS E HIDROSSANITÁRIAS - ( COM REAPROVEITAMENTO 1 VEZ ). | F19: m² | G19: 43.2 | H19: 296.53 | I19: =TRUNC(G19 * H19, 2) -> 12810.09 | J19: =+$L$5 -> 0.2723 | K19: =TRUNC(H19 * (1 + J19), 2) -> 377.27 | L19: =TRUNC(G19 * K19, 2) -> 16298.06
B20: 2.1.2 | C20: 020303 | D20: AGETOP CIVIL | E20: DEPÓSITO PARA CIMENTO TIPO II COM PINTURA PADRÃO GOINFRA (3,30 X 3,30 M) A=10,89 M2 (C/ REAPROV. 1 VEZ ) - INCLUSO PALETES | F20: un | G20: 1 | H20: 3539.07 | I20: =TRUNC(G20 * H20, 2) -> 3539.07 | J20: =+$L$5 -> 0.2723 | K20: =TRUNC(H20 * (1 + J20), 2) -> 4502.75 | L20: =TRUNC(G20 * K20, 2) -> 4502.75
B21: 2.1.3 | C21: 020600 | D21: AGETOP CIVIL | E21: TAPUME EM CHAPA COMPENSADA RESINADA 6MM COM PORTÕES E FERRAGENS - PADRÃO GOINFRA | F21: m² | G21: 348.57 | H21: 74 | I21: =TRUNC(G21 * H21, 2) -> 25794.18 | J21: =+$L$5 -> 0.2723 | K21: =TRUNC(H21 * (1 + J21), 2) -> 94.15 | L21: =TRUNC(G21 * K21, 2) -> 32817.86
B22: 2.1.4 | C22: 021301 | D22: AGETOP CIVIL | E22: PLACA DE OBRA PLOTADA EM CHAPA METÁLICA 26 , AFIXADA EM CAVALETES DE MADEIRA DE LEI (VIGOTAS 6X12CM) - PADRÃO GOINFRA | F22: m² | G22: 7.5 | H22: 372.02 | I22: =TRUNC(G22 * H22, 2) -> 2790.15 | J22: =+$L$5 -> 0.2723 | K22: =TRUNC(H22 * (1 + J22), 2) -> 473.32 | L22: =TRUNC(G22 * K22, 2) -> 3549.9
B23: 2.1.5 | C23: 020701 | D23: AGETOP CIVIL | E23: LOCAÇÃO DA OBRA, EXECUÇÃO DE GABARITO SEM REAPROVEITAMENTO, INCLUSO PINTURA (FACE INTERNA DO RIPÃO 15CM) E PIQUETE COM TESTEMUNHA | F23: m² | G23: 691.41 | H23: 5.09 | I23: =TRUNC(G23 * H23, 2) -> 3519.27 | J23: =+$L$5 -> 0.2723 | K23: =TRUNC(H23 * (1 + J23), 2) -> 6.47 | L23: =TRUNC(G23 * K23, 2) -> 4473.42
B24: 2.1.6 | C24: 020190 | D24: AGETOP CIVIL | E24: LIMPEZA MECÂNICA DE TERRENO | F24: m² | G24: 1546.29 | H24: 0.25 | I24: =TRUNC(G24 * H24, 2) -> 386.57 | J24: =+$L$5 -> 0.2723 | K24: =TRUNC(H24 * (1 + J24), 2) -> 0.31 | L24: =TRUNC(G24 * K24, 2) -> 479.34
B25: 2.1.7 | C25: 020400 | D25: AGETOP CIVIL | E25: LIGAÇÃO PROVISÓRIA DE ÁGUA (INCLUSO RETIRADA DO ESGOTO SANITÁRIO) - PD. GOINFRA | F25: Un | G25: 1 | H25: 3268.49 | I25: =TRUNC(G25 * H25, 2) -> 3268.49 | J25: =+$L$5 -> 0.2723 | K25: =TRUNC(H25 * (1 + J25), 2) -> 4158.49 | L25: =TRUNC(G25 * K25, 2) -> 4158.49
B26: 2.1.8 | C26: 020501 | D26: AGETOP CIVIL | E26: LIGAÇÃO PROVISÓRIA LUZ E FORÇA - PD. GOINFRA | F26: Un | G26: 1 | H26: 4767.99 | I26: =TRUNC(G26 * H26, 2) -> 4767.99 | J26: =+$L$5 -> 0.2723 | K26: =TRUNC(H26 * (1 + J26), 2) -> 6066.31 | L26: =TRUNC(G26 * K26, 2) -> 6066.31
B27: 2.1.9 | C27: 021400 | D27: AGETOP CIVIL | E27: CONSUMO DE ÁGUA | F27: m³ | G27: 319.98 | H27: 11.73 | I27: =TRUNC(G27 * H27, 2) -> 3753.36 | J27: =+$L$5 -> 0.2723 | K27: =TRUNC(H27 * (1 + J27), 2) -> 14.92 | L27: =TRUNC(G27 * K27, 2) -> 4774.1
