Workbook
Name \0: #REF!
Name \0: #REF!
Name \0: #REF!
Name \1: #REF!
Name \1: #REF!
Name \1: #REF!
Name \11: #REF!
Name \11: #REF!
Name \11: #REF!
Name \A: #REF!
Name \b: #REF!
Name \c: #REF!
Name \Convergence: 1000000
Name \d: #N/A
Name \f: #N/A
Name \fagf: #REF!
Name \I: #REF!
Name \IterationCount: 0
Name \p: #N/A
Name \S: #REF!
Name \w: #REF!
Name \WorstStream: " "
Name \x: #REF!
Name \y: #REF!
Name \z: #REF!
Name ______________________________________________cab1: #REF!
Name ____________________________________________cab1: #REF!
Name ____________________________________________RET1: #REF!
Name __________________________________________cab1: #REF!
Name __________________________________________oac2: #REF!
Name __________________________________________RET1: #REF!
Name __________________________________________TT21: #REF!
Name __________________________________________TT22: #REF!
Name _________________________________________cab1: #REF!
Name _________________________________________JAZ1: #REF!
Name _________________________________________JAZ11: #REF!
Name _________________________________________JAZ2: #REF!
Name _________________________________________JAZ22: #REF!
Name _________________________________________JAZ3: #REF!
Name _________________________________________JAZ33: #REF!
Name _________________________________________RET1: #REF!
Name ________________________________________EXT1: #REF!
Name ________________________________________ind100: #REF!
Name ________________________________________JAZ1: #REF!
Name ________________________________________JAZ11: #REF!
Name ________________________________________JAZ2: #REF!
Name ________________________________________JAZ22: #REF!
Name ________________________________________JAZ3: #REF!
Name ________________________________________JAZ33: #REF!
Name ________________________________________oac2: #REF!
Name ________________________________________RET1: #REF!
Name ________________________________________TT21: #REF!
Name ________________________________________TT22: #REF!
Name _______________________________________cab1: #REF!
Name _______________________________________JAZ1: #REF!
Name _______________________________________JAZ11: #REF!
Name _______________________________________JAZ2: #REF!
Name _______________________________________JAZ22: #REF!
Name _______________________________________JAZ3: #REF!
Name _______________________________________JAZ33: #REF!

Sheet DADOS DA OBRA
B10: DADOS DO EMPREENDIMENTO
B12: OBJETO
B13: Construção de ponte de concreto sobre o Rio do Peixe, na GO-479, demolição de ponte existente, transporte e destinação do entulho da demolição
B15: ENDEREÇO
B16: GO-479, Zona Rural
B18: DISTRITO | J18: Cidade | P18: UF
B19: Distrito de Lagolândia | J19: Pirenópolis | P19: GO
B21: Área Total de Construção | F21: BDI | J21: ENCARGOS SOCIAIS HORISTAS | N21: Data do Orçamento
N22: 45681
B24: Prazo | F24: BDI REDUZIDO | J24: ENCARGOS SOCIAIS MENSALISTAS | N24: Revisão
B25: 10 MESES | N25: 00
B27: BASE
B28: GOINFRA CIVIL-10/2024, GOINFRA RODOVIÁRIA-10/2024, SINAPI-12/2024, SICRO3-10/2024, ORSE-11/2024.

Sheet CAPA - ORÇAMENTO
C9: ORÇAMENTO
C15: OBJETO: | D15: ='DADOS DA OBRA'!B13 -> Construção de ponte de concreto sobre o Rio do Peixe, na GO-479, demolição de ponte existente, transporte e destinação do entulho da demolição
C16: LOCAL: | D16: =+""&'DADOS DA OBRA'!$B$16&", "&'DADOS DA OBRA'!$B$19&", "&'DADOS DA OBRA'!$J$19&", "&'DADOS DA OBRA'!$P$19 -> GO-479, Zona Rural, Distrito de Lagolândia, Pirenópolis, GO
C17: DATA: | D17: ='DADOS DA OBRA'!N22 -> 45681
C18: RESPONSÁVEL: | D18: Engenheiro Civil Alberto Andrade de Castro
C19: CREA: | D19: 1021673722D-GO
C20: ART: | D20: 1020250022827

Sheet CAPA - VANTAJOSIDADE
C9: VANTAJOSIDADE

Sheet VANTAJOSIDADE
B1: CÁLCULO DE VANTAJOSIDADE
B4: OBJETO: | C4: ='DADOS DA OBRA'!B13 -> Construção de ponte de concreto sobre o Rio do Peixe, na GO-479, demolição de ponte existente, transporte e destinação do entulho da demolição | M4: DATA: | N4: ='DADOS DA OBRA'!N22 -> 45681
B5: LOCAL: | C5: =+""&'DADOS DA OBRA'!$B$16&", "&'DADOS DA OBRA'!$B$19&", "&'DADOS DA OBRA'!$J$19&", "&'DADOS DA OBRA'!$P$19 -> GO-479, Zona Rural, Distrito de Lagolândia, Pirenópolis, GO | M5: REVISÃO: | N5: ='DADOS DA OBRA'!N25 -> 00
B7: O cálculo de vantajosidade se baseia na comparação direta entre os valores totais do orçamento e a escolha pelo que representa o menor valor, para tanto temos:
F10: a. Orçamento com desoneração: | J10: ='ORÇAMENTO SINTÉTICO (CD)'!L124 -> 11362315
F11: b. Orçamento sem desoneração: | J11: ='ORÇAMENTO SINTÉTICO (SD)'!L124 -> 11281852
F13: % de Diferença (a / b) | J13: =(J10/J11)-1 -> 0.0071320096
F15: ORÇAMENTO COM MELHOR VANTAJOSIDADE: | J15: =+IF(J11<J10,"SEM DESONERAÇÃO","COM DESONERAÇÃO") -> SEM DESONERAÇÃO

Sheet CAPA - ORÇAMENTO (SD)
C9: ORÇAMENTO SEM DESONERAÇÃO

Sheet ORÇAMENTO RESUMO (SD)
B1: ORÇAMENTO RESUMO SEM DESONERAÇÃO
B3: OBJETO: | C3: ='DADOS DA OBRA'!B13 -> Construção de ponte de concreto sobre o Rio do Peixe, na GO-479, demolição de ponte existente, transporte e destinação do entulho da demolição | F3: DATA: | G3: ='DADOS DA OBRA'!N22 -> 45681 | J3: ENCARGOS SOCIAIS HORISTAS: | K3: =+'ENCARGOS SOCIAIS'!E41 -> 1.11496
B4: LOCAL: | C4: =+""&'DADOS DA OBRA'!$B$16&", "&'DADOS DA OBRA'!$B$19&", "&'DADOS DA OBRA'!$J$19&", "&'DADOS DA OBRA'!$P$19 -> GO-479, Zona Rural, Distrito de Lagolândia, Pirenópolis, GO | F4: REVISÃO: | G4: ='DADOS DA OBRA'!N25 -> 00 | J4: BDI OBRA: | K4: =+'BDI NORMAL (SD) '!F21/100 -> 0.2721
B5: BASE: | C5: ='DADOS DA OBRA'!B28 -> GOINFRA CIVIL-10/2024, GOINFRA RODOVIÁRIA-10/2024, SINAPI-12/2024, SICRO3-10/2024, ORSE-11/2024. | F5: PRAZO: | G5: ='DADOS DA OBRA'!B25 -> 10 MESES
B8: Item | E8: Descrição | J8: Total Sem BDI | K8: Total Com BDI
B9: 1 | E9: ADMINISTRAÇÃO LOCAL | J9: =+'ORÇAMENTO SINTÉTICO (SD)'!I9 -> 588300.17 | K9: =+'ORÇAMENTO SINTÉTICO (SD)'!L9 -> 748376.64
B10: 2 | E10: CANTEIRO DE OBRAS | J10: =+'ORÇAMENTO SINTÉTICO (SD)'!I11 -> 306335.09 | K10: =+'ORÇAMENTO SINTÉTICO (SD)'!L11 -> 389688.86
B11: 3 | E11: DEMOLIÇÕES E LIMPEZA | J11: =+'ORÇAMENTO SINTÉTICO (SD)'!I14 -> 230275.39 | K11: =+'ORÇAMENTO SINTÉTICO (SD)'!L14 -> 292703.31
B12: 4 | E12: TERRAPLANAGEM CABECEIRA | J12: =+'ORÇAMENTO SINTÉTICO (SD)'!I21 -> 238254.56 | K12: =+'ORÇAMENTO SINTÉTICO (SD)'!L21 -> 302895.61
B13: 5 | E13: PROTEÇÃO DE MARGEM - GABIÃO E COLCHÃO RENO | J13: =+'ORÇAMENTO SINTÉTICO (SD)'!I27 -> 2078581 | K13: ='ORÇAMENTO SINTÉTICO (SD)'!L27 -> 2643797.2
B14: 6 | E14: FUNDAÇÕES | J14: =+'ORÇAMENTO SINTÉTICO (SD)'!I43 -> 1189988.3 | K14: ='ORÇAMENTO SINTÉTICO (SD)'!L43 -> 1513669.8
B15: 7 | E15: ENSAIO DE PROVA DE CARGA | J15: ='ORÇAMENTO SINTÉTICO (SD)'!I63 -> 106883.72 | K15: ='ORÇAMENTO SINTÉTICO (SD)'!L63 -> 135962.07
B16: 8 | E16: ESCORAMENTO | J16: ='ORÇAMENTO SINTÉTICO (SD)'!I72 -> 1233986.4 | K16: ='ORÇAMENTO SINTÉTICO (SD)'!L72 -> 1569654.7
B17: 9 | E17: MESO-ESTRUTURA | J17: ='ORÇAMENTO SINTÉTICO (SD)'!I74 -> 288891.02 | K17: ='ORÇAMENTO SINTÉTICO (SD)'!L74 -> 367433.03
B18: 10 | E18: SUPER-ESTRUTURA | J18: ='ORÇAMENTO SINTÉTICO (SD)'!I87 -> 2440371.5 | K18: ='ORÇAMENTO SINTÉTICO (SD)'!L87 -> 3103820.7
B19: 11 | E19: DIVERSOS | J19: ='ORÇAMENTO SINTÉTICO (SD)'!I112 -> 153417.15 | K19: ='ORÇAMENTO SINTÉTICO (SD)'!L112 -> 194844.4
B20: 12 | E20: SINALIZAÇÃO DE OBRAS | J20: ='ORÇAMENTO SINTÉTICO (SD)'!I118 -> 14940.74 | K20: ='ORÇAMENTO SINTÉTICO (SD)'!L118 -> 19005.99
G22: Total sem BDI | J22: =SUM(J9:J21) -> 8870225
G23: Valor do BDI | J23: =+J24-J22 -> 2411627.4
G24: Total Geral | J24: =SUM(K9:K20) -> 11281852

Sheet ORÇAMENTO SINTÉTICO (SD)
B1: ORÇAMENTO SINTÉTICO SEM DESONERAÇÃO
B3: OBJETO: | C3: ='CAPA - ORÇAMENTO'!D15 -> Construção de ponte de concreto sobre o Rio do Peixe, na GO-479, demolição de ponte existente, transporte e destinação do entulho da demolição | F3: DATA: | G3: ='DADOS DA OBRA'!N22 -> 45681 | K3: ENCARGOS SOCIAIS HORISTAS: | L3: ='ORÇAMENTO RESUMO (SD)'!K3 -> 1.11496
B4: LOCAL: | C4: =+'CAPA - ORÇAMENTO'!D16 -> GO-479, Zona Rural, Distrito de Lagolândia, Pirenópolis, GO | F4: REVISÃO: | G4: ='DADOS DA OBRA'!N25 -> 00 | K4: BDI OBRA: | L4: ='BDI NORMAL (SD) '!F21/100 -> 0.2721
B5: BASE: | C5: =+'DADOS DA OBRA'!B28 -> GOINFRA CIVIL-10/2024, GOINFRA RODOVIÁRIA-10/2024, SINAPI-12/2024, SICRO3-10/2024, ORSE-11/2024. | F5: PRAZO : | G5: ='DADOS DA OBRA'!B25 -> 10 MESES
B8: Item | C8: Código | D8: Banco | E8: Descrição | F8: Und | G8: Qtd | H8: Valor Unit | I8: Valor Total sem BDI | J8: BDI | K8: Valor Unit com BDI | L8: Valor Total com BDI
B9: 1 | E9: ADMINISTRAÇÃO LOCAL | I9: =SUBTOTAL(9,I10:I10) -> 588300.17 | L9: =SUBTOTAL(9,L10:L10) -> 748376.64
B10: 1.1 | C10: 42190 | D10: AGETOP RODOVIARIA | E10: ADMINISTRAÇÃO LOCAL - TIPO F - CONFORME DEMONSTRATIVO | F10: un | G10: 1 | H10: 588300.17 | I10: =TRUNC(G10 * H10, 2) -> 588300.17 | J10: =+$L$4 -> 0.2721 | K10: =TRUNC(H10 * (1 + J10), 2) -> 748376.64 | L10: =TRUNC(G10 * K10, 2) -> 748376.64
B11: 2 | E11: CANTEIRO DE OBRAS | I11: =SUBTOTAL(9,I12:I13) -> 306335.09 | L11: =SUBTOTAL(9,L12:L13) -> 389688.86
B12: 2.1 | C12: 42290 | D12: AGETOP RODOVIARIA | E12: CANTEIRO DE OBRA - TIPO F - CONFORME DEMONSTRATIVO | F12: un | G12: 1 | H12: 269605.37 | I12: =TRUNC(G12 * H12, 2) -> 269605.37 | J12: =+$L$4 -> 0.2721 | K12: =TRUNC(H12 * (1 + J12), 2) -> 342964.99 | L12: =TRUNC(G12 * K12, 2) -> 342964.99
B13: 2.2 | C13: 42301 | D13: AGETOP RODOVIARIA | E13: MOBILIZAÇÃO / DESMOBILIZAÇÃO - CONFORME DEMONSTRATIVO | F13: un | G13: 1 | H13: 36729.72 | I13: =TRUNC(G13 * H13, 2) -> 36729.72 | J13: =+$L$4 -> 0.2721 | K13: =TRUNC(H13 * (1 + J13), 2) -> 46723.87 | L13: =TRUNC(G13 * K13, 2) -> 46723.87
B14: 3 | E14: DEMOLIÇÕES E LIMPEZA | I14: =SUBTOTAL(9,I15:I20) -> 230275.39 | L14: =SUBTOTAL(9,L15:L20) -> 292703.31
B15: 3.1 | C15: 42825 | D15: AGETOP RODOVIARIA | E15: DEMOLIÇÃO DE CONCRETO ARMADO | F15: m³ | G15: 174.69 | H15: 652.45 | I15: =TRUNC(G15 * H15, 2) -> 113976.49 | J15: =+$L$4 -> 0.2721 | K15: =TRUNC(H15 * (1 + J15), 2) -> 829.98 | L15: =TRUNC(G15 * K15, 2) -> 144989.2
B16: 3.2 | C16: 40001 | D16: AGETOP RODOVIARIA | E16: DESMATAMENTO E LIMPEZA - INCLUSO DESTOCAMENTO DE ÁRVORES COM DIÂMETROS MENORES DE 15 cm | F16: m² | G16: 374.4 | H16: 0.54 | I16: =TRUNC(G16 * H16, 2) -> 202.17 | J16: =+$L$4 -> 0.2721 | K16: =TRUNC(H16 * (1 + J16), 2) -> 0.68 | L16: =TRUNC(G16 * K16, 2) -> 254.59
B17: 3.3 | C17: 40005 | D17: AGETOP RODOVIARIA | E17: CARGA DE ENTULHOS | F17: m³ | G17: 193.41 | H17: 2.49 | I17: =TRUNC(G17 * H17, 2) -> 481.59 | J17: =+$L$4 -> 0.2721 | K17: =TRUNC(H17 * (1 + J17), 2) -> 3.16 | L17: =TRUNC(G17 * K17, 2) -> 611.17
B18: 3.4 | C18: 40006 | D18: AGETOP RODOVIARIA | E18: TRANSPORTE DE ENTULHOS | F18: m3km | G18: 45343.41 | H18: 2.26 | I18: =TRUNC(G18 * H18, 2) -> 102476.1 | J18: =+$L$4 -> 0.2721 | K18: =TRUNC(H18 * (1 + J18), 2) -> 2.87 | L18: =TRUNC(G18 * K18, 2) -> 130135.58
B19: 3.5 | C19: 40145 | D19: AGETOP RODOVIARIA | E19: ESPALHAMENTO DE MATERIAL EM BOTA-FORA | F19: m³ | G19: 18.72 | H19: 2 | I19: =TRUNC(G19 * H19, 2) -> 37.44 | J19: =+$L$4 -> 0.2721 | K19: =TRUNC(H19 * (1 + J19), 2) -> 2.54 | L19: =TRUNC(G19 * K19, 2) -> 47.54
B20: 3.6 | C20: 10039 | D20: ORSE | E20: DESCARTE DE RESÍDUOS DA CONSTRUÇÃO CIVIL EM ÁREA LICENCIADA | F20: t | G20: 436.72 | H20: 30 | I20: =TRUNC(G20 * H20, 2) -> 13101.6 | J20: =+$L$4 -> 0.2721 | K20: =TRUNC(H20 * (1 + J20), 2) -> 38.16 | L20: =TRUNC(G20 * K20, 2) -> 16665.23
B21: 4 | E21: TERRAPLANAGEM CABECEIRA | I21: =SUBTOTAL(9,I22:I26) -> 238254.56 | L21: =SUBTOTAL(9,L22:L26) -> 302895.61
B22: 4.1 | C22: 45020 | D22: AGETOP RODOVIARIA | E22: ESCAVAÇÃO MECÂNIZADA | F22: m³ | G22: 6.29 | H22: 7.58 | I22: =TRUNC(G22 * H22, 2) -> 47.67 | J22: =+$L$4 -> 0.2721 | K22: =TRUNC(H22 * (1 + J22), 2) -> 9.64 | L22: =TRUNC(G22 * K22, 2) -> 60.63
B23: 4.2 | C23: 40317 | D23: AGETOP RODOVIARIA | E23: FORNECIMENTO DE MATERIAL DE JAZIDA (CASCALHO) | F23: m³ | G23: 8015.37 | H23: 19.11 | I23: =TRUNC(G23 * H23, 2) -> 153173.72 | J23: =+$L$4 -> 0.2721 | K23: =TRUNC(H23 * (1 + J23), 2) -> 24.3 | L23: =TRUNC(G23 * K23, 2) -> 194773.49
B24: 4.3 | C24: 40315 | D24: AGETOP RODOVIARIA | E24: ESCAVAÇÃO E CARGA DE MATERIAL DE JAZIDA | F24: m³ | G24: 8015.37 | H24: 4.18 | I24: =TRUNC(G24 * H24, 2) -> 33504.24 | J24: =+$L$4 -> 0.2721 | K24: =TRUNC(H24 * (1 + J24), 2) -> 5.31 | L24: =TRUNC(G24 * K24, 2) -> 42561.61
B25: 4.4 | C25: 40320 | D25: AGETOP RODOVIARIA | E25: TRANSPORTE DE MATERIAL DE JAZIDA (CASCALHO) | F25: m3km | G25: 5209.99 | H25: 2.5 | I25: =TRUNC(G25 * H25, 2) -> 13024.97 | J25: =+$L$4 -> 0.2721 | K25: =TRUNC(H25 * (1 + J25), 2) -> 3.18 | L25: =TRUNC(G25 * K25, 2) -> 16567.76
B26: 4.5 | C26: 40100 | D26: AGETOP RODOVIARIA | E26: COMPACTAÇÃO A 95% DO PROCTOR NORMAL | F26: m³ | G26: 8021.66 | H26: 4.8 | I26: =TRUNC(G26 * H26, 2) -> 38503.96 | J26: =+$L$4 -> 0.2721 | K26: =TRUNC(H26 * (1 + J26), 2) -> 6.1 | L26: =TRUNC(G26 * K26, 2) -> 48932.12
B27: 5 | E27: PROTEÇÃO DE MARGEM - GABIÃO E COLCHÃO RENO | I27: =SUBTOTAL(9,I28:I42) -> 2078581 | L27: =SUBTOTAL(9,L28:L42) -> 2643797.2
B28: 5.1 | C28: 42805 | D28: AGETOP RODOVIARIA | E28: GABIÕES (0,5 M) | F28: m³ | G28: 62 | H28: 815.09 | I28: =TRUNC(G28 * H28, 2) -> 50535.58 | J28: =+$L$4 -> 0.2721 | K28: =TRUNC(H28 * (1 + J28), 2) -> 1036.87 | L28: =TRUNC(G28 * K28, 2) -> 64285.94
B29: 5.2 | C29: 42800 | D29: AGETOP RODOVIARIA | E29: GABIÕES (1,00 M) | F29: m³ | G29: 1390.5 | H29: 640.02 | I29: =TRUNC(G29 * H29, 2) -> 889947.81 | J29: =+$L$4 -> 0.2721 | K29: =TRUNC(H29 * (1 + J29), 2) -> 814.16 | L29: =TRUNC(G29 * K29, 2) -> 1132089.5
B30: 5.3 | C30: 42810 | D30: AGETOP RODOVIARIA | E30: COLCHÕES RENO (0,23 M). (Adaptado conforme altura do colchão reno) | F30: m³ | G30: 504.62 | H30: 1037.13 | I30: =TRUNC(G30 * H30, 2) -> 523356.54 | J30: =+$L$4 -> 0.2721 | K30: =TRUNC(H30 * (1 + J30), 2) -> 1319.33 | L30: =TRUNC(G30 * K30, 2) -> 665760.3
B31: 5.4 | C31: 070229 | D31: AGETOP CIVIL | E31: ARAME GALVANIZADO 10 BWG. (Adaptado conforme modificação do insumo) | F31: Kg | G31: 1298.1 | H31: 35.78 | I31: =TRUNC(G31 * H31, 2) -> 46446.01 | J31: =+$L$4 -> 0.2721 | K31: =TRUNC(H31 * (1 + J31), 2) -> 45.51 | L31: =TRUNC(G31 * K31, 2) -> 59076.53
B32: 5.5 | C32: 45575 | D32: AGETOP RODOVIARIA | E32: GEOTEXTIL - BIDIM RT-16 OU EQUIVALENTE | F32: m² | G32: 3418 | H32: 9.11 | I32: =TRUNC(G32 * H32, 2) -> 31137.98 | J32: =+$L$4 -> 0.2721 | K32: =TRUNC(H32 * (1 + J32), 2) -> 11.58 | L32: =TRUNC(G32 * K32, 2) -> 39580.44
B33: 5.6 | C33: 45020 | D33: AGETOP RODOVIARIA | E33: ESCAVAÇÃO MECÂNIZADA | F33: m³ | G33: 3866.48 | H33: 7.58 | I33: =TRUNC(G33 * H33, 2) -> 29307.91 | J33: =+$L$4 -> 0.2721 | K33: =TRUNC(H33 * (1 + J33), 2) -> 9.64 | L33: =TRUNC(G33 * K33, 2) -> 37272.86
B34: 5.7 | C34: 41293 | D34: AGETOP RODOVIARIA | E34: APILOAMENTO MANUAL | F34: m² | G34: 1068.45 | H34: 4.94 | I34: =TRUNC(G34 * H34, 2) -> 5278.14 | J34: =+$L$4 -> 0.2721 | K34: =TRUNC(H34 * (1 + J34), 2) -> 6.28 | L34: =TRUNC(G34 * K34, 2) -> 6709.86
B35: 5.8 | C35: 40455 | D35: AGETOP RODOVIARIA | E35: TRANSPORTE COMERCIAL DE AGREGADOS | F35: m3km | G35: 89636.1 | H35: 1.22 | I35: =TRUNC(G35 * H35, 2) -> 109356.04 | J35: =+$L$4 -> 0.2721 | K35: =TRUNC(H35 * (1 + J35), 2) -> 1.55 | L35: =TRUNC(G35 * K35, 2) -> 138935.95
B36: 5.9 | C36: 40317 | D36: AGETOP RODOVIARIA | E36: FORNECIMENTO DE MATERIAL DE JAZIDA (CASCALHO) | F36: m³ | G36: 3695.09 | H36: 19.11 | I36: =TRUNC(G36 * H36, 2) -> 70613.16 | J36: =+$L$4 -> 0.2721 | K36: =TRUNC(H36 * (1 + J36), 2) -> 24.3 | L36: =TRUNC(G36 * K36, 2) -> 89790.68
B37: 5.10 | C37: 40315 | D37: AGETOP RODOVIARIA | E37: ESCAVAÇÃO E CARGA DE MATERIAL DE JAZIDA | F37: m³ | G37: 3695.09 | H37: 4.18 | I37: =TRUNC(G37 * H37, 2) -> 15445.47 | J37: =+$L$4 -> 0.2721 | K37: =TRUNC(H37 * (1 + J37), 2) -> 5.31 | L37: =TRUNC(G37 * K37, 2) -> 19620.92
B38: 5.11 | C38: 40320 | D38: AGETOP RODOVIARIA | E38: TRANSPORTE DE MATERIAL DE JAZIDA (CASCALHO) | F38: m3km | G38: 2401.81 | H38: 2.5 | I38: =TRUNC(G38 * H38, 2) -> 6004.52 | J38: =+$L$4 -> 0.2721 | K38: =TRUNC(H38 * (1 + J38), 2) -> 3.18 | L38: =TRUNC(G38 * K38, 2) -> 7637.75
B39: 5.12 | C39: 45430 | D39: AGETOP RODOVIARIA | E39: REATERRO APILOADO DE VALAS | F39: m³ | G39: 3695.09 | H39: 67.14 | I39: =TRUNC(G39 * H39, 2) -> 248088.34 | J39: =+$L$4 -> 0.2721 | K39: =TRUNC(H39 * (1 + J39), 2) -> 85.4 | L39: =TRUNC(G39 * K39, 2) -> 315560.68
... B42: 5.15 | C42: 40145 | D42: AGETOP RODOVIARIA | E42: ESPALHAMENTO DE MATERIAL EM BOTA-FORA | F42: m³ | G42: 3866.48 | H42: 2 | I42: =TRUNC(G42 * H42, 2) -> 7732.96 | J42: =+$L$4 -> 0.2721 | K42: =TRUNC(H42 * (1 + J42), 2) -> 2.54 | L42: =TRUNC(G42 * K42, 2) -> 9820.85
B43: 6 | E43: FUNDAÇÕES | I43: =SUBTOTAL(9,I44:I62) -> 1189988.3 | L43: =SUBTOTAL(9,L44:L62) -> 1513669.8
B44: 6.1 | E44: ESTACAS | I44: =SUBTOTAL(9,I45:I51) -> 929836.55 | L44: =SUBTOTAL(9,L45:L51) -> 1182793.4
B45: 6.1.1 | C45: 45266 | D45: AGETOP RODOVIARIA | E45: ESTACA RAIZ PERFURADA NO SOLO - D = 40 cm | F45: m | G45: 186 | H45: 269.94 | I45: =TRUNC(G45 * H45, 2) -> 50208.84 | J45: =+$L$4 -> 0.2721 | K45: =TRUNC(H45 * (1 + J45), 2) -> 343.39 | L45: =TRUNC(G45 * K45, 2) -> 63870.54
...

Sheet CRONOGRAMA (SD)
B1: CRONOGRAMA FISICO-FINANCEIRO SEM DESONERAÇÃO
B8: OBJETO: | C8: ='DADOS DA OBRA'!B13 -> Construção de ponte de concreto sobre o Rio do Peixe, na GO-479, demolição de ponte existente, transporte e destinação do entulho da demolição | AO8: DATA: | AP8: ='DADOS DA OBRA'!N22 -> 45681
B9: LOCAL: | C9: =+""&'DADOS DA OBRA'!$B$16&", "&'DADOS DA OBRA'!$B$19&", "&'DADOS DA OBRA'!$J$19&", "&'DADOS DA OBRA'!$P$19 -> GO-479, Zona Rural, Distrito de Lagolândia, Pirenópolis, GO | AO9: REVISÃO: | AP9: ='DADOS DA OBRA'!N25 -> 00
B11: ITEM | C11: SERVIÇO | D11: VALORES | E11: MESES
E12: MÊS 01 | I12: MÊS 02 | M12: MÊS 03 | Q12: MÊS 04 | U12: MÊS 05 | Y12: MÊS 06 | AC12: MÊS 07 | AG12: MÊS 07 | AK12: MÊS 09 | AO12: MÊS 10
B14: ='[5]ORÇAMENTO RESUMO (SD)'!B9 -> 1 | C14: ='ORÇAMENTO RESUMO (SD)'!E9 -> ADMINISTRAÇÃO LOCAL | D14: ='ORÇAMENTO RESUMO (SD)'!K9 -> 748376.64 | E14: =E16*$D14 -> 10040.093 | I14: =I16*$D14 -> 76102.863 | M14: =M16*$D14 -> 67174.674 | Q14: =Q16*$D14 -> 31741.14 | U14: =U16*$D14 -> 88988.669 | Y14: =Y16*$D14 -> 78145.448 | AC14: =AC16*$D14 -> 117155.65 | AG14: =AG16*$D14 -> 161752.53 | AK14: =AK16*$D14 -> 110091.67 | AO14: =AO16*$D14 -> 7183.8938
D16: =D14/$D$50 -> 0.066334553 | E16: =+SUM(E20,E23,E26,E29,E32,E35,E38,E41,E44,E47)/($D$50-$D$14-$D$17) -> 0.013415829 | I16: =+SUM(I20,I23,I26,I29,I32,I35,I38,I41,I44,I47)/($D$50-$D$14-$D$17) -> 0.10169059 | M16: =+SUM(M20,M23,M26,M29,M32,M35,M38,M41,M44,M47)/($D$50-$D$14-$D$17) -> 0.089760517 | Q16: =+SUM(Q20,Q23,Q26,Q29,Q32,Q35,Q38,Q41,Q44,Q47)/($D$50-$D$14-$D$17) -> 0.042413323 | U16: =+SUM(U20,U23,U26,U29,U32,U35,U38,U41,U44,U47)/($D$50-$D$14-$D$17) -> 0.11890893 | Y16: =+SUM(Y20,Y23,Y26,Y29,Y32,Y35,Y38,Y41,Y44,Y47)/($D$50-$D$14-$D$17) -> 0.10441995 | AC16: =+SUM(AC20,AC23,AC26,AC29,AC32,AC35,AC38,AC41,AC44,AC47)/($D$50-$D$14-$D$17) -> 0.15654638 | AG16: =+SUM(AG20,AG23,AG26,AG29,AG32,AG35,AG38,AG41,AG44,AG47)/($D$50-$D$14-$D$17) -> 0.21613787 | AK16: =+SUM(AK20,AK23,AK26,AK29,AK32,AK35,AK38,AK41,AK44,AK47)/($D$50-$D$14-$D$17) -> 0.14710731 | AO16: =+SUM(AO20,AO23,AO26,AO29,AO32,AO35,AO38,AO41,AO44,AO47)/($D$50-$D$14-$D$17) -> 0.0095993026
B17: ='[5]ORÇAMENTO RESUMO (SD)'!B10 -> 2 | C17: ='ORÇAMENTO RESUMO (SD)'!E10 -> CANTEIRO DE OBRAS | D17: =+'ORÇAMENTO RESUMO (SD)'!K10 -> 389688.86 | E17: =E19*$D17 -> 5227.9992 | I17: =I19*$D17 -> 39627.69 | M17: =M19*$D17 -> 34978.674 | Q17: =Q19*$D17 -> 16527.999 | U17: =U19*$D17 -> 46337.487 | Y17: =Y19*$D17 -> 40691.29 | AC17: =AC19*$D17 -> 61004.381 | AG17: =AG19*$D17 -> 84226.519 | AK17: =AK19*$D17 -> 57326.08 | AO17: =AO19*$D17 -> 3740.7413
D19: =D17/$D$50 -> 0.034541212 | E19: =E16 -> 0.013415829 | I19: =I16 -> 0.10169059 | M19: =M16 -> 0.089760517 | Q19: =Q16 -> 0.042413323 | U19: =U16 -> 0.11890893 | Y19: =Y16 -> 0.10441995 | AC19: =AC16 -> 0.15654638 | AG19: =AG16 -> 0.21613787 | AK19: =AK16 -> 0.14710731 | AO19: =AO16 -> 0.0095993026
B20: ='[5]ORÇAMENTO RESUMO (SD)'!B11 -> 3 | C20: ='ORÇAMENTO RESUMO (SD)'!E11 -> DEMOLIÇÕES E LIMPEZA | D20: =+'ORÇAMENTO RESUMO (SD)'!K11 -> 292703.31 | E20: =E22*$D20 -> 117081.32 | I20: =I22*$D20 -> 117081.32 | M20: =M22*$D20 -> 58540.662 | Q20: =Q22*$D20 -> 0 | U20: =U22*$D20 -> 0 | Y20: =Y22*$D20 -> 0 | AC20: =AC22*$D20 -> 0 | AG20: =AG22*$D20 -> 0 | AK20: =AK22*$D20 -> 0 | AO20: =AO22*$D20 -> 0
D22: =D20/$D$50 -> 0.025944614 | E22: 0.4 | I22: 0.4 | M22: 0.2
B23: ='[5]ORÇAMENTO RESUMO (SD)'!B12 -> 4 | C23: ='ORÇAMENTO RESUMO (SD)'!E12 -> TERRAPLANAGEM CABECEIRA | D23: =+'ORÇAMENTO RESUMO (SD)'!K12 -> 302895.61 | E23: =E25*$D23 -> 0 | I23: =I25*$D23 -> 0 | M23: =M25*$D23 -> 0 | Q23: =Q25*$D23 -> 0 | U23: =U25*$D23 -> 0 | Y23: =Y25*$D23 -> 0 | AC23: =AC25*$D23 -> 0 | AG23: =AG25*$D23 -> 75723.902 | AK23: =AK25*$D23 -> 151447.8 | AO23: =AO25*$D23 -> 75723.902
D25: =D23/$D$50 -> 0.026848039 | AG25: 0.25 | AK25: 0.5 | AO25: 0.25
B26: ='[5]ORÇAMENTO RESUMO (SD)'!B13 -> 5 | C26: ='ORÇAMENTO RESUMO (SD)'!E13 -> PROTEÇÃO DE MARGEM - GABIÃO E COLCHÃO RENO | D26: =+'ORÇAMENTO RESUMO (SD)'!K13 -> 2643797.2 | E26: =E28*$D26 -> 0 | I26: =I28*$D26 -> 0 | M26: =M28*$D26 -> 0 | Q26: =Q28*$D26 -> 0 | U26: =U28*$D26 -> 0 | Y26: =Y28*$D26 -> 0 | AC26: =AC28*$D26 -> 528759.45 | AG26: =AG28*$D26 -> 1057518.9 | AK26: =AK28*$D26 -> 1057518.9 | AO26: =AO28*$D26 -> 0
D28: =D26/$D$50 -> 0.2343407 | AC28: 0.2 | AG28: 0.4 | AK28: 0.4
B29: ='[5]ORÇAMENTO RESUMO (SD)'!B14 -> 6 | C29: ='ORÇAMENTO RESUMO (SD)'!E14 -> FUNDAÇÕES | D29: =+'ORÇAMENTO RESUMO (SD)'!K14 -> 1513669.8 | E29: =E31*$D29 -> 0 | I29: =I31*$D29 -> 756834.91 | M29: =M31*$D29 -> 756834.91 | Q29: =Q31*$D29 -> 0 | U29: =U31*$D29 -> 0 | Y29: =Y31*$D29 -> 0 | AC29: =AC31*$D29 -> 0 | AG29: =AG31*$D29 -> 0 | AK29: =AK31*$D29 -> 0 | AO29: =AO31*$D29 -> 0
D31: =D29/$D$50 -> 0.13416855 | I31: 0.5 | M31: 0.5
B32: ='[5]ORÇAMENTO RESUMO (SD)'!B15 -> 7 | C32: ='ORÇAMENTO RESUMO (SD)'!E15 -> ENSAIO DE PROVA DE CARGA | D32: =+'ORÇAMENTO RESUMO (SD)'!K15 -> 135962.07 | E32: =E34*$D32 -> 0 | I32: =I34*$D32 -> 135962.07 | M32: =M34*$D32 -> 0 | Q32: =Q34*$D32 -> 0 | U32: =U34*$D32 -> 0 | Y32: =Y34*$D32 -> 0 | AC32: =AC34*$D32 -> 0 | AG32: =AG34*$D32 -> 0 | AK32: =AK34*$D32 -> 0 | AO32: =AO34*$D32 -> 0
D34: =D32/$D$50 -> 0.012051396 | I34: 1
B35: ='[5]ORÇAMENTO RESUMO (SD)'!B16 -> 8 | C35: ='ORÇAMENTO RESUMO (SD)'!E16 -> ESCORAMENTO | D35: =+'ORÇAMENTO RESUMO (SD)'!K16 -> 1569654.7 | E35: =E37*$D35 -> 0 | I35: =I37*$D35 -> 0 | M35: =M37*$D35 -> 0 | Q35: =Q37*$D35 -> 261609.12 | U35: =U37*$D35 -> 261609.12 | Y35: =Y37*$D35 -> 261609.12 | AC35: =AC37*$D35 -> 261609.12 | AG35: =AG37*$D35 -> 261609.12 | AK35: =AK37*$D35 -> 261609.12 | AO35: =AO37*$D35 -> 0
D37: =D35/$D$50 -> 0.13913094 | Q37: 0.16666667 | U37: 0.16666667 | Y37: 0.16666667 | AC37: 0.16666667 | AG37: 0.16666667 | AK37: 0.16666667
B38: ='[5]ORÇAMENTO RESUMO (SD)'!B17 -> 9 | C38: ='ORÇAMENTO RESUMO (SD)'!E17 -> MESO-ESTRUTURA | D38: =+'ORÇAMENTO RESUMO (SD)'!K17 -> 367433.03 | E38: =E40*$D38 -> 0 | I38: =I40*$D38 -> 0 | M38: =M40*$D38 -> 73486.606 | Q38: =Q40*$D38 -> 146973.21 | U38: =U40*$D38 -> 146973.21 | Y38: =Y40*$D38 -> 0 | AC38: =AC40*$D38 -> 0 | AG38: =AG40*$D38 -> 0 | AK38: =AK40*$D38 -> 0 | AO38: =AO40*$D38 -> 0
D40: =D38/$D$50 -> 0.032568502 | M40: 0.2 | Q40: 0.4 | U40: 0.4
B41: ='[5]ORÇAMENTO RESUMO (SD)'!B18 -> 10 | C41: ='ORÇAMENTO RESUMO (SD)'!E18 -> SUPER-ESTRUTURA | D41: =+'ORÇAMENTO RESUMO (SD)'!K18 -> 3103820.7 | E41: =E43*$D41 -> 0 | I41: =I43*$D41 -> 0 | M41: =M43*$D41 -> 0 | Q41: =Q43*$D41 -> 0 | U41: =U43*$D41 -> 775955.18 | Y41: =Y43*$D41 -> 775955.18 | AC41: =AC43*$D41 -> 775955.18 | AG41: =AG43*$D41 -> 775955.18 | AK41: =AK43*$D41 -> 0 | AO41: =AO43*$D41 -> 0
D43: =D41/$D$50 -> 0.27511623 | U43: 0.25 | Y43: 0.25 | AC43: 0.25 | AG43: 0.25
B44: ='[5]ORÇAMENTO RESUMO (SD)'!B19 -> 11 | C44: ='ORÇAMENTO RESUMO (SD)'!E19 -> DIVERSOS | D44: =+'ORÇAMENTO RESUMO (SD)'!K19 -> 194844.4 | E44: =E46*$D44 -> 0 | I44: =I46*$D44 -> 21649.378 | M44: =M46*$D44 -> 21649.378 | Q44: =Q46*$D44 -> 21649.378 | U44: =U46*$D44 -> 21649.378 | Y44: =Y46*$D44 -> 21649.378 | AC44: =AC46*$D44 -> 21649.378 | AG44: =AG46*$D44 -> 21649.378 | AK44: =AK46*$D44 -> 21649.378 | AO44: =AO46*$D44 -> 21649.378
D46: =D44/$D$50 -> 0.017270604 | I46: 0.11111111 | M46: 0.11111111 | Q46: 0.11111111 | U46: 0.11111111 | Y46: 0.11111111 | AC46: 0.11111111 | AG46: 0.11111111 | AK46: 0.11111111 | AO46: 0.11111111
B47: 12 | C47: ='ORÇAMENTO RESUMO (SD)'!E20 -> SINALIZAÇÃO DE OBRAS | D47: =+'ORÇAMENTO RESUMO (SD)'!K20 -> 19005.99 | E47: =E49*$D47 -> 19005.99 | I47: =I49*$D47 -> 0 | M47: =M49*$D47 -> 0 | Q47: =Q49*$D47 -> 0 | U47: =U49*$D47 -> 0 | Y47: =Y49*$D47 -> 0 | AC47: =AC49*$D47 -> 0 | AG47: =AG49*$D47 -> 0 | AK47: =AK49*$D47 -> 0 | AO47: =AO49*$D47 -> 0
D49: =D47/$D$50 -> 0.0016846515 | E49: 1
C50: TOTAL SIMPLES COM BDI | D50: =SUM(D47,D44,D41,D38,D35,D32,D29,D26,D23,D20,D17,D14) -> 11281852 | E50: =SUM(E44,E41,E38,E35,E32,E29,E26,E23,E20,E17,E14,E47) -> 151355.41 | F50: =SUM(#REF!,#REF!,#REF!,#REF!,#REF!,#REF!,#REF!,#REF!,#REF!,#REF!,#REF!,#REF!,F44,F41,F38,F35,F32,F29,F26,F23,F20,F17,F14) -> #REF! | G50: =SUM(#REF!,#REF!,#REF!,#REF!,#REF!,#REF!,#REF!,#REF!,#REF!,#REF!,#REF!,#REF!,G44,G41,G38,G35,G32,G29,G26,G23,G20,G17,G14) -> #REF! | H50: =SUM(#REF!,#REF!,#REF!,#REF!,#REF!,#REF!,#REF!,#REF!,#REF!,#REF!,#REF!,#REF!,H44,H41,H38,H35,H32,H29,H26,H23,H20,H17,H14) -> #REF! | I50: =SUM(I44,I41,I38,I35,I32,I29,I26,I23,I20,I17,I14,I47) -> 1147258.2 | J50: =SUM(#REF!,#REF!,#REF!,#REF!,#REF!,#REF!,#REF!,#REF!,#REF!,#REF!,#REF!,#REF!,J44,J41,J38,J35,J32,J29,J26,J23,J20,J17,J14) -> #REF! | K50: =SUM(#REF!,#REF!,#REF!,#REF!,#REF!,#REF!,#REF!,#REF!,#REF!,#REF!,#REF!,#REF!,K44,K41,K38,K35,K32,K29,K26,K23,K20,K17,K14) -> #REF! | L50: =SUM(#REF!,#REF!,#REF!,#REF!,#REF!,#REF!,#REF!,#REF!,#REF!,#REF!,#REF!,#REF!,L44,L41,L38,L35,L32,L29,L26,L23,L20,L17,L14) -> #REF! | M50: =SUM(M44,M41,M38,M35,M32,M29,M26,M23,M20,M17,M14,M47) -> 1012664.9 | N50: =SUM(#REF!,#REF!,#REF!,#REF!,#REF!,#REF!,#REF!,#REF!,#REF!,#REF!,#REF!,#REF!,N44,N41,N38,N35,N32,N29,N26,N23,N20,N17,N14) -> #REF! | O50: =SUM(#REF!,#REF!,#REF!,#REF!,#REF!,#REF!,#REF!,#REF!,#REF!,#REF!,#REF!,#REF!,O44,O41,O38,O35,O32,O29,O26,O23,O20,O17,O14) -> #REF! | P50: =SUM(#REF!,#REF!,#REF!,#REF!,#REF!,#REF!,#REF!,#REF!,#REF!,#REF!,#REF!,#REF!,P44,P41,P38,P35,P32,P29,P26,P23,P20,P17,P14) -> #REF! | Q50: =SUM(Q44,Q41,Q38,Q35,Q32,Q29,Q26,Q23,Q20,Q17,Q14,Q47) -> 478500.85 | R50: =SUM(#REF!,#REF!,#REF!,#REF!,#REF!,#REF!,#REF!,#REF!,#REF!,#REF!,#REF!,#REF!,R44,R41,R38,R35,R32,R29,R26,R23,R20,R17,R14) -> #REF! | S50: =SUM(#REF!,#REF!,#REF!,#REF!,#REF!,#REF!,#REF!,#REF!,#REF!,#REF!,#REF!,#REF!,S44,S41,S38,S35,S32,S29,S26,S23,S20,S17,S14) -> #REF! | T50: =SUM(#REF!,#REF!,#REF!,#REF!,#REF!,#REF!,#REF!,#REF!,#REF!,#REF!,#REF!,#REF!,T44,T41,T38,T35,T32,T29,T26,T23,T20,T17,T14) -> #REF! | U50: =SUM(U44,U41,U38,U35,U32,U29,U26,U23,U20,U17,U14,U47) -> 1341513 | V50: =SUM(#REF!,#REF!,#REF!,#REF!,#REF!,#REF!,#REF!,#REF!,#REF!,#REF!,#REF!,#REF!,V44,V41,V38,V35,V32,V29,V26,V23,V20,V17,V14) -> #REF! | W50: =SUM(#REF!,#REF!,#REF!,#REF!,#REF!,#REF!,#REF!,#REF!,#REF!,#REF!,#REF!,#REF!,W44,W41,W38,W35,W32,W29,W26,W23,W20,W17,W14) -> #REF! | X50: =SUM(#REF!,#REF!,#REF!,#REF!,#REF!,#REF!,#REF!,#REF!,#REF!,#REF!,#REF!,#REF!,X44,X41,X38,X35,X32,X29,X26,X23,X20,X17,X14) -> #REF! | Y50: =SUM(Y44,Y41,Y38,Y35,Y32,Y29,Y26,Y23,Y20,Y17,Y14,Y47) -> 1178050.4 | Z50: =SUM(#REF!,#REF!,#REF!,#REF!,#REF!,#REF!,#REF!,#REF!,#REF!,#REF!,#REF!,#REF!,Z44,Z41,Z38,Z35,Z32,Z29,Z26,Z23,Z20,Z17,Z14) -> #REF! | AA50: =SUM(#REF!,#REF!,#REF!,#REF!,#REF!,#REF!,#REF!,#REF!,#REF!,#REF!,#REF!,#REF!,AA44,AA41,AA38,AA35,AA32,AA29,AA26,AA23,AA20,AA17,AA14) -> #REF! | AB50: =SUM(#REF!,#REF!,#REF!,#REF!,#REF!,#REF!,#REF!,#REF!,#REF!,#REF!,#REF!,#REF!,AB44,AB41,AB38,AB35,AB32,AB29,AB26,AB23,AB20,AB17,AB14) -> #REF! | AC50: =SUM(AC44,AC41,AC38,AC35,AC32,AC29,AC26,AC23,AC20,AC17,AC14,AC47) -> 1766133.2 | AD50: =SUM(#REF!,#REF!,#REF!,#REF!,#REF!,#REF!,#REF!,#REF!,#REF!,#REF!,#REF!,#REF!,AD44,AD41,AD38,AD35,AD32,AD29,AD26,AD23,AD20,AD17,AD14) -> #REF! | AE50: =SUM(#REF!,#REF!,#REF!,#REF!,#REF!,#REF!,#REF!,#REF!,#REF!,#REF!,#REF!,#REF!,AE44,AE41,AE38,AE35,AE32,AE29,AE26,AE23,AE20,AE17,AE14) -> #REF! | AF50: =SUM(#REF!,#REF!,#REF!,#REF!,#REF!,#REF!,#REF!,#REF!,#REF!,#REF!,#REF!,#REF!,AF44,AF41,AF38,AF35,AF32,AF29,AF26,AF23,AF20,AF17,AF14) -> #REF! | AG50: =SUM(AG44,AG41,AG38,AG35,AG32,AG29,AG26,AG23,AG20,AG17,AG14,AG47) -> 2438435.5 | AH50: =SUM(#REF!,#REF!,#REF!,#REF!,#REF!,#REF!,#REF!,#REF!,#REF!,#REF!,#REF!,#REF!,AH44,AH41,AH38,AH35,AH32,AH29,AH26,AH23,AH20,AH17,AH14) -> #REF! | AI50: =SUM(#REF!,#REF!,#REF!,#REF!,#REF!,#REF!,#REF!,#REF!,#REF!,#REF!,#REF!,#REF!,AI44,AI41,AI38,AI35,AI32,AI29,AI26,AI23,AI20,AI17,AI14) -> #REF! | AJ50: =SUM(#REF!,#REF!,#REF!,#REF!,#REF!,#REF!,#REF!,#REF!,#REF!,#REF!,#REF!,#REF!,AJ44,AJ41,AJ38,AJ35,AJ32,AJ29,AJ26,AJ23,AJ20,AJ17,AJ14) -> #REF! | AK50: =SUM(AK44,AK41,AK38,AK35,AK32,AK29,AK26,AK23,AK20,AK17,AK14,AK47) -> 1659643 | AL50: =SUM(#REF!,#REF!,#REF!,#REF!,#REF!,#REF!,#REF!,#REF!,#REF!,#REF!,#REF!,#REF!,AL44,AL41,AL38,AL35,AL32,AL29,AL26,AL23,AL20,AL17,AL14) -> #REF! | AM50: =SUM(#REF!,#REF!,#REF!,#REF!,#REF!,#REF!,#REF!,#REF!,#REF!,#REF!,#REF!,#REF!,AM44,AM41,AM38,AM35,AM32,AM29,AM26,AM23,AM20,AM17,AM14) -> #REF! | AN50: =SUM(#REF!,#REF!,#REF!,#REF!,#REF!,#REF!,#REF!,#REF!,#REF!,#REF!,#REF!,#REF!,AN44,AN41,AN38,AN35,AN32,AN29,AN26,AN23,AN20,AN17,AN14) -> #REF! | AO50: =SUM(AO44,AO41,AO38,AO35,AO32,AO29,AO26,AO23,AO20,AO17,AO14,AO47) -> 108297.92 | AP50: =SUM(#REF!,#REF!,#REF!,#REF!,#REF!,#REF!,#REF!,#REF!,#REF!,#REF!,#REF!,#REF!,AP44,AP41,AP38,AP35,AP32,AP29,AP26,AP23,AP20,AP17,AP14) -> #REF! | AQ50: =SUM(#REF!,#REF!,#REF!,#REF!,#REF!,#REF!,#REF!,#REF!,#REF!,#REF!,#REF!,#REF!,AQ44,AQ41,AQ38,AQ35,AQ32,AQ29,AQ26,AQ23,AQ20,AQ17,AQ14) -> #REF! | AR50: =SUM(#REF!,#REF!,#REF!,#REF!,#REF!,#REF!,#REF!,#REF!,#REF!,#REF!,#REF!,#REF!,AR44,AR41,AR38,AR35,AR32,AR29,AR26,AR23,AR20,AR17,AR14) -> #REF!
C51: PERCENTUAL SIMPLES | D51: =SUM(D46,D43,D40,D37,D34,D31,D28,D25,D22,D19,D16,D49) -> 1 | E51: =E50/$D$50 -> 0.013415829 | I51: =I50/$D$50 -> 0.10169059 | M51: =M50/$D$50 -> 0.089760517 | Q51: =Q50/$D$50 -> 0.042413323 | U51: =U50/$D$50 -> 0.11890893 | Y51: =Y50/$D$50 -> 0.10441995 | AC51: =AC50/$D$50 -> 0.15654638 | AG51: =AG50/$D$50 -> 0.21613787 | AK51: =AK50/$D$50 -> 0.14710731 | AO51: =AO50/$D$50 -> 0.0095993026
C52: TOTAL ACUMULADO COM BDI | E52: =+E50 -> 151355.41 | I52: =+I50+E52 -> 1298613.6 | M52: =+M50+I52 -> 2311278.6 | Q52: =+Q50+M52 -> 2789779.4 | U52: =+U50+Q52 -> 4131292.4 | Y52: =+Y50+U52 -> 5309342.9 | AC52: =+AC50+Y52 -> 7075476 | AG52: =+AG50+AC52 -> 9513911.6 | AK52: =+AK50+AG52 -> 11173555 | AO52: =+AO50+AK52 -> 11281852
C53: PERCENTUAL ACUMULADO | E53: =E51 -> 0.013415829 | I53: =+I51+E53 -> 0.11510642 | M53: =+M51+I53 -> 0.20486694 | Q53: =+Q51+M53 -> 0.24728026 | U53: =+U51+Q53 -> 0.36618919 | Y53: =+Y51+U53 -> 0.47060914 | AC53: =+AC51+Y53 -> 0.62715552 | AG53: =+AG51+AC53 -> 0.84329339 | AK53: =+AK51+AG53 -> 0.9904007 | AO53: =+AO51+AK53 -> 1

Sheet COMPOSIÇÕES (SD)
A1: COMPOSIÇÃO DE PREÇOS UNITÁRIOS SEM DESONERAÇÃO
A3: OBJETO: | B3: ='ORÇAMENTO SINTÉTICO (SD)'!C3 -> Construção de ponte de concreto sobre o Rio do Peixe, na GO-479, demolição de ponte existente, transporte e destinação do entulho da demolição | F3: DATA: | G3: ='ORÇAMENTO SINTÉTICO (SD)'!G3 -> 45681 | I3: ENCARGOS SOCIAIS HORISTAS: | J3: ='ORÇAMENTO SINTÉTICO (SD)'!L3 -> 1.11496
A4: LOCAL: | B4: ='ORÇAMENTO SINTÉTICO (SD)'!C4 -> GO-479, Zona Rural, Distrito de Lagolândia, Pirenópolis, GO | F4: REVISÃO: | G4: ='ORÇAMENTO SINTÉTICO (SD)'!G4 -> 00 | I4: BDI OBRA: | J4: ='ORÇAMENTO SINTÉTICO (SD)'!L4 -> 0.2721
A5: BASE: | B5: ='ORÇAMENTO SINTÉTICO (SD)'!C5 -> GOINFRA CIVIL-10/2024, GOINFRA RODOVIÁRIA-10/2024, SINAPI-12/2024, SICRO3-10/2024, ORSE-11/2024. | F5: PRAZO : | G5: ='ORÇAMENTO SINTÉTICO (SD)'!G5 -> 10 MESES
A8: Composições Principais
A9: 1.1 | B9: Código | C9: Banco | D9: Descrição | E9: Tipo | G9: Und | H9: Quant. | I9: Valor Unit | J9: Total
A10: Composição | B10: 42190 | C10: AGETOP RODOVIARIA | D10: ADMINISTRAÇÃO LOCAL - TIPO F | E10: 4219 | G10: un | H10: 1 | I10: 588300.17 | J10: 588300.17
F11: Custo Horário da Execução (A) + (B) | J11: 0
F12: (D) Produção de Equipe | J12: 1
F13: (E) Custo Unitário de Execução [(A) + (B) + (C)] / (D) | J13: 0
A14: F | B14: Código | C14: Banco | D14: MATERIAL | E14: Quantidade | F14: Unidade | G14: Preço Unitário | J14: Custo Horário
A15: Insumo | B15: 0004 | C15: Emp | D15: ADMINISTRAÇÃO LOCAL - TIPO F (CONFORME DEMONSTRATIVO) | E15: 1 | F15: UN | G15: 588.300,17 | J15: 588.300,17
F16: Custo unitário total de material | J16: 588300.17
E17: MO sem LS => | F17: 0 | G17: LS => | H17: 0 | I17: MO com LS => | J17: 0
E18: Valor do BDI => | F18: 0 | H18: Valor com BDI => | J18: 588300.17
A20: 2.1 | B20: Código | C20: Banco | D20: Descrição | E20: Tipo | G20: Und | H20: Quant. | I20: Valor Unit | J20: Total
A21: Composição | B21: 42290 | C21: AGETOP RODOVIARIA | D21: CANTEIRO DE OBRA - TIPO F | E21: 4229 | G21: un | H21: 1 | I21: 269605.37 | J21: 269605.37
F22: Custo Horário da Execução (A) + (B) | J22: 0
F23: (D) Produção de Equipe | J23: 1
F24: (E) Custo Unitário de Execução [(A) + (B) + (C)] / (D) | J24: 0
A25: F | B25: Código | C25: Banco | D25: MATERIAL | E25: Quantidade | F25: Unidade | G25: Preço Unitário | J25: Custo Horário
A26: Insumo | B26: 0003 | C26: Emp | D26: CANTEIRO DE OBRA - TIPO F | E26: 1 | F26: UN | G26: 269.605,37 | J26: 269.605,37
F27: Custo unitário total de material | J27: 269605.37
E28: MO sem LS => | F28: 0 | G28: LS => | H28: 0 | I28: MO com LS => | J28: 0
E29: Valor do BDI => | F29: 0 | H29: Valor com BDI => | J29: 269605.37
A31: 2.2 | B31: Código | C31: Banco | D31: Descrição | E31: Tipo | G31: Und | H31: Quant. | I31: Valor Unit | J31: Total
A32: Composição | B32: 42301 | C32: AGETOP RODOVIARIA | D32: MOBILIZAÇÃO / DESMOBILIZAÇÃO - CONFORME DEMONSTRATIVO | E32: 4230 | G32: un | H32: 1 | I32: 36729.72 | J32: 36729.72
F33: Custo Horário da Execução (A) + (B) | J33: 0
F34: (D) Produção de Equipe | J34: 1
F35: (E) Custo Unitário de Execução [(A) + (B) + (C)] / (D) | J35: 0
A36: F | B36: Código | C36: Banco | D36: MATERIAL | E36: Quantidade | F36: Unidade | G36: Preço Unitário | J36: Custo Horário
A37: Insumo | B37: 0002 | C37: Emp | D37: MOBILIZAÇÃO / DESMOBILIZAÇÃO - CONFORME DEMONSTRATIVO - SEM DESONERAÇÃO | E37: 1 | F37: UN | G37: 36.729,72 | J37: 36.729,72
F38: Custo unitário total de material | J38: 36729.72
E39: MO sem LS => | F39: 0 | G39: LS => | H39: 0 | I39: MO com LS => | J39: 0
E40: Valor do BDI => | F40: 0 | H40: Valor com BDI => | J40: 36729.72
A42: 3.1 | B42: Código | C42: Banco | D42: Descrição | E42: Tipo | G42: Und | H42: Quant. | I42: Valor Unit | J42: Total
A43: Composição | B43: 42825 | C43: AGETOP RODOVIARIA | D43: DEMOLIÇÃO DE CONCRETO ARMADO | E43: 4282 | G43: m³ | H43: 1 | I43: 652.45 | J43: 652.45
A44: A | B44: Código | C44: Banco | D44: Equipamentos | E44: Quantidade | F44: Utilização | H44: Custo Horário | J44: Custo Horário Total
F45: Operativa | G45: Improdutiva | H45: Operativa | I45: Improdutiva
A46: Insumo | B46: 30027 | C46: AGETOP RODOVIARIA | D46: COMPRESSOR DE AR 340 PCM | E46: 1 | F46: 1 | G46: 0 | H46: 123.77 | I46: 25.42 | J46: 123.77
...

Sheet CURVA ABC DE SERVIÇOS (SD)
B1: CURVA ABC DE SERVIÇOS SEM DESONERAÇÃO
B3: OBJETO: | C3: ='DADOS DA OBRA'!B13 -> Construção de ponte de concreto sobre o Rio do Peixe, na GO-479, demolição de ponte existente, transporte e destinação do entulho da demolição | E3: DATA: | F3: ='DADOS DA OBRA'!N22 -> 45681 | I3: ENCARGOS SOCIAIS HORISTAS:
B4: LOCAL: | C4: =+""&'DADOS DA OBRA'!$B$16&", "&'DADOS DA OBRA'!$B$19&", "&'DADOS DA OBRA'!$J$19&", "&'DADOS DA OBRA'!$P$19 -> GO-479, Zona Rural, Distrito de Lagolândia, Pirenópolis, GO | E4: REVISÃO: | F4: ='DADOS DA OBRA'!N25 -> 00 | I4: ENCARGOS SOCIAIS MENSALISTAS:
B5: BASE: | C5: ='DADOS DA OBRA'!B28 -> GOINFRA CIVIL-10/2024, GOINFRA RODOVIÁRIA-10/2024, SINAPI-12/2024, SICRO3-10/2024, ORSE-11/2024. | E5: PRAZO: | F5: ='DADOS DA OBRA'!B25 -> 10 MESES | I5: BDI OBRA:
I6: BDI DIFERENCIADO:
B8: Código | C8: Banco | D8: Descrição | E8: Und | F8: Quant. | G8: Valor Unit | H8: Total | I8: Peso (%) | J8: Peso Acumulado (%)
B9: 45155 | C9: AGETOP RODOVIARIA | D9: AÇO CA50/60 AQUISIÇÃO, ARMAÇÃO E COLOCAÇÃO (INCLUSO PERDAS) | E9: Kg | F9: 182068.97 | G9: 12.4 | H9: 2257655.2 | I9: =+H9/$G$56 -> 0.25452062 | J9: =+I9 -> 0.25452062
B10: 45135 | C10: AGETOP RODOVIARIA | D10: ESCORAMENTO PARA PONTE | E10: m³ | F10: 12009.6 | G10: 102.75 | H10: 1233986.4 | I10: =+H10/$G$56 -> 0.13911557 | J10: =+J9+I10 -> 0.39363619
B11: 42800 | C11: AGETOP RODOVIARIA | D11: GABIÕES (1,00 M) | E11: m³ | F11: 1390.5 | G11: 640.02 | H11: 889947.81 | I11: =+H11/$G$56 -> 0.10032979 | J11: =+J10+I11 -> 0.49396598
B12: 45276 | C12: AGETOP RODOVIARIA | D12: ESTACA RAIZ PERFURADA NA ROCHA - D = 40 cm | E12: m | F12: 351.6 | G12: 2213.88 | H12: 778400.2 | I12: =+H12/$G$56 -> 0.087754279 | J12: =+J11+I12 -> 0.58172026
B13: 42190 | C13: AGETOP RODOVIARIA | D13: ADMINISTRAÇÃO LOCAL - TIPO F - CONFORME DEMONSTRATIVO | E13: un | F13: 1 | G13: 588300.17 | H13: 588300.17 | I13: =+H13/$G$56 -> 0.066323026 | J13: =+J12+I13 -> 0.64804329
B14: 42810 | C14: AGETOP RODOVIARIA | D14: COLCHÕES RENO (0,23 M). (Adaptado conforme altura do colchão reno) | E14: m³ | F14: 504.62 | G14: 1037.13 | H14: 523356.54 | I14: =+H14/$G$56 -> 0.059001495 | J14: =+J13+I14 -> 0.70704478
B15: 45156 | C15: AGETOP RODOVIARIA | D15: CONCRETO USINADO BOMBEÁVEL FCK=35 MPA | E15: m³ | F15: 622.58 | G15: 713.77 | H15: 444378.92 | I15: =+H15/$G$56 -> 0.050097818 | J15: =+J14+I15 -> 0.7571426
B16: 42290 | C16: AGETOP RODOVIARIA | D16: CANTEIRO DE OBRA - TIPO F - CONFORME DEMONSTRATIVO | E16: un | F16: 1 | G16: 269605.37 | H16: 269605.37 | I16: =+H16/$G$56 -> 0.030394423 | J16: =+J15+I16 -> 0.78753702
B17: 45430 | C17: AGETOP RODOVIARIA | D17: REATERRO APILOADO DE VALAS | E17: m³ | F17: 3695.09 | G17: 67.14 | H17: 248088.33 | I17: =+H17/$G$56 -> 0.027968663 | J17: =+J16+I17 -> 0.81550569
B18: 45150 | C18: AGETOP RODOVIARIA | D18: FORMA CHAPA COMPENSADA PLASTIFICADA 17 mm - UTILIZAÇÃO 3X (CONFECÇÃO, INSTALAÇÃO E RETIRADA) | E18: m² | F18: 2493.35 | G18: 97.74 | H18: 243700.01 | I18: =+H18/$G$56 -> 0.027473938 | J18: =+J17+I18 -> 0.84297963
B19: 40317 | C19: AGETOP RODOVIARIA | D19: FORNECIMENTO DE MATERIAL DE JAZIDA (CASCALHO) | E19: m³ | F19: 11710.46 | G19: 19.11 | H19: 223786.89 | I19: =+H19/$G$56 -> 0.025228997 | J19: =+J18+I19 -> 0.86820862
B20: 42825 | C20: AGETOP RODOVIARIA | D20: DEMOLIÇÃO DE CONCRETO ARMADO | E20: m³ | F20: 174.69 | G20: 652.45 | H20: 113976.49 | I20: =+H20/$G$56 -> 0.012849334 | J20: =+J19+I20 -> 0.88105796
B21: 40455 | C21: AGETOP RODOVIARIA | D21: TRANSPORTE COMERCIAL DE AGREGADOS | E21: m3km | F21: 89636.1 | G21: 1.22 | H21: 109356.03 | I21: =+H21/$G$56 -> 0.01232844 | J21: =+J20+I21 -> 0.8933864
... B54: 40001 | C54: AGETOP RODOVIARIA | D54: DESMATAMENTO E LIMPEZA - INCLUSO DESTOCAMENTO DE ÁRVORES COM DIÂMETROS MENORES DE 15 cm | E54: m² | F54: 374.4 | G54: 0.54 | H54: 202.165 | I54: =+H54/$G$56 -> 2.2791417e-05 | J54: =+J53+I54 -> 1
E56: Total sem BDI | G56: =SUM(H9:H54) -> 8870225

Sheet BDI NORMAL (SD) 
B1: BONIFICAÇÃO DE DESPESAS INDIRETAS BDI - NORMAL SEM DESONERAÇÃO
B4: OBJETO: | C4: ='DADOS DA OBRA'!$B$13 -> Construção de ponte de concreto sobre o Rio do Peixe, na GO-479, demolição de ponte existente, transporte e destinação do entulho da demolição | N4: DATA: | O4: ='DADOS DA OBRA'!N22 -> 45681
B5: LOCAL: | C5: =+""&'DADOS DA OBRA'!$B$16&", "&'DADOS DA OBRA'!$B$19&", "&'DADOS DA OBRA'!$J$19&", "&'DADOS DA OBRA'!$P$19 -> GO-479, Zona Rural, Distrito de Lagolândia, Pirenópolis, GO | N5: REVISÃO: | O5: ='DADOS DA OBRA'!N25 -> 00
B7: Município da Obra | E7: PIRENÓPOLIS - GO
B8: Base de cálculo ISS do município | E8: 1 | F8: ISS: | G8: 0.03
C10: Descrição | F10: Valor percentual adotado
I11: O valores do BDI acima foram calculados com emprego da equação a seguir:
C12: (AC) - Administração Central | F12: 6
C13: (S) + (G) - Seguro e Garantia | F13: 0.74
C14: (R) - Risco | F14: 0.97
C15: (DF) - Despesas Financeiras | F15: 1.61
C16: (L) - Lucro | F16: 8.5
C17: (I1) - PIS | F17: 0.65
C18: (I2) - COFINS | F18: 3 | I18: *Fonte da composição, valores de referência e fórmula do BDI: Acórdão 2622/2013-TCU-Plenário
C19: (I3) - ISS | F19: 3 | I19: Onde:
C20: (I4) - Contribuição Previdenciária (CPRB) | I20: AC - taxa de rateio da Administração Central
C21: BDI Adotado | F21: =ROUNDUP((((((1+F12/100+F13/100+F14/100)*(1+F15/100)*(1+F16/100))/(1-(F17/100+F18/100+F19/100+F20/100)))-1)*100), 2) -> 27.21 | I21: DF - taxa das despesas financeiras
I22: R, S, G - taxa de risco, seguro e garantia do empreendimento
I23: I - taxa de tributos (onerado: I = COFINS+PIS+ISS / desonerado: I = COFINS+PIS+ISS+CPRB)
B24: (1) Porcentuais definidos pelo TAG TCE / GOINFRA | I24: L - taxa de lucro
B25: (2) Aliquota definida por lei (lucro presumido)
B26: (3) Aliquota definida pela lei 13.161/15 (CPRB-contribuição previdenciária sobre a receita bruta).

Sheet ENCARGOS SOCIAIS
B1: DEMONSTRATIVO DE ENCARGOS SOCIAIS
B3: OBJETO: | C3: ='DADOS DA OBRA'!$B$13 -> Construção de ponte de concreto sobre o Rio do Peixe, na GO-479, demolição de ponte existente, transporte e destinação do entulho da demolição | D3: DATA: | E3: ='DADOS DA OBRA'!N22 -> 45681
B4: LOCAL: | C4: =+""&'DADOS DA OBRA'!$B$16&", "&'DADOS DA OBRA'!$B$19&", "&'DADOS DA OBRA'!$J$19&", "&'DADOS DA OBRA'!$P$19 -> GO-479, Zona Rural, Distrito de Lagolândia, Pirenópolis, GO | D4: REVISÃO: | E4: ='DADOS DA OBRA'!N25 -> 00
B5: BASE: | C5: ='DADOS DA OBRA'!B28 -> GOINFRA CIVIL-10/2024, GOINFRA RODOVIÁRIA-10/2024, SINAPI-12/2024, SICRO3-10/2024, ORSE-11/2024.
B7: CÓDIGO | C7: DESCRIÇÃO | D7: COM DESONERAÇÃO | E7: SEM DESONERAÇÃO
D8: HORISTA % | E8: HORISTA %
B9: GRUPO A
B10: A1 | C10: INSS | D10: 0 | E10: 0.2
B11: A2 | C11: FGTS | D11: 0.08 | E11: 0.08
B12: A3 | C12: SESI | D12: 0.015 | E12: 0.015
B13: A4 | C13: SENAI | D13: 0.01 | E13: 0.01
B14: A5 | C14: INCRA | D14: 0.002 | E14: 0.002
B15: A6 | C15: Salário Educação | D15: 0.025 | E15: 0.025
B16: A7 | C16: Seguro contra acidente de trabalho INSS | D16: 0.03 | E16: 0.03
B17: A8 | C17: SEBRAE | D17: 0.006 | E17: 0.006
B18: A9 | C18: SECONCI | D18: 0.01 | E18: 0.01
B19: A | C19: Total | D19: =SUM(D10:D18) -> 0.178 | E19: =SUM(E10:E18) -> 0.378
B20: GRUPO B
B21: B1 | C21: Repouso semanal remunerado | D21: 0.1755 | E21: 0.1755
B22: B2 | C22: Feriados | D22: 0.04033 | E22: 0.0403
B23: B3 | C23: Férias e 1/3 de férias | D23: 0.122 | E23: 0.122
B24: B4 | C24: Auxílio Enfermidade | D24: 0.00934 | E24: 0.0093
B25: B5 | C25: Auxílio Acidente | D25: 0.0049 | E25: 0.0049
B26: B6 | C26: Licença Paternidade | D26: 0.0008 | E26: 0.0008
B27: B7 | C27: 13° Salário | D27: 0.0915 | E27: 0.09154
B28: B8 | C28: Faltas Justificadas | D28: 0.0073 | E28: 0.00734
B29: B | C29: Total | D29: =SUM(D21:D28) -> 0.45167 | E29: =SUM(E21:E28) -> 0.45168
B30: GRUPO C
B31: C1 | C31: Aviso Prévio Indenizado | D31: 0.059 | E31: 0.059
B32: C2 | C32: Aviso Prévio Trabalhado | D32: 0.00164 | E32: 0.00161
B33: C3 | C33: Férias Indenizadas | D33: 0.0065 | E33: 0.00652
B34: C4 | C34: Multa por Rescisão do Contrato de Trabalho sem Justa Causa | D34: 0.0352 | E34: 0.03523
B35: C5 | C35: Indenização Adicional | D35: 0.00694 | E35: 0.0069
B36: C | C36: Total | D36: =SUM(D31:D35) -> 0.10928 | E36: =SUM(E31:E35) -> 0.10926
B37: GRUPO D
B38: D1 | C38: Incidência do Grupo A sobre B | D38: 0.0804 | E38: 0.17072
B39: D2 | C39: Reincidência do Grupo A sobre Aviso Prévio Trabalhado + Reincidência do FGTS sobre Aviso Prévio Indenizado | D39: 0.005 | E39: 0.0053
B40: D | C40: Total | D40: =SUM(D38:D39) -> 0.0854 | E40: =SUM(E38:E39) -> 0.17602
B41: TOTAL(A+B+C+D) | D41: =SUM(D40,D36,D29,D19) -> 0.82435 | E41: =SUM(E40,E36,E29,E19) -> 1.11496
B42: FONTE: GOINFRA

Sheet CAPA - ORÇAMENTO (CD)
C9: ORÇAMENTO COM DESONERAÇÃO

Sheet ORÇAMENTO SINTÉTICO (CD)
B1: ORÇAMENTO SINTÉTICO COM DESONERAÇÃO
B3: OBJETO: | C3: ='CAPA - ORÇAMENTO'!D15 -> Construção de ponte de concreto sobre o Rio do Peixe, na GO-479, demolição de ponte existente, transporte e destinação do entulho da demolição | G3: DATA: | H3: ='DADOS DA OBRA'!N22 -> 45681 | K3: ENCARGOS SOCIAIS HORISTAS: | L3: ='ENCARGOS SOCIAIS'!D41 -> 0.82435
B4: LOCAL: | C4: =+'CAPA - ORÇAMENTO'!D16 -> GO-479, Zona Rural, Distrito de Lagolândia, Pirenópolis, GO | G4: REVISÃO: | H4: ='DADOS DA OBRA'!N25 -> 00 | K4: BDI OBRA: | L4: ='BDI NORMAL (CD)'!F21/100 -> 0.3365
B5: BASE: | C5: =+'DADOS DA OBRA'!B28 -> GOINFRA CIVIL-10/2024, GOINFRA RODOVIÁRIA-10/2024, SINAPI-12/2024, SICRO3-10/2024, ORSE-11/2024. | G5: PRAZO : | H5: ='DADOS DA OBRA'!B25 -> 10 MESES
B8: Item | C8: Código | D8: Banco | E8: Descrição | F8: Und | G8: Qtd | H8: Valor Unit | I8: Valor Total sem BDI | J8: BDI | K8: Valor Unit com BDI | L8: Valor Total com BDI
B9: 1 | E9: ADMINISTRAÇÃO LOCAL | I9: =SUBTOTAL(9,I10:I10) -> 514220.05 | L9: =SUBTOTAL(9,L10:L10) -> 687255.09
B10: 1.1 | C10: 42190 | D10: AGETOP RODOVIARIA | E10: ADMINISTRAÇÃO LOCAL - TIPO F - CONFORME DEMONSTRATIVO | F10: un | G10: 1 | H10: 514220.05 | I10: =TRUNC(G10 * H10, 2) -> 514220.05 | J10: =+$L$4 -> 0.3365 | K10: =TRUNC(H10 * (1 + J10), 2) -> 687255.09 | L10: =TRUNC(G10 * K10, 2) -> 687255.09
B11: 2 | E11: CANTEIRO DE OBRAS | I11: =SUBTOTAL(9,I12:I13) -> 294186.57 | L11: =SUBTOTAL(9,L12:L13) -> 393180.34
B12: 2.1 | C12: 42290 | D12: AGETOP RODOVIARIA | E12: CANTEIRO DE OBRA - TIPO F - CONFORME DEMONSTRATIVO | F12: un | G12: 1 | H12: 257615.61 | I12: =TRUNC(G12 * H12, 2) -> 257615.61 | J12: =+$L$4 -> 0.3365 | K12: =TRUNC(H12 * (1 + J12), 2) -> 344303.26 | L12: =TRUNC(G12 * K12, 2) -> 344303.26
B13: 2.2 | C13: 42301 | D13: AGETOP RODOVIARIA | E13: MOBILIZAÇÃO / DESMOBILIZAÇÃO - CONFORME DEMONSTRATIVO | F13: un | G13: 1 | H13: 36570.96 | I13: =TRUNC(G13 * H13, 2) -> 36570.96 | J13: =+$L$4 -> 0.3365 | K13: =TRUNC(H13 * (1 + J13), 2) -> 48877.08 | L13: =TRUNC(G13 * K13, 2) -> 48877.08
B14: 3 | E14: DEMOLIÇÕES E LIMPEZA | I14: =SUBTOTAL(9,I15:I20) -> 224913.92 | L14: =SUBTOTAL(9,L15:L20) -> 300420.23
B15: 3.1 | C15: 42825 | D15: AGETOP RODOVIARIA | E15: DEMOLIÇÃO DE CONCRETO ARMADO | F15: m³ | G15: 174.69 | H15: 627.02 | I15: =TRUNC(G15 * H15, 2) -> 109534.12 | J15: =+$L$4 -> 0.3365 | K15: =TRUNC(H15 * (1 + J15), 2) -> 838.01 | L15: =TRUNC(G15 * K15, 2) -> 146391.96
B16: 3.2 | C16: 40001 | D16: AGETOP RODOVIARIA | E16: DESMATAMENTO E LIMPEZA - INCLUSO DESTOCAMENTO DE ÁRVORES COM DIÂMETROS MENORES DE 15 cm | F16: m² | G16: 374.4 | H16: 0.53 | I16: =TRUNC(G16 * H16, 2) -> 198.43 | J16: =+$L$4 -> 0.3365 | K16: =TRUNC(H16 * (1 + J16), 2) -> 0.7 | L16: =TRUNC(G16 * K16, 2) -> 262.08
B17: 3.3 | C17: 40005 | D17: AGETOP RODOVIARIA | E17: CARGA DE ENTULHOS | F17: m³ | G17: 193.41 | H17: 2.45 | I17: =TRUNC(G17 * H17, 2) -> 473.85 | J17: =+$L$4 -> 0.3365 | K17: =TRUNC(H17 * (1 + J17), 2) -> 3.27 | L17: =TRUNC(G17 * K17, 2) -> 632.45
B18: 3.4 | C18: 40006 | D18: AGETOP RODOVIARIA | E18: TRANSPORTE DE ENTULHOS | F18: m3km | G18: 45343.41 | H18: 2.24 | I18: =TRUNC(G18 * H18, 2) -> 101569.23 | J18: =+$L$4 -> 0.3365 | K18: =TRUNC(H18 * (1 + J18), 2) -> 2.99 | L18: =TRUNC(G18 * K18, 2) -> 135576.79
B19: 3.5 | C19: 40145 | D19: AGETOP RODOVIARIA | E19: ESPALHAMENTO DE MATERIAL EM BOTA-FORA | F19: m³ | G19: 18.72 | H19: 1.96 | I19: =TRUNC(G19 * H19, 2) -> 36.69 | J19: =+$L$4 -> 0.3365 | K19: =TRUNC(H19 * (1 + J19), 2) -> 2.61 | L19: =TRUNC(G19 * K19, 2) -> 48.85
B20: 3.6 | C20: 10039 | D20: ORSE | E20: DESCARTE DE RESÍDUOS DA CONSTRUÇÃO CIVIL EM ÁREA LICENCIADA | F20: t | G20: 436.72 | H20: 30 | I20: =TRUNC(G20 * H20, 2) -> 13101.6 | J20: =+$L$4 -> 0.3365 | K20: =TRUNC(H20 * (1 + J20), 2) -> 40.09 | L20: =TRUNC(G20 * K20, 2) -> 17508.1
B21: 4 | E21: TERRAPLANAGEM CABECEIRA | I21: =SUBTOTAL(9,I22:I26) -> 236625.05 | L21: =SUBTOTAL(9,L22:L26) -> 316158.86
B22: 4.1 | C22: 45020 | D22: AGETOP RODOVIARIA | E22: ESCAVAÇÃO MECÂNIZADA | F22: m³ | G22: 6.29 | H22: 7.29 | I22: =TRUNC(G22 * H22, 2) -> 45.85 | J22: =+$L$4 -> 0.3365 | K22: =TRUNC(H22 * (1 + J22), 2) -> 9.74 | L22: =TRUNC(G22 * K22, 2) -> 61.26
B23: 4.2 | C23: 40317 | D23: AGETOP RODOVIARIA | E23: FORNECIMENTO DE MATERIAL DE JAZIDA (CASCALHO) | F23: m³ | G23: 8015.37 | H23: 19.11 | I23: =TRUNC(G23 * H23, 2) -> 153173.72 | J23: =+$L$4 -> 0.3365 | K23: =TRUNC(H23 * (1 + J23), 2) -> 25.54 | L23: =TRUNC(G23 * K23, 2) -> 204712.54
B24: 4.3 | C24: 40315 | D24: AGETOP RODOVIARIA | E24: ESCAVAÇÃO E CARGA DE MATERIAL DE JAZIDA | F24: m³ | G24: 8015.37 | H24: 4.08 | I24: =TRUNC(G24 * H24, 2) -> 32702.7 | J24: =+$L$4 -> 0.3365 | K24: =TRUNC(H24 * (1 + J24), 2) -> 5.45 | L24: =TRUNC(G24 * K24, 2) -> 43683.76
B25: 4.4 | C25: 40320 | D25: AGETOP RODOVIARIA | E25: TRANSPORTE DE MATERIAL DE JAZIDA (CASCALHO) | F25: m3km | G25: 5209.99 | H25: 2.48 | I25: =TRUNC(G25 * H25, 2) -> 12920.77 | J25: =+$L$4 -> 0.3365 | K25: =TRUNC(H25 * (1 + J25), 2) -> 3.31 | L25: =TRUNC(G25 * K25, 2) -> 17245.06
B26: 4.5 | C26: 40100 | D26: AGETOP RODOVIARIA | E26: COMPACTAÇÃO A 95% DO PROCTOR NORMAL | F26: m³ | G26: 8021.66 | H26: 4.71 | I26: =TRUNC(G26 * H26, 2) -> 37782.01 | J26: =+$L$4 -> 0.3365 | K26: =TRUNC(H26 * (1 + J26), 2) -> 6.29 | L26: =TRUNC(G26 * K26, 2) -> 50456.24
B27: 5 | E27: PROTEÇÃO DE MARGEM - GABIÃO E COLCHÃO RENO | I27: =SUBTOTAL(9,I28:I42) -> 2016502.9 | L27: =SUBTOTAL(9,L28:L42) -> 2694291.3
B28: 5.1 | C28: 42805 | D28: AGETOP RODOVIARIA | E28: GABIÕES (0,5 M) | F28: m³ | G28: 62 | H28: 798.4 | I28: =TRUNC(G28 * H28, 2) -> 49500.8 | J28: =+$L$4 -> 0.3365 | K28: =TRUNC(H28 * (1 + J28), 2) -> 1067.06 | L28: =TRUNC(G28 * K28, 2) -> 66157.72
B29: 5.2 | C29: 42800 | D29: AGETOP RODOVIARIA | E29: GABIÕES (1,00 M) | F29: m³ | G29: 1390.5 | H29: 623.33 | I29: =TRUNC(G29 * H29, 2) -> 866740.36 | J29: =+$L$4 -> 0.3365 | K29: =TRUNC(H29 * (1 + J29), 2) -> 833.08 | L29: =TRUNC(G29 * K29, 2) -> 1158397.7
B30: 5.3 | C30: 42810 | D30: AGETOP RODOVIARIA | E30: COLCHÕES RENO (0,23 M). (Adaptado conforme altura do colchão reno) | F30: m³ | G30: 504.62 | H30: 1019.12 | I30: =TRUNC(G30 * H30, 2) -> 514268.33 | J30: =+$L$4 -> 0.3365 | K30: =TRUNC(H30 * (1 + J30), 2) -> 1362.05 | L30: =TRUNC(G30 * K30, 2) -> 687317.67
B31: 5.4 | C31: 070229 | D31: AGETOP CIVIL | E31: ARAME GALVANIZADO 10 BWG. (Adaptado conforme modificação do insumo) | F31: Kg | G31: 1298.1 | H31: 33.97 | I31: =TRUNC(G31 * H31, 2) -> 44096.45 | J31: =+$L$4 -> 0.3365 | K31: =TRUNC(H31 * (1 + J31), 2) -> 45.4 | L31: =TRUNC(G31 * K31, 2) -> 58933.74
B32: 5.5 | C32: 45575 | D32: AGETOP RODOVIARIA | E32: GEOTEXTIL - BIDIM RT-16 OU EQUIVALENTE | F32: m² | G32: 3418 | H32: 8.89 | I32: =TRUNC(G32 * H32, 2) -> 30386.02 | J32: =+$L$4 -> 0.3365 | K32: =TRUNC(H32 * (1 + J32), 2) -> 11.88 | L32: =TRUNC(G32 * K32, 2) -> 40605.84
B33: 5.6 | C33: 45020 | D33: AGETOP RODOVIARIA | E33: ESCAVAÇÃO MECÂNIZADA | F33: m³ | G33: 3866.48 | H33: 7.29 | I33: =TRUNC(G33 * H33, 2) -> 28186.63 | J33: =+$L$4 -> 0.3365 | K33: =TRUNC(H33 * (1 + J33), 2) -> 9.74 | L33: =TRUNC(G33 * K33, 2) -> 37659.51
B34: 5.7 | C34: 41293 | D34: AGETOP RODOVIARIA | E34: APILOAMENTO MANUAL | F34: m² | G34: 1068.45 | H34: 4.52 | I34: =TRUNC(G34 * H34, 2) -> 4829.39 | J34: =+$L$4 -> 0.3365 | K34: =TRUNC(H34 * (1 + J34), 2) -> 6.04 | L34: =TRUNC(G34 * K34, 2) -> 6453.43
B35: 5.8 | C35: 40455 | D35: AGETOP RODOVIARIA | E35: TRANSPORTE COMERCIAL DE AGREGADOS | F35: m3km | G35: 89636.1 | H35: 1.21 | I35: =TRUNC(G35 * H35, 2) -> 108459.68 | J35: =+$L$4 -> 0.3365 | K35: =TRUNC(H35 * (1 + J35), 2) -> 1.61 | L35: =TRUNC(G35 * K35, 2) -> 144314.12
B36: 5.9 | C36: 40317 | D36: AGETOP RODOVIARIA | E36: FORNECIMENTO DE MATERIAL DE JAZIDA (CASCALHO) | F36: m³ | G36: 3695.09 | H36: 19.11 | I36: =TRUNC(G36 * H36, 2) -> 70613.16 | J36: =+$L$4 -> 0.3365 | K36: =TRUNC(H36 * (1 + J36), 2) -> 25.54 | L36: =TRUNC(G36 * K36, 2) -> 94372.59
B37: 5.10 | C37: 40315 | D37: AGETOP RODOVIARIA | E37: ESCAVAÇÃO E CARGA DE MATERIAL DE JAZIDA | F37: m³ | G37: 3695.09 | H37: 4.08 | I37: =TRUNC(G37 * H37, 2) -> 15075.96 | J37: =+$L$4 -> 0.3365 | K37: =TRUNC(H37 * (1 + J37), 2) -> 5.45 | L37: =TRUNC(G37 * K37, 2) -> 20138.24
B38: 5.11 | C38: 40320 | D38: AGETOP RODOVIARIA | E38: TRANSPORTE DE MATERIAL DE JAZIDA (CASCALHO) | F38: m3km | G38: 2401.81 | H38: 2.48 | I38: =TRUNC(G38 * H38, 2) -> 5956.48 | J38: =+$L$4 -> 0.3365 | K38: =TRUNC(H38 * (1 + J38), 2) -> 3.31 | L38: =TRUNC(G38 * K38, 2) -> 7949.99
B39: 5.12 | C39: 45430 | D39: AGETOP RODOVIARIA | E39: REATERRO APILOADO DE VALAS | F39: m³ | G39: 3695.09 | H39: 61.22 | I39: =TRUNC(G39 * H39, 2) -> 226213.4 | J39: =+$L$4 -> 0.3365 | K39: =TRUNC(H39 * (1 + J39), 2) -> 81.82 | L39: =TRUNC(G39 * K39, 2) -> 302332.26
... B42: 5.15 | C42: 40145 | D42: AGETOP RODOVIARIA | E42: ESPALHAMENTO DE MATERIAL EM BOTA-FORA | F42: m³ | G42: 3866.48 | H42: 1.96 | I42: =TRUNC(G42 * H42, 2) -> 7578.3 | J42: =+$L$4 -> 0.3365 | K42: =TRUNC(H42 * (1 + J42), 2) -> 2.61 | L42: =TRUNC(G42 * K42, 2) -> 10091.51
B43: 6 | E43: FUNDAÇÕES | I43: =SUBTOTAL(9,I44:I62) -> 1156790.7 | L43: =SUBTOTAL(9,L44:L62) -> 1546014.4
B44: 6.1 | E44: ESTACAS | I44: =SUBTOTAL(9,I45:I51) -> 904531.24 | L44: =SUBTOTAL(9,L45:L51) -> 1208889.8
B45: 6.1.1 | C45: 45266 | D45: AGETOP RODOVIARIA | E45: ESTACA RAIZ PERFURADA NO SOLO - D = 40 cm | F45: m | G45: 186 | H45: 260.67 | I45: =TRUNC(G45 * H45, 2) -> 48484.62 | J45: =+$L$4 -> 0.3365 | K45: =TRUNC(H45 * (1 + J45), 2) -> 348.38 | L45: =TRUNC(G45 * K45, 2) -> 64798.68
...

Sheet BDI NORMAL (CD)
B1: BONIFICAÇÃO DE DESPESAS INDIRETAS BDI - NORMAL COM DESONERAÇÃO
B4: OBJETO: | C4: ='DADOS DA OBRA'!$B$13 -> Construção de ponte de concreto sobre o Rio do Peixe, na GO-479, demolição de ponte existente, transporte e destinação do entulho da demolição | N4: DATA: | O4: ='DADOS DA OBRA'!N22 -> 45681
B5: LOCAL: | C5: =+""&'DADOS DA OBRA'!$B$16&", "&'DADOS DA OBRA'!$B$19&", "&'DADOS DA OBRA'!$J$19&", "&'DADOS DA OBRA'!$P$19 -> GO-479, Zona Rural, Distrito de Lagolândia, Pirenópolis, GO | N5: REVISÃO: | O5: ='DADOS DA OBRA'!N25 -> 00
B7: Município da Obra | E7: PIRENÓPOLIS - GO
B8: Base de cálculo ISS do município | E8: 1 | F8: ISS: | G8: 0.03
C10: Descrição | F10: Valor percentual adotado
I11: O valores do BDI acima foram calculados com emprego da equação a seguir:
C12: (AC) - Administração Central | F12: 6
C13: (S) + (G) - Seguro e Garantia | F13: 0.74
C14: (R) - Risco | F14: 0.97
C15: (DF) - Despesas Financeiras | F15: 1.61
C16: (L) - Lucro | F16: 8.5
C17: (I1) - PIS | F17: 0.65
C18: (I2) - COFINS | F18: 3 | I18: *Fonte da composição, valores de referência e fórmula do BDI: Acórdão 2622/2013-TCU-Plenário
C19: (I3) - ISS | F19: 3 | I19: Onde:
C20: (I4) - Contribuição Previdenciária (CPRB) | F20: 4.5 | I20: AC - taxa de rateio da Administração Central
C21: BDI Adotado | F21: =ROUNDUP((((((1+F12/100+F13/100+F14/100)*(1+F15/100)*(1+F16/100))/(1-(F17/100+F18/100+F19/100+F20/100)))-1)*100), 2) -> 33.65 | I21: DF - taxa das despesas financeiras
I22: R, S, G - taxa de risco, seguro e garantia do empreendimento
I23: I - taxa de tributos (onerado: I = COFINS+PIS+ISS / desonerado: I = COFINS+PIS+ISS+CPRB)
B24: (1) Porcentuais definidos pelo TAG TCE / GOINFRA | I24: L - taxa de lucro
B25: (2) Aliquota definida por lei (lucro presumido)
B26: (3) Aliquota definida pela lei 13.161/15 (CPRB-contribuição previdenciária sobre a receita bruta).

Sheet CAPA - MEMORIAL DE CÁLCULO
C9: MEMORIAL DE CÁLCULO E LEVANTAMENTOS

Sheet ADMINISTRAÇÃO LOCAL (SD)
A1: MEMORIAL DE CÁLCULO
B4: OBJETO: | C4: ='DADOS DA OBRA'!B13 -> Construção de ponte de concreto sobre o Rio do Peixe, na GO-479, demolição de ponte existente, transporte e destinação do entulho da demolição | J4: DATA: | K4: ='CAPA - ORÇAMENTO'!$D$17 -> 45681
B5: LOCAL: | C5: ='CAPA - ORÇAMENTO'!D16 -> GO-479, Zona Rural, Distrito de Lagolândia, Pirenópolis, GO | J5: REVISÃO: | K5: ='DADOS DA OBRA'!$N$25 -> 00
B6: SERVIÇOS: | C6: ADMINISTRAÇÃO LOCAL - SEM DESONERAÇÃO
D8: ADMINISTRAÇÃO - 10 MESES
D9: DESCRIÇÃO | E9: UNIDADE | F9: CUSTO UNITÁRIO | G9: FAIXA F (INTERVENÇOES PONTUAIS)
G10: QUANTIDADE | H10: CUSTO TOTAL
D11: DIVISÃO DE ENGENHARIA
D12: Coordenador / Gestor de Contrato (Eng. Sênior) | E12: mês | F12: 30312.54 | G12: 0 | H12: =G12*F12 -> 0
D13: Gestor do Contrato (Eng. Pleno ) | E13: mês | F13: 23299.65 | G13: 0 | H13: =G13*F13 -> 0
D14: Engenheiro de Produção / Civil (Eng. Júnior) | E14: mês | F14: 20904.54 | G14: 10 | H14: =G14*F14 -> 209045.4
D15: Sala Técnica (Técnico Estradas) | E15: mês | F15: 5085.3 | G15: 0 | H15: =G15*F15 -> 0
D16: Encarregado de Topografia / Topógrafo Chefe | E16: mês | F16: 7518.74 | G16: 0 | H16: =G16*F16 -> 0
D17: Topógrafo | E17: mês | F17: 6001.19 | G17: 2 | H17: =G17*F17 -> 12002.38
D18: Auxiliar de Topografia | E18: mês | F18: 2487.08 | G18: 4 | H18: =G18*F18 -> 9948.32
D19: Laboratorista de Solos | E19: mês | F19: 6001.19 | G19: 0 | H19: =G19*F19 -> 0
D20: Laboratorista de Betumes | E20: mês | F20: 6001.19 | G20: 0 | H20: =G20*F20 -> 0
D21: Laboratorista de Concretos | E21: mês | F21: 6001.19 | G21: 0 | H21: =G21*F21 -> 0
D22: Auxiliar de Laboratorista | E22: mês | F22: 2487.08 | G22: 0 | H22: =G22*F22 -> 0
D23: DIVISÃO DE SEGURANÇA E MEDICINA DO TRABALHO
D24: Engenheiro de Segurança do Trabalho | E24: mês | F24: 23299.65 | G24: 0 | H24: =G24*F24 -> 0
D25: Médico de Segurança do Trabalho | E25: mês | F25: 16993.51 | G25: 0 | H25: =G25*F25 -> 0
D26: Técnico de Segurança do Trabalho | E26: mês | F26: 5457.02 | G26: 20 | H26: =G26*F26 -> 109140.4
D27: DIVISÃO DE PRODUÇÃO
D28: Encarregado Geral | E28: mês | F28: 7518.74 | G28: 10 | H28: =G28*F28 -> 75187.4
D29: Motorista | E29: mês | F29: 3483.45 | G29: 6 | H29: =G29*F29 -> 20900.7
D30: DIVISÃO ADMINISTRATIVA
D31: Encarregado Administrativo | E31: mês | F31: 4326.53 | G31: 0 | H31: =G31*F31 -> 0
D32: Auxiliar Administrativo | E32: mês | F32: 2943.11 | G32: 0 | H32: =G32*F32 -> 0
D33: Almoxarife / Apontador / Comprador | E33: mês | F33: 6254.12 | G33: 9 | H33: =G33*F33 -> 56287.08
D34: Recepcionista / Telefonista | E34: mês | F34: 2943.11 | G34: 0 | H34: =G34*F34 -> 0
D35: Vigia | E35: mês | F35: 2552.23 | G35: 20 | H35: =G35*F35 -> 51044.6
D36: MANUTENÇÃO DO CANTEIRO
D37: Material de Expediente / Cópias / Impressões | E37: mês | F37: 200 | G37: 10 | H37: =G37*F37 -> 2000
D38: Medicamentos | E38: mês | F38: 50 | G38: 10 | H38: =G38*F38 -> 500
D39: VEÍCULOS DA ADMINISTRAÇÃO
D40: Veículos Leves (incluso combustível) | E40: mês | F40: 3209.96 | G40: 6 | H40: =G40*F40 -> 19259.76
D41: EQUIPAMENTOS INDIRETOS
D42: Equipamentos de Laboratório de Solos | E42: mês | F42: 3594.35 | G42: 0 | H42: =G42*F42 -> 0
D43: Equipamentos de Laboratório de Asfalto | E43: mês | F43: 5426.64 | G43: 0 | H43: =G43*F43 -> 0
...

Sheet ADMINISTRAÇÃO LOCAL (CD)
A1: MEMORIAL DE CÁLCULO
B4: OBJETO: | C4: ='DADOS DA OBRA'!B13 -> Construção de ponte de concreto sobre o Rio do Peixe, na GO-479, demolição de ponte existente, transporte e destinação do entulho da demolição | J4: DATA: | K4: ='CAPA - ORÇAMENTO'!$D$17 -> 45681
B5: LOCAL: | C5: ='ADMINISTRAÇÃO LOCAL (SD)'!C5 -> GO-479, Zona Rural, Distrito de Lagolândia, Pirenópolis, GO | J5: REVISÃO: | K5: ='DADOS DA OBRA'!$N$25 -> 00
B6: SERVIÇOS: | C6: ADMINISTRAÇÃO LOCAL - COM DESONERAÇÃO
D8: ADMINISTRAÇÃO - 10 MESES
D9: DESCRIÇÃO | E9: UNIDADE | F9: CUSTO UNITÁRIO | G9: FAIXA F (INTERVENÇOES PONTUAIS)
G10: QUANTIDADE | H10: CUSTO TOTAL
D11: DIVISÃO DE ENGENHARIA
D12: Coordenador / Gestor de Contrato (Eng. Sênior) | E12: mês | F12: 26181.31 | H12: =F12*G12 -> 0
D13: Gestor do Contrato (Eng. Pleno ) | E13: mês | F13: 20124.19 | G13: 0 | H13: =G13*F13 -> 0
D14: Engenheiro de Produção / Civil (Eng. Júnior) | E14: mês | F14: 18055.5 | G14: 10 | H14: =G14*F14 -> 180555
D15: Sala Técnica (Técnico Estradas) | E15: mês | F15: 4392.24 | G15: 0 | H15: =G15*F15 -> 0
