Workbook

Sheet GRÁFICOS
A1: #VALUE! | C1: SECRETARIA DE ESTADO DE INFRAESTRUTURA | G1: CONFERÊNCIA
C2: GEPPI - GERÊNCIA DE PLANEJAMENTO E PROGRAMAÇÃO DE INVESTIMENTOS | G2: Nº XX/XXXX
C3: CHECKLIST - CONFERÊNCIA DE PROJETOS | G3: DATA:
C4: RESUMO GRÁFICO
A6: IDENTIFICAÇÃO
A7: Objeto:
A8: Rodovia/Trecho:
A9: Complemento: | D9: Extensão:
A10: Licitação:
A11: Contratada:
A13: DOCUMENTOS DE ANÁLISE
A15: Data de entrega: | D15: Versão:
H36: u
I106: Tabela Resumo - Total
I109: Atende | J109: =VOLUMES_APRESENTAÇÃO!I6+TRÁFEGO!I6+EST_TOPOGRAFICOS!I6+PROJ_TOPOGRAFICOS!I6+HIDROLÓGICO!I6+GEOLÓGICOS!I6+GEOTÉCNICO!I6+EST_E_PROJ_DESAPROPRIAÇÃO!I6+AMBIENTAL!I6+ENSAIOS_REABILIT_RESTAURAÇ!I6+GEOMÉTRICO!I6+TERRAPLANAGEM!I6+PAVIMENTAÇÃO!I6+PROJ_REABIL!I6+PROJ_RESTAUR!I6+DRENAGEM!I6+SINALIZAÇÃO!I6+OAE!I6+OAC!I6+PAISAGISMO!I6+ILUMINAÇÃO!I6+PLANEJAMENTO!I6 -> 189 | K109: =J109/$J$113 -> 0.13394755
I110: Atende Parcialmente | J110: =VOLUMES_APRESENTAÇÃO!I7+TRÁFEGO!I7+EST_TOPOGRAFICOS!I7+PROJ_TOPOGRAFICOS!I7+HIDROLÓGICO!I7+GEOLÓGICOS!I7+GEOTÉCNICO!I7+EST_E_PROJ_DESAPROPRIAÇÃO!I7+AMBIENTAL!I7+ENSAIOS_REABILIT_RESTAURAÇ!I7+GEOMÉTRICO!I7+TERRAPLANAGEM!I7+PAVIMENTAÇÃO!I7+PROJ_REABIL!I7+PROJ_RESTAUR!I7+DRENAGEM!I7+SINALIZAÇÃO!I7+OAE!I7+OAC!I7+PAISAGISMO!I7+ILUMINAÇÃO!I7+PLANEJAMENTO!I7 -> 947 | K110: =J110/$J$113 -> 0.67115521
I111: Não Atende | J111: =VOLUMES_APRESENTAÇÃO!I8+TRÁFEGO!I8+EST_TOPOGRAFICOS!I8+PROJ_TOPOGRAFICOS!I8+HIDROLÓGICO!I8+GEOLÓGICOS!I8+GEOTÉCNICO!I8+EST_E_PROJ_DESAPROPRIAÇÃO!I8+AMBIENTAL!I8+ENSAIOS_REABILIT_RESTAURAÇ!I8+GEOMÉTRICO!I8+TERRAPLANAGEM!I8+PAVIMENTAÇÃO!I8+PROJ_REABIL!I8+PROJ_RESTAUR!I8+DRENAGEM!I8+SINALIZAÇÃO!I8+OAE!I8+OAC!I8+PAISAGISMO!I8+ILUMINAÇÃO!I8+PLANEJAMENTO!I8 -> 180 | K111: =J111/$J$113 -> 0.1275691
I112: Não Se Aplica | J112: =VOLUMES_APRESENTAÇÃO!I9+TRÁFEGO!I9+EST_TOPOGRAFICOS!I9+PROJ_TOPOGRAFICOS!I9+HIDROLÓGICO!I9+GEOLÓGICOS!I9+GEOTÉCNICO!I9+EST_E_PROJ_DESAPROPRIAÇÃO!I9+AMBIENTAL!I9+ENSAIOS_REABILIT_RESTAURAÇ!I9+GEOMÉTRICO!I9+TERRAPLANAGEM!I9+PAVIMENTAÇÃO!I9+PROJ_REABIL!I9+PROJ_RESTAUR!I9+DRENAGEM!I9+SINALIZAÇÃO!I9+OAE!I9+OAC!I9+PAISAGISMO!I9+ILUMINAÇÃO!I9+PLANEJAMENTO!I9 -> 95 | K112: =J112/$J$113 -> 0.067328136
J113: =VOLUMES_APRESENTAÇÃO!I10+TRÁFEGO!I10+EST_TOPOGRAFICOS!I10+PROJ_TOPOGRAFICOS!I10+HIDROLÓGICO!I10+GEOLÓGICOS!I10+GEOTÉCNICO!I10+EST_E_PROJ_DESAPROPRIAÇÃO!I10+AMBIENTAL!I10+ENSAIOS_REABILIT_RESTAURAÇ!I10+GEOMÉTRICO!I10+TERRAPLANAGEM!I10+PAVIMENTAÇÃO!I10+PROJ_REABIL!I10+PROJ_RESTAUR!I10+DRENAGEM!I10+SINALIZAÇÃO!I10+OAE!I10+OAC!I10+PAISAGISMO!I10+ILUMINAÇÃO!I10+PLANEJAMENTO!I10 -> 1411 | K113: =J113/$J$113 -> 1
J115: =J109+J110+J111+J112 -> 1411

Sheet VOLUMES_APRESENTAÇÃO
A1: #VALUE! | C1: SECRETARIA DE ESTADO DE INFRAESTRUTURA | F1: CONFERÊNCIA
C2: GEPPI - GERÊNCIA DE PLANEJAMENTO E PROGRAMAÇÃO DE INVESTIMENTOS | F2: Nº XX/XXXX
C3: CHECKLIST - CONFERÊNCIA DE PROJETOS | F3: DATA: | H3: Tabela Resumo
C4: DOCUMENTOS GERAIS
A6: IDENTIFICAÇÃO | H6: Atende | I6: =COUNTIF(D$1:$D$209,"Atende") -> 12 | J6: =I6/$I$10 -> 0.63157895
A7: Objeto: | H7: Atende Parcialmente | I7: =COUNTIF(D$1:$D$209,"Atende Parcialmente") -> 3 | J7: =I7/$I$10 -> 0.15789474
A8: Rodovia/Trecho: | H8: Não Atende | I8: =COUNTIF(D$1:$D$209,"Não Atende") -> 3 | J8: =I8/$I$10 -> 0.15789474
A9: Complemento: | D9: Extensão: | H9: Não Se Aplica | I9: =COUNTIF(D$1:$D$209,"Não Se Aplica") -> 1 | J9: =I9/$I$10 -> 0.052631579
A10: Licitação: | I10: =SUM(I6:I9) -> 19 | J10: =I10/$I$10 -> 1
A11: Contratada:
A13: DOCUMENTOS DE ANÁLISE
A15: Documento entregue:
A16: Data de entrega: | D16: Versão:
A17: ENTREGA | E17: FORMATO | F17: OBSERVAÇÕES
A18: Os arquivos digitais foram entregues em mídia convencionais, como CD, pendrive, HD externo ou transferência remota registrada por e-mail ou protocolada nas DUAS VERSÕES:
A19: 1 | B19: - não editável (PDF) ? | D19: Atende
A20: 2 | B20: - editável de acordo com cada tipo (.doc, .xls, .dwg, etc) ? | D20: Atende
A21: ITEM | B21: REFERÊNCIA | C21: QUESITO | E21: VOLUME/PÁGINA | F21: OBSERVAÇÕES
A22: 3 | C22: O conteúdo apresentado compreende todo o objeto previsto pelo Guia? | D22: Atende Parcialmente
A23: =A22+1 -> 4 | C23: As nomenclaturas dos volumes entregues estão conforme as exigências? | D23: Não Se Aplica
A24: =A23+1 -> 5 | B24: DNIT | C24: O mapa de localização da obra foi apresentado? | D24: Não Atende
A25: =A24+1 -> 6 | B25: DNIT | C25: Foi apresentada a Anotação de Responsabilidade Técnica (ART) do profissional responsável pelos estudos e projetos? | D25: Não Atende
A26: =A25+1 -> 7 | B26: DNIT | C26: Foi apresentada a Declaração de Responsabilidade Técnica pelos estudos e projetos? | D26: Não Atende
A27: =A26+1 -> 8 | C27: Os carimbos dos projetos possuem data, com no mínimo a informação de mês/ano? | D27: Atende
A28: =A27+1 -> 9 | C28: Os carimbos dos projetos possuem número da respectiva ART? | D28: Atende Parcialmente
A29: =A28+1 -> 10 | C29: Atende a entrega por Volumes pré-definida? | D29: Atende Parcialmente
A30: =A29+1 -> 11 | C30: Os documentos entregues estão organizados de acordo com a sequência estabelecida pelo Manual? | D30: Atende
A31: =A30+1 -> 12 | C31: Os documentos entregues estão legíveis e apresentam qualidade gráfica adequada? | D31: Atende
A32: =A31+1 -> 13 | C32: Os documentos possuem a assinatura e identificação dos responsáveis técnicos? | D32: Atende
A33: =A32+1 -> 14 | C33: Os arquivos digitais foram entregues em formato compatível com as exigências? | D33: Atende
A34: =A33+1 -> 15 | C34: As tabelas, gráficos e informações quantitativas estão devidamente referenciados? | D34: Atende
A35: =A34+1 -> 16 | C35: Os relatórios possuem índice e numeração de páginas? | D35: Atende
A36: =A35+1 -> 17 | C36: Os projetos possuem as escalas corretas e indicadas de forma clara? | D36: Atende
A37: =A36+1 -> 18 | C37: Os documentos estão assinados, incluindo a versão do projeto? | D37: Atende
A38: =A37+1 -> 19 | C38: Os desenhos em formato CAD (DWG) possuem layers organizados e devidamente rotulados? | D38: Atende
E41: Conferente: ___________________________________

Sheet TRÁFEGO
A1: #VALUE! | C1: SEINFRA | F1: CONFERÊNCIA
C2: GEPPI - GERÊNCIA DE PLANEJAMENTO E PROGRAMAÇÃO DE INVESTIMENTOS | F2: Nº XX/XXXX
C3: CHECKLIST - CONFERÊNCIA DE PROJETOS | F3: DATA: | H3: Tabela Resumo
C4: ESTUDOS DE TRÁFEGO
A6: IDENTIFICAÇÃO | H6: Atende | I6: =COUNTIF(D$1:$D$200,"Atende") -> 2 | J6: =I6/$I$10 -> 0.047619048
A7: Objeto: | H7: Atende Parcialmente | I7: =COUNTIF(D$1:$D$200,"Atende Parcialmente") -> 34 | J7: =I7/$I$10 -> 0.80952381
A8: Rodovia/Trecho: | H8: Não Atende | I8: =COUNTIF(D$1:$D$200,"Não Atende") -> 2 | J8: =I8/$I$10 -> 0.047619048
A9: Complemento: | D9: Extensão: | H9: Não Se Aplica | I9: =COUNTIF(D$1:$D$200,"Não Se Aplica") -> 4 | J9: =I9/$I$10 -> 0.095238095
A10: Licitação: | I10: =SUM(I6:I9) -> 42 | J10: =I10/$I$10 -> 1
A11: Contratada:
A13: DOCUMENTOS DE ANÁLISE
A15: Documento entregue:
A16: Data de entrega: | D16: Versão:
A17: ENTREGA | E17: FORMATO | F17: OBSERVAÇÕES
A18: Os arquivos digitais foram entregues em mídia convencionais, como CD, pendrive, HD externo ou transferência remota registrada por e-mail ou protocolada nas DUAS VERSÕES:
A19: 1 | B19: - não editável (PDF) ? | D19: Atende Parcialmente
A20: 2 | B20: - editável de acordo com cada tipo (.doc, .xls, .dwg, etc) ? | D20: Atende Parcialmente
A21: ITEM | B21: REFERÊNCIA | C21: QUESITO | E21: VOLUME/PÁGINA | F21: OBSERVAÇÕES
B23: IP-05 (5.2) | C23: Em relação ao Estudo realizado, foi apresentado:
A24: 3 | C24: - texto contendo metodologia utilizada? | D24: Atende Parcialmente
A25: 4 | C25: - texto contendo memória descritiva? | D25: Atende Parcialmente
A26: =A25+1 -> 5 | C26: - planilhas contendo as memórias de cálculo? | D26: Atende Parcialmente
A27: =A26+1 -> 6 | C27: - quadros, gráficos e figuras? | D27: Atende Parcialmente
A28: =A27+1 -> 7 | B28: IP-05 (4.1) | C28: - Estabelecimento das regiões de influência direta da rodovia, com a definição das zonas de tráfego, conforme item 4.1 da IP-05? | D28: Atende Parcialmente
A29: =A28+1 -> 8 | B29: IP-05 (4.2) | C29: - Coleta de dados de tráfego existentes, conforme item 4.2 da IP-05? | D29: Atende Parcialmente
B30: IP-05 (4.3) | C30: Com relação aos dados complementares apresentados da região, de acordo com item 4.3 da IP-05:
A31: 9 | B31: IP-05 (4.3 a) | C31: - dados sócio-econômicos ? | D31: Atende Parcialmente
A32: =A31+1 -> 10 | B32: IP-05 (4.3 b) | C32: - polos geradores de Tráfego? | D32: Atende Parcialmente
A33: =A32+1 -> 11 | B33: IP-05 (4.3 c) | C33: - sistemas modais distintos? | D33: Atende Parcialmente
B34: IP-05 (4.b) | C34: Com relação ao item 4.b (Coleta de dados Atuais), da IP-05:
A35: 12 | B35: DNIT | C35: - Foram apresentadas as silhuetas de veículos conforme portaria vigente do DENATRAN/DNIT? | D35: Atende Parcialmente
A36: =A35+1 -> 13 | C36: - Foi apresentada no mínimo 2 (duas) fotos (Modelo 1.0) do posto de contagem georeferenciadas e datadas, a legenda deve informar do que se trata a foto com identificação da rodovia/cidade? | D36: Atende
A37: =A36+1 -> 14 | C37: - Foi apresentado vídeo contendo integralmente a pesquisa de tráfego realizada? | D37: Atende Parcialmente
A38: =A37+1 -> 15 | C38: - Os dados da contagem de tráfego estão em conformidade com o arquivo de vídeo? | D38: Atende Parcialmente
A39: =A38+1 -> 16 | C39: - Foi apresentado mapa ou croqui com indicação dos postos de contagem identificados com coordenadas? | D39: Não Atende
A40: =A39+1 -> 17 | B40: DNIT | C40: - Foram apresentados dados de coleta em cada zona de trafégo, possuindo a contagem volumétrica classificatória, pelo período minímo de 3 dias ou 72 horas ininterruptas? | D40: Atende Parcialmente
A41: =A40+1 -> 18 | B41: DNIT | C41: - Houve a necessidade da realização de contagem volumétrica, classificatória e direcional por 3 dias durantes 72 horas na interseções? | D41: Atende Parcialmente
A42: =A41+1 -> 19 | B42: DNIT | C42: - Foram apresentadas planilhas de contagem contendo datas com seus respectivos períodos de coleta realizado? | D42: Atende Parcialmente
A43: =A42+1 -> 20 | B43: DNIT | C43: Foram apresentados as correções sazonais dos dados processados, com as devidas justificativas? | D43: Atende Parcialmente
A44: =A43+1 -> 21 | B44: IP-05 (4.5) | C44: Foram apresentadas as determinações das taxas de crescimento, conforme item 4.5 da IP-05? | D44: Atende Parcialmente
...

Sheet EST_TOPOGRAFICOS
A1: #VALUE! | C1: SEINFRA | F1: CONFERÊNCIA
C2: GEPPI - GERÊNCIA DE PLANEJAMENTO E PROGRAMAÇÃO DE INVESTIMENTOS | F2: Nº XX/XXXX
C3: CHECKLIST - CONFERÊNCIA DE PROJETOS | F3: DATA: | H3: Tabela Resumo
C4: ESTUDOS TOPOGRÁFICOS
A6: IDENTIFICAÇÃO | H6: Atende | I6: =COUNTIF(D$1:$D$200,"Atende") -> 8 | J6: =I6/$I$10 -> 0.17021277
A7: Objeto: | H7: Atende Parcialmente | I7: =COUNTIF(D$1:$D$200,"Atende Parcialmente") -> 15 | J7: =I7/$I$10 -> 0.31914894
A8: Rodovia/Trecho: | H8: Não Atende | I8: =COUNTIF(D$1:$D$200,"Não Atende") -> 21 | J8: =I8/$I$10 -> 0.44680851
A9: Complemento: | D9: Extensão: | H9: Não Se Aplica | I9: =COUNTIF(D$1:$D$200,"Não Se Aplica") -> 3 | J9: =I9/$I$10 -> 0.063829787
A10: Licitação: | I10: =SUM(I6:I9) -> 47 | J10: =I10/$I$10 -> 1
A11: Contratada:
A13: DOCUMENTOS DE ANÁLISE
A15: Documento entregue:
A16: Data de entrega: | D16: Versão:
A17: ENTREGA | E17: FORMATO | F17: OBSERVAÇÕES
A18: Os arquivos digitais foram entregues em mídia convencionais, como CD, pendrive, HD externo ou transferência remota registrada por e-mail ou protocolada nas DUAS VERSÕES:
A19: 1 | B19: - não editável (PDF) ? | D19: Atende
A20: 2 | B20: - editável de acordo com cada tipo (.doc, .xls, .dwg, etc) ? | D20: Atende Parcialmente
A21: ITEM | B21: REFERÊNCIA | C21: QUESITO | E21: VOLUME/PÁGINA | F21: OBSERVAÇÕES
B22: IP-02 (5.1) | C22: Em relação ao Estudo realizado, foi apresentado:
A23: 3 | C23: - texto contendo memória descritiva e metodologia utilizada? | D23: Atende Parcialmente
A24: =A23+1 -> 4 | C24: - planilhas contendo as memórias de cálculo? | D24: Não Atende
A25: =A24+1 -> 5 | C25: - desenhos, quadros, gráficos e figuras? | D25: Não Se Aplica
A26: =A25+1 -> 6 | C26: Descrições dos equipamentos, aparelhos e softwares utilizados nos levantamentos e processamentos de dados, incluindo suas especificações técnicas? | D26: Não Atende
A27: =A26+1 -> 7 | C27: Em relação ao item anterior, foram apresentadas fotos georreferenciadas da utilização dos aparelhos e equipamentos nos levantamentos em campo? | D27: Atende
A28: =A27+1 -> 8 | C28: Foram apresentados certificados comprovando a calibração e bom funcionamento dos aparelhos e equipamentos utilizados? | D28: Atende Parcialmente
C29: Com relação ao traçado, foram apresentados:
A30: 9 | C30: - estudos com no mínimo 3 (três) concepções de traçado? | D30: Atende Parcialmente
A31: =A30+1 -> 10 | C31: - justificativa da alternativa do traçado escolhido? | D31: Não Se Aplica
A32: =A31+1 -> 11 | C32: Foi delimitada a Faixa domínio para levantamento da área em volta da diretriz escolhida? | D32: Não Atende
A33: =A32+1 -> 12 | C33: Foi apresentados o cálculo de fechamento da poligonal principal e das de apoio, utilizadas como base no levantamento planialtimétrico e na implantação do alinhamento escolhido? | D33: Não Atende
A34: =A33+1 -> 13 | C34: Com relação as coordenadas dos Marcos/RNs e de todos os outros pontos levantados, foram apresentados: | D34: Atende
A35: =A34+1 -> 14 | C35: - no plano topográfico local? | D35: Atende Parcialmente
A36: =A35+1 -> 15 | C36: - geodésico geográfico? | D36: Não Atende
A37: =A36+1 -> 16 | C37: - cartográfico UTM? | D37: Atende Parcialmente
A38: =A37+1 -> 17 | C38: Apresentação das altitudes geométricas e Normais dos Marcos/RNs e de todos os outros pontos levantados, conforme rede de nivelamento geométrico do IBGE? | D38: Atende
A39: =A38+1 -> 18 | C39: Apresentação das distâncias e ângulos que definem a diretriz aprovada? | D39: Atende Parcialmente
A40: =A39+1 -> 19 | C40: Relação completa dos Marcos/RNs implantados e suas localizações? | D40: Não Atende
A41: =A40+1 -> 20 | C41: Fotos georreferenciadas de todos os Marcos/RNs implantados? | D41: Atende
A42: =A41+1 -> 21 | C42: A Malha TIN 3D da superfície primitiva apresenta densidade de pontos com no mínimo 11 pontos por seção transversal na largura da faixa de domínio, com afastamento máximo de 20m entre as seções. | D42: Atende
A43: =A42+1 -> 22 | C43: Declaração da projetista de que editou a Malha TIN 3D da superfície primitiva, corrigindo erro na triangulação, entre os pontos, feita pelo software. | D43: Atende Parcialmente
...

Sheet PROJ_TOPOGRAFICOS
A1: #VALUE! | C1: SEINFRA | F1: CONFERÊNCIA
C2: GEPPI - GERÊNCIA DE PLANEJAMENTO E PROGRAMAÇÃO DE INVESTIMENTOS | F2: Nº XX/XXXX
C3: CHECKLIST - CONFERÊNCIA DE PROJETOS | F3: DATA: | H3: Tabela Resumo
C4: PROJETO TOPOGRÁFICO
A6: IDENTIFICAÇÃO | H6: Atende | I6: =COUNTIF(D$1:$D$200,"Atende") -> 5 | J6: =I6/$I$10 -> 0.13513514
A7: Objeto: | H7: Atende Parcialmente | I7: =COUNTIF(D$1:$D$200,"Atende Parcialmente") -> 24 | J7: =I7/$I$10 -> 0.64864865
A8: Rodovia/Trecho: | H8: Não Atende | I8: =COUNTIF(D$1:$D$200,"Não Atende") -> 4 | J8: =I8/$I$10 -> 0.10810811
A9: Complemento: | D9: Extensão: | H9: Não Se Aplica | I9: =COUNTIF(D$1:$D$200,"Não Se Aplica") -> 4 | J9: =I9/$I$10 -> 0.10810811
A10: Licitação: | I10: =SUM(I6:I9) -> 37 | J10: =I10/$I$10 -> 1
A11: Contratada:
A13: DOCUMENTOS DE ANÁLISE
A15: Documento entregue:
A16: Data de entrega: | D16: Versão:
A17: ENTREGA | E17: FORMATO | F17: OBSERVAÇÕES
A18: Os arquivos digitais foram entregues em mídia convencionais, como CD, pendrive, HD externo ou transferência remota registrada por e-mail ou protocolada nas DUAS VERSÕES:
A19: 1 | B19: - não editável (PDF) ? | D19: Atende
A20: 2 | B20: - editável de acordo com cada tipo (.doc, .xls, .dwg, etc) ? | D20: Não Atende
A21: ITEM | B21: REFERÊNCIA | C21: QUESITO | E21: VOLUME/PÁGINA | F21: OBSERVAÇÕES
A22: 3 | B22: IP-02 (5.2.2) | C22: Foi apresentado texto contendo a metodologia com justificativa dos estudos realizados? | D22: Atende Parcialmente
A23: =A22+1 -> 4 | B23: IP-02 (4.1 e 5.1) | C23: Foi apresentada justificativa para a alternativa de traçado adotada? | D23: Não Atende
A24: =A23+1 -> 5 | B24: IP-02 (4.8 e 5.2.2) | C24: Foram apresentadas a relações completas dos marcos topográficos e RN's implantados? | D24: Atende Parcialmente
B25: IP-02 (4.8 e 5.2.2) | C25: Na relação dos marcos topográficos implantados, foram apresentados:
A26: 6 | C26: - altitudes? | D26: Atende Parcialmente
A27: =A26+1 -> 7 | C27: - localização no plano topográfico local? | D27: Não Se Aplica
A28: =A27+1 -> 8 | C28: - geodésico geografico? | D28: Atende Parcialmente
A29: =A28+1 -> 9 | C29: - cartográfico UTM? | D29: Atende Parcialmente
B30: IP-02 (4.8 e 5.2.2) | C30: Na relação dos RN's implantados, foram apresentados:
A31: 10 | C31: - altitudes? | D31: Atende Parcialmente
A32: =A31+1 -> 11 | C32: - localização no plano topográfico local? | D32: Atende Parcialmente
A33: =A32+1 -> 12 | C33: - geodésico geografico? | D33: Atende
A34: =A33+1 -> 13 | C34: - cartográfico UTM? | D34: Atende Parcialmente
A35: =A34+1 -> 14 | C35: Foi apresentado anexo fotográfico contendo pelo menos 1(uma) foto georreferenciada de cada Marcos e RN implantados? | D35: Atende Parcialmente
B36: IP-02 (5.2.2) | C36: Foi apresentada planta na escala de 1:2000, com curvas de nível intermediarias de 1 em 1 metro destacando as mestras de 5 em 5 metros:
A37: 15 | C37: - Topográfico local? | D37: Atende Parcialmente
A38: =A37+1 -> 16 | C38: - Cartográfico UTM? | D38: Atende Parcialmente
A39: =A38+1 -> 17 | B39: IP-02 (5.2.2) | C39: Foi apresentado o perfil da linha de locação na escala 1:2000 (H) e 1:200 (V)? | D39: Atende
A40: =A39+1 -> 18 | B40: IP-02 (5.2.2) | C40: Foi apresentado os desenhos de todas as seções transversais na escala de 1:200 (H) e (V) ou 1:200 (H) e 1:100 (V)? | D40: Atende Parcialmente
A41: =A40+1 -> 19 | B41: IP-02 (5.2.1) | C41: Foi apresentado o modelo digital da superfície primitiva do terreno natural (MDT), de acordo com itens 13, 14, 16, 19 e 20? | D41: Não Atende
A42: =A41+1 -> 20 | B42: IP-02 (4.4) | C42: Foi apresentado o levantamento batimétrico de 5 em 5 metros, no eixo do curso d'água? | D42: Atende Parcialmente
A43: =A42+1 -> 21 | B43: IP-02 (4.4) | C43: Caso não tenha feito o levantamento batimétrico relacionado acima, apresentou justificativa para este fato? | D43: Não Se Aplica
...

Sheet HIDROLÓGICO
A1: #VALUE! | C1: SEINFRA | F1: CONFERÊNCIA
C2: GEPPI - GERÊNCIA DE PLANEJAMENTO E PROGRAMAÇÃO DE INVESTIMENTOS | F2: Nº XX/XXXX
C3: CHECKLIST - CONFERÊNCIA DE PROJETOS | F3: DATA: | H3: Tabela Resumo
C4: ESTUDOS HIDROLÓGICOS
A6: IDENTIFICAÇÃO | H6: Atende | I6: =COUNTIF(D$1:$D$200,"Atende") -> 6 | J6: =I6/$I$10 -> 0.071428571
A7: Objeto: | H7: Atende Parcialmente | I7: =COUNTIF(D$1:$D$200,"Atende Parcialmente") -> 61 | J7: =I7/$I$10 -> 0.72619048
A8: Rodovia/Trecho: | H8: Não Atende | I8: =COUNTIF(D$1:$D$200,"Não Atende") -> 13 | J8: =I8/$I$10 -> 0.1547619
A9: Complemento: | D9: Extensão: | H9: Não Se Aplica | I9: =COUNTIF(D$1:$D$200,"Não Se Aplica") -> 4 | J9: =I9/$I$10 -> 0.047619048
A10: Licitação: | I10: =SUM(I6:I9) -> 84 | J10: =I10/$I$10 -> 1
A11: Contratada:
A13: DOCUMENTOS DE ANÁLISE
A15: Documento entregue:
A16: Data de entrega: | D16: Versão:
A17: ENTREGA | E17: FORMATO | F17: OBSERVAÇÕES
A18: Os arquivos digitais foram entregues em mídia convencionais, como CD, pendrive, HD externo ou transferência remota registrada por e-mail ou protocolada nas DUAS VERSÕES:
A19: 1 | B19: - não editável (PDF) ? | D19: Atende Parcialmente
A20: 2 | B20: - editável de acordo com cada tipo (.doc, .xls, .dwg, etc) ? | D20: Atende Parcialmente
A21: ITEM | B21: REFERÊNCIA | C21: QUESITO | E21: VOLUME/PÁGINA | F21: OBSERVAÇÕES
B22: IP-03 (6.1) | C22: Foi apresentado Relatório com as informações, relacionadas:
A23: 3 | B23: IP-03 (6.1) | C23: Foi apresentado o descritivo dos estudos realizados no volume apresentado? | D23: Atende Parcialmente
A24: =A23+1 -> 4 | B24: IP-03 (6.1) | C24: Quais foram as metodologias utilizadas para elaboração do estudo? | D24: Atende Parcialmente
B25: IP-03 (4.0) | C25: A coleta de dados atendeu aos itens:
A26: 5 | B26: IP-03 (4.a) | C26: Qual local e orgão onde foi coletado os dados hidrológicos e estudos existentes? | D26: Atende Parcialmente
A27: =A26+1 -> 6 | B27: IP-03 (4.b) | C27: Coleta de elementos que permitam a definição das dimensões e demais características fisiográficas das bacias de contribuição? (forma, declividade, tipo de solo, recobrimento vegetal) | D27: Atende
A28: =A27+1 -> 7 | B28: IP-03 (4.c) | C28: Coleta de elementos que permita a identificação das modificações futuras que ocorrerão nas bacias tais como projetos, planos diretores e tendências de ocupação. | D28: Atende
A29: =A28+1 -> 8 | B29: IP-03 (4.1.c) | C29: Escolha criteriosa do posto que caracteriza o regime pluviométrico do trecho, justificando o aspecto hidrológico. Na ausência absoluta de posto na região, indicação precisa das fontes que forneceram os dados pluviométricos | D29: Atende
A30: =A29+1 -> 9 | B30: IP-03 (6.1) | C30: Foi apresentado o Resumo da coleta de dados hidrológicos? | D30: Atende Parcialmente
B31: IP-03 (6.1) | C31: Para o traçado escolhido, associando uma única bacia para cada Obra-de-arte projetada, foi apresentada:
A32: 10 | B32: IP-03 (6.1) | C32: - gráficos? | D32: Atende Parcialmente
A33: =A32+1 -> 11 | B33: IP-03 (6.1) | C33: - tabelas? | D33: Atende Parcialmente
A34: =A33+1 -> 12 | B34: IP-03 (6.1) | C34: - mapas das bacias? | D34: Atende Parcialmente
A35: =A34+1 -> 13 | B35: IP-03 (6.1) | C35: Foi apresentado o dimensionamento das obras com todo os parâmetros adotados e justificados? | D35: Não Se Aplica
A36: =A35+1 -> 14 | B36: IP-03 (6.1) | C36: Qual a influência que a obra irá trazer para o meio ambiente local? | D36: Atende
B37: IP-03 (6.1) | C37: Nos arquivos necessários para exame do projeto, foram apresentado:
A38: 15 | B38: IP-03 (6.1) | C38: Gráficos de perfil longitudinal do talvegue da bacia? | D38: Atende Parcialmente
A39: =A38+1 -> 16 | B39: IP-03 (6.1) | C39: Tabelas de cálculos das declividades efetivas? | D39: Atende Parcialmente
A40: =A39+1 -> 17 | B40: IP-03 (6.1) | C40: Mapas das bacias (.dwg), suficientes para o exame? | D40: Atende Parcialmente
A41: =A40+1 -> 18 | B41: IP-03 (6.1) | C41: Arquivos editáveis conforme item 6.1? | D41: Não Atende
A42: =A41+1 -> 19 | B42: IP-03 (4.1) | C42: Foi apresentado o mapa das bacias em escala conveniente, destacando a hidrografia principal e a localização do trecho em estudo? | D42: Não Atende
A43: =A42+1 -> 20 | B43: IP-03 (4.1) | C43: A apresentação do mapa de bacias foi numerado de forma a ser associada uma única bacia para cada Obra-de-Arte projetada? | D43: Atende Parcialmente
...

Sheet GEOLÓGICOS
A1: #VALUE! | C1: SEINFRA | F1: CONFERÊNCIA
C2: GEPPI - GERÊNCIA DE PLANEJAMENTO E PROGRAMAÇÃO DE INVESTIMENTOS | F2: Nº XX/XXXX
C3: CHECKLIST - CONFERÊNCIA DE PROJETOS | F3: DATA: | H3: Tabela Resumo
C4: ESTUDOS GEOLÓGICOS
A6: IDENTIFICAÇÃO | H6: Atende | I6: =COUNTIF(D$1:$D$200,"Atende") -> 7 | J6: =I6/$I$10 -> 0.5
A7: Objeto: | H7: Atende Parcialmente | I7: =COUNTIF(D$1:$D$200,"Atende Parcialmente") -> 0 | J7: =I7/$I$10 -> 0
A8: Rodovia/Trecho: | H8: Não Atende | I8: =COUNTIF(D$1:$D$200,"Não Atende") -> 6 | J8: =I8/$I$10 -> 0.42857143
A9: Complemento: | D9: Extensão: | H9: Não Se Aplica | I9: =COUNTIF(D$1:$D$200,"Não Se Aplica") -> 1 | J9: =I9/$I$10 -> 0.071428571
A10: Licitação: | I10: =SUM(I6:I9) -> 14 | J10: =I10/$I$10 -> 1
A11: Contratada:
A13: DOCUMENTOS DE ANÁLISE
A15: Documento entregue:
A16: Data de entrega: | D16: Versão:
A17: ENTREGA | E17: FORMATO | F17: OBSERVAÇÕES
A18: Os arquivos digitais foram entregues em mídia convencionais, como CD, pendrive, HD externo ou transferência remota registrada por e-mail ou protocolada nas DUAS VERSÕES:
A19: 1 | B19: - não editável (PDF) ? | D19: Atende
A20: 2 | B20: - editável de acordo com cada tipo (.doc, .xls, .dwg, etc) ? | D20: Atende
A21: ITEM | B21: REFERÊNCIA | C21: QUESITO | E21: VOLUME/PÁGINA | F21: OBSERVAÇÕES
A22: 3 | B22: IP-04 (5.1/5.3) | C22: Foi apresentado relatório contendo texto descritivo e mapas temáticos (escala 1: 50.000 ou maior) com a locação do eixo e área de influência de no mínimo 500 m de cada lado com informações de: | D22: Atende
A23: =A22+1 -> 4 | B23: IP-04 (5.1) | C23: - Situação geográfica? | D23: Atende
A24: =A23+1 -> 5 | B24: IP-04 (5.1) | C24: - Clima? | D24: Atende
A25: =A24+1 -> 6 | B25: IP-04 (5.1) | C25: - Vegetação? | D25: Atende
A26: =A25+1 -> 7 | B26: IP-04 (5.1) | C26: - Solos: reconhecimento de solos e sua limitação geotécnica, vulnerabilidade erosiva? | D26: Atende
A27: =A26+1 -> 8 | B27: IP-04 (5.3) | C27: - Aspectos Hidrogeológicos? | D27: Não Atende
A28: =A27+1 -> 9 | B28: IP-04 (5.1/5.3) | C28: - Aspectos fisiológicos e geomorfológicos com hipsometria? | D28: Não Atende
A29: =A28+1 -> 10 | B29: IP-04 (5.1) | C29: - Aspectos geológicos: estratigráficos, tectônicos e litológicos? | D29: Não Atende
A30: =A29+1 -> 11 | C30: Foram apresentadas as seções geológicas das áreas problemáticas? | D30: Não Atende
A31: =A30+1 -> 12 | B31: IP-04 (5.4) | C31: Há recomendações para solução de problemas construtivos de rodovia decorrentes da formação geológica da região? | D31: Não Atende
A32: =A31+1 -> 13 | B32: IP-04 (5.2) | C32: Foi apresentado o mapeamento de possíveis fontes de materiais "in natura" para pavimentação e em exploração comercial de cascalho, areia, brita, bem como indústria de cimento localizada na região de interesse, com consulta da situação de cada fonte na base SIGMINE da ANM? | D32: Não Se Aplica
A33: =A32+1 -> 14 | B33: IP-04 (5.3) | C33: Foi informado se as fontes de materiais para pavimentação estão sem restrições legais? | D33: Não Atende
E36: Conferente: ___________________________________

Sheet GEOTÉCNICO
A1: #VALUE! | C1: SEINFRA | F1: CONFERÊNCIA
C2: GEPPI - GERÊNCIA DE PLANEJAMENTO E PROGRAMAÇÃO DE INVESTIMENTOS | F2: Nº XX/XXXX
C3: CHECKLIST - CONFERÊNCIA DE PROJETOS | F3: DATA: | H3: Tabela Resumo
C4: ESTUDOS GEOTÉCNICOS
A6: IDENTIFICAÇÃO | H6: Atende | I6: =COUNTIF(D$1:$D$200,"Atende") -> 17 | J6: =I6/$I$10 -> 0.15740741
A7: Objeto: | H7: Atende Parcialmente | I7: =COUNTIF(D$1:$D$200,"Atende Parcialmente") -> 86 | J7: =I7/$I$10 -> 0.7962963
A8: Rodovia/Trecho: | H8: Não Atende | I8: =COUNTIF(D$1:$D$200,"Não Atende") -> 4 | J8: =I8/$I$10 -> 0.037037037
A9: Complemento: | D9: Extensão: | H9: Não Se Aplica | I9: =COUNTIF(D$1:$D$200,"Não Se Aplica") -> 1 | J9: =I9/$I$10 -> 0.0092592593
A10: Licitação: | I10: =SUM(I6:I9) -> 108 | J10: =I10/$I$10 -> 1
A11: Contratada:
A13: DOCUMENTOS DE ANÁLISE
A15: Documento entregue:
A16: Data de entrega: | D16: Versão:
A17: ENTREGA | E17: FORMATO | F17: OBSERVAÇÕES
A18: Os arquivos digitais foram entregues em mídia convencionais, como CD, pendrive, HD externo ou transferência remota registrada por e-mail ou protocolada nas DUAS VERSÕES:
A19: 1 | B19: - não editável (PDF) ? | D19: Atende Parcialmente
A20: 2 | B20: - editável de acordo com cada tipo (.doc, .xls, .dwg, etc) ? | D20: Atende Parcialmente
A21: ITEM | B21: REFERÊNCIA | C21: QUESITO | E21: VOLUME/PÁGINA | F21: OBSERVAÇÕES
B22: IP-07 (3.1, 4.1 e 5.2) | C22: Estudo do Subleito e Cortes
A23: 3 | C23: Os furos de sondagem estão localizados no eixo e nas bordas da plataforma de forma alternada? | D23: Atende
A24: =A23+1 -> 4 | C24: Os furos de sondagem estão espaçados, no máximo, de 200 em 200 metros, nos trechos em aterro com altura inferior a 0,60 m? | D24: Atende
A25: =A24+1 -> 5 | C25: Em cortes de até 300 metros de extensão, há no mínimo 3 furos de sondagem? | D25: Atende
A26: =A25+1 -> 6 | C26: Em cortes de 300 até 400 metros de extensão, há no mínimo 4 furos de sondagem? | D26: Não Atende
A27: =A26+1 -> 7 | C27: Em cortes com extensão superior a 400 metros, há 1 furo a cada 150 metros? | D27: Não Atende
A28: =A27+1 -> 8 | C28: As sondagens para fins de coleta de amostras foram realizadas até 1,0 metro abaixo do greide de terraplenagem? | D28: Não Atende
A29: =A28+1 -> 9 | C29: Nos cortes foram realizadas sondagens rotativas para caracterização total do corte quanto ao volume de material de 2ª e/ou 3ª categoria? | D29: Atende
A30: =A29+1 -> 10 | C30: Foram anotadas as presenças de água nos furos de sondagem, com data e NA? | D30: Atende Parcialmente
A31: =A30+1 -> 11 | C31: O perfil dos solos estão apresentados nos cortes longitudinais? | D31: Atende Parcialmente
C32: Foram realizados os seguintes ensaios de laboratório:
A33: 12 | C33: - Análise granulométrica por peneiramento simples? | D33: Atende
A34: =A33+1 -> 13 | C34: - Análise granulométrica por sedimentação? | D34: Atende Parcialmente
A35: =A34+1 -> 14 | C35: - Limite de liquidez e de plasticidade? | D35: Atende
A36: =A35+1 -> 15 | C36: - Ensaios de compactação, com 5 pontos? | D36: Atende Parcialmente
A37: =A36+1 -> 16 | C37: - Ensaios de ISC? | D37: Atende
A38: =A37+1 -> 17 | C38: - Massa específica aparente in situ? | D38: Atende Parcialmente
B39: IP-07 (4.2) | C39: Estudo de empréstimo para corpo de aterro, camada final de aterro e subleito.
A40: 18 | C40: Os furos de sondagem para empréstimos laterais estão espaçados de 100 em 100 metros? | D40: Atende
A41: =A40+1 -> 19 | C41: Nos empréstimos laterais a profundidade foi limitada a, no máximo, 2,00 metros? | D41: Atende
C42: Com relação as caixas de empréstimo concentradas, foram realizados:
A43: 20 | C43: - no mínimo 5 furos de sondagens, para empréstimos concentrados com área de até 10.000m²? | D43: Atende Parcialmente
...

Sheet EST_E_PROJ_DESAPROPRIAÇÃO
A1: #VALUE! | C1: SEINFRA | F1: CONFERÊNCIA
C2: GEPPI - GERÊNCIA DE PLANEJAMENTO E PROGRAMAÇÃO DE INVESTIMENTOS | F2: Nº XX/XXXX
C3: CHECKLIST - CONFERÊNCIA DE PROJETOS | F3: DATA: | H3: Tabela Resumo
C4: PROJETO DE DESAPROPRIAÇÃO
A6: IDENTIFICAÇÃO | H6: Atende | I6: =COUNTIF(D$1:$D$200,"Atende") -> 8 | J6: =I6/$I$10 -> 0.4
A7: Objeto: | H7: Atende Parcialmente | I7: =COUNTIF(D$1:$D$200,"Atende Parcialmente") -> 6 | J7: =I7/$I$10 -> 0.3
A8: Rodovia/Trecho: | H8: Não Atende | I8: =COUNTIF(D$1:$D$200,"Não Atende") -> 5 | J8: =I8/$I$10 -> 0.25
A9: Complemento: | D9: Extensão: | H9: Não Se Aplica | I9: =COUNTIF(D$1:$D$200,"Não Se Aplica") -> 1 | J9: =I9/$I$10 -> 0.05
A10: Licitação: | I10: =SUM(I6:I9) -> 20 | J10: =I10/$I$10 -> 1
A11: Contratada:
A13: DOCUMENTOS DE ANÁLISE
A15: Documento entregue:
A16: Data de entrega: | D16: Versão:
A17: ENTREGA | E17: FORMATO | F17: OBSERVAÇÕES
A18: Os arquivos digitais foram entregues em mídia convencionais, como CD, pendrive, HD externo ou transferência remota registrada por e-mail ou protocolada nas DUAS VERSÕES:
A19: 1 | B19: - não editável (PDF) ? | D19: Atende Parcialmente
A20: 2 | B20: - editável de acordo com cada tipo (.doc, .xls, .dwg, etc) ? | D20: Atende Parcialmente
A21: ITEM | B21: REFERÊNCIA | C21: QUESITO | E21: VOLUME/PÁGINA | F21: OBSERVAÇÕES
A22: 3 | B22: IP-16 (6.2) | C22: Foram apresentadas memória descritiva e justificativa do projeto elaborado? | D22: Atende Parcialmente
A23: =A22+1 -> 4 | B23: IP-16 (5.0) | C23: Foi apresentado Quadro Resumo das Áreas a Desapropriar, conforme MODELO 03 da IP-16? | D23: Atende Parcialmente
A24: =A23+1 -> 5 | C24: Foi apresentado mapa mostrando a localização de todos os imóveis confrontantes com o traçado da rodovia, conforme Quadro Resumo da Áreas a Desapropriar? | D24: Atende
A25: =A24+1 -> 6 | B25: IP-16 (5.0) | C25: Foram apresentadas todas as plantas cadastrais individuais (MODELO 01 da IP-16) dos imóveis apresentados no Quadro Resumo das Áreas a Desapropriar? | D25: Atende
A26: =A25+1 -> 7 | B26: IP-16 (5.1) | C26: As plantas apresentadas tiveram as propriedades amarradas ao estaqueamento indicado no projeto geométrico? | D26: Não Atende
A27: =A26+1 -> 8 | B27: IP-16 (5.1) | C27: As plantas apresentadas tiveram as propriedades amarrada no marco quilométrico, no caso de rodovia construída? | D27: Não Atende
A28: =A27+1 -> 9 | B28: IP-16 (5.1 a) | C28: Para cada propriedade a ser desapropriada foi apresentado o memorial descritivo cadastral, contendo divisas, limites e confrontações de cada propriedade (MODELO 02 da IP-16)? | D28: Atende Parcialmente
A29: =A28+1 -> 10 | B29: IP-16 (5.1 f) | C29: Para cada propriedade a ser desapropriada consta no projeto a descrição das benfeitorias e classificação das construções predominantes? | D29: Atende Parcialmente
A30: =A29+1 -> 11 | B30: IP-16 (5.1 g) | C30: Para cada propriedade a ser desapropriada estão indicadas no projeto as atividades econômicas desenvolvidas na propriedade, registrando dados qualitativos e quantitativos das produções? | D30: Não Atende
A31: =A30+1 -> 12 | B31: IP-16 (5.3) | C31: Foi apresentada estimativa preliminar de valor (MODELO 04 da IP-16), de acordo com a NBR-14653, para cada propriedade a ser desapropriada? | D31: Não Atende
A32: =A31+1 -> 13 | B32: IP-16 (5.3) | C32: Foram apresentadas as pesquisas de mercado (no mínimo 15) para compor amostra representativa sobre o valor das propriedades? | D32: Não Atende
A33: =A32+1 -> 14 | B33: IP-16 (5.2) | C33: Consta a situação legal de cada imóvel a ser desapropriado? | D33: Atende
A34: =A33+1 -> 15 | B34: IP-16 (5.1 b) | C34: Foram apresentados aspectos orográficos da região? | D34: Não Se Aplica
A35: =A34+1 -> 16 | B35: IP-16 (5.1 c) | C35: Consta no projeto a existência de serviços públicos tais como: rodovias, ferrovias, transporte coletivo, esgoto sanitário e pluvial, eletricidade, abastecimento d'água, telefônico, e outros? | D35: Atende
A36: =A35+1 -> 17 | B36: IP-16 (5.1 d) | C36: Consta no projeto o aproveitamento econômico da região, indicando as explorações predominantes, no caso de área rural? | D36: Atende
... A38: =A37+1 -> 19 | B38: IP-16 (5.1) | C38: Foi apresentado relatório fotográfico (fotos georreferenciadas) das propriedades com no mínimo 6 (seis) fotos de cada propriedade? | D38: Atende
A39: =A38+1 -> 20 | C39: Foram apresentados todos os arquivos em planilhas editáveis com fórmulas em software "Excel" ou similar, e os desenhos em "cad" ou similar? | D39: Atende
E42: Conferente: ___________________________________

Sheet AMBIENTAL
A1: #VALUE! | C1: SEINFRA | F1: CONFERÊNCIA
C2: GEPPI - GERÊNCIA DE PLANEJAMENTO E PROGRAMAÇÃO DE INVESTIMENTOS | F2: Nº XX/XXXX
C3: CHECKLIST - CONFERÊNCIA DE PROJETOS | F3: DATA: | H3: Tabela Resumo
C4: ESTUDOS AMBIENTAIS
A6: IDENTIFICAÇÃO | H6: Atende | I6: =COUNTIF(D$1:$D$169,"Atende") -> 2 | J6: =I6/$I$10 -> 0.086956522
A7: Objeto: | H7: Atende Parcialmente | I7: =COUNTIF(D$1:$D$169,"Atende Parcialmente") -> 12 | J7: =I7/$I$10 -> 0.52173913
A8: Rodovia/Trecho: | H8: Não Atende | I8: =COUNTIF(D$1:$D$169,"Não Atende") -> 8 | J8: =I8/$I$10 -> 0.34782609
A9: Complemento: | D9: Extensão: | H9: Não Se Aplica | I9: =COUNTIF(D$1:$D$169,"Não Se Aplica") -> 1 | J9: =I9/$I$10 -> 0.043478261
A10: Licitação: | I10: =SUM(I6:I9) -> 23 | J10: =I10/$I$10 -> 1
A11: Contratada:
A13: DOCUMENTOS DE ANÁLISE
A15: Documento entregue:
A16: Data de entrega: | D16: Versão:
A17: ENTREGA | E17: FORMATO | F17: OBSERVAÇÕES
A18: Os arquivos digitais foram entregues em mídia convencionais, como CD, pendrive, HD externo ou transferência remota registrada por e-mail ou protocolada nas DUAS VERSÕES:
A19: 1 | B19: - não editável (PDF) ? | D19: Atende Parcialmente
A20: 2 | B20: - editável de acordo com cada tipo (.doc, .xls, .dwg, etc) ? | D20: Atende Parcialmente
A21: ITEM | B21: REFERÊNCIA | C21: QUESITO | E21: VOLUME/PÁGINA | F21: OBSERVAÇÕES
C22: Projeto de Proteção Ambiental
C23: Desenho
A24: 3 | B24: GUIA GOINFRA | C24: Esquema linear constando os locais de bota-fora, empréstimos, jazidas, pedreiras, passivo ambiental e pontos notáveis; | D24: Não Se Aplica
A25: 4 | B25: GUIA GOINFRA | C25: Detalhes de soluções; | D25: Atende Parcialmente
A26: 5 | B26: GUIA GOINFRA | C26: Detalhes específicos para tratamento de jazidas, empréstimos, áreas de uso e outras | D26: Atende Parcialmente
C27: Memorial
A28: 6 | B28: GUIA GOINFRA | C28: Lista de espécies vegetais a empregar, técnicas de plantio e de conservação; | D28: Atende Parcialmente
A29: =A28+1 -> 7 | B29: GUIA GOINFRA | C29: Quadro de quantidades contendo código, discriminação das espécies e de todos os serviços e distâncias de transporte | D29: Atende Parcialmente
A30: =A29+1 -> 8 | B30: GUIA GOINFRA | C30: Justificativa do projeto; | D30: Atende
A31: =A30+1 -> 9 | B31: GUIA GOINFRA | C31: Cálculo dos quantitativos. | D31: Atende Parcialmente
C32: Especificação
A33: 10 | B33: GUIA GOINFRA | C33: Materiais | D33: Atende Parcialmente
A34: =A33+1 -> 11 | B34: GUIA GOINFRA | C34: Serviços | D34: Atende Parcialmente
C35: Na elaboração do Componente Ambiental foi observado
A36: 12 | B36: IS-246 | C36: Recomendações / condicionantes dos órgãos ambientais | D36: Não Atende
A37: =A36+1 -> 13 | B37: IS-246 | C37: Política Ambiental e documentos normativos do DNIT | D37: Não Atende
A38: =A37+1 -> 14 | B38: IS-246 | C38: Vulnerabilidades e Potencialidades dos fatores ambientais da área de influência do Empreendimento Rodoviário | D38: Não Atende
A39: =A38+1 -> 15 | B39: IS-246 | C39: Zoneamento Ecológico – Econômico | D39: Não Atende
A40: =A39+1 -> 16 | B40: IPR – 726 | C40: Os Estudos de Viabilidade Técnico-Econômica–Ambiental de Rodovias demonstra se a alternativa escolhida, sob o enfoque de traçado e características técnicas e operacionais, oferece maior benefício que outras, em termos de custo total de transporte? | D40: Não Atende
C41: Os Estudos e Projetos Ambientais devem ser desenvolvidos em conformidade com os seguintes Manuais e Instruções do DNIT
A42: 17 | B42: IS-246 | C42: Manual Rodoviário de Conservação, Monitoramento e Controle Ambientais | D42: Atende Parcialmente
A43: =A42+1 -> 18 | B43: IS-246 | C43: Manual para Ordenamento do Uso do Solo nas Faixas de Domínio e Lindeiras das Rodovias Federais | D43: Não Atende
...

Sheet ENSAIOS_REABILIT_RESTAURAÇ
A1: #VALUE! | C1: SEINFRA | F1: CONFERÊNCIA
C2: GEPPI - GERÊNCIA DE PLANEJAMENTO E PROGRAMAÇÃO DE INVESTIMENTOS | F2: Nº XX/XXXX
C3: CHECKLIST - CONFERÊNCIA DE PROJETOS | F3: DATA: | H3: Tabela Resumo
C4: ENSAIOS
A6: IDENTIFICAÇÃO | H6: Atende | I6: =COUNTIF(D$1:$D$235,"Atende") -> 5 | J6: =I6/$I$10 -> 0.089285714
A7: Objeto: | H7: Atende Parcialmente | I7: =COUNTIF(D$1:$D$235,"Atende Parcialmente") -> 6 | J7: =I7/$I$10 -> 0.10714286
A8: Rodovia/Trecho: | H8: Não Atende | I8: =COUNTIF(D$1:$D$235,"Não Atende") -> 42 | J8: =I8/$I$10 -> 0.75
A9: Complemento: | D9: Extensão: | H9: Não Se Aplica | I9: =COUNTIF(D$1:$D$235,"Não Se Aplica") -> 3 | J9: =I9/$I$10 -> 0.053571429
A10: Licitação: | I10: =SUM(I6:I9) -> 56 | J10: =I10/$I$10 -> 1
A11: Contratada:
A13: DOCUMENTOS DE ANÁLISE
A15: Documento entregue:
A16: Data de entrega: | D16: Versão:
A17: ENTREGA | E17: FORMATO | F17: OBSERVAÇÕES
A18: Os arquivos digitais foram entregues em mídia convencionais, como CD, pendrive, HD externo ou transferência remota registrada por e-mail ou protocolada nas DUAS VERSÕES:
A19: 1 | B19: - não editável (PDF) ? | D19: Atende
A20: 2 | B20: - editável de acordo com cada tipo (.doc, .xls, .dwg, etc) ? | D20: Atende
A21: ITEM | B21: REFERÊNCIA | C21: QUESITO | E21: VOLUME/PÁGINA
C23: Levantamento de Iregularidades Longitudinais - IRI
A24: 3 | C24: Apresenta o Quociente de Irregularidade - QI? | D24: Não Atende
A25: =A24+1 -> 4 | C25: Caracteriza a rodovia pelo tipo de pavimento (flexível, rígido ou semirrígido)? | D25: Não Atende
A26: =A25+1 -> 5 | C26: Apresenta os equipamentos utilizados para realiar o escaneamento da área? | D26: Atende Parcialmente
A27: =A26+1 -> 6 | C27: Apresenta coordenadas geográficas dos trechos em estudo? | D27: Atende
A28: =A27+1 -> 7 | C28: Fotografias de trechos representativos das condições observadas? | D28: Não Atende
A29: =A28+1 -> 8 | C29: Apresenta certificados de calibração do equipamento utilizado? | D29: Não Atende
A30: =A29+1 -> 9 | C30: Classificação de qualidade da rodovia conforme critérios técnicos? | D30: Não Se Aplica
A31: =A30+1 -> 10 | C31: Há a subdivisão em seções analisadas, demonstrada de forma clara no relatório de estudo? | D31: Atende Parcialmente
A32: =A31+1 -> 11 | C32: Mapas temáticos destacando variações do IRI em intervalos pré-definidos? | D32: Atende Parcialmente
C33: Deflectometria
A34: 12 | C34: Cabeçalho apresente o tipo e modelo do deflectometro utilizado? | D34: Atende Parcialmente
A35: =A34+1 -> 13 | C35: Apresenta resultados de capacidade estrutural do pavimento? | D35: Não Atende
A36: =A35+1 -> 14 | C36: Coordenadas geográficas ou estações quilométricas dos pontos de medição? | D36: Não Atende
A37: =A36+1 -> 15 | C37: Fotografias dos pontos de medição e condições do pavimento. | D37: Não Atende
A38: =A37+1 -> 16 | C38: Condições climáticas no momento da execução (temperatura ambiente e da superfície do pavimento)? | D38: Não Atende
A39: =A38+1 -> 17 | C39: Apresenta resultados de tipo e espessura das camadas (superfície de rolamento, base, sub-base e subleito)? | D39: Não Atende
A40: =A39+1 -> 18 | C40: Apresenta a magnitude da carga aplicada (em kN)? | D40: Não Atende
A41: =A40+1 -> 19 | C41: Apresenta a frequência de calibração e certificação do equipamento? | D41: Não Atende
A42: =A41+1 -> 20 | C42: Deflexões medidas em cada sensor (em micrômetros ou milímetros)? | D42: Não Atende
A43: =A42+1 -> 21 | C43: Apresenta fotografias dos pontos de medição e condições do pavimento.? | D43: Não Atende
A44: =A43+1 -> 22 | C44: Apresenta o resultado de necessidade de reforço ou intervenções corretivas (recapeamento, reciclagem)? | D44: Não Se Aplica
...

Sheet GEOMÉTRICO
A1: #VALUE! | C1: SEINFRA | F1: CONFERÊNCIA
C2: GEPPI - GERÊNCIA DE PLANEJAMENTO E PROGRAMAÇÃO DE INVESTIMENTOS | F2: Nº XX/XXXX
C3: CHECKLIST - CONFERÊNCIA DE PROJETOS | F3: DATA: | H3: Tabela Resumo
C4: PROJETO GEOMÉTRICO
A6: IDENTIFICAÇÃO | H6: Atende | I6: =COUNTIF(D$1:$D$200,"Atende") -> 2 | J6: =I6/$I$10 -> 0.04
A7: Objeto: | H7: Atende Parcialmente | I7: =COUNTIF(D$1:$D$200,"Atende Parcialmente") -> 44 | J7: =I7/$I$10 -> 0.88
A8: Rodovia/Trecho: | H8: Não Atende | I8: =COUNTIF(D$1:$D$200,"Não Atende") -> 2 | J8: =I8/$I$10 -> 0.04
A9: Complemento: | D9: Extensão: | H9: Não Se Aplica | I9: =COUNTIF(D$1:$D$200,"Não Se Aplica") -> 2 | J9: =I9/$I$10 -> 0.04
A10: Licitação: | I10: =SUM(I6:I9) -> 50 | J10: =I10/$I$10 -> 1
A11: Contratada:
A13: DOCUMENTOS DE ANÁLISE
A15: Documento entregue:
A16: Data de entrega: | D16: Versão:
A17: ENTREGA | E17: FORMATO | F17: OBSERVAÇÕES
A18: Os arquivos digitais foram entregues em mídia convencionais, como CD, pendrive, HD externo ou transferência remota registrada por e-mail ou protocolada nas DUAS VERSÕES:
A19: 1 | B19: - não editável (PDF) ? | D19: Atende Parcialmente
A20: 2 | B20: - editável de acordo com cada tipo (.doc, .xls, .dwg, etc) ? | D20: Atende Parcialmente
A21: ITEM | B21: REFERÊNCIA | C21: QUESITO | E21: VOLUME/PÁGINA | F21: OBSERVAÇÕES
C22: Em relação ao projeto em análise:
A23: 3 | B23: IP-08 (7.2) | C23: Foi apresentado memorial descritivo, justificativa do projeto elaborado e metodologia utilizada? | D23: Atende Parcialmente
A24: =A23+1 -> 4 | B24: IP-08 (7.2) | C24: Foram apresentadas planilhas com memórias de cálculo? | D24: Atende Parcialmente
A25: =A24+1 -> 5 | B25: IP-08 (7.2) | C25: Foram apresentados quadros e gráficos? | D25: Atende Parcialmente
A26: =A25+1 -> 6 | B26: IP-08 (5.1) | C26: Foi apresentado o quadro de características técnicas e operacionais? | D26: Atende
A27: =A26+1 -> 7 | C27: Foi apresentada justificativa para características que estejam divergentes das recomendadas nos quadros do item 4.3.8 da IP-08? | D27: Atende
A28: =A27+1 -> 8 | B28: IP-08 (4.2.2) | C28: Foi informado qual o veículo de projeto adotado? | D28: Atende Parcialmente
A29: =A28+1 -> 9 | B29: IP-08 (7.2) | C29: As plantas e perfis estão nas escalas 1:2.000 (H) e 1:200 (V)? | D29: Atende Parcialmente
C30: No projeto planimétrico:
A31: 10 | B31: IP-08 (5.2.1.1) | C31: O eixo foi estaqueado de 20 m em 20 m? | D31: Atende Parcialmente
A32: =A31+1 -> 11 | B32: IP-08 (5.2.1.1) | C32: A faixa de domínio está representada em projeto indicando seus limites e coordenadas em relação ao eixo? | D32: Atende Parcialmente
A33: =A32+1 -> 12 | B33: IP-08 (5.2.1.1) | C33: As curvas de nível estão interpoladas de 1 em 1m, destacando as linhas mestras de 5 em 5m? | D33: Atende Parcialmente
A34: =A33+1 -> 13 | B34: IP-08 (5.2.1.1) | C34: As curvas horizontais foram numeradas e seus elementos apresentados em tabelas laterais? | D34: Atende Parcialmente
A35: =A34+1 -> 14 | B35: IP-08 (5.2.1.1) | C35: Os azimutes de alinhamento foram informados? | D35: Não Atende
A36: =A35+1 -> 15 | B36: IP-08 (5.2.1.1) | C36: Estão representados os nomes dos proprietários dos imóveis por onde passa a rodovia? | D36: Não Atende
A37: =A36+1 -> 16 | B37: IP-08 (5.2.1.1) | C37: As OAE´s foram indicadas com suas dimensões e nomes dos cursos d’água que atravessam a rodovia? | D37: Atende Parcialmente
A38: =A37+1 -> 17 | B38: IP-08 (5.2.1.1) | C38: As OAC´s foram indicados com informações de sua esconsidade e comprimento? | D38: Não Se Aplica
A39: =A38+1 -> 18 | B39: IP-08 (5.2.1.1) | C39: Todos os elementos especiais foram numerados e possuem indicação de sua prancha de detalhamento? | D39: Atende Parcialmente
C40: No projeto altimétrico:
A41: 19 | B41: IP-08 (5.2.1.2) | C41: Foram indicados todos os elementos do greide projetado (rampas e elementos de curvas verticais)? | D41: Não Se Aplica
A42: =A41+1 -> 20 | B42: IP-08 (5.2.1.2) | C42: Foi representado o geotécnico no perfil longitudinal de acordo com o item 5.2.1.2 da IP-08? | D42: Atende Parcialmente
A43: =A42+1 -> 21 | B43: IP-08 (5.2.1.2) | C43: As OAE e OAC foram representadas no perfil longitudinal de acordo com o item 5.2.1.2 da IP-08? | D43: Atende Parcialmente
...

Sheet TERRAPLANAGEM
A1: #VALUE! | C1: SEINFRA | F1: CONFERÊNCIA
C2: GEPPI - GERÊNCIA DE PLANEJAMENTO E PROGRAMAÇÃO DE INVESTIMENTOS | F2: Nº XX/XXXX
C3: CHECKLIST - CONFERÊNCIA DE PROJETOS | F3: DATA: | H3: Tabela Resumo
C4: PROJETO DE TERRAPLENAGEM
A6: IDENTIFICAÇÃO | H6: Atende | I6: =COUNTIF(D$1:$D$200,"Atende") -> 1 | J6: =I6/$I$10 -> 0.01369863
A7: Objeto: | H7: Atende Parcialmente | I7: =COUNTIF(D$1:$D$200,"Atende Parcialmente") -> 58 | J7: =I7/$I$10 -> 0.79452055
A8: Rodovia/Trecho: | H8: Não Atende | I8: =COUNTIF(D$1:$D$200,"Não Atende") -> 2 | J8: =I8/$I$10 -> 0.02739726
A9: Complemento: | D9: Extensão: | H9: Não Se Aplica | I9: =COUNTIF(D$1:$D$200,"Não Se Aplica") -> 12 | J9: =I9/$I$10 -> 0.16438356
A10: Licitação: | I10: =SUM(I6:I9) -> 73 | J10: =I10/$I$10 -> 1
A11: Contratada:
A13: DOCUMENTOS DE ANÁLISE
A15: Documento entregue:
A16: Data de entrega: | D16: Versão:
A17: ENTREGA | E17: FORMATO | F17: OBSERVAÇÕES
A18: Os arquivos digitais foram entregues em mídia convencionais, como CD, pendrive, HD externo ou transferência remota registrada por e-mail ou protocolada nas DUAS VERSÕES:
A19: 1 | B19: - não editável (PDF) ? | D19: Atende Parcialmente
A20: 2 | B20: - editável de acordo com cada tipo (.doc, .xls, .dwg, etc) ? | D20: Atende Parcialmente
A21: ITEM | B21: REFERÊNCIA | C21: QUESITO | E21: VOLUME/PÁGINA | F21: OBSERVAÇÕES
B22: IP-09 (4.1) | C22: Em relação ao projeto realizado, foi apresentado:
A23: 3 | B23: IP-09 (6.1) | C23: - texto contendo memória descritiva e metodologia utilizada? | D23: Atende Parcialmente
A24: =A23+1 -> 4 | B24: IP-09 (4.2.b) | C24: Foi apresentada a justificativa da largura da plataforma de terraplenagem adotada conforme as condições estabelecidas no item 4.2.b, pág 6, da IP-09? | D24: Atende Parcialmente
A25: =A24+1 -> 5 | B25: IP-09 (4.2.g.p5) | C25: Foi apresentado cálculo da deflexão de Projeto do sub-leito seguindo a metodologia apresentada no item 4.2 g da IP-9? | D25: Atende Parcialmente
B26: IP-09 (4.2.d.pg4) | C26: Em relação as seções transversais-tipo, foram apresentadas:
A27: 6 | C27: -seção tipo em corte, com indicação das inclinações dos taludes? | D27: Atende Parcialmente
A28: =A27+1 -> 7 | C28: -seção tipo em aterro, com indicação das inclinações dos taludes? | D28: Atende Parcialmente
A29: =A28+1 -> 8 | C29: -seção tipo particularizada, quanto a inclinação de taludes? | D29: Atende Parcialmente
A30: =A29+1 -> 9 | C30: -seção tipo particularizada, quanto a alargamento de cortes? | D30: Atende Parcialmente
A31: =A30+1 -> 10 | C31: -seção tipo particularizada, quanto a fundação de aterro? | D31: Atende Parcialmente
A32: =A31+1 -> 11 | B32: IP-09 (4.2.e.pg4) | C32: Foram apresentadas Notas de Serviço de Terraplenagem? (Modelo 1.0) | D32: Atende Parcialmente
A33: =A32+1 -> 12 | C33: Foram apresentadas a superlargura na Nota de Serviço de Terraplenagem? | D33: Atende Parcialmente
A34: =A33+1 -> 13 | B34: IP-09 (4.1) | C34: Foi identificada ocorrência de solo mole, com apresentação de estudos geotécnicos? | D34: Atende Parcialmente
A35: =A34+1 -> 14 | B35: IP-09 (4.1) | C35: Foi apresentada a quantidade de solo mole identificada? | D35: Atende Parcialmente
A36: =A35+1 -> 15 | C36: Foi apresentada a mémoria de cálculo de desmatamento? (Modelo 9.0) | D36: Atende Parcialmente
C37: Em relação a desmatamento:
A38: 16 | B38: ES-T 001 (3.8) | C38: - na largura considerada para a limpeza da faixa de domínio, foi acrescentado ao offset 2 m para cada lado? | D38: Atende Parcialmente
A39: =A38+1 -> 17 | B39: ES-T 001 (3.8) | C39: - foi descontado do item acima a largura da pista existente, quando for o caso? | D39: Atende Parcialmente
A40: =A39+1 -> 18 | B40: ES-T 001 (3.5) | C40: - para o cálculo do expurgo foi considerado a profundidade média de 20 cm? | D40: Atende Parcialmente
A41: =A40+1 -> 19 | C41: - as áreas de empréstimos laterais e caixas concentradas? | D41: Atende Parcialmente
B42: IP-09 (4.2) | C42: Com relação ao cálculo de volumes, foram apresentados:
A43: 20 | B43: IP-09 (4.2.a.pg4) | C43: - planilha de cálculo de cubação do movimento de terra sem empolamento? (Modelo 2.0) | D43: Atende Parcialmente
...

Sheet PAVIMENTAÇÃO
A1: #VALUE! | C1: SEINFRA | F1: CONFERÊNCIA
C2: GEPPI - GERÊNCIA DE PLANEJAMENTO E PROGRAMAÇÃO DE INVESTIMENTOS | F2: Nº XX/XXXX
C3: CHECKLIST - CONFERÊNCIA DE PROJETOS | F3: DATA: | H3: Tabela Resumo
C4: PROJETO DE PAVIMENTAÇÃO
A6: IDENTIFICAÇÃO | H6: Atende | I6: =COUNTIF(D$1:$D$200,"Atende") -> 1 | J6: =I6/$I$10 -> 0.013513514
A7: Objeto: | H7: Atende Parcialmente | I7: =COUNTIF(D$1:$D$200,"Atende Parcialmente") -> 68 | J7: =I7/$I$10 -> 0.91891892
A8: Rodovia/Trecho: | H8: Não Atende | I8: =COUNTIF(D$1:$D$200,"Não Atende") -> 2 | J8: =I8/$I$10 -> 0.027027027
A9: Complemento: | D9: Extensão: | H9: Não Se Aplica | I9: =COUNTIF(D$1:$D$200,"Não Se Aplica") -> 3 | J9: =I9/$I$10 -> 0.040540541
A10: Licitação: | I10: =SUM(I6:I9) -> 74 | J10: =I10/$I$10 -> 1
A11: Contratada:
A13: DOCUMENTOS DE ANÁLISE
A15: Documento entregue:
A16: Data de entrega: | D16: Versão:
A17: ENTREGA | E17: FORMATO | F17: OBSERVAÇÕES
A18: Os arquivos digitais foram entregues em mídia convencionais, como CD, pendrive, HD externo ou transferência remota registrada por e-mail ou protocolada nas DUAS VERSÕES:
A19: 1 | B19: - não editável (PDF) ? | D19: Atende Parcialmente
A20: 2 | B20: - editável de acordo com cada tipo (.doc, .xls, .dwg, etc) ? | D20: Atende Parcialmente
A21: ITEM | B21: REFERÊNCIA | C21: QUESITO | E21: VOLUME/PÁGINA
B22: IP-10 (4.1.1) | C22: Pavimentos Flexíveis e Pavimentos Semirrígidos
A23: 3 | B23: IP-10 (4.1.1) | C23: Foi apresentado o valor do Índice de Irregularidade Longitudinal (IRI), considerado nos estudos do projeto, indicando ao executor qual será o valor admissível para o IRI após a execução da obra? | D23: Não Atende
A24: =A23+1 -> 4 | B24: IP-10 (4.1.1) | C24: Foi apresentado as deflexões máximas admissíveis para cada camada do pavimento projetado, indicando ao executor quais serão os parâmetros a serem buscados ao término da obra? | D24: Não Atende
A25: =A24+1 -> 5 | B25: IP-10 (4.1.1) | C25: No caso de Número “N” USACE superior a 5x107 repetições, foi realizada o dimensionamento por, no mínimo, dois métodos de dimensionamento? | D25: Não Se Aplica
A26: =A25+1 -> 6 | B26: IP-10 (4.1.1) | C26: Foi realizada a verificação mecanicista da estrutura do pavimento dimensionado? | D26: Não Se Aplica
B27: IP-10 (4.1.2) | C27: Pavimentos Rígidos e Peças Pré-moldadas de Concreto
A28: 7 | B28: IP-10 (4.1.2) | C28: Foi apresentada a metodologia de cálculo Conforme Manual de Pavimentos Rígidos do Departamento Nacional de Infraestrutura de Transporte - DNIT? Infraestrutura de Transportes – DNIT? | D28: Não Se Aplica
A29: =A28+1 -> 8 | B29: IP-10 (4.1.2) | C29: Foi apresentada a verificação mecanicista da estrutura do pavimento dimensionado? | D29: Atende Parcialmente
B30: IP-10 (4.2) | C30: Critérios de Cálculo
B31: IP-10 (4.2.1) | C31: Capacidade de Suporte do Subleito
A32: 9 | B32: IP-10 (4.2.1) | C32: Foi apresentado estudo estatístico com o ISC dos materiais que serão utilizados na camada do subleito? | D32: Atende Parcialmente
A33: =A32+1 -> 10 | B33: IP-10 (4.2.1) | C33: O ISC do subleito adotado para o dimensionamento do pavimento está compatível com o mínimo encontrado no estudo estatístico apresentado? | D33: Atende Parcialmente
A34: =A33+1 -> 11 | B34: IP-10 (4.2.1) | C34: Os solos do subleito foram classificados quanto à resiliência, de acordo com a Tabela 2, da IP-10? | D34: Atende Parcialmente
B35: IP-10 (4.2.2) | C35: Tráfego
A36: 12 | B36: IP-10 (4.2.2) | C36: O número “N”, a ser utilizado no dimensionamento dos pavimentos, estão em conformidade com o calculado no Estudo de Tráfego apresentado? | D36: Atende Parcialmente
B37: IP-10 (4.2.3) | C37: Drenagem
A38: 13 | B38: IP-10 (4.2.3 | C38: Foi prevista a utilização de dispositivos de drenagem subsuperficial na estrutura de pavimento? | D38: Atende Parcialmente
B39: IP-10 (4.3) | C39: Parâmetros adicionais para a verificação mecanicista
A40: 14 | B40: IP-10 (4.3) | C40: A verificação mecanicista foram executadas de acordo com o item 4.3 da IP-10 usando a classificação das Tabelas 3 e 4? | D40: Atende Parcialmente
A41: =A40+1 -> 15 | B41: IP-10 (4.3.1) | C41: Para revestimento de concreto asfáltico, a verificação mecanicista foi elaborada de acordo com o item 4.3.1 da IP-10? | D41: Atende Parcialmente
A42: =A41+1 -> 16 | B42: IP-10 (4.3.2) | C42: Para o subleito, a verificação mecanicista foi elaborada de acordo com o item 4.3.2 da IP-10? | D42: Atende Parcialmente
A43: =A42+1 -> 17 | B43: IP-10 (4.3.3) | C43: Para a base ou sub-base de solo-cimento, a verificação mecanicista foi elaborada de acordo com o item 4.3.3 da IP-10? | D43: Atende Parcialmente
...

Sheet PROJ_REABIL
A1: #VALUE! | C1: SEINFRA | F1: CONFERÊNCIA
C2: GEPPI - GERÊNCIA DE PLANEJAMENTO E PROGRAMAÇÃO DE INVESTIMENTOS | F2: Nº XX/XXXX
C3: CHECKLIST - CONFERÊNCIA DE PROJETOS | F3: DATA: | H3: Tabela Resumo
C4: PROJETO REABILITAÇÃO OU RESTAURO DE RODOVIA
A6: IDENTIFICAÇÃO | H6: Atende | I6: =COUNTIF(D$1:$D$200,"Atende") -> 24 | J6: =I6/$I$10 -> 0.31578947
A7: Objeto: | H7: Atende Parcialmente | I7: =COUNTIF(D$1:$D$200,"Atende Parcialmente") -> 48 | J7: =I7/$I$10 -> 0.63157895
A8: Rodovia/Trecho: | H8: Não Atende | I8: =COUNTIF(D$1:$D$200,"Não Atende") -> 2 | J8: =I8/$I$10 -> 0.026315789
A9: Complemento: | D9: Extensão: | H9: Não Se Aplica | I9: =COUNTIF(D$1:$D$200,"Não Se Aplica") -> 2 | J9: =I9/$I$10 -> 0.026315789
A10: Licitação: | I10: =SUM(I6:I9) -> 76 | J10: =I10/$I$10 -> 1
A11: Contratada:
A13: DOCUMENTOS DE ANÁLISE
A15: Documento entregue:
A16: Data de entrega: | D16: Versão:
A17: ENTREGA | E17: FORMATO | F17: OBSERVAÇÕES
A18: Os arquivos digitais foram entregues em mídia convencionais, como CD, pendrive, HD externo ou transferência remota registrada por e-mail ou protocolada nas DUAS VERSÕES:
A19: 1 | B19: - não editável (PDF) ? | D19: Atende Parcialmente
A20: 2 | B20: - editável de acordo com cada tipo (.doc, .xls, .dwg, etc) ? | D20: Atende Parcialmente
A21: ITEM | B21: REFERÊNCIA | C21: QUESITO | E21: VOLUME/PÁGINA | F21: OBSERVAÇÕES
B22: IP-11 (4.1) | C22: Em atendimento as premissas e critérios de aplicabilidade da Reabilitação Funcional, foram apresentados texto com justificativa para os itens:
A23: 3 | B23: IP-11 (4.1) | C23: a) Os segmentos homogêneos com Recapeamento ou Rejuvenescimento tem a maior extensão percentual a ser executada? | D23: Atende
A24: =A23+1 -> 4 | B24: IP-11 (4.1) | C24: b) Os segmentos com intervenções mais pesadas, melhoramentos pontuais, não representam mais que 40% da extensão total do trecho? | D24: Atende Parcialmente
A25: 5 | B25: IP-11 (4.1) | C25: c) Rodovia está inclusa nas Classes II, III e IV? | D25: Atende Parcialmente
A26: 6 | B26: IP-11 (4.1) | C26: d) Rodovia de pista simples (mão dupla)? | D26: Atende Parcialmente
A27: 7 | B27: IP-11 (4.1) | C27: e) Rodovia de pista dupla se a solução for única e ser rejuvenescimento superficial por meio da aplicação de microrevetimento? | D27: Atende
A28: 8 | B28: IP-11 (4.1) | C28: f) Rodovia não recebeu intervenção, seja de reabilitação funcional ou de restauração, em curto espaço de tempo (05 anos)? | D28: Atende Parcialmente
A29: 9 | B29: IP-11 (4.1) | C29: g) Rodovia não tem histórico de defeitos e problemas estruturais graves? | D29: Atende Parcialmente
B30: IP-11 (4.1) | C30: Foram apresentados os dados e informações da rodovia a ser reabilitada, através de texto e/ou documentos comprovando:
A31: 10 | B31: IP-11 (4.1) | C31: a) Dados da implantação da rodovia, data, extensão, larguras, etc? | D31: Não Se Aplica
A32: =A31+1 -> 11 | B32: IP-11 (4.1) | C32: b) Levantamento histórico cadastral incluindo intervenções de conservação, manutenção e reabilitação realizadas em cada trecho? | D32: Não Se Aplica
A33: =A32+1 -> 12 | B33: IP-11 (4.1) | C33: c) Seção transversal do pavimento, com indicação do tipo e espessuras das camadas projetadas e existentes e a natureza do subleito? | D33: Atende Parcialmente
A34: =A33+1 -> 13 | B34: IP-11 (4.1) | C34: d) Tráfego existente na época do projeto (n° N)? | D34: Atende Parcialmente
A35: =A34+1 -> 14 | B35: IP-11 (4.1) | C35: e) Taxa de crescimento do tráfego (evolução do n° N)? | D35: Atende Parcialmente
B36: IP-11 (4.2.2) | C36: Foi apresentado levantamento cadastral dos elementos complementares ao projeto de reabilitação, constando de:
B37: IP-11 (4.2.2) | C37: - Para Drenagem:
A38: 15 | C38: Quadro informativo com no mínimo dados da localização (estaqueamento/km início e final), características (tipo/extensão) e o estado de conservação de cada dispositivo? | D38: Não Atende
A39: =A38+1 -> 16 | C39: Relatório fotográfico (Modelo 1.0) do cadastro executado? | D39: Não Atende
B40: IP-11 (4.2.2) | C40: - Para Sinalização Horizontal e Vertical ?
A41: 17 | C41: Quadro informativo com no mínimo dados da localização (estaqueamento/km início e final), características (tipo/extensão) e o estado de conservação de cada dispositivo? | D41: Atende Parcialmente
A42: 18 | C42: Relatório fotográfico (Modelo 1.0) do cadastro executado? | D42: Atende
B43: IP-11 (4.2.2) | C43: - Para Bueiros (obras de arte correntes) ?
...

Sheet PROJ_RESTAUR
A1: #VALUE! | C1: SEINFRA | F1: CONFERÊNCIA
C2: GEPPI - GERÊNCIA DE PLANEJAMENTO E PROGRAMAÇÃO DE INVESTIMENTOS | F2: Nº XX/XXXX
C3: CHECKLIST - CONFERÊNCIA DE PROJETOS | F3: DATA: | H3: Tabela Resumo
C4: PROJETO REABILITAÇÃO OU RESTAURO DE RODOVIA
A6: IDENTIFICAÇÃO | H6: Atende | I6: =COUNTIF(D$1:$D$295,"Atende") -> 21 | J6: =I6/$I$10 -> 0.16935484
A7: Objeto: | H7: Atende Parcialmente | I7: =COUNTIF(D$1:$D$295,"Atende Parcialmente") -> 35 | J7: =I7/$I$10 -> 0.28225806
A8: Rodovia/Trecho: | H8: Não Atende | I8: =COUNTIF(D$1:$D$295,"Não Atende") -> 31 | J8: =I8/$I$10 -> 0.25
A9: Complemento: | D9: Extensão: | H9: Não Se Aplica | I9: =COUNTIF(D$1:$D$295,"Não Se Aplica") -> 37 | J9: =I9/$I$10 -> 0.2983871
A10: Licitação: | I10: =SUM(I6:I9) -> 124 | J10: =I10/$I$10 -> 1
A11: Contratada:
A13: DOCUMENTOS DE ANÁLISE
A15: Documento entregue:
A16: Data de entrega: | D16: Versão:
A17: ENTREGA | E17: FORMATO | F17: OBSERVAÇÕES
A18: Os arquivos digitais foram entregues em mídia convencionais, como CD, pendrive, HD externo ou transferência remota registrada por e-mail ou protocolada nas DUAS VERSÕES:
