Workbook

Sheet DADOS DA OBRA
B10: DADOS DO EMPREENDIMENTO
B12: OBJETO
B13: DEMOLIÇÃO DO RESERVATÓRIO EXISTENTE, EXECUÇÃO DE RESERVATÓRIO METÁLICO ELEVADO E REESTRUTURAÇÃO (COM AMPLIAÇÃO) DA REDE DE DISTRIBUIÇÃO DE ÁGUA TRATADA EXISTENTE NO MUNICÍPIO DE MATRINCHÃ
B15: ENDEREÇO
B16: RUAS DIVERSAS
B18: Bairro | J18: Cidade | P18: UF
B19: DIVERSOS | J19: MATRINCHÃ | P19: GO
B21: Área Total de Construção | F21: BDI | J21: ENCARGOS SOCIAIS HORISTAS | N21: Data do Orçamento
F22: ='BDI NORMAL (SD) '!F21/100 -> 0.2464 | J22: ='ENCARGOS SOCIAIS'!D43 -> 0.8163 | N22: 04/11/2024
B24: Prazo | F24: BDI REDUZIDO | J24: ENCARGOS SOCIAIS MENSALISTAS | N24: Revisão
B25: 04 MESES | F25: ='BDI DIFERENCIADO (SD) '!F21/100 -> 0.1419 | J25: ='ENCARGOS SOCIAIS'!E43 -> 0.4528 | N25: 00
B27: BASE
B28: GOINFRA CIVIL-06/2024, GOINFRA RODOVIÁRIA-06/2024, SINAPI-08/2024, ORSE-06/2024, SENFRA-CE-028, SCO-08/2024, CPOS-06/2024, EMBASA-05/2024, SIURB-01/2024

Sheet CAPA - ORÇAMENTO
C9: ORÇAMENTO
C15: OBJETO: | D15: =+'DADOS DA OBRA'!B13 -> DEMOLIÇÃO DO RESERVATÓRIO EXISTENTE, EXECUÇÃO DE RESERVATÓRIO METÁLICO ELEVADO E REESTRUTURAÇÃO (COM AMPLIAÇÃO) DA REDE DE DISTRIBUIÇÃO DE ÁGUA TRATADA EXISTENTE NO MUNICÍPIO DE MATRINCHÃ
C16: LOCAL: | D16: ='ORÇAMENTO RESUMO (SD)'!C4 -> RUAS DIVERSAS, MATRINCHÃ, GO
C17: DATA: | D17: ='ORÇAMENTO RESUMO (SD)'!G3 -> 04/11/2024
C18: RESPONSÁVEL: | D18: ENGENHEIRO CIVIL THIAGO ALVES SILVA
C19: CREA: | D19: 1004804750D-GO
C20: ART: | D20: 1020240293330

Sheet CAPA - VANTAJOSIDADE
C9: VANTAJOSIDADE

Sheet VANTAJOSIDADE
B1: CÁLCULO DE VANTAJOSIDADE
B4: OBJETO: | C4: ='DADOS DA OBRA'!$B$13 -> DEMOLIÇÃO DO RESERVATÓRIO EXISTENTE, EXECUÇÃO DE RESERVATÓRIO METÁLICO ELEVADO E REESTRUTURAÇÃO (COM AMPLIAÇÃO) DA REDE DE DISTRIBUIÇÃO DE ÁGUA TRATADA EXISTENTE NO MUNICÍPIO DE MATRINCHÃ | M4: DATA: | N4: ='DADOS DA OBRA'!$N$22 -> 04/11/2024
B5: LOCAL: | C5: =+""&'DADOS DA OBRA'!$B$16&", "&'DADOS DA OBRA'!$J$19&", "&'DADOS DA OBRA'!$P$19 -> RUAS DIVERSAS, MATRINCHÃ, GO | M5: REVISÃO: | N5: ='DADOS DA OBRA'!$N$25 -> 00
B7: O cálculo de vantajosidade se baseia na comparação direta entre os valores totais do orçamento e a escolha pelo que representa o menor valor, para tanto temos:
F10: a. Orçamento com desoneração: | J10: =+'ORÇAMENTO SINTÉTICO (CD)'!L285 -> 2173707.2
F11: b. Orçamento sem desoneração: | J11: ='ORÇAMENTO SINTÉTICO (SD)'!L285 -> 2129342.8
F13: % de Diferença (a / b) | K13: =(J10/J11)-1 -> 0.020834809
F15: ORÇAMENTO COM MELHOR VANTAJOSIDADE: | J15: =+IF(J11<J10,"SEM DESONERAÇÃO","COM DESONERAÇÃO") -> SEM DESONERAÇÃO

Sheet CAPA - ORÇAMENTO (SD)
C9: ORÇAMENTO SEM DESONERAÇÃO

Sheet ORÇAMENTO RESUMO (SD)
B1: ORÇAMENTO RESUMO SEM DESONERAÇÃO
B3: OBJETO: | C3: ='DADOS DA OBRA'!$B$13 -> DEMOLIÇÃO DO RESERVATÓRIO EXISTENTE, EXECUÇÃO DE RESERVATÓRIO METÁLICO ELEVADO E REESTRUTURAÇÃO (COM AMPLIAÇÃO) DA REDE DE DISTRIBUIÇÃO DE ÁGUA TRATADA EXISTENTE NO MUNICÍPIO DE MATRINCHÃ | F3: DATA: | G3: ='DADOS DA OBRA'!$N$22 -> 04/11/2024 | J3: ENCARGOS SOCIAIS HORISTAS: | K3: =+'ENCARGOS SOCIAIS'!F43 -> 1.0884
B4: LOCAL: | C4: =+""&'DADOS DA OBRA'!$B$16&", "&'DADOS DA OBRA'!$J$19&", "&'DADOS DA OBRA'!$P$19 -> RUAS DIVERSAS, MATRINCHÃ, GO | F4: REVISÃO: | G4: ='DADOS DA OBRA'!$N$25 -> 00 | J4: ENCARGOS SOCIAIS MENSALISTAS: | K4: =+'ENCARGOS SOCIAIS'!G43 -> 0.6724
B5: BASE: | C5: ='DADOS DA OBRA'!$B$28 -> GOINFRA CIVIL-06/2024, GOINFRA RODOVIÁRIA-06/2024, SINAPI-08/2024, ORSE-06/2024, SENFRA-CE-028, SCO-08/2024, CPOS-06/2024, EMBASA-05/2024, SIURB-01/2024 | F5: PRAZO: | G5: ='DADOS DA OBRA'!$B$25 -> 04 MESES | J5: BDI OBRA: | K5: ='ORÇAMENTO SINTÉTICO (SD)'!L5 -> 0.2464
J6: BDI DIFERENCIADO: | K6: =+'ORÇAMENTO SINTÉTICO (SD)'!L6 -> 0.1419
B8: Item | E8: Descrição | K8: Total
B9: 1 | E9: ADMINISTRAÇÃO LOCAL | K9: ='ORÇAMENTO SINTÉTICO (SD)'!L9 -> 125271.4
B10: 2 | E10: CANTEIRO DE OBRAS | K10: ='ORÇAMENTO SINTÉTICO (SD)'!L14 -> 198649.82
B11: 3 | E11: SERVIÇOS PRELIMINARES | K11: ='ORÇAMENTO SINTÉTICO (SD)'!L24 -> 36340
B12: 4 | E12: DEMOLIÇÕES | K12: ='ORÇAMENTO SINTÉTICO (SD)'!L32 -> 48722.83
B13: 5 | E13: MOVIMENTO DE TERRA | K13: ='ORÇAMENTO SINTÉTICO (SD)'!L38 -> 168993.37
B14: 6 | E14: FUNDAÇÕES | K14: ='ORÇAMENTO SINTÉTICO (SD)'!L51 -> 118158.17
B15: 7 | E15: ESTRUTURA DE CONCRETO | K15: ='ORÇAMENTO SINTÉTICO (SD)'!L78 -> 192932.75
B16: 8 | E16: ALVENARIAS E PAINÉIS | K16: ='ORÇAMENTO SINTÉTICO (SD)'!L93 -> 39639.52
B17: 9 | E17: ESQUADRIAS | K17: ='ORÇAMENTO SINTÉTICO (SD)'!L97 -> 15231.45
B18: 10 | E18: IMPERMEABILIZAÇÕES | K18: ='ORÇAMENTO SINTÉTICO (SD)'!L105 -> 300.17
B19: 11 | E19: REVESTIMENTO DE PAREDES | K19: ='ORÇAMENTO SINTÉTICO (SD)'!L111 -> 3100.34
B20: 12 | E20: PAVIMENTAÇÃO | K20: ='ORÇAMENTO SINTÉTICO (SD)'!L118 -> 86073.98
B21: 13 | E21: PINTURAS | K21: ='ORÇAMENTO SINTÉTICO (SD)'!L126 -> 2262.78
B22: 14 | E22: INSTALAÇÕES ELÉTRICAS | K22: ='ORÇAMENTO SINTÉTICO (SD)'!L132 -> 27051.01
B23: 15 | E23: INSTALAÇÕES DE SPDA | K23: ='ORÇAMENTO SINTÉTICO (SD)'!L171 -> 7684.85
B24: 16 | E24: INSTALAÇÕES HIDRÁULICAS - REDE DE ABASTECIMENTO | K24: ='ORÇAMENTO SINTÉTICO (SD)'!L190 -> 1042457.7
B25: 17 | E25: SERVIÇOS COMPLEMENTARES | K25: ='ORÇAMENTO SINTÉTICO (SD)'!L279 -> 16472.64
I27: Total sem BDI | K27: ='ORÇAMENTO SINTÉTICO (SD)'!L283 -> 1749888.1
I28: Total do BDI | K28: ='ORÇAMENTO SINTÉTICO (SD)'!L284 -> 379454.71
I29: Total Geral | K29: =SUM(K9:K25) -> 2129342.8

Sheet ORÇAMENTO SINTÉTICO (SD)
B1: ORÇAMENTO SINTÉTICO SEM DESONERAÇÃO
B3: OBJETO: | C3: ='DADOS DA OBRA'!$B$13 -> DEMOLIÇÃO DO RESERVATÓRIO EXISTENTE, EXECUÇÃO DE RESERVATÓRIO METÁLICO ELEVADO E REESTRUTURAÇÃO (COM AMPLIAÇÃO) DA REDE DE DISTRIBUIÇÃO DE ÁGUA TRATADA EXISTENTE NO MUNICÍPIO DE MATRINCHÃ | F3: DATA: | G3: ='DADOS DA OBRA'!$N$22 -> 04/11/2024 | K3: ENCARGOS SOCIAIS HORISTAS: | L3: ='ENCARGOS SOCIAIS'!F43 -> 1.0884
B4: LOCAL: | C4: =+""&'DADOS DA OBRA'!$B$16&", "&'DADOS DA OBRA'!$J$19&", "&'DADOS DA OBRA'!$P$19 -> RUAS DIVERSAS, MATRINCHÃ, GO | F4: REVISÃO: | G4: ='DADOS DA OBRA'!$N$25 -> 00 | K4: ENCARGOS SOCIAIS MENSALISTAS: | L4: ='ENCARGOS SOCIAIS'!G43 -> 0.6724
B5: BASE: | C5: ='DADOS DA OBRA'!$B$28 -> GOINFRA CIVIL-06/2024, GOINFRA RODOVIÁRIA-06/2024, SINAPI-08/2024, ORSE-06/2024, SENFRA-CE-028, SCO-08/2024, CPOS-06/2024, EMBASA-05/2024, SIURB-01/2024 | F5: PRAZO: | G5: ='DADOS DA OBRA'!$B$25 -> 04 MESES | K5: BDI OBRA: | L5: ='DADOS DA OBRA'!$F$22 -> 0.2464
K6: BDI DIFERENCIADO: | L6: ='DADOS DA OBRA'!$F$25 -> 0.1419
B8: Item | C8: Código | D8: Banco | E8: Descrição | F8: Und | G8: Qtd | H8: Valor Unit | I8: Valor Total sem BDI | J8: BDI | K8: Valor Unit com BDI | L8: Valor Total com BDI
B9: 1 | E9: ADMINISTRAÇÃO LOCAL | I9: =SUBTOTAL(9,I10:I13) -> 100528.2 | L9: =SUBTOTAL(9,L10:L13) -> 125271.4
B10: 1.1 | C10: 250101 | D10: GOINFRA CIVIL | E10: ENGENHEIRO - (OBRAS CIVIS) | F10: H | G10: 300 | H10: 96.79 | I10: =TRUNC(G10 * H10, 2) -> 29037 | J10: =+$L$5 -> 0.2464 | K10: =TRUNC(H10 * (1 + J10), 2) -> 120.63 | L10: =TRUNC(G10 * K10, 2) -> 36189
B11: 1.2 | C11: 250103 | D11: GOINFRA CIVIL | E11: ENCARREGADO - (OBRAS CIVIS) | F11: H | G11: 880 | H11: 26.12 | I11: =TRUNC(G11 * H11, 2) -> 22985.6 | J11: =+$L$5 -> 0.2464 | K11: =TRUNC(H11 * (1 + J11), 2) -> 32.55 | L11: =TRUNC(G11 * K11, 2) -> 28644
B12: 1.3 | C12: 250105 | D12: GOINFRA CIVIL | E12: ALMOXARIFE - (OBRAS CIVIS) | F12: H | G12: 880 | H12: 18.76 | I12: =TRUNC(G12 * H12, 2) -> 16508.8 | J12: =+$L$5 -> 0.2464 | K12: =TRUNC(H12 * (1 + J12), 2) -> 23.38 | L12: =TRUNC(G12 * K12, 2) -> 20574.4
B13: 1.4 | C13: 250110 | D13: GOINFRA CIVIL | E13: VIGIA DE OBRAS - (NOTURNO E NO SÁBADO/DOMINGO DIURNO) - O.C. | F13: H | G13: 1760 | H13: 18.18 | I13: =TRUNC(G13 * H13, 2) -> 31996.8 | J13: =+$L$5 -> 0.2464 | K13: =TRUNC(H13 * (1 + J13), 2) -> 22.65 | L13: =TRUNC(G13 * K13, 2) -> 39864
B14: 2 | E14: CANTEIRO DE OBRAS | G14: 1 | I14: =SUBTOTAL(9,I15:I23) -> 159399.3 | K14: =TRUNC(H14 * (1 + J14), 2) -> 0 | L14: =SUBTOTAL(9,L15:L23) -> 198649.82
B15: 2.1 | C15: 020212 | D15: GOINFRA CIVIL | E15: BARRACÃO DE OBRAS PADRÃO GOINFRA ( BLOCOS,COBERTURAS,PASSARELAS E MÓVEIS), SEM ALOJAMENTO E LAVANDERIA , COM PINTURA, EM CONSONÂNCIA COM AS NR | F15: m² | G15: 235.42 | H15: 304.16 | I15: =TRUNC(G15 * H15, 2) -> 71605.34 | J15: =+$L$5 -> 0.2464 | K15: =TRUNC(H15 * (1 + J15), 2) -> 379.1 | L15: =TRUNC(G15 * K15, 2) -> 89247.72
B16: 2.2 | C16: 020303 | D16: GOINFRA CIVIL | E16: DEPÓSITO PARA CIMENTO TIPO II COM PINTURA PADRÃO GOINFRA (3,30 X 3,30 M) A=10,89 M2 (C/ REAPROV. 1 VEZ ) - INCLUSO PALETES | F16: un | G16: 1 | H16: 3684.39 | I16: =TRUNC(G16 * H16, 2) -> 3684.39 | J16: =+$L$5 -> 0.2464 | K16: =TRUNC(H16 * (1 + J16), 2) -> 4592.22 | L16: =TRUNC(G16 * K16, 2) -> 4592.22
B17: 2.3 | C17: 020400 | D17: GOINFRA CIVIL | E17: LIGAÇÃO PROVISÓRIA DE ÁGUA (INCLUSO RETIRADA DO ESGOTO SANITÁRIO) - PD. GOINFRA | F17: Un | G17: 1 | H17: 3342.16 | I17: =TRUNC(G17 * H17, 2) -> 3342.16 | J17: =+$L$5 -> 0.2464 | K17: =TRUNC(H17 * (1 + J17), 2) -> 4165.66 | L17: =TRUNC(G17 * K17, 2) -> 4165.66
B18: 2.4 | C18: 020501 | D18: GOINFRA CIVIL | E18: LIGAÇÃO PROVISÓRIA LUZ E FORÇA - PD. GOINFRA | F18: Un | G18: 1 | H18: 4829.81 | I18: =TRUNC(G18 * H18, 2) -> 4829.81 | J18: =+$L$5 -> 0.2464 | K18: =TRUNC(H18 * (1 + J18), 2) -> 6019.87 | L18: =TRUNC(G18 * K18, 2) -> 6019.87
B19: 2.5 | C19: 021602 | D19: GOINFRA CIVIL | E19: EPI/PGR/PCMSO/EXAMES/TREINAMENTOS/VISITAS - ÁREAS EDIFICADAS/COBERTAS/FECHADAS | F19: m² | G19: 451.2 | H19: 47.75 | I19: =TRUNC(G19 * H19, 2) -> 21544.8 | J19: =+$L$5 -> 0.2464 | K19: =TRUNC(H19 * (1 + J19), 2) -> 59.51 | L19: =TRUNC(G19 * K19, 2) -> 26850.91
B20: 2.6 | C20: 020200 | D20: GOINFRA CIVIL | E20: FERRAMENTAS (MANUAIS/ELÉTRICAS) E MATERIAL DE LIMPEZA PERMANENTE DA OBRA - ÁREAS EDIFICADAS/COBERTAS/FECHADAS | F20: m² | G20: 902.4 | H20: 7.39 | I20: =TRUNC(G20 * H20, 2) -> 6668.73 | J20: =+$L$5 -> 0.2464 | K20: =TRUNC(H20 * (1 + J20), 2) -> 9.21 | L20: =TRUNC(G20 * K20, 2) -> 8311.1
B21: 2.7 | C21: 021301 | D21: GOINFRA CIVIL | E21: PLACA DE OBRA PLOTADA EM CHAPA METÁLICA 26 , AFIXADA EM CAVALETES DE MADEIRA DE LEI (VIGOTAS 6X12CM) - PADRÃO GOINFRA | F21: m² | G21: 7.5 | H21: 386.74 | I21: =TRUNC(G21 * H21, 2) -> 2900.55 | J21: =+$L$5 -> 0.2464 | K21: =TRUNC(H21 * (1 + J21), 2) -> 482.03 | L21: =TRUNC(G21 * K21, 2) -> 3615.22
B22: 2.8 | C22: 271502 | D22: GOINFRA CIVIL | E22: CANTINA - (OBRAS CIVIS) | F22: RE | G22: 1736 | H22: 22.5 | I22: =TRUNC(G22 * H22, 2) -> 39060 | J22: =+$L$5 -> 0.2464 | K22: =TRUNC(H22 * (1 + J22), 2) -> 28.04 | L22: =TRUNC(G22 * K22, 2) -> 48677.44
B23: 2.9 | C23: 271500 | D23: GOINFRA CIVIL | E23: CAFE DA MANHA | F23: RE | G23: 1736 | H23: 3.32 | I23: =TRUNC(G23 * H23, 2) -> 5763.52 | J23: =+$L$5 -> 0.2464 | K23: =TRUNC(H23 * (1 + J23), 2) -> 4.13 | L23: =TRUNC(G23 * K23, 2) -> 7169.68
B24: 3 | E24: SERVIÇOS PRELIMINARES | I24: =SUBTOTAL(9,I25:I31) -> 29159.8 | K24: =TRUNC(H24 * (1 + J24), 2) -> 0 | L24: =SUBTOTAL(9,L25:L31) -> 36340
B25: 3.1 | C25: 020190 | D25: GOINFRA CIVIL | E25: LIMPEZA MECÂNICA DE TERRENO | F25: m² | G25: 592.63 | H25: 0.23 | I25: =TRUNC(G25 * H25, 2) -> 136.3 | J25: =+$L$5 -> 0.2464 | K25: =TRUNC(H25 * (1 + J25), 2) -> 0.28 | L25: =TRUNC(G25 * K25, 2) -> 165.93
B26: 3.2 | C26: 020702 | D26: GOINFRA CIVIL | E26: LOCAÇÃO DE OBRAS DE PEQUENO PORTE COM CAVALETE, INCLUSO PINTURA (FACE INTERNA DO SARRAFO 10CM) E PIQUETE COM TESTEMUNHA | F26: m² | G26: 58.89 | H26: 5.51 | I26: =TRUNC(G26 * H26, 2) -> 324.48 | J26: =+$L$5 -> 0.2464 | K26: =TRUNC(H26 * (1 + J26), 2) -> 6.86 | L26: =TRUNC(G26 * K26, 2) -> 403.98
B27: 3.3 | C27: 050250 | D27: GOINFRA CIVIL | E27: TRAÇO DE CONCRETO | F27: Un | G27: 1 | H27: 1486.62 | I27: =TRUNC(G27 * H27, 2) -> 1486.62 | J27: =+$L$5 -> 0.2464 | K27: =TRUNC(H27 * (1 + J27), 2) -> 1852.92 | L27: =TRUNC(G27 * K27, 2) -> 1852.92
B28: 3.4 | C28: 050251 | D28: GOINFRA CIVIL | E28: CORPO DE PROVA | F28: Un | G28: 42 | H28: 15 | I28: =TRUNC(G28 * H28, 2) -> 630 | J28: =+$L$5 -> 0.2464 | K28: =TRUNC(H28 * (1 + J28), 2) -> 18.69 | L28: =TRUNC(G28 * K28, 2) -> 784.98
B29: 3.5 | C29: SEINFRA-0131 | D29: Próprio | E29: PLACA DE SINALIZACAO PARA OBRA NA VIA PUBLICA, TIPO CAVALETE ARTICULADO, CONFECCIONADO EM CHAPA PET 2,4MM, FUNDO, TEXTOS E SIMBOLOS EM VINIL AUTO ADESIVO, ESTRUTURA EM ACO TRATADO A BASE DE WASH PRIMER, PINTADO PELO PROCESSO ELETROSTATICO, NAS DIMENSOES DE 0,60M X 1,00M. FORNECIMENTO. (ADAPTADO DE SCO AD 20.25.0210) | F29: un | G29: 10 | H29: 576 | I29: =TRUNC(G29 * H29, 2) -> 5760 | J29: =+$L$5 -> 0.2464 | K29: =TRUNC(H29 * (1 + J29), 2) -> 717.92 | L29: =TRUNC(G29 * K29, 2) -> 7179.2
B30: 3.6 | C30: SEINFRA-0132 | D30: Próprio | E30: CONE PLASTICO PARA SINALIZAÇÃO | F30: UN | G30: 20 | H30: 36.9 | I30: =TRUNC(G30 * H30, 2) -> 738 | J30: =+$L$5 -> 0.2464 | K30: =TRUNC(H30 * (1 + J30), 2) -> 45.99 | L30: =TRUNC(G30 * K30, 2) -> 919.8
B31: 3.7 | C31: 42301 | D31: GOINFRA RODOVIARIA | E31: MOBILIZAÇÃO / DESMOBILIZAÇÃO - CONFORME DEMONSTRATIVO | F31: un | G31: 1 | H31: 20084.4 | I31: =TRUNC(G31 * H31, 2) -> 20084.4 | J31: =+$L$5 -> 0.2464 | K31: =TRUNC(H31 * (1 + J31), 2) -> 25033.19 | L31: =TRUNC(G31 * K31, 2) -> 25033.19
B32: 4 | E32: DEMOLIÇÕES | I32: =SUBTOTAL(9,I33:I37) -> 39096.13 | K32: =TRUNC(H32 * (1 + J32), 2) -> 0 | L32: =SUBTOTAL(9,L33:L37) -> 48722.83
B33: 4.1 | C33: SEINFRA-0111 | D33: Próprio | E33: DEMOLIÇÃO DE LAJES, EM CONCRETO ARMADO, DE FORMA MECANIZADA COM MARTELETE, SEM REAPROVEITAMENTO. (ADAPTADO DE SINAPI 97629) | F33: m³ | G33: 39.14 | H33: 80.02 | I33: =TRUNC(G33 * H33, 2) -> 3131.98 | J33: =+$L$5 -> 0.2464 | K33: =TRUNC(H33 * (1 + J33), 2) -> 99.73 | L33: =TRUNC(G33 * K33, 2) -> 3903.43
B34: 4.2 | C34: SEINFRA-0112 | D34: Próprio | E34: DEMOLIÇÃO DE PILARES E VIGAS EM CONCRETO ARMADO, DE FORMA MECANIZADA COM MARTELETE, SEM REAPROVEITAMENTO. (ADAPTADO DE SINAPI 97627) | F34: m³ | G34: 12 | H34: 171.85 | I34: =TRUNC(G34 * H34, 2) -> 2062.2 | J34: =+$L$5 -> 0.2464 | K34: =TRUNC(H34 * (1 + J34), 2) -> 214.19 | L34: =TRUNC(G34 * K34, 2) -> 2570.28
B35: 4.3 | C35: 020130 | D35: GOINFRA CIVIL | E35: DEMOLIÇÃO MANUAL DE ALAMBRADO - POSTE DE CONCRETO/TELA/VIGA COM TRANSPORTE ATE CAÇAMBA E CARGA | F35: m | G35: 57.7 | H35: 20.34 | I35: =TRUNC(G35 * H35, 2) -> 1173.61 | J35: =+$L$5 -> 0.2464 | K35: =TRUNC(H35 * (1 + J35), 2) -> 25.35 | L35: =TRUNC(G35 * K35, 2) -> 1462.69
B36: 4.4 | C36: SEINFRA-0117 | D36: Próprio | E36: DEMOLIÇÃO PARCIAL DE PAVIMENTO ASFÁLTICO, DE FORMA MECANIZADA, SEM REAPROVEITAMENTO. (ADAPTADO DE SINAPI 97636) | F36: m² | G36: 241.75 | H36: 21.11 | I36: =TRUNC(G36 * H36, 2) -> 5103.34 | J36: =+$L$5 -> 0.2464 | K36: =TRUNC(H36 * (1 + J36), 2) -> 26.31 | L36: =TRUNC(G36 * K36, 2) -> 6360.44
B37: 4.5 | C37: 030101 | D37: GOINFRA CIVIL | E37: TRANSPORTE DE ENTULHO EM CAMINHÃO INCLUSO A CARGA MANUAL | F37: m³ | G37: 584.78 | H37: 47.24 | I37: =TRUNC(G37 * H37, 2) -> 27625 | J37: =+$L$5 -> 0.2464 | K37: =TRUNC(H37 * (1 + J37), 2) -> 58.87 | L37: =TRUNC(G37 * K37, 2) -> 34425.99
B38: 5 | E38: MOVIMENTO DE TERRA | I38: =SUBTOTAL(9,I39:I50) -> 135659.17 | K38: =TRUNC(H38 * (1 + J38), 2) -> 0 | L38: =SUBTOTAL(9,L39:L50) -> 168993.37
B39: 5.1 | C39: 040101 | D39: GOINFRA CIVIL | E39: ESCAVACAO MANUAL DE VALAS < 1 MTS. (OBRAS CIVIS) | F39: m³ | G39: 33.02 | H39: 37.51 | I39: =TRUNC(G39 * H39, 2) -> 1238.58 | J39: =+$L$5 -> 0.2464 | K39: =TRUNC(H39 * (1 + J39), 2) -> 46.75 | L39: =TRUNC(G39 * K39, 2) -> 1543.68
B40: 5.2 | C40: 040103 | D40: GOINFRA CIVIL | E40: ESCAVAÇAO MANUAL DE VALAS PROF. 1 A 2 M | F40: m³ | G40: 51.93 | H40: 47.5 | I40: =TRUNC(G40 * H40, 2) -> 2466.67 | J40: =+$L$5 -> 0.2464 | K40: =TRUNC(H40 * (1 + J40), 2) -> 59.2 | L40: =TRUNC(G40 * K40, 2) -> 3074.25
B41: 5.3 | C41: 041004 | D41: GOINFRA CIVIL | E41: ESCAVACAO MECANICA | F41: m³ | G41: 4125.12 | H41: 2.22 | I41: =TRUNC(G41 * H41, 2) -> 9157.76 | J41: =+$L$5 -> 0.2464 | K41: =TRUNC(H41 * (1 + J41), 2) -> 2.76 | L41: =TRUNC(G41 * K41, 2) -> 11385.33
B42: 5.4 | C42: 050901 | D42: GOINFRA CIVIL | E42: ESCAVACAO MANUAL DE VALAS (SAPATAS/BLOCOS) | F42: m³ | G42: 33.9 | H42: 47.5 | I42: =TRUNC(G42 * H42, 2) -> 1610.25 | J42: =+$L$5 -> 0.2464 | K42: =TRUNC(H42 * (1 + J42), 2) -> 59.2 | L42: =TRUNC(G42 * K42, 2) -> 2006.88
...

Sheet COMPOSIÇÕES (SD)
A1: COMPOSIÇÃO DE PREÇOS UNITÁRIOS SEM DESONERAÇÃO
A3: OBJETO: | B3: ='DADOS DA OBRA'!$B$13 -> DEMOLIÇÃO DO RESERVATÓRIO EXISTENTE, EXECUÇÃO DE RESERVATÓRIO METÁLICO ELEVADO E REESTRUTURAÇÃO (COM AMPLIAÇÃO) DA REDE DE DISTRIBUIÇÃO DE ÁGUA TRATADA EXISTENTE NO MUNICÍPIO DE MATRINCHÃ | F3: DATA: | G3: ='DADOS DA OBRA'!$N$22 -> 04/11/2024 | J3: ENCARGOS SOCIAIS HORISTAS: | K3: =+'ORÇAMENTO SINTÉTICO (SD)'!L3 -> 1.0884
A4: LOCAL: | B4: =+""&'DADOS DA OBRA'!$B$16&", "&'DADOS DA OBRA'!$J$19&", "&'DADOS DA OBRA'!$P$19 -> RUAS DIVERSAS, MATRINCHÃ, GO | F4: REVISÃO: | G4: ='DADOS DA OBRA'!$N$25 -> 00 | J4: ENCARGOS SOCIAIS MENSALISTAS: | K4: =+'ORÇAMENTO SINTÉTICO (SD)'!L4 -> 0.6724
A5: BASE: | B5: ='DADOS DA OBRA'!$B$28 -> GOINFRA CIVIL-06/2024, GOINFRA RODOVIÁRIA-06/2024, SINAPI-08/2024, ORSE-06/2024, SENFRA-CE-028, SCO-08/2024, CPOS-06/2024, EMBASA-05/2024, SIURB-01/2024 | F5: PRAZO : | G5: ='DADOS DA OBRA'!$B$25 -> 04 MESES | J5: BDI OBRA: | K5: =+'ORÇAMENTO SINTÉTICO (SD)'!L5 -> 0.2464
J6: BDI DIFERENCIADO: | K6: =+'ORÇAMENTO SINTÉTICO (SD)'!L6 -> 0.1419
A8: Composições Principais
A9: 1.1 | B9: Código | C9: Banco | D9: Descrição | E9: Tipo | G9: Und | H9: Quant. | I9: Porcent. | J9: Valor Unit | K9: Total
A10: Composição | B10: 250101 | C10: AGETOP CIVIL | D10: ENGENHEIRO - (OBRAS CIVIS) | E10: 2501 | G10: H | H10: 1 | J10: 96.79 | K10: 96.79
A11: Insumo | B11: 0001 | C11: AGETOP CIVIL | D11: ENGENHEIRO | E11: Mão de Obra | G11: MES | H11: 1 | J11: 96.79 | K11: 96.79
E12: MO sem LS => | F12: 96.79 | G12: LS => | H12: 0 | I12: MO com LS => | J12: 96.79
E13: Valor do BDI => | F13: 23.849056 | H13: Valor com BDI => | J13: 120.63
A15: 1.2 | B15: Código | C15: Banco | D15: Descrição | E15: Tipo | G15: Und | H15: Quant. | I15: Porcent. | J15: Valor Unit | K15: Total
A16: Composição | B16: 250103 | C16: AGETOP CIVIL | D16: ENCARREGADO - (OBRAS CIVIS) | E16: 2501 | G16: H | H16: 1 | J16: 26.12 | K16: 26.12
A17: Insumo | B17: 0002 | C17: AGETOP CIVIL | D17: ENCARREGADO | E17: Mão de Obra | G17: MES | H17: 1 | J17: 26.12 | K17: 26.12
E18: MO sem LS => | F18: 26.12 | G18: LS => | H18: 0 | I18: MO com LS => | J18: 26.12
E19: Valor do BDI => | F19: 6.435968 | H19: Valor com BDI => | J19: 32.55
A21: 1.3 | B21: Código | C21: Banco | D21: Descrição | E21: Tipo | G21: Und | H21: Quant. | I21: Porcent. | J21: Valor Unit | K21: Total
A22: Composição | B22: 250105 | C22: AGETOP CIVIL | D22: ALMOXARIFE - (OBRAS CIVIS) | E22: 2501 | G22: H | H22: 1 | J22: 18.76 | K22: 18.76
A23: Insumo | B23: 0017 | C23: AGETOP CIVIL | D23: ALMOXARIFE/APONTADOR | E23: Mão de Obra | G23: MES | H23: 1 | J23: 18.76 | K23: 18.76
E24: MO sem LS => | F24: 18.76 | G24: LS => | H24: 0 | I24: MO com LS => | J24: 18.76
E25: Valor do BDI => | F25: 4.622464 | H25: Valor com BDI => | J25: 23.38
A27: 1.4 | B27: Código | C27: Banco | D27: Descrição | E27: Tipo | G27: Und | H27: Quant. | I27: Porcent. | J27: Valor Unit | K27: Total
A28: Composição | B28: 250110 | C28: AGETOP CIVIL | D28: VIGIA DE OBRAS - (NOTURNO E NO SÁBADO/DOMINGO DIURNO) - O.C. | E28: 2501 | G28: H | H28: 1 | J28: 18.18 | K28: 18.18
A29: Insumo | B29: 0037 | C29: AGETOP CIVIL | D29: VIGIA DE OBRA NOTURNO-SÁBADO/DOMINGO DIURNO (SALÁRIO X 1,5864) | E29: Mão de Obra | G29: MES | H29: 1 | J29: 18.18 | K29: 18.18
E30: MO sem LS => | F30: 18.18 | G30: LS => | H30: 0 | I30: MO com LS => | J30: 18.18
E31: Valor do BDI => | F31: 4.479552 | H31: Valor com BDI => | J31: 22.65
A33: 2.1 | B33: Código | C33: Banco | D33: Descrição | E33: Tipo | G33: Und | H33: Quant. | I33: Porcent. | J33: Valor Unit | K33: Total
A34: Composição | B34: 020212 | C34: AGETOP CIVIL | D34: BARRACÃO DE OBRAS PADRÃO GOINFRA ( BLOCOS,COBERTURAS,PASSARELAS E MÓVEIS), SEM ALOJAMENTO E LAVANDERIA , COM PINTURA, EM CONSONÂNCIA COM AS NR | E34: 202 | G34: m² | H34: 1 | J34: 304.16 | K34: 304.16
A35: Insumo | B35: 0005 | C35: AGETOP CIVIL | D35: SERVENTE | E35: Mão de Obra | G35: H | H35: 0.1114 | J35: 14.62 | K35: 1.62
A36: Insumo | B36: 0004 | C36: AGETOP CIVIL | D36: PEDREIRO | E36: Mão de Obra | G36: H | H36: 0.0768 | J36: 23.41 | K36: 1.79
A37: Insumo | B37: 0018 | C37: AGETOP CIVIL | D37: PINTOR | E37: Mão de Obra | G37: H | H37: 0.5639 | J37: 23.41 | K37: 13.2
A38: Insumo | B38: 0032 | C38: AGETOP CIVIL | D38: OPERADOR DE BETONEIRA | E38: Mão de Obra | G38: H | H38: 0.0323 | J38: 17.56 | K38: 0.56
A39: Insumo | B39: 0025 | C39: AGETOP CIVIL | D39: OFICIAL "B" | E39: Mão de Obra | G39: H | H39: 0.2863 | J39: 23.41 | K39: 6.7
A40: Insumo | B40: 0012 | C40: AGETOP CIVIL | D40: ELETRICISTA | E40: Mão de Obra | G40: H | H40: 0.0882 | J40: 23.41 | K40: 2.06
A41: Insumo | B41: 0011 | C41: AGETOP CIVIL | D41: ENCANADOR | E41: Mão de Obra | G41: H | H41: 0.1697 | J41: 23.41 | K41: 3.97
A42: Insumo | B42: 0008 | C42: AGETOP CIVIL | D42: AJUDANTE | E42: Mão de Obra | G42: H | H42: 1.3633 | J42: 16.04 | K42: 21.86
A43: Insumo | B43: 0020 | C43: AGETOP CIVIL | D43: CALHEIRO | E43: Mão de Obra | G43: H | H43: 0.0002 | J43: 21.01 | K43: 0
A44: Insumo | B44: 0010 | C44: AGETOP CIVIL | D44: CARPINTEIRO | E44: Mão de Obra | G44: H | H44: 0.7784 | J44: 23.41 | K44: 18.22
A45: Insumo | B45: 0023 | C45: AGETOP CIVIL | D45: APLICADOR DE EPOXI | E45: Mão de Obra | G45: H | H45: 0.0016 | J45: 23.41 | K45: 0.03
A46: Insumo | B46: H264 | C46: AGETOP CIVIL | D46: VASO SANITARIO CONVENCIONAL | E46: Material | G46: un | H46: 0.0048 | J46: 265.44 | K46: 1.27
...

Sheet CRONOGRAMA (SD)
B1: CRONOGRAMA FISICO-FINANCEIRO SEM DESONERAÇÃO
B8: OBJETO: | C8: ='DADOS DA OBRA'!$B$13 -> DEMOLIÇÃO DO RESERVATÓRIO EXISTENTE, EXECUÇÃO DE RESERVATÓRIO METÁLICO ELEVADO E REESTRUTURAÇÃO (COM AMPLIAÇÃO) DA REDE DE DISTRIBUIÇÃO DE ÁGUA TRATADA EXISTENTE NO MUNICÍPIO DE MATRINCHÃ | Q8: DATA: | R8: =+'DADOS DA OBRA'!$N$22 -> 04/11/2024
B9: LOCAL: | C9: =+""&'DADOS DA OBRA'!$B$16&", "&'DADOS DA OBRA'!$B$19&", "&'DADOS DA OBRA'!$J$19&", "&'DADOS DA OBRA'!$P$19 -> RUAS DIVERSAS, DIVERSOS, MATRINCHÃ, GO | Q9: REVISÃO: | R9: ='DADOS DA OBRA'!$N$25 -> 00
B11: ITEM | C11: SERVIÇO | D11: VALORES | E11: MESES
E12: MÊS 01 | I12: MÊS 02 | M12: MÊS 03 | Q12: MÊS 04
B14: ='ORÇAMENTO RESUMO (SD)'!B9 -> 1 | C14: ='ORÇAMENTO RESUMO (SD)'!E9 -> ADMINISTRAÇÃO LOCAL | D14: ='ORÇAMENTO RESUMO (SD)'!K9 -> 125271.4 | E14: =E16*$D14 -> 34006.162 | I14: =I16*$D14 -> 37956.928 | M14: =M16*$D14 -> 27594.736 | Q14: =Q16*$D14 -> 25713.574
D16: =D14/$D$65 -> 0.058831017 | E16: =+SUM(E20,E23,E26,E29,E32,E35,E38,E41,E44,E47,E50,E53,E56,E59,E62)/($D$65-$D$14-$D$17) -> 0.2714599 | I16: =+SUM(I20,I23,I26,I29,I32,I35,I38,I41,I44,I47,I50,I53,I56,I59,I62)/($D$65-$D$14-$D$17) -> 0.30299756 | M16: =+SUM(M20,M23,M26,M29,M32,M35,M38,M41,M44,M47,M50,M53,M56,M59,M62)/($D$65-$D$14-$D$17) -> 0.22027961 | Q16: =+SUM(Q20,Q23,Q26,Q29,Q32,Q35,Q38,Q41,Q44,Q47,Q50,Q53,Q56,Q59,Q62)/($D$65-$D$14-$D$17) -> 0.20526293
B17: ='ORÇAMENTO RESUMO (SD)'!B10 -> 2 | C17: ='ORÇAMENTO RESUMO (SD)'!E10 -> CANTEIRO DE OBRAS | D17: ='ORÇAMENTO RESUMO (SD)'!K10 -> 198649.82 | E17: =E19*$D17 -> 53925.46 | I17: =I19*$D17 -> 60190.411 | M17: =M19*$D17 -> 43758.506 | Q17: =Q19*$D17 -> 40775.444
D19: =D17/$D$65 -> 0.093291612 | E19: =E16 -> 0.2714599 | I19: =I16 -> 0.30299756 | M19: =M16 -> 0.22027961 | Q19: =Q16 -> 0.20526293
B20: ='ORÇAMENTO RESUMO (SD)'!B11 -> 3 | C20: ='ORÇAMENTO RESUMO (SD)'!E11 -> SERVIÇOS PRELIMINARES | D20: ='ORÇAMENTO RESUMO (SD)'!K11 -> 36340 | E20: =E22*$D20 -> 23621 | I20: =I22*$D20 -> 0 | M20: =M22*$D20 -> 0 | Q20: =Q22*$D20 -> 12719
D22: =D20/$D$65 -> 0.017066299 | E22: 0.65 | Q22: 0.35
B23: ='ORÇAMENTO RESUMO (SD)'!B12 -> 4 | C23: ='ORÇAMENTO RESUMO (SD)'!E12 -> DEMOLIÇÕES | D23: ='ORÇAMENTO RESUMO (SD)'!K12 -> 48722.83 | E23: =E25*$D23 -> 12180.708 | I23: =I25*$D23 -> 12180.708 | M23: =M25*$D23 -> 12180.708 | Q23: =Q25*$D23 -> 12180.708
D25: =D23/$D$65 -> 0.022881628 | E25: 0.25 | I25: 0.25 | M25: 0.25 | Q25: 0.25
B26: ='ORÇAMENTO RESUMO (SD)'!B13 -> 5 | C26: ='ORÇAMENTO RESUMO (SD)'!E13 -> MOVIMENTO DE TERRA | D26: ='ORÇAMENTO RESUMO (SD)'!K13 -> 168993.37 | E26: =E28*$D26 -> 67597.348 | I26: =I28*$D26 -> 33798.674 | M26: =M28*$D26 -> 33798.674 | Q26: =Q28*$D26 -> 33798.674
D28: =D26/$D$65 -> 0.079364099 | E28: 0.4 | I28: 0.2 | M28: 0.2 | Q28: 0.2
B29: ='ORÇAMENTO RESUMO (SD)'!B14 -> 6 | C29: ='ORÇAMENTO RESUMO (SD)'!E14 -> FUNDAÇÕES | D29: ='ORÇAMENTO RESUMO (SD)'!K14 -> 118158.17 | E29: =E31*$D29 -> 118158.17 | I29: =I31*$D29 -> 0 | M29: =M31*$D29 -> 0 | Q29: =Q31*$D29 -> 0
D31: =D29/$D$65 -> 0.055490441 | E31: 1
B32: ='ORÇAMENTO RESUMO (SD)'!B15 -> 7 | C32: ='ORÇAMENTO RESUMO (SD)'!E15 -> ESTRUTURA DE CONCRETO | D32: ='ORÇAMENTO RESUMO (SD)'!K15 -> 192932.75 | E32: =E34*$D32 -> 0 | I32: =I34*$D32 -> 192932.75 | M32: =M34*$D32 -> 0 | Q32: =Q34*$D32 -> 0
D34: =D32/$D$65 -> 0.090606713 | I34: 1
B35: ='ORÇAMENTO RESUMO (SD)'!B16 -> 8 | C35: ='ORÇAMENTO RESUMO (SD)'!E16 -> ALVENARIAS E PAINÉIS | D35: ='ORÇAMENTO RESUMO (SD)'!K16 -> 39639.52 | E35: =E37*$D35 -> 7927.904 | I35: =I37*$D35 -> 31711.616 | M35: =M37*$D35 -> 0 | Q35: =Q37*$D35 -> 0
D37: =D35/$D$65 -> 0.018615847 | E37: 0.2 | I37: 0.8
B38: ='ORÇAMENTO RESUMO (SD)'!B17 -> 9 | C38: ='ORÇAMENTO RESUMO (SD)'!E17 -> ESQUADRIAS | D38: ='ORÇAMENTO RESUMO (SD)'!K17 -> 15231.45 | E38: =E40*$D38 -> 0 | I38: =I40*$D38 -> 0 | M38: =M40*$D38 -> 15231.45 | Q38: =Q40*$D38 -> 0
D40: =D38/$D$65 -> 0.0071531227 | M40: 1
B41: ='ORÇAMENTO RESUMO (SD)'!B18 -> 10 | C41: ='ORÇAMENTO RESUMO (SD)'!E18 -> IMPERMEABILIZAÇÕES | D41: ='ORÇAMENTO RESUMO (SD)'!K18 -> 300.17 | E41: =E43*$D41 -> 0 | I41: =I43*$D41 -> 0 | M41: =M43*$D41 -> 300.17 | Q41: =Q43*$D41 -> 0
D43: =D41/$D$65 -> 0.00014096838 | M43: 1
B44: ='ORÇAMENTO RESUMO (SD)'!B19 -> 11 | C44: ='ORÇAMENTO RESUMO (SD)'!E19 -> REVESTIMENTO DE PAREDES | D44: ='ORÇAMENTO RESUMO (SD)'!K19 -> 3100.34 | E44: =E46*$D44 -> 0 | I44: =I46*$D44 -> 0 | M44: =M46*$D44 -> 3100.34 | Q44: =Q46*$D44 -> 0
D46: =D44/$D$65 -> 0.0014560079 | M46: 1
B47: ='ORÇAMENTO RESUMO (SD)'!B20 -> 12 | C47: ='ORÇAMENTO RESUMO (SD)'!E20 -> PAVIMENTAÇÃO | D47: ='ORÇAMENTO RESUMO (SD)'!K20 -> 86073.98 | E47: =E49*$D47 -> 0 | I47: =I49*$D47 -> 0 | M47: =M49*$D47 -> 43036.99 | Q47: =Q49*$D47 -> 43036.99
D49: =D47/$D$65 -> 0.040422792 | M49: 0.5 | Q49: 0.5
B50: ='ORÇAMENTO RESUMO (SD)'!B21 -> 13 | C50: ='ORÇAMENTO RESUMO (SD)'!E21 -> PINTURAS | D50: ='ORÇAMENTO RESUMO (SD)'!K21 -> 2262.78 | E50: =E52*$D50 -> 0 | I50: =I52*$D50 -> 0 | M50: =M52*$D50 -> 2262.78 | Q50: =Q52*$D50 -> 0
D52: =D50/$D$65 -> 0.0010626659 | M52: 1
B53: ='ORÇAMENTO RESUMO (SD)'!B22 -> 14 | C53: ='ORÇAMENTO RESUMO (SD)'!E22 -> INSTALAÇÕES ELÉTRICAS | D53: ='ORÇAMENTO RESUMO (SD)'!K22 -> 27051.01 | E53: =E55*$D53 -> 0 | I53: =I55*$D53 -> 8115.303 | M53: =M55*$D53 -> 18935.707 | Q53: =Q55*$D53 -> 0
D55: =D53/$D$65 -> 0.012703925 | I55: 0.3 | M55: 0.7
B56: ='ORÇAMENTO RESUMO (SD)'!B23 -> 15 | C56: ='ORÇAMENTO RESUMO (SD)'!E23 -> INSTALAÇÕES DE SPDA | D56: ='ORÇAMENTO RESUMO (SD)'!K23 -> 7684.85 | E56: =E58*$D56 -> 0 | I56: =I58*$D56 -> 7684.85 | M56: =M58*$D56 -> 0 | Q56: =Q58*$D56 -> 0
D58: =D56/$D$65 -> 0.0036090244 | I58: 1
B59: ='ORÇAMENTO RESUMO (SD)'!B24 -> 16 | C59: ='ORÇAMENTO RESUMO (SD)'!E24 -> INSTALAÇÕES HIDRÁULICAS - REDE DE ABASTECIMENTO | D59: ='ORÇAMENTO RESUMO (SD)'!K24 -> 1042457.7 | E59: =E61*$D59 -> 260614.42 | I59: =I61*$D59 -> 260614.42 | M59: =M61*$D59 -> 260614.42 | Q59: =Q61*$D59 -> 260614.42
D61: =D59/$D$65 -> 0.48956782 | E61: 0.25 | I61: 0.25 | M61: 0.25 | Q61: 0.25
B62: ='ORÇAMENTO RESUMO (SD)'!B25 -> 17 | C62: ='ORÇAMENTO RESUMO (SD)'!E25 -> SERVIÇOS COMPLEMENTARES | D62: ='ORÇAMENTO RESUMO (SD)'!K25 -> 16472.64 | E62: =E64*$D62 -> 0 | I62: =I64*$D62 -> 0 | M62: =M64*$D62 -> 8236.32 | Q62: =Q64*$D62 -> 8236.32
D64: =D62/$D$65 -> 0.0077360208 | M64: 0.5 | Q64: 0.5
C65: TOTAL SIMPLES COM BDI | D65: =SUM(D62,D59,D56,D53,D50,D47,D44,D41,D38,D35,D32,D29,D26,D23,D20,D17,D14) -> 2129342.8 | E65: =SUM(E62,E59,E56,E53,E50,E47,E44,E41,E38,E35,E32,E29,E26,E23,E20,E17,E14) -> 578031.17 | F65: =SUM(#REF!,#REF!,#REF!,#REF!,#REF!,#REF!,F62,F59,F56,F53,F50,F47,F44,F41,F38,F35,F32,F29,F26,F23,F20,F17,F14) -> #REF! | G65: =SUM(#REF!,#REF!,#REF!,#REF!,#REF!,#REF!,G62,G59,G56,G53,G50,G47,G44,G41,G38,G35,G32,G29,G26,G23,G20,G17,G14) -> #REF! | H65: =SUM(#REF!,#REF!,#REF!,#REF!,#REF!,#REF!,H62,H59,H56,H53,H50,H47,H44,H41,H38,H35,H32,H29,H26,H23,H20,H17,H14) -> #REF! | I65: =SUM(I62,I59,I56,I53,I50,I47,I44,I41,I38,I35,I32,I29,I26,I23,I20,I17,I14) -> 645185.66 | J65: =SUM(#REF!,#REF!,#REF!,#REF!,#REF!,#REF!,J62,J59,J56,J53,J50,J47,J44,J41,J38,J35,J32,J29,J26,J23,J20,J17,J14) -> #REF! | K65: =SUM(#REF!,#REF!,#REF!,#REF!,#REF!,#REF!,K62,K59,K56,K53,K50,K47,K44,K41,K38,K35,K32,K29,K26,K23,K20,K17,K14) -> #REF! | L65: =SUM(#REF!,#REF!,#REF!,#REF!,#REF!,#REF!,L62,L59,L56,L53,L50,L47,L44,L41,L38,L35,L32,L29,L26,L23,L20,L17,L14) -> #REF! | M65: =SUM(M62,M59,M56,M53,M50,M47,M44,M41,M38,M35,M32,M29,M26,M23,M20,M17,M14) -> 469050.8 | N65: =SUM(#REF!,#REF!,#REF!,#REF!,#REF!,#REF!,N62,N59,N56,N53,N50,N47,N44,N41,N38,N35,N32,N29,N26,N23,N20,N17,N14) -> #REF! | O65: =SUM(#REF!,#REF!,#REF!,#REF!,#REF!,#REF!,O62,O59,O56,O53,O50,O47,O44,O41,O38,O35,O32,O29,O26,O23,O20,O17,O14) -> #REF! | P65: =SUM(#REF!,#REF!,#REF!,#REF!,#REF!,#REF!,P62,P59,P56,P53,P50,P47,P44,P41,P38,P35,P32,P29,P26,P23,P20,P17,P14) -> #REF! | Q65: =SUM(Q62,Q59,Q56,Q53,Q50,Q47,Q44,Q41,Q38,Q35,Q32,Q29,Q26,Q23,Q20,Q17,Q14) -> 437075.13 | R65: =SUM(#REF!,#REF!,#REF!,#REF!,#REF!,#REF!,R62,R59,R56,R53,R50,R47,R44,R41,R38,R35,R32,R29,R26,R23,R20,R17,R14) -> #REF! | S65: =SUM(#REF!,#REF!,#REF!,#REF!,#REF!,#REF!,S62,S59,S56,S53,S50,S47,S44,S41,S38,S35,S32,S29,S26,S23,S20,S17,S14) -> #REF! | T65: =SUM(#REF!,#REF!,#REF!,#REF!,#REF!,#REF!,T62,T59,T56,T53,T50,T47,T44,T41,T38,T35,T32,T29,T26,T23,T20,T17,T14) -> #REF!
...

Sheet CURVA ABC DE SERVIÇOS (SD)
B1: CURVA ABC DE SERVIÇOS SEM DESONERAÇÃO
B3: OBJETO: | C3: ='DADOS DA OBRA'!$B$13 -> DEMOLIÇÃO DO RESERVATÓRIO EXISTENTE, EXECUÇÃO DE RESERVATÓRIO METÁLICO ELEVADO E REESTRUTURAÇÃO (COM AMPLIAÇÃO) DA REDE DE DISTRIBUIÇÃO DE ÁGUA TRATADA EXISTENTE NO MUNICÍPIO DE MATRINCHÃ | E3: DATA: | F3: ='DADOS DA OBRA'!$N$22 -> 04/11/2024 | I3: ENCARGOS SOCIAIS HORISTAS: | J3: =+'ORÇAMENTO SINTÉTICO (SD)'!L3 -> 1.0884
B4: LOCAL: | C4: =+""&'DADOS DA OBRA'!$B$16&", "&'DADOS DA OBRA'!$J$19&", "&'DADOS DA OBRA'!$P$19 -> RUAS DIVERSAS, MATRINCHÃ, GO | E4: REVISÃO: | F4: ='DADOS DA OBRA'!$N$25 -> 00 | I4: ENCARGOS SOCIAIS MENSALISTAS: | J4: =+'ORÇAMENTO SINTÉTICO (SD)'!L4 -> 0.6724
B5: BASE: | C5: ='DADOS DA OBRA'!$B$28 -> GOINFRA CIVIL-06/2024, GOINFRA RODOVIÁRIA-06/2024, SINAPI-08/2024, ORSE-06/2024, SENFRA-CE-028, SCO-08/2024, CPOS-06/2024, EMBASA-05/2024, SIURB-01/2024 | E5: PRAZO: | F5: ='DADOS DA OBRA'!$B$25 -> 04 MESES | I5: BDI OBRA: | J5: =+'ORÇAMENTO SINTÉTICO (SD)'!L5 -> 0.2464
I6: BDI DIFERENCIADO: | J6: =+'ORÇAMENTO SINTÉTICO (SD)'!L6 -> 0.1419
B8: Banco | C8: Código | D8: Descrição | E8: Und | F8: Quant. | G8: Valor Unit | H8: Total | I8: Peso (%) | J8: Peso Acumulado (%)
B9: Próprio | C9: SEINFRA-0133 | D9: RESERVATÓRIO METÁLICO, CAPACIDADE 230 M3, INCLUSO TRANSPORTE, IÇAMENTO E MONTAGEM, CONFORME PROJETO | E9: UN | F9: 1 | G9: 561.222,73 | H9: =+TRUNC(F9*G9,2) -> 561222.73 | I9: =+H9/$G$236 -> 0.26356617 | J9: =+I9 -> 0.26356617
B10: Próprio | C10: SEINFRA-0051 | D10: ASSENTAMENTO E FORNECIMENTO DE TUBO DE PVC PBA PARA REDE DE ÁGUA, DN 50, JUNTA ELÁSTICA INTEGRADA, INSTALADO EM LOCAL COM NÍVEL BAIXO DE INTERFERÊNCIAS (INCLUI FORNECIMENTO). (ADAPTADO DE SINAPI 105285) | E10: UN | F10: 4031 | G10: 26.52 | H10: =+TRUNC(F10*G10,2) -> 106902.12 | I10: =+H10/$G$236 -> 0.05020428 | J10: =+J9+I10 -> 0.31377045
B11: AGETOP CIVIL | C11: 020212 | D11: BARRACÃO DE OBRAS PADRÃO GOINFRA ( BLOCOS,COBERTURAS,PASSARELAS E MÓVEIS), SEM ALOJAMENTO E LAVANDERIA , COM PINTURA, EM CONSONÂNCIA COM AS NR | E11: m² | F11: 235.42 | G11: 379.1 | H11: =+TRUNC(F11*G11,2) -> 89247.72 | I11: =+H11/$G$236 -> 0.041913271 | J11: =+J10+I11 -> 0.35568373
B12: AGETOP CIVIL | C12: 060308 | D12: ACO CA 50-A - 20,0 MM (3/4") - (OBRAS CIVIS) | E12: Kg | F12: 6101.94 | G12: 14.18 | H12: =+TRUNC(F12*G12,2) -> 86525.5 | I12: =+H12/$G$236 -> 0.040634839 | J12: =+J11+I12 -> 0.39631856
B13: Próprio | C13: SEINFRA-0078 | D13: TUBO DE PVC RIGIDO - DEFOFO, PARA ADUCAO E DISTRIBUICAO DE AGUAS, COM DIAMETRO NOMINAL DE 150MM, INCLUSIVE ANEL DE BORRACHA. (ADAPTADO DE SCO DR 05.45.0203) | E13: m | F13: 643 | G13: 119.65 | H13: =+TRUNC(F13*G13,2) -> 76934.95 | I13: =+H13/$G$236 -> 0.036130843 | J13: =+J12+I13 -> 0.43244941
B14: AGETOP RODOVIARIA | C14: 44205 | D14: PRÉ-MISTURADO A FRIO - PMF (PAV.URB.) | E14: m³ | F14: 241.75 | G14: 304.25 | H14: =+TRUNC(F14*G14,2) -> 73552.43 | I14: =+H14/$G$236 -> 0.034542316 | J14: =+J13+I14 -> 0.46699172
B15: AGETOP CIVIL | C15: 060517 | D15: PREPARO COM BETONEIRA E TRANSPORTE MANUAL DE CONCRETO FCK=25 MPA | E15: m³ | F15: 81.92 | G15: 653.35 | H15: =+TRUNC(F15*G15,2) -> 53522.43 | I15: =+H15/$G$236 -> 0.025135657 | J15: =+J14+I15 -> 0.49212738
B16: AGETOP CIVIL | C16: 051030 | D16: PREPARO COM BETONEIRA E TRANSPORTE MANUAL DE CONCRETO FCK=25 MPA | E16: m³ | F16: 75.43 | G16: 653.35 | H16: =+TRUNC(F16*G16,2) -> 49282.19 | I16: =+H16/$G$236 -> 0.02314432 | J16: =+J15+I16 -> 0.5152717
B17: AGETOP CIVIL | C17: 271502 | D17: CANTINA - (OBRAS CIVIS) | E17: RE | F17: 1736 | G17: 28.04 | H17: =+TRUNC(F17*G17,2) -> 48677.44 | I17: =+H17/$G$236 -> 0.022860312 | J17: =+J16+I17 -> 0.53813201
B18: AGETOP CIVIL | C18: 051027 | D18: LASTRO DE BRITA (OBRAS CIVIS) | E18: m³ | F18: 168.34 | G18: 268.01 | H18: =+TRUNC(F18*G18,2) -> 45116.8 | I18: =+H18/$G$236 -> 0.021188134 | J18: =+J17+I18 -> 0.55932015
B19: AGETOP CIVIL | C19: 250110 | D19: VIGIA DE OBRAS - (NOTURNO E NO SÁBADO/DOMINGO DIURNO) - O.C. | E19: H | F19: 1760 | G19: 22.65 | H19: =+TRUNC(F19*G19,2) -> 39864 | I19: =+H19/$G$236 -> 0.01872127 | J19: =+J18+I19 -> 0.57804141
B20: Próprio | C20: SEINFRA-0107 | D20: MURO DIVISÓRIO EM BLOCO DE CONCRETO COM ACABAMENTO APARENTE, ESP. 15 CM, ALTURA DE 220 CM, COM ESTACA BROCA, PROF.: 250 CM, FORMA EM CONTRA BARRANCO, INCLUSIVE ESCAVAÇÃO COM TRANSPORTE E RETIRADA DO MATERIAL ESCAVADO (EM CAÇAMBA) | E20: m² | F20: 126.94 | G20: 286.64 | H20: =+TRUNC(F20*G20,2) -> 36386.08 | I20: =+H20/$G$236 -> 0.017087939 | J20: =+J19+I20 -> 0.59512935
B21: AGETOP CIVIL | C21: 250101 | D21: ENGENHEIRO - (OBRAS CIVIS) | E21: H | F21: 300 | G21: 120.63 | H21: =+TRUNC(F21*G21,2) -> 36189 | I21: =+H21/$G$236 -> 0.016995385 | J21: =+J20+I21 -> 0.61212474
... B219: AGETOP CIVIL | C219: 081402 | D219: TE 90 GRAUS SOLDAVEL DIAMETRO 25 MM | E219: Un | F219: 3 | G219: 11.08 | H219: =+TRUNC(F219*G219,2) -> 33.24 | I219: =+H219/$G$236 -> 1.5610451e-05 | J219: =+J218+I219 -> 0.99988697
B220: AGETOP CIVIL | C220: 070637 | D220: CAIXA DE PASSAGEM - LASTRO DE BRITA PARA O FUNDO | E220: m³ | F220: 0.12 | G220: 268.01 | H220: =+TRUNC(F220*G220,2)-0.005 -> 32.155 | I220: =+H220/$G$236 -> 1.5100904e-05 | J220: =+J219+I220 -> 0.99990207
B221: AGETOP CIVIL | C221: 072528 | D221: TERMINAL DE PRESSAO 35 MM2 | E221: Un | F221: 1 | G221: 27.94 | H221: =+TRUNC(F221*G221,2)-0.005 -> 27.935 | I221: =+H221/$G$236 -> 1.3119071e-05 | J221: =+J220+I221 -> 0.99991519
B222: AGETOP CIVIL | C222: 070372 | D222: BRACADEIRA METALICA TIPO "D" DIAM. 1" | E222: Un | F222: 11 | G222: 2.13 | H222: =+TRUNC(F222*G222,2)-0.005 -> 23.425 | I222: =+H222/$G$236 -> 1.1001047e-05 | J222: =+J221+I222 -> 0.99992619
B223: AGETOP CIVIL | C223: 071142 | D223: CURVA DE 90 GRAUS DE PVC RIGIDO DIAM. 1" | E223: Un | F223: 2 | G223: 11.69 | H223: =+TRUNC(F223*G223,2)-0.005 -> 23.375 | I223: =+H223/$G$236 -> 1.0977566e-05 | J223: =+J222+I223 -> 0.99993717
B224: AGETOP CIVIL | C224: 060314 | D224: ACO CA - 60 - 5,0 MM - (OBRAS CIVIS) | E224: Kg | F224: 1.36 | G224: 15.85 | H224: =+TRUNC(F224*G224,2)-0.005 -> 21.545 | I224: =+H224/$G$236 -> 1.0118145e-05 | J224: =+J223+I224 -> 0.99994728
B225: AGETOP CIVIL | C225: 071480 | D225: ISOLADOR ROLDANA PORCELANA 72 X 72 MM | E225: Un | F225: 1 | G225: 19.02 | H225: =+TRUNC(F225*G225,2)-0.005 -> 19.015 | I225: =+H225/$G$236 -> 8.9299855e-06 | J225: =+J224+I225 -> 0.99995621
B226: AGETOP CIVIL | C226: 071701 | D226: LUVA EM AÇO GALVANIZADO DIÂMETRO 3/4" | E226: Un | F226: 3 | G226: 6.28 | H226: =+TRUNC(F226*G226,2)-0.004 -> 18.836 | I226: =+H226/$G$236 -> 8.845922e-06 | J226: =+J225+I226 -> 0.99996506
B227: AGETOP CIVIL | C227: 081066 | D227: ADAPTADOR SOLDÁVEL CURTO C/ BOLSA E ROSCA PARA REGISTRO 25X3/4" | E227: Un | F227: 3 | G227: 5.83 | H227: =+TRUNC(F227*G227,2)-0.004 -> 17.486 | I227: =+H227/$G$236 -> 8.2119235e-06 | J227: =+J226+I227 -> 0.99997327
B228: AGETOP CIVIL | C228: 070204 | D228: ALÇA PRÉ-FORMADA DE DISTRIBUIÇÃO CA/CAA 4 AWG | E228: Un | F228: 1 | G228: 16.56 | H228: =+TRUNC(F228*G228,2)-0.004 -> 16.556 | I228: =+H228/$G$236 -> 7.775169e-06 | J228: =+J227+I228 -> 0.99998105
B229: AGETOP CIVIL | C229: 071151 | D229: CURVA DE 90 GRAUS AÇO GALVANIZADO DIAM.3/4" | E229: Un | F229: 1 | G229: 15.58 | H229: =+TRUNC(F229*G229,2)-0.004 -> 15.576 | I229: =+H229/$G$236 -> 7.3149331e-06 | J229: =+J228+I229 -> 0.99998836
B230: AGETOP CIVIL | C230: 081202 | D230: NIPLE COM ROSCA DIAMETRO 3/4" | E230: Un | F230: 1 | G230: 11.7 | H230: =+TRUNC(F230*G230,2) -> 11.7 | I230: =+H230/$G$236 -> 5.4946532e-06 | J230: =+J229+I230 -> 0.99999386
B231: AGETOP CIVIL | C231: 071141 | D231: CURVA DE 90 GRAUS DE PVC RIGIDO DIAM. 3/4" | E231: Un | F231: 1 | G231: 9.08 | H231: =+TRUNC(F231*G231,2) -> 9.08 | I231: =+H231/$G$236 -> 4.2642266e-06 | J231: =+J230+I231 -> 0.99999812
B232: AGETOP CIVIL | C232: 070422 | D232: BUCHA E ARRUELA METALICA DIAM. 1" | E232: PR | F232: 1 | G232: 4 | H232: =+TRUNC(F232*G232,2) -> 4 | I232: =+H232/$G$236 -> 1.8785139e-06 | J232: =+J231+I232 -> 1
E234: Total sem BDI | G234: =+'ORÇAMENTO RESUMO (SD)'!K27 -> 1749888.1
E235: Total do BDI | G235: =+'ORÇAMENTO RESUMO (SD)'!K28 -> 379454.71
E236: Total Geral | G236: =SUM(H9:H232) -> 2129342.8

Sheet BDI NORMAL (SD) 
B1: BONIFICAÇÃO DE DESPESAS INDIRETAS BDI - NORMAL SEM DESONERAÇÃO
B4: OBJETO: | C4: ='DADOS DA OBRA'!$B$13 -> DEMOLIÇÃO DO RESERVATÓRIO EXISTENTE, EXECUÇÃO DE RESERVATÓRIO METÁLICO ELEVADO E REESTRUTURAÇÃO (COM AMPLIAÇÃO) DA REDE DE DISTRIBUIÇÃO DE ÁGUA TRATADA EXISTENTE NO MUNICÍPIO DE MATRINCHÃ | N4: DATA: | O4: =+'DADOS DA OBRA'!$N$22 -> 04/11/2024
B5: LOCAL: | C5: =+""&'DADOS DA OBRA'!$B$16&", "&'DADOS DA OBRA'!$B$19&", "&'DADOS DA OBRA'!$J$19&", "&'DADOS DA OBRA'!$P$19 -> RUAS DIVERSAS, DIVERSOS, MATRINCHÃ, GO | N5: REVISÃO: | O5: ='DADOS DA OBRA'!$N$25 -> 00
B7: Município da Obra | E7: MATRINCHÃ - GO
B8: Base de cálculo ISS do município | E8: 1 | F8: ISS: | G8: 0.05
C10: Descrição | F10: Valor percentual adotado | I10: Limites das parcelas do BDI para obras do tipo acima selecionado. Acórdão TCU 2622/2013 | M10: Limites do valor do BDI para obras do tipo acima selecionado. Acórdão TCU 2622/2013
I11: Mín | J11: Med. | K11: Máx. | M11: 20.34 | N11: 22.12 | O11: 25
C12: (AC) - Administração Central | F12: 4 | I12: 3 | J12: 4 | K12: 5.5
C13: (S) + (G) - Seguro e Garantia | F13: 0.12 | I13: 0.8 | J13: 0.8 | K13: 1
C14: (R) - Risco | F14: =I14 -> 0.97 | I14: 0.97 | J14: 1.27 | K14: 1.27
C15: (DF) - Despesas Financeiras | F15: 0.88 | I15: 0.59 | J15: 1.23 | K15: 1.39
C16: (L) - Lucro | F16: 7.4 | I16: 6.16 | J16: 7.4 | K16: 8.96
C17: (I1) - PIS | F17: =I17 -> 0.65 | I17: 0.65 | J17: 0.65 | K17: 0.65
C18: (I2) - COFINS | F18: =I18 -> 3 | I18: 3 | J18: 3 | K18: 3
C19: (I3) - ISS | F19: 5 | I19: 2 | J19: 2 | K19: 5
C20: (I4) - Contribuição Previdenciária (CPRB)
C21: BDI Adotado | F21: =TRUNC((((((1+F12/100+F13/100+F14/100)*(1+F15/100)*(1+F16/100))/(1-(F17/100+F18/100+F19/100+F20/100)))-1)*100),2) -> 24.64 | I21: *Fonte da composição, valores de referência e fórmula do BDI: Acórdão 2622/2013-TCU-Plenário
B23: O valores do BDI acima foram calculados com emprego da equação a seguir:
B25: Onde:
B26: AC - taxa de rateio da Administração Central
B27: DF - taxa das despesas financeiras
B28: R, S, G - taxa de risco, seguro e garantia do empreendimento
B29: I - taxa de tributos (onerado: I = COFINS+PIS+ISS / desonerado: I = COFINS+PIS+ISS+CPRB)
B30: L - taxa de lucro

Sheet BDI DIFERENCIADO (SD) 
B1: BONIFICAÇÃO DE DESPESAS INDIRETAS BDI - DIFERENCIADO SEM DESONERAÇÃO
B4: OBJETO: | C4: ='DADOS DA OBRA'!$B$13 -> DEMOLIÇÃO DO RESERVATÓRIO EXISTENTE, EXECUÇÃO DE RESERVATÓRIO METÁLICO ELEVADO E REESTRUTURAÇÃO (COM AMPLIAÇÃO) DA REDE DE DISTRIBUIÇÃO DE ÁGUA TRATADA EXISTENTE NO MUNICÍPIO DE MATRINCHÃ | N4: DATA: | O4: =+'DADOS DA OBRA'!$N$22 -> 04/11/2024
B5: LOCAL: | C5: =+""&'DADOS DA OBRA'!$B$16&", "&'DADOS DA OBRA'!$B$19&", "&'DADOS DA OBRA'!$J$19&", "&'DADOS DA OBRA'!$P$19 -> RUAS DIVERSAS, DIVERSOS, MATRINCHÃ, GO | N5: REVISÃO: | O5: ='DADOS DA OBRA'!$N$25 -> 00
B7: Município da Obra | E7: MATRINCHÃ - GO
B8: Base de cálculo ISS do município | E8: 1 | F8: ISS: | G8: 0.05
C10: Descrição | F10: Valor percentual adotado | I10: Limites das parcelas do BDI para obras do tipo acima selecionado. Acórdão TCU 2622/2013 | M10: Limites do valor do BDI para obras do tipo acima selecionado. Acórdão TCU 2622/2013
I11: Mín | J11: Med. | K11: Máx. | M11: 11.1 | N11: 14.02 | O11: 16.8
C12: (AC) - Administração Central | F12: 3.45 | I12: 1.5 | J12: 3.45 | K12: 4.49
C13: (S) + (G) - Seguro e Garantia | F13: 0.06 | I13: 0.3 | J13: 0.48 | K13: 0.82
C14: (R) - Risco | F14: =I14 -> 0.56 | I14: 0.56 | J14: 0.85 | K14: 0.89
C15: (DF) - Despesas Financeiras | F15: 0.88 | I15: 0.85 | J15: 0.85 | K15: 1.11
C16: (L) - Lucro | F16: 4.8 | I16: 3.5 | J16: 5.11 | K16: 6.22
C17: (I1) - PIS | F17: =I17 -> 0.65 | I17: 0.65 | J17: 0.65 | K17: 0.65
C18: (I2) - COFINS | F18: =I18 -> 3 | I18: 3 | J18: 3 | K18: 3
C19: (I3) - ISS | I19: 2 | J19: 2 | K19: 5
C20: (I4) - Contribuição Previdenciária (CPRB)
C21: BDI Adotado | F21: =TRUNC((((((1+F12/100+F13/100+F14/100)*(1+F15/100)*(1+F16/100))/(1-(F17/100+F18/100+F19/100+F20/100)))-1)*100),2) -> 14.19 | I21: *Fonte da composição, valores de referência e fórmula do BDI: Acórdão 2622/2013-TCU-Plenário
B23: O valores do BDI acima foram calculados com emprego da equação a seguir:
B25: Onde:
B26: AC - taxa de rateio da Administração Central
B27: DF - taxa das despesas financeiras
B28: R, S, G - taxa de risco, seguro e garantia do empreendimento
B29: I - taxa de tributos (onerado: I = COFINS+PIS+ISS / desonerado: I = COFINS+PIS+ISS+CPRB)
B30: L - taxa de lucro

Sheet ENCARGOS SOCIAIS
B1: DEMONSTRATIVO DE ENCARGOS SOCIAIS
B3: OBJETO: | C3: ='DADOS DA OBRA'!$B$13 -> DEMOLIÇÃO DO RESERVATÓRIO EXISTENTE, EXECUÇÃO DE RESERVATÓRIO METÁLICO ELEVADO E REESTRUTURAÇÃO (COM AMPLIAÇÃO) DA REDE DE DISTRIBUIÇÃO DE ÁGUA TRATADA EXISTENTE NO MUNICÍPIO DE MATRINCHÃ | F3: DATA: | G3: ='DADOS DA OBRA'!$N$22 -> 04/11/2024
B4: LOCAL: | C4: =+""&'DADOS DA OBRA'!$B$16&", "&'DADOS DA OBRA'!$J$19&", "&'DADOS DA OBRA'!$P$19 -> RUAS DIVERSAS, MATRINCHÃ, GO | F4: REVISÃO: | G4: ='DADOS DA OBRA'!$N$25 -> 00
B5: BASE: | C5: ='DADOS DA OBRA'!$B$28 -> GOINFRA CIVIL-06/2024, GOINFRA RODOVIÁRIA-06/2024, SINAPI-08/2024, ORSE-06/2024, SENFRA-CE-028, SCO-08/2024, CPOS-06/2024, EMBASA-05/2024, SIURB-01/2024
B7: CÓDIGO | C7: DESCRIÇÃO | D7: COM DESONERAÇÃO | F7: SEM DESONERAÇÃO
D8: HORISTA % | E8: MENSALISTA % | F8: HORISTA % | G8: MENSALISTA %
B9: GRUPO A
B10: A1 | C10: INSS | D10: 0 | E10: 0 | F10: 0.2 | G10: 0.2
B11: A2 | C11: SESI | D11: 0.015 | E11: 0.015 | F11: 0.015 | G11: 0.015
B12: A3 | C12: SENAI | D12: 0.01 | E12: 0.01 | F12: 0.01 | G12: 0.01
B13: A4 | C13: INCRA | D13: 0.002 | E13: 0.002 | F13: 0.002 | G13: 0.002
B14: A5 | C14: SEBRAE | D14: 0.006 | E14: 0.006 | F14: 0.006 | G14: 0.006
B15: A6 | C15: Salário Educação | D15: 0.025 | E15: 0.025 | F15: 0.025 | G15: 0.025
B16: A7 | C16: Seguro Contra Acidentes de Trabalho | D16: 0.03 | E16: 0.03 | F16: 0.03 | G16: 0.03
B17: A8 | C17: FGTS | D17: 0.08 | E17: 0.08 | F17: 0.08 | G17: 0.08
B18: A9 | C18: SECONCI | D18: 0.01 | E18: 0.01 | F18: 0.01 | G18: 0.01
B19: A | C19: Total | D19: =SUM(D10:D18) -> 0.178 | E19: =SUM(E10:E18) -> 0.178 | F19: =SUM(F10:F18) -> 0.378 | G19: =SUM(G10:G18) -> 0.378
B20: GRUPO B
B21: B1 | C21: Repouso Semanal Remunerado | D21: 0.1781 | E21: Não incide | F21: 0.1781 | G21: Não incide
B22: B2 | C22: Feriados | D22: 0.037 | E22: Não incide | F22: 0.037 | G22: Não incide
B23: B3 | C23: Auxílio - Enfermidade | D23: 0.0086 | E23: 0.0064 | F23: 0.0086 | G23: 0.0064
B24: B4 | C24: 13º Salário | D24: 0.1118 | E24: 0.0833 | F24: 0.1118 | G24: 0.0833
B25: B5 | C25: Licença Paternidade | D25: 0.0006 | E25: 0.0004 | F25: 0.0006 | G25: 0.0004
B26: B6 | C26: Faltas Justificadas | D26: 0.0075 | E26: 0.0056 | F26: 0.0075 | G26: 0.0056
B27: B7 | C27: Dias de Chuvas | D27: 0.0136 | E27: Não incide | F27: 0.0136 | G27: Não incide
B28: B8 | C28: Auxílio Acidente de Trabalho | D28: 0.001 | E28: 0.0008 | F28: 0.001 | G28: 0.0008
B29: B9 | C29: Férias Gozadas | D29: 0 | E29: 0 | F29: 0 | G29: 0
B30: B10 | C30: Salário Maternidade | D30: 0.0004 | E30: 0.0003 | F30: 0.0004 | G30: 0.0003
B31: B | C31: Total | D31: =SUM(D21:D30) -> 0.3586 | E31: =SUM(E21:E30) -> 0.0968 | F31: =SUM(F21:F30) -> 0.3586 | G31: =SUM(G21:G30) -> 0.0968
B32: GRUPO C
B33: C1 | C33: Aviso Prévio Indenizado | D33: 0.0591 | E33: 0.044 | F33: 0.0591 | G33: 0.044
B34: C2 | C34: Aviso Prévio Trabalhado | D34: 0.0014 | E34: 0.001 | F34: 0.0014 | G34: 0.001
B35: C3 | C35: Férias Indenizadas | D35: 0.1202 | E35: 0.0896 | F35: 0.1202 | G35: 0.0896
B36: C4 | C36: Depósito Rescisão Sem Justa Causa | D36: 0.0252 | E36: 0.0188 | F36: 0.0252 | G36: 0.0188
B37: C5 | C37: Indenização Adicional | D37: 0.005 | E37: 0.0037 | F37: 0.005 | G37: 0.0037
B38: C | C38: Total | D38: =SUM(D33:D37) -> 0.2109 | E38: =SUM(E33:E37) -> 0.1571 | F38: =SUM(F33:F37) -> 0.2109 | G38: =SUM(G33:G37) -> 0.1571
B39: GRUPO D
B40: D1 | C40: Reincidência de Grupo A sobre Grupo B | D40: 0.0638 | E40: 0.0172 | F40: 0.1356 | G40: 0.0366
B41: D2 | C41: Reincidência de Grupo A sobre Aviso Prévio Trabalhado e Reincidência do FGTS sobre Aviso Prévio Indenizado | D41: 0.005 | E41: 0.0037 | F41: 0.0053 | G41: 0.0039
B42: D | C42: Total | D42: =SUM(D40:D41) -> 0.0688 | E42: =SUM(E40:E41) -> 0.0209 | F42: =SUM(F40:F41) -> 0.1409 | G42: =SUM(G40:G41) -> 0.0405
...

Sheet CAPA - ORÇAMENTO CD
C9: ORÇAMENTO COM DESONERAÇÃO

Sheet ORÇAMENTO SINTÉTICO (CD)
B1: ORÇAMENTO SINTÉTICO COM DESONERAÇÃO
B3: OBJETO: | C3: ='DADOS DA OBRA'!$B$13 -> DEMOLIÇÃO DO RESERVATÓRIO EXISTENTE, EXECUÇÃO DE RESERVATÓRIO METÁLICO ELEVADO E REESTRUTURAÇÃO (COM AMPLIAÇÃO) DA REDE DE DISTRIBUIÇÃO DE ÁGUA TRATADA EXISTENTE NO MUNICÍPIO DE MATRINCHÃ | F3: DATA: | G3: ='DADOS DA OBRA'!$N$22 -> 04/11/2024 | K3: ENCARGOS SOCIAIS HORISTAS: | L3: ='DADOS DA OBRA'!$J$22 -> 0.8163
B4: LOCAL: | C4: =+""&'DADOS DA OBRA'!$B$16&", "&'DADOS DA OBRA'!$J$19&", "&'DADOS DA OBRA'!$P$19 -> RUAS DIVERSAS, MATRINCHÃ, GO | F4: REVISÃO: | G4: ='DADOS DA OBRA'!$N$25 -> 00 | K4: ENCARGOS SOCIAIS MENSALISTAS: | L4: ='DADOS DA OBRA'!$J$25 -> 0.4528
B5: BASE: | C5: ='DADOS DA OBRA'!$B$28 -> GOINFRA CIVIL-06/2024, GOINFRA RODOVIÁRIA-06/2024, SINAPI-08/2024, ORSE-06/2024, SENFRA-CE-028, SCO-08/2024, CPOS-06/2024, EMBASA-05/2024, SIURB-01/2024 | F5: PRAZO : | G5: ='DADOS DA OBRA'!$B$25 -> 04 MESES | K5: BDI OBRA: | L5: ='BDI NORMAL (CD)'!F21/100 -> 0.3109
K6: BDI DIFERENCIADO: | L6: ='BDI DIFERENCIADO (CD)'!F21/100 -> 0.1978
B8: Item | C8: Código | D8: Banco | E8: Descrição | F8: Und | G8: Qtd | H8: Valor Unit | I8: Valor Total sem BDI | J8: BDI | K8: Valor Unit com BDI | L8: Valor Total com BDI
B9: 1 | E9: ADMINISTRAÇÃO LOCAL | I9: =SUBTOTAL(9,I10:I13) -> 86820.8 | L9: =SUBTOTAL(9,L10:L13) -> 113801.8
B10: 1.1 | C10: 250101 | D10: AGETOP CIVIL | E10: ENGENHEIRO - (OBRAS CIVIS) | F10: H | G10: 300 | H10: 83.6 | I10: =TRUNC(G10 * H10, 2) -> 25080 | J10: =+$L$5 -> 0.3109 | K10: =TRUNC(H10 * (1 + J10), 2) -> 109.59 | L10: =TRUNC(G10 * K10, 2) -> 32877
B11: 1.2 | C11: 250103 | D11: AGETOP CIVIL | E11: ENCARREGADO - (OBRAS CIVIS) | F11: H | G11: 880 | H11: 22.56 | I11: =TRUNC(G11 * H11, 2) -> 19852.8 | J11: =+$L$5 -> 0.3109 | K11: =TRUNC(H11 * (1 + J11), 2) -> 29.57 | L11: =TRUNC(G11 * K11, 2) -> 26021.6
B12: 1.3 | C12: 250105 | D12: AGETOP CIVIL | E12: ALMOXARIFE - (OBRAS CIVIS) | F12: H | G12: 880 | H12: 16.2 | I12: =TRUNC(G12 * H12, 2) -> 14256 | J12: =+$L$5 -> 0.3109 | K12: =TRUNC(H12 * (1 + J12), 2) -> 21.23 | L12: =TRUNC(G12 * K12, 2) -> 18682.4
B13: 1.4 | C13: 250110 | D13: AGETOP CIVIL | E13: VIGIA DE OBRAS - (NOTURNO E NO SÁBADO/DOMINGO DIURNO) - O.C. | F13: H | G13: 1760 | H13: 15.7 | I13: =TRUNC(G13 * H13, 2) -> 27632 | J13: =+$L$5 -> 0.3109 | K13: =TRUNC(H13 * (1 + J13), 2) -> 20.58 | L13: =TRUNC(G13 * K13, 2) -> 36220.8
B14: 2 | E14: CANTEIRO DE OBRAS | I14: =SUBTOTAL(9,I15:I23) -> 156611.44 | K14: =TRUNC(H14 * (1 + J14), 2) -> 0 | L14: =SUBTOTAL(9,L15:L23) -> 205278.1
B15: 2.1 | C15: 020212 | D15: AGETOP CIVIL | E15: BARRACÃO DE OBRAS PADRÃO GOINFRA ( BLOCOS,COBERTURAS,PASSARELAS E MÓVEIS), SEM ALOJAMENTO E LAVANDERIA , COM PINTURA, EM CONSONÂNCIA COM AS NR | F15: m² | G15: 235.42 | H15: 294.65 | I15: =TRUNC(G15 * H15, 2) -> 69366.5 | J15: =+$L$5 -> 0.3109 | K15: =TRUNC(H15 * (1 + J15), 2) -> 386.25 | L15: =TRUNC(G15 * K15, 2) -> 90930.97
B16: 2.2 | C16: 020303 | D16: AGETOP CIVIL | E16: DEPÓSITO PARA CIMENTO TIPO II COM PINTURA PADRÃO GOINFRA (3,30 X 3,30 M) A=10,89 M2 (C/ REAPROV. 1 VEZ ) - INCLUSO PALETES | F16: un | G16: 1 | H16: 3510.78 | I16: =TRUNC(G16 * H16, 2) -> 3510.78 | J16: =+$L$5 -> 0.3109 | K16: =TRUNC(H16 * (1 + J16), 2) -> 4602.28 | L16: =TRUNC(G16 * K16, 2) -> 4602.28
B17: 2.3 | C17: 020400 | D17: AGETOP CIVIL | E17: LIGAÇÃO PROVISÓRIA DE ÁGUA (INCLUSO RETIRADA DO ESGOTO SANITÁRIO) - PD. GOINFRA | F17: Un | G17: 1 | H17: 3071.9 | I17: =TRUNC(G17 * H17, 2) -> 3071.9 | J17: =+$L$5 -> 0.3109 | K17: =TRUNC(H17 * (1 + J17), 2) -> 4026.95 | L17: =TRUNC(G17 * K17, 2) -> 4026.95
B18: 2.4 | C18: 020501 | D18: AGETOP CIVIL | E18: LIGAÇÃO PROVISÓRIA LUZ E FORÇA - PD. GOINFRA | F18: Un | G18: 1 | H18: 4728.04 | I18: =TRUNC(G18 * H18, 2) -> 4728.04 | J18: =+$L$5 -> 0.3109 | K18: =TRUNC(H18 * (1 + J18), 2) -> 6197.98 | L18: =TRUNC(G18 * K18, 2) -> 6197.98
B19: 2.5 | C19: 021602 | D19: AGETOP CIVIL | E19: EPI/PGR/PCMSO/EXAMES/TREINAMENTOS/VISITAS - ÁREAS EDIFICADAS/COBERTAS/FECHADAS | F19: m² | G19: 451.2 | H19: 47.75 | I19: =TRUNC(G19 * H19, 2) -> 21544.8 | J19: =+$L$5 -> 0.3109 | K19: =TRUNC(H19 * (1 + J19), 2) -> 62.59 | L19: =TRUNC(G19 * K19, 2) -> 28240.6
B20: 2.6 | C20: 020200 | D20: AGETOP CIVIL | E20: FERRAMENTAS (MANUAIS/ELÉTRICAS) E MATERIAL DE LIMPEZA PERMANENTE DA OBRA - ÁREAS EDIFICADAS/COBERTAS/FECHADAS | F20: m² | G20: 902.4 | H20: 7.39 | I20: =TRUNC(G20 * H20, 2) -> 6668.73 | J20: =+$L$5 -> 0.3109 | K20: =TRUNC(H20 * (1 + J20), 2) -> 9.68 | L20: =TRUNC(G20 * K20, 2) -> 8735.23
B21: 2.7 | C21: 021301 | D21: AGETOP CIVIL | E21: PLACA DE OBRA PLOTADA EM CHAPA METÁLICA 26 , AFIXADA EM CAVALETES DE MADEIRA DE LEI (VIGOTAS 6X12CM) - PADRÃO GOINFRA | F21: m² | G21: 7.5 | H21: 386.29 | I21: =TRUNC(G21 * H21, 2) -> 2897.17 | J21: =+$L$5 -> 0.3109 | K21: =TRUNC(H21 * (1 + J21), 2) -> 506.38 | L21: =TRUNC(G21 * K21, 2) -> 3797.85
B22: 2.8 | C22: 271502 | D22: AGETOP CIVIL | E22: CANTINA - (OBRAS CIVIS) | F22: RE | G22: 1736 | H22: 22.5 | I22: =TRUNC(G22 * H22, 2) -> 39060 | J22: =+$L$5 -> 0.3109 | K22: =TRUNC(H22 * (1 + J22), 2) -> 29.49 | L22: =TRUNC(G22 * K22, 2) -> 51194.64
B23: 2.9 | C23: 271500 | D23: AGETOP CIVIL | E23: CAFE DA MANHA | F23: RE | G23: 1736 | H23: 3.32 | I23: =TRUNC(G23 * H23, 2) -> 5763.52 | J23: =+$L$5 -> 0.3109 | K23: =TRUNC(H23 * (1 + J23), 2) -> 4.35 | L23: =TRUNC(G23 * K23, 2) -> 7551.6
B24: 3 | E24: SERVIÇOS PRELIMINARES | I24: =SUBTOTAL(9,I25:I31) -> 29146.25 | K24: =TRUNC(H24 * (1 + J24), 2) -> 0 | L24: =SUBTOTAL(9,L25:L31) -> 38206.55
B25: 3.1 | C25: 020190 | D25: AGETOP CIVIL | E25: LIMPEZA MECÂNICA DE TERRENO | F25: m² | G25: 592.63 | H25: 0.23 | I25: =TRUNC(G25 * H25, 2) -> 136.3 | J25: =+$L$5 -> 0.3109 | K25: =TRUNC(H25 * (1 + J25), 2) -> 0.3 | L25: =TRUNC(G25 * K25, 2) -> 177.78
B26: 3.2 | C26: 020702 | D26: AGETOP CIVIL | E26: LOCAÇÃO DE OBRAS DE PEQUENO PORTE COM CAVALETE, INCLUSO PINTURA (FACE INTERNA DO SARRAFO 10CM) E PIQUETE COM TESTEMUNHA | F26: m² | G26: 58.89 | H26: 5.28 | I26: =TRUNC(G26 * H26, 2) -> 310.93 | J26: =+$L$5 -> 0.3109 | K26: =TRUNC(H26 * (1 + J26), 2) -> 6.92 | L26: =TRUNC(G26 * K26, 2) -> 407.51
B27: 3.3 | C27: 050250 | D27: AGETOP CIVIL | E27: TRAÇO DE CONCRETO | F27: Un | G27: 1 | H27: 1486.62 | I27: =TRUNC(G27 * H27, 2) -> 1486.62 | J27: =+$L$5 -> 0.3109 | K27: =TRUNC(H27 * (1 + J27), 2) -> 1948.81 | L27: =TRUNC(G27 * K27, 2) -> 1948.81
B28: 3.4 | C28: 050251 | D28: AGETOP CIVIL | E28: CORPO DE PROVA | F28: Un | G28: 42 | H28: 15 | I28: =TRUNC(G28 * H28, 2) -> 630 | J28: =+$L$5 -> 0.3109 | K28: =TRUNC(H28 * (1 + J28), 2) -> 19.66 | L28: =TRUNC(G28 * K28, 2) -> 825.72
B29: 3.5 | C29: SEINFRA-0131 | D29: Próprio | E29: PLACA DE SINALIZACAO PARA OBRA NA VIA PUBLICA, TIPO CAVALETE ARTICULADO, CONFECCIONADO EM CHAPA PET 2,4MM, FUNDO, TEXTOS E SIMBOLOS EM VINIL AUTO ADESIVO, ESTRUTURA EM ACO TRATADO A BASE DE WASH PRIMER, PINTADO PELO PROCESSO ELETROSTATICO, NAS DIMENSOES DE 0,60M X 1,00M. FORNECIMENTO. (ADAPTADO DE SCO AD 20.25.0210) | F29: un | G29: 10 | H29: 576 | I29: =TRUNC(G29 * H29, 2) -> 5760 | J29: =+$L$5 -> 0.3109 | K29: =TRUNC(H29 * (1 + J29), 2) -> 755.07 | L29: =TRUNC(G29 * K29, 2) -> 7550.7
B30: 3.6 | C30: SEINFRA-0132 | D30: Próprio | E30: CONE PLASTICO PARA SINALIZAÇÃO | F30: UN | G30: 20 | H30: 36.9 | I30: =TRUNC(G30 * H30, 2) -> 738 | J30: =+$L$5 -> 0.3109 | K30: =TRUNC(H30 * (1 + J30), 2) -> 48.37 | L30: =TRUNC(G30 * K30, 2) -> 967.4
B31: 3.7 | C31: 42301 | D31: AGETOP RODOVIARIA | E31: MOBILIZAÇÃO / DESMOBILIZAÇÃO - CONFORME DEMONSTRATIVO | F31: un | G31: 1 | H31: 20084.4 | I31: =TRUNC(G31 * H31, 2) -> 20084.4 | J31: =+$L$5 -> 0.3109 | K31: =TRUNC(H31 * (1 + J31), 2) -> 26328.63 | L31: =TRUNC(G31 * K31, 2) -> 26328.63
B32: 4 | E32: DEMOLIÇÕES | I32: =SUBTOTAL(9,I33:I37) -> 37141.9 | K32: =TRUNC(H32 * (1 + J32), 2) -> 0 | L32: =SUBTOTAL(9,L33:L37) -> 48684.17
B33: 4.1 | C33: SEINFRA-0111 | D33: Próprio | E33: DEMOLIÇÃO DE LAJES, EM CONCRETO ARMADO, DE FORMA MECANIZADA COM MARTELETE, SEM REAPROVEITAMENTO. (ADAPTADO DE SINAPI 97629) | F33: m³ | G33: 39.14 | H33: 70.04 | I33: =TRUNC(G33 * H33, 2) -> 2741.36 | J33: =+$L$5 -> 0.3109 | K33: =TRUNC(H33 * (1 + J33), 2) -> 91.81 | L33: =TRUNC(G33 * K33, 2) -> 3593.44
B34: 4.2 | C34: SEINFRA-0112 | D34: Próprio | E34: DEMOLIÇÃO DE PILARES E VIGAS EM CONCRETO ARMADO, DE FORMA MECANIZADA COM MARTELETE, SEM REAPROVEITAMENTO. (ADAPTADO DE SINAPI 97627) | F34: m³ | G34: 12 | H34: 150.41 | I34: =TRUNC(G34 * H34, 2) -> 1804.92 | J34: =+$L$5 -> 0.3109 | K34: =TRUNC(H34 * (1 + J34), 2) -> 197.17 | L34: =TRUNC(G34 * K34, 2) -> 2366.04
B35: 4.3 | C35: 020130 | D35: AGETOP CIVIL | E35: DEMOLIÇÃO MANUAL DE ALAMBRADO - POSTE DE CONCRETO/TELA/VIGA COM TRANSPORTE ATE CAÇAMBA E CARGA | F35: m | G35: 57.7 | H35: 17.58 | I35: =TRUNC(G35 * H35, 2) -> 1014.36 | J35: =+$L$5 -> 0.3109 | K35: =TRUNC(H35 * (1 + J35), 2) -> 23.04 | L35: =TRUNC(G35 * K35, 2) -> 1329.4
B36: 4.4 | C36: SEINFRA-0117 | D36: Próprio | E36: DEMOLIÇÃO PARCIAL DE PAVIMENTO ASFÁLTICO, DE FORMA MECANIZADA, SEM REAPROVEITAMENTO. (ADAPTADO DE SINAPI 97636) | F36: m² | G36: 241.75 | H36: 19.8 | I36: =TRUNC(G36 * H36, 2) -> 4786.65 | J36: =+$L$5 -> 0.3109 | K36: =TRUNC(H36 * (1 + J36), 2) -> 25.95 | L36: =TRUNC(G36 * K36, 2) -> 6273.41
B37: 4.5 | C37: 030101 | D37: AGETOP CIVIL | E37: TRANSPORTE DE ENTULHO EM CAMINHÃO INCLUSO A CARGA MANUAL | F37: m³ | G37: 584.78 | H37: 45.82 | I37: =TRUNC(G37 * H37, 2) -> 26794.61 | J37: =+$L$5 -> 0.3109 | K37: =TRUNC(H37 * (1 + J37), 2) -> 60.06 | L37: =TRUNC(G37 * K37, 2) -> 35121.88
B38: 5 | E38: MOVIMENTO DE TERRA | I38: =SUBTOTAL(9,I39:I50) -> 124420.95 | K38: =TRUNC(H38 * (1 + J38), 2) -> 0 | L38: =SUBTOTAL(9,L39:L50) -> 163076.02
B39: 5.1 | C39: 040101 | D39: AGETOP CIVIL | E39: ESCAVACAO MANUAL DE VALAS < 1 MTS. (OBRAS CIVIS) | F39: m³ | G39: 33.02 | H39: 32.43 | I39: =TRUNC(G39 * H39, 2) -> 1070.83 | J39: =+$L$5 -> 0.3109 | K39: =TRUNC(H39 * (1 + J39), 2) -> 42.51 | L39: =TRUNC(G39 * K39, 2) -> 1403.68
B40: 5.2 | C40: 040103 | D40: AGETOP CIVIL | E40: ESCAVAÇAO MANUAL DE VALAS PROF. 1 A 2 M | F40: m³ | G40: 51.93 | H40: 41.06 | I40: =TRUNC(G40 * H40, 2) -> 2132.24 | J40: =+$L$5 -> 0.3109 | K40: =TRUNC(H40 * (1 + J40), 2) -> 53.82 | L40: =TRUNC(G40 * K40, 2) -> 2794.87
B41: 5.3 | C41: 041004 | D41: AGETOP CIVIL | E41: ESCAVACAO MECANICA | F41: m³ | G41: 4125.12 | H41: 2.22 | I41: =TRUNC(G41 * H41, 2) -> 9157.76 | J41: =+$L$5 -> 0.3109 | K41: =TRUNC(H41 * (1 + J41), 2) -> 2.91 | L41: =TRUNC(G41 * K41, 2) -> 12004.09
B42: 5.4 | C42: 050901 | D42: AGETOP CIVIL | E42: ESCAVACAO MANUAL DE VALAS (SAPATAS/BLOCOS) | F42: m³ | G42: 33.9 | H42: 41.06 | I42: =TRUNC(G42 * H42, 2) -> 1391.93 | J42: =+$L$5 -> 0.3109 | K42: =TRUNC(H42 * (1 + J42), 2) -> 53.82 | L42: =TRUNC(G42 * K42, 2) -> 1824.49
...

Sheet BDI NORMAL (CD)
B1: BONIFICAÇÃO DE DESPESAS INDIRETAS BDI - NORMAL COM DESONERAÇÃO
B4: OBJETO: | C4: ='DADOS DA OBRA'!$B$13 -> DEMOLIÇÃO DO RESERVATÓRIO EXISTENTE, EXECUÇÃO DE RESERVATÓRIO METÁLICO ELEVADO E REESTRUTURAÇÃO (COM AMPLIAÇÃO) DA REDE DE DISTRIBUIÇÃO DE ÁGUA TRATADA EXISTENTE NO MUNICÍPIO DE MATRINCHÃ | N4: DATA: | O4: =+'DADOS DA OBRA'!$N$22 -> 04/11/2024
B5: LOCAL: | C5: =+""&'DADOS DA OBRA'!$B$16&", "&'DADOS DA OBRA'!$B$19&", "&'DADOS DA OBRA'!$J$19&", "&'DADOS DA OBRA'!$P$19 -> RUAS DIVERSAS, DIVERSOS, MATRINCHÃ, GO | N5: REVISÃO: | O5: ='DADOS DA OBRA'!$N$25 -> 00
B7: Município da Obra | E7: MATRINCHÃ - GO
B8: Base de cálculo ISS do município | E8: 1 | F8: ISS: | G8: 0.05
C10: Descrição | F10: Valor percentual adotado | I10: Limites das parcelas do BDI para obras do tipo acima selecionado. Acórdão TCU 2622/2013 | M10: Limites do valor do BDI para obras do tipo acima selecionado. Acórdão TCU 2622/2013
I11: Mín | J11: Med. | K11: Máx. | M11: 20.34 | N11: 22.12 | O11: 25
C12: (AC) - Administração Central | F12: 4 | I12: 3 | J12: 4 | K12: 5.5
C13: (S) + (G) - Seguro e Garantia | F13: 0.12 | I13: 0.8 | J13: 0.8 | K13: 1
C14: (R) - Risco | F14: =I14 -> 0.97 | I14: 0.97 | J14: 1.27 | K14: 1.27
C15: (DF) - Despesas Financeiras | F15: 0.88 | I15: 0.59 | J15: 1.23 | K15: 1.39
C16: (L) - Lucro | F16: 7.4 | I16: 6.16 | J16: 7.4 | K16: 8.96
C17: (I1) - PIS | F17: =I17 -> 0.65 | I17: 0.65 | J17: 0.65 | K17: 0.65
C18: (I2) - COFINS | F18: =I18 -> 3 | I18: 3 | J18: 3 | K18: 3
C19: (I3) - ISS | F19: 5 | I19: 2 | J19: 2 | K19: 5
C20: (I4) - Contribuição Previdenciária (CPRB) | F20: 4.5
C21: BDI Adotado | F21: =TRUNC((((((1+F12/100+F13/100+F14/100)*(1+F15/100)*(1+F16/100))/(1-(F17/100+F18/100+F19/100+F20/100)))-1)*100),2) -> 31.09 | I21: *Fonte da composição, valores de referência e fórmula do BDI: Acórdão 2622/2013-TCU-Plenário
B23: O valores do BDI acima foram calculados com emprego da equação a seguir:
B25: Onde:
B26: AC - taxa de rateio da Administração Central
B27: DF - taxa das despesas financeiras
B28: R, S, G - taxa de risco, seguro e garantia do empreendimento
B29: I - taxa de tributos (onerado: I = COFINS+PIS+ISS / desonerado: I = COFINS+PIS+ISS+CPRB)
B30: L - taxa de lucro

Sheet BDI DIFERENCIADO (CD)
B1: BONIFICAÇÃO DE DESPESAS INDIRETAS BDI - DIFERENCIADO COM DESONERAÇÃO
B4: OBJETO: | C4: ='DADOS DA OBRA'!$B$13 -> DEMOLIÇÃO DO RESERVATÓRIO EXISTENTE, EXECUÇÃO DE RESERVATÓRIO METÁLICO ELEVADO E REESTRUTURAÇÃO (COM AMPLIAÇÃO) DA REDE DE DISTRIBUIÇÃO DE ÁGUA TRATADA EXISTENTE NO MUNICÍPIO DE MATRINCHÃ | N4: DATA: | O4: =+'DADOS DA OBRA'!$N$22 -> 04/11/2024
B5: LOCAL: | C5: =+""&'DADOS DA OBRA'!$B$16&", "&'DADOS DA OBRA'!$B$19&", "&'DADOS DA OBRA'!$J$19&", "&'DADOS DA OBRA'!$P$19 -> RUAS DIVERSAS, DIVERSOS, MATRINCHÃ, GO | N5: REVISÃO: | O5: ='DADOS DA OBRA'!$N$25 -> 00
B7: Município da Obra | E7: MATRINCHÃ - GO
