Workbook

Sheet BASE DE DADOS
A1: Dias | AF1: Ajustes | AH1: Coluna-Escala-SES | AI1: Dados-Escalas-Médicas
A2: 1 | B2: 2 | C2: 3 | D2: 4 | E2: 5 | F2: 6 | G2: 7 | H2: 8 | I2: 9 | J2: 10 | K2: 11 | L2: 12 | M2: 13 | N2: 14 | O2: 15 | P2: 16 | Q2: 17 | R2: 18 | S2: 19 | T2: 20 | U2: 21 | V2: 22 | W2: 23 | X2: 24 | Y2: 25 | Z2: 26 | AA2: 27 | AB2: 28 | AC2: 29 | AD2: 30 | AE2: 31 | AH2: Dia | AI2: 1 | AJ2: 2 | AK2: 3 | AL2: 4 | AM2: 5 | AN2: 6 | AO2: 7 | AP2: 8 | AQ2: 9 | AR2: 10 | AS2: 11 | AT2: 12 | AU2: 13 | AV2: 14 | AW2: 15 | AX2: 16 | AY2: 17 | AZ2: 18 | BA2: 19 | BB2: 20 | BC2: 21 | BD2: 22 | BE2: 23 | BF2: 24 | BG2: 25 | BH2: 26 | BI2: 27 | BJ2: 28 | BK2: 29 | BL2: 30 | BM2: 31
A3: =IF(AI3="X",AI2,"-") -> - | B3: =IF(AJ3="X",AJ2,"-") -> 2 | C3: =IF(AK3="X",AK2,"-") -> 3 | D3: =IF(AL3="X",AL2,"-") -> 4 | E3: =IF(AM3="X",AM2,"-") -> 5 | F3: =IF(AN3="X",AN2,"-") -> 6 | G3: =IF(AO3="X",AO2,"-") -> - | H3: =IF(AP3="X",AP2,"-") -> - | ... AB3: =IF(BJ3="X",BJ2,"-") -> - | AC3: =IF(BN31="X",BK2,"-") -> - | AD3: =IF(BL3="X",BL2,"-") -> - | AE3: =IF(BM3="X",BM2,"-") -> - | AF3: =CONCATENATE(A3,"-",B3,"-",C3,"-",D3,"-",E3,"-",F3,"-",G3,"-",H3,"-",I3,"-",J3,"-",K3,"-",L3,"-",M3,"-",N3,"-",O3,"-",P3,"-",Q3,"-",R3,"-",S3,"-",T3,"-",U3,"-",V3,"-",W3,"-",X3,"-",Y3,"-",Z3,"-",AA3,"-",AB3,"-",AC3,"-",AD3,"-",AE3,"-",) -> --2-3-4-5-6-----9-10-11-12-13-----16-17-18-19-20-----23-24-25-26-27--------- | AG3: =TRIM(AF3) -> --2-3-4-5-6-----9-10-11-12-13-----16-17-18-19-20-----23-24-25-26-27--------- | AH3: 2-3-4-5-6-9-10-11-12-13-16-17-18-19-20-23-24-25-26-27 | AI3: F | AJ3: X | AK3: X | AL3: X | AM3: X | AN3: X | AO3: F | AP3: F | AQ3: X | AR3: X | AS3: X | AT3: X | AU3: X | AV3: F | AW3: F | AX3: X | AY3: X | AZ3: X | BA3: X | BB3: X | BC3: F | BD3: F | BE3: X | BF3: X | BG3: X | BH3: X | BI3: X | BJ3: F
A4: =IF(AI4="X",AI2,"-") -> - | B4: =IF(AJ4="X",AJ2,"-") -> - | C4: =IF(AK4="X",AK2,"-") -> - | D4: =IF(AL4="X",AL2,"-") -> - | E4: =IF(AM4="X",AM2,"-") -> - | F4: =IF(AN4="X",AN2,"-") -> 6 | G4: =IF(AO4="X",AO2,"-") -> - | H4: =IF(AP4="X",AP2,"-") -> - | ... AE4: =IF(BM4="X",BM2,"-") -> - | AF4: =CONCATENATE(A4,"-",B4,"-",C4,"-",D4,"-",E4,"-",F4,"-",G4,"-",H4,"-",I4,"-",J4,"-",K4,"-",L4,"-",M4,"-",N4,"-",O4,"-",P4,"-",Q4,"-",R4,"-",S4,"-",T4,"-",U4,"-",V4,"-",W4,"-",X4,"-",Y4,"-",Z4,"-",AA4,"-",AB4,"-",AC4,"-",AD4,"-",AE4,"-",) -> ----------6-------------13-14-----------20-------------27--------- | AG4: =TRIM(AF4) -> ----------6-------------13-14-----------20-------------27--------- | AH4: 6-13-14-20-27 | AI4: F | AJ4: F | AK4: F | AL4: F | AM4: F | AN4: X | AO4: F | AP4: F | AQ4: F | AR4: F | AS4: F | AT4: F | AU4: X | AV4: X | AW4: F | AX4: F | AY4: F | AZ4: F | BA4: F | BB4: X | BC4: F | BD4: F | BE4: F | BF4: F | BG4: F | BH4: F | BI4: X | BJ4: F
A5: =IF(AI5="X",AI2,"-") -> - | B5: =IF(AJ5="X",AJ2,"-") -> - | C5: =IF(AK5="X",AK2,"-") -> - | D5: =IF(AL5="X",AL2,"-") -> - | E5: =IF(AM5="X",AM2,"-") -> - | F5: =IF(AN5="X",AN2,"-") -> 6 | G5: =IF(AO5="X",AO2,"-") -> - | H5: =IF(AP5="X",AP2,"-") -> - | ... AE5: =IF(BM5="X",BM2,"-") -> - | AF5: =CONCATENATE(A5,"-",B5,"-",C5,"-",D5,"-",E5,"-",F5,"-",G5,"-",H5,"-",I5,"-",J5,"-",K5,"-",L5,"-",M5,"-",N5,"-",O5,"-",P5,"-",Q5,"-",R5,"-",S5,"-",T5,"-",U5,"-",V5,"-",W5,"-",X5,"-",Y5,"-",Z5,"-",AA5,"-",AB5,"-",AC5,"-",AD5,"-",AE5,"-",) -> ----------6-------------13-14-----------20-------------27--------- | AG5: =TRIM(AF5) -> ----------6-------------13-14-----------20-------------27--------- | AH5: 6-13-14-20-27 | AI5: F | AJ5: F | AK5: F | AL5: F | AM5: F | AN5: X | AO5: F | AP5: F | AQ5: F | AR5: F | AS5: F | AT5: F | AU5: X | AV5: X | AW5: F | AX5: F | AY5: F | AZ5: F | BA5: F | BB5: X | BC5: F | BD5: F | BE5: F | BF5: F | BG5: F | BH5: F | BI5: X | BJ5: F
A6: =IF(AI6="X",AI2,"-") -> - | B6: =IF(AJ6="X",AJ2,"-") -> - | C6: =IF(AK6="X",AK2,"-") -> 3 | D6: =IF(AL6="X",AL2,"-") -> - | E6: =IF(AM6="X",AM2,"-") -> - | F6: =IF(AN6="X",AN2,"-") -> - | G6: =IF(AO6="X",AO2,"-") -> - | H6: =IF(AP6="X",AP2,"-") -> - | ... AE6: =IF(BM6="X",BM2,"-") -> - | AF6: =CONCATENATE(A6,"-",B6,"-",C6,"-",D6,"-",E6,"-",F6,"-",G6,"-",H6,"-",I6,"-",J6,"-",K6,"-",L6,"-",M6,"-",N6,"-",O6,"-",P6,"-",Q6,"-",R6,"-",S6,"-",T6,"-",U6,"-",V6,"-",W6,"-",X6,"-",Y6,"-",Z6,"-",AA6,"-",AB6,"-",AC6,"-",AD6,"-",AE6,"-",) -> ----3--------------------------------------------------------- | AG6: =TRIM(AF6) -> ----3--------------------------------------------------------- | AH6: 3 | AI6: F | AJ6: F | AK6: X | AL6: F | AM6: F | AN6: F | AO6: F | AP6: F | AQ6: F | AR6: F | AS6: F | AT6: F | AU6: F | AV6: F | AW6: F | AX6: F | AY6: F | AZ6: F | BA6: F | BB6: F | BC6: F | BD6: F | BE6: F | BF6: F | BG6: F | BH6: F | BI6: F | BJ6: F
A7: =IF(AI7="X",AI2,"-") -> - | B7: =IF(AJ7="X",AJ2,"-") -> - | C7: =IF(AK7="X",AK2,"-") -> - | D7: =IF(AL7="X",AL2,"-") -> - | E7: =IF(AM7="X",AM2,"-") -> - | F7: =IF(AN7="X",AN2,"-") -> 6 | G7: =IF(AO7="X",AO2,"-") -> - | H7: =IF(AP7="X",AP2,"-") -> - | ... AE7: =IF(BM7="X",BM2,"-") -> - | AF7: =CONCATENATE(A7,"-",B7,"-",C7,"-",D7,"-",E7,"-",F7,"-",G7,"-",H7,"-",I7,"-",J7,"-",K7,"-",L7,"-",M7,"-",N7,"-",O7,"-",P7,"-",Q7,"-",R7,"-",S7,"-",T7,"-",U7,"-",V7,"-",W7,"-",X7,"-",Y7,"-",Z7,"-",AA7,"-",AB7,"-",AC7,"-",AD7,"-",AE7,"-",) -> ----------6-------------13-------------20-------------27--------- | AG7: =TRIM(AF7) -> ----------6-------------13-------------20-------------27--------- | AH7: 6-13-20-27 | AI7: F | AJ7: F | AK7: F | AL7: F | AM7: F | AN7: X | AO7: F | AP7: F | AQ7: F | AR7: F | AS7: F | AT7: F | AU7: X | AV7: F | AW7: F | AX7: F | AY7: F | AZ7: F | BA7: F | BB7: X | BC7: F | BD7: F | BE7: F | BF7: F | BG7: F | BH7: F | BI7: X | BJ7: F
A8: =IF(AI8="X",AI2,"-") -> 1 | B8: =IF(AJ8="X",AJ2,"-") -> - | C8: =IF(AK8="X",AK2,"-") -> - | D8: =IF(AL8="X",AL2,"-") -> - | E8: =IF(AM8="X",AM2,"-") -> - | F8: =IF(AN8="X",AN2,"-") -> - | G8: =IF(AO8="X",AO2,"-") -> - | H8: =IF(AP8="X",AP2,"-") -> - | ... AE8: =IF(BM8="X",BM2,"-") -> - | AF8: =CONCATENATE(A8,"-",B8,"-",C8,"-",D8,"-",E8,"-",F8,"-",G8,"-",H8,"-",I8,"-",J8,"-",K8,"-",L8,"-",M8,"-",N8,"-",O8,"-",P8,"-",Q8,"-",R8,"-",S8,"-",T8,"-",U8,"-",V8,"-",W8,"-",X8,"-",Y8,"-",Z8,"-",AA8,"-",AB8,"-",AC8,"-",AD8,"-",AE8,"-",) -> 1-----------------10-------14-------------------24-------28------- | AG8: =TRIM(AF8) -> 1-----------------10-------14-------------------24-------28------- | AH8: 1-10-14-24-28 | AI8: X | AJ8: F | AK8: F | AL8: F | AM8: F | AN8: F | AO8: F | AP8: F | AQ8: F | AR8: X | AS8: F | AT8: F | AU8: F | AV8: X | AW8: F | AX8: F | AY8: F | AZ8: F | BA8: F | BB8: F | BC8: F | BD8: F | BE8: F | BF8: X | BG8: F | BH8: F | BI8: F | BJ8: X
A9: =IF(AI9="X",AI2,"-") -> 1 | B9: =IF(AJ9="X",AJ2,"-") -> - | C9: =IF(AK9="X",AK2,"-") -> - | D9: =IF(AL9="X",AL2,"-") -> - | E9: =IF(AM9="X",AM2,"-") -> - | F9: =IF(AN9="X",AN2,"-") -> 6 | G9: =IF(AO9="X",AO2,"-") -> - | H9: =IF(AP9="X",AP2,"-") -> - | ... AE9: =IF(BM9="X",BM2,"-") -> - | AF9: =CONCATENATE(A9,"-",B9,"-",C9,"-",D9,"-",E9,"-",F9,"-",G9,"-",H9,"-",I9,"-",J9,"-",K9,"-",L9,"-",M9,"-",N9,"-",O9,"-",P9,"-",Q9,"-",R9,"-",S9,"-",T9,"-",U9,"-",V9,"-",W9,"-",X9,"-",Y9,"-",Z9,"-",AA9,"-",AB9,"-",AC9,"-",AD9,"-",AE9,"-",) -> 1---------6-------10-----13-14-----------20-------24-----27-28------- | AG9: =TRIM(AF9) -> 1---------6-------10-----13-14-----------20-------24-----27-28------- | AH9: 1-6-10-13-14-20-24-27-28 | AI9: X | AJ9: F | AK9: F | AL9: F | AM9: F | AN9: X | AO9: F | AP9: F | AQ9: F | AR9: X | AS9: F | AT9: F | AU9: X | AV9: X | AW9: F | AX9: F | AY9: F | AZ9: F | BA9: F | BB9: X | BC9: F | BD9: F | BE9: F | BF9: X | BG9: F | BH9: F | BI9: X | BJ9: X
A10: =IF(AI10="X",AI2,"-") -> - | B10: =IF(AJ10="X",AJ2,"-") -> - | C10: =IF(AK10="X",AK2,"-") -> - | D10: =IF(AL10="X",AL2,"-") -> - | E10: =IF(AM10="X",AM2,"-") -> - | F10: =IF(AN10="X",AN2,"-") -> - | G10: =IF(AO10="X",AO2,"-") -> - | H10: =IF(AP10="X",AP2,"-") -> - | ... AE10: =IF(BM10="X",BM2,"-") -> - | AF10: =CONCATENATE(A10,"-",B10,"-",C10,"-",D10,"-",E10,"-",F10,"-",G10,"-",H10,"-",I10,"-",J10,"-",K10,"-",L10,"-",M10,"-",N10,"-",O10,"-",P10,"-",Q10,"-",R10,"-",S10,"-",T10,"-",U10,"-",V10,"-",W10,"-",X10,"-",Y10,"-",Z10,"-",AA10,"-",AB10,"-",AC10,"-",AD10,"-",AE10,"-",) -> ----------------------------------------21-22------------------- | AG10: =TRIM(AF10) -> ----------------------------------------21-22------------------- | AH10: 21-22 | AI10: F | AJ10: F | AK10: F | AL10: F | AM10: F | AN10: F | AO10: F | AP10: F | AQ10: F | AR10: F | AS10: F | AT10: F | AU10: F | AV10: F | AW10: F | AX10: F | AY10: F | AZ10: F | BA10: F | BB10: F | BC10: X | BD10: X | BE10: F | BF10: F | BG10: F | BH10: F | BI10: F | BJ10: F
A11: =IF(AI11="X",AI2,"-") -> - | B11: =IF(AJ11="X",AJ2,"-") -> - | C11: =IF(AK11="X",AK2,"-") -> - | D11: =IF(AL11="X",AL2,"-") -> - | E11: =IF(AM11="X",AM2,"-") -> - | F11: =IF(AN11="X",AN2,"-") -> - | G11: =IF(AO11="X",AO2,"-") -> - | H11: =IF(AP11="X",AP2,"-") -> - | ... AE11: =IF(BM11="X",BM2,"-") -> - | AF11: =CONCATENATE(A11,"-",B11,"-",C11,"-",D11,"-",E11,"-",F11,"-",G11,"-",H11,"-",I11,"-",J11,"-",K11,"-",L11,"-",M11,"-",N11,"-",O11,"-",P11,"-",Q11,"-",R11,"-",S11,"-",T11,"-",U11,"-",V11,"-",W11,"-",X11,"-",Y11,"-",Z11,"-",AA11,"-",AB11,"-",AC11,"-",AD11,"-",AE11,"-",) -> ----------------------------------------21-22------------------- | AG11: =TRIM(AF11) -> ----------------------------------------21-22------------------- | AH11: 21-22 | AI11: F | AJ11: F | AK11: F | AL11: F | AM11: F | AN11: F | AO11: F | AP11: F | AQ11: F | AR11: F | AS11: F | AT11: F | AU11: F | AV11: F | AW11: F | AX11: F | AY11: F | AZ11: F | BA11: F | BB11: F | BC11: X | BD11: X | BE11: F | BF11: F | BG11: F | BH11: F | BI11: F | BJ11: F
A12: =IF(AI12="X",AI2,"-") -> - | B12: =IF(AJ12="X",AJ2,"-") -> 2 | C12: =IF(AK12="X",AK2,"-") -> - | D12: =IF(AL12="X",AL2,"-") -> - | E12: =IF(AM12="X",AM2,"-") -> - | F12: =IF(AN12="X",AN2,"-") -> - | G12: =IF(AO12="X",AO2,"-") -> - | H12: =IF(AP12="X",AP2,"-") -> - | ... AE12: =IF(BM12="X",BM2,"-") -> - | AF12: =CONCATENATE(A12,"-",B12,"-",C12,"-",D12,"-",E12,"-",F12,"-",G12,"-",H12,"-",I12,"-",J12,"-",K12,"-",L12,"-",M12,"-",N12,"-",O12,"-",P12,"-",Q12,"-",R12,"-",S12,"-",T12,"-",U12,"-",V12,"-",W12,"-",X12,"-",Y12,"-",Z12,"-",AA12,"-",AB12,"-",AC12,"-",AD12,"-",AE12,"-",) -> --2-------------9-------------16-------------23----------------- | AG12: =TRIM(AF12) -> --2-------------9-------------16-------------23----------------- | AH12: 2-9-16-23 | AI12: F | AJ12: X | AK12: F | AL12: F | AM12: F | AN12: F | AO12: F | AP12: F | AQ12: X | AR12: F | AS12: F | AT12: F | AU12: F | AV12: F | AW12: F | AX12: X | AY12: F | AZ12: F | BA12: F | BB12: F | BC12: F | BD12: F | BE12: X | BF12: F | BG12: F | BH12: F | BI12: F | BJ12: F
A13: =IF(AI13="X",AI2,"-") -> - | B13: =IF(AJ13="X",AJ2,"-") -> - | C13: =IF(AK13="X",AK2,"-") -> - | D13: =IF(AL13="X",AL2,"-") -> - | E13: =IF(AM13="X",AM2,"-") -> - | F13: =IF(AN13="X",AN2,"-") -> - | G13: =IF(AO13="X",AO2,"-") -> - | H13: =IF(AP13="X",AP2,"-") -> - | ... AE13: =IF(BM13="X",BM2,"-") -> - | AF13: =CONCATENATE(A13,"-",B13,"-",C13,"-",D13,"-",E13,"-",F13,"-",G13,"-",H13,"-",I13,"-",J13,"-",K13,"-",L13,"-",M13,"-",N13,"-",O13,"-",P13,"-",Q13,"-",R13,"-",S13,"-",T13,"-",U13,"-",V13,"-",W13,"-",X13,"-",Y13,"-",Z13,"-",AA13,"-",AB13,"-",AC13,"-",AD13,"-",AE13,"-",) -> ------------------------------------------22------------------- | AG13: =TRIM(AF13) -> ------------------------------------------22------------------- | AH13: 22 | AI13: F | AJ13: F | AK13: F | AL13: F | AM13: F | AN13: F | AO13: F | AP13: F | AQ13: F | AR13: F | AS13: F | AT13: F | AU13: F | AV13: F | AW13: F | AX13: F | AY13: F | AZ13: F | BA13: F | BB13: F | BC13: F | BD13: X | BE13: F | BF13: F | BG13: F | BH13: F | BI13: F | BJ13: F
A14: =IF(AI14="X",AI2,"-") -> - | B14: =IF(AJ14="X",AJ2,"-") -> - | C14: =IF(AK14="X",AK2,"-") -> 3 | D14: =IF(AL14="X",AL2,"-") -> - | E14: =IF(AM14="X",AM2,"-") -> - | F14: =IF(AN14="X",AN2,"-") -> - | G14: =IF(AO14="X",AO2,"-") -> - | H14: =IF(AP14="X",AP2,"-") -> - | ... AE14: =IF(BM14="X",BM2,"-") -> - | AF14: =CONCATENATE(A14,"-",B14,"-",C14,"-",D14,"-",E14,"-",F14,"-",G14,"-",H14,"-",I14,"-",J14,"-",K14,"-",L14,"-",M14,"-",N14,"-",O14,"-",P14,"-",Q14,"-",R14,"-",S14,"-",T14,"-",U14,"-",V14,"-",W14,"-",X14,"-",Y14,"-",Z14,"-",AA14,"-",AB14,"-",AC14,"-",AD14,"-",AE14,"-",) -> ----3---------------------------17---------22------------------- | AG14: =TRIM(AF14) -> ----3---------------------------17---------22------------------- | AH14: 3-17-22 | AI14: F | AJ14: F | AK14: X | AL14: F | AM14: F | AN14: F | AO14: F | AP14: F | AQ14: F | AR14: F | AS14: F | AT14: F | AU14: F | AV14: F | AW14: F | AX14: F | AY14: X | AZ14: F | BA14: F | BB14: F | BC14: F | BD14: X | BE14: F | BF14: F | BG14: F | BH14: F | BI14: F | BJ14: F
A15: =IF(AI15="X",AI2,"-") -> - | B15: =IF(AJ15="X",AJ2,"-") -> - | C15: =IF(AK15="X",AK2,"-") -> - | D15: =IF(AL15="X",AL2,"-") -> 4 | E15: =IF(AM15="X",AM2,"-") -> - | F15: =IF(AN15="X",AN2,"-") -> - | G15: =IF(AO15="X",AO2,"-") -> - | H15: =IF(AP15="X",AP2,"-") -> - | ... AE15: =IF(BM15="X",BM2,"-") -> - | AF15: =CONCATENATE(A15,"-",B15,"-",C15,"-",D15,"-",E15,"-",F15,"-",G15,"-",H15,"-",I15,"-",J15,"-",K15,"-",L15,"-",M15,"-",N15,"-",O15,"-",P15,"-",Q15,"-",R15,"-",S15,"-",T15,"-",U15,"-",V15,"-",W15,"-",X15,"-",Y15,"-",Z15,"-",AA15,"-",AB15,"-",AC15,"-",AD15,"-",AE15,"-",) -> ------4-------------11-------------18-------------25------------- | AG15: =TRIM(AF15) -> ------4-------------11-------------18-------------25------------- | AH15: 4-11-18-25 | AI15: F | AJ15: F | AK15: F | AL15: X | AM15: F | AN15: F | AO15: F | AP15: F | AQ15: F | AR15: F | AS15: X | AT15: F | AU15: F | AV15: F | AW15: F | AX15: F | AY15: F | AZ15: X | BA15: F | BB15: F | BC15: F | BD15: F | BE15: F | BF15: F | BG15: X | BH15: F | BI15: F | BJ15: F
A16: =IF(AI16="X",AI2,"-") -> - | B16: =IF(AJ16="X",AJ2,"-") -> - | C16: =IF(AK16="X",AK2,"-") -> - | D16: =IF(AL16="X",AL2,"-") -> - | E16: =IF(AM16="X",AM2,"-") -> - | F16: =IF(AN16="X",AN2,"-") -> - | G16: =IF(AO16="X",AO2,"-") -> - | H16: =IF(AP16="X",AP2,"-") -> - | ... AE16: =IF(BM16="X",BM2,"-") -> - | AF16: =CONCATENATE(A16,"-",B16,"-",C16,"-",D16,"-",E16,"-",F16,"-",G16,"-",H16,"-",I16,"-",J16,"-",K16,"-",L16,"-",M16,"-",N16,"-",O16,"-",P16,"-",Q16,"-",R16,"-",S16,"-",T16,"-",U16,"-",V16,"-",W16,"-",X16,"-",Y16,"-",Z16,"-",AA16,"-",AB16,"-",AC16,"-",AD16,"-",AE16,"-",) -> ----------------------12---------------------------26----------- | AG16: =TRIM(AF16) -> ----------------------12---------------------------26----------- | AH16: 12-26 | AI16: F | AJ16: F | AK16: F | AL16: F | AM16: F | AN16: F | AO16: F | AP16: F | AQ16: F | AR16: F | AS16: F | AT16: X | AU16: F | AV16: F | AW16: F | AX16: F | AY16: F | AZ16: F | BA16: F | BB16: F | BC16: F | BD16: F | BE16: F | BF16: F | BG16: F | BH16: X | BI16: F | BJ16: F
A17: =IF(AI17="X",AI2,"-") -> 1 | B17: =IF(AJ17="X",AJ2,"-") -> - | C17: =IF(AK17="X",AK2,"-") -> - | D17: =IF(AL17="X",AL2,"-") -> - | E17: =IF(AM17="X",AM2,"-") -> - | F17: =IF(AN17="X",AN2,"-") -> - | G17: =IF(AO17="X",AO2,"-") -> - | H17: =IF(AP17="X",AP2,"-") -> - | ... AE17: =IF(BM17="X",BM2,"-") -> - | AF17: =CONCATENATE(A17,"-",B17,"-",C17,"-",D17,"-",E17,"-",F17,"-",G17,"-",H17,"-",I17,"-",J17,"-",K17,"-",L17,"-",M17,"-",N17,"-",O17,"-",P17,"-",Q17,"-",R17,"-",S17,"-",T17,"-",U17,"-",V17,"-",W17,"-",X17,"-",Y17,"-",Z17,"-",AA17,"-",AB17,"-",AC17,"-",AD17,"-",AE17,"-",) -> 1-------------------11-------15-------------------25------------- | AG17: =TRIM(AF17) -> 1-------------------11-------15-------------------25------------- | AH17: 1-11-15-25 | AI17: X | AJ17: F | AK17: F | AL17: F | AM17: F | AN17: F | AO17: F | AP17: F | AQ17: F | AR17: F | AS17: X | AT17: F | AU17: F | AV17: F | AW17: X | AX17: F | AY17: F | AZ17: F | BA17: F | BB17: F | BC17: F | BD17: F | BE17: F | BF17: F | BG17: X | BH17: F | BI17: F | BJ17: F
A18: =IF(AI18="X",AI2,"-") -> 1 | B18: =IF(AJ18="X",AJ2,"-") -> - | C18: =IF(AK18="X",AK2,"-") -> - | D18: =IF(AL18="X",AL2,"-") -> - | E18: =IF(AM18="X",AM2,"-") -> - | F18: =IF(AN18="X",AN2,"-") -> - | G18: =IF(AO18="X",AO2,"-") -> - | H18: =IF(AP18="X",AP2,"-") -> - | ... AE18: =IF(BM18="X",BM2,"-") -> - | AF18: =CONCATENATE(A18,"-",B18,"-",C18,"-",D18,"-",E18,"-",F18,"-",G18,"-",H18,"-",I18,"-",J18,"-",K18,"-",L18,"-",M18,"-",N18,"-",O18,"-",P18,"-",Q18,"-",R18,"-",S18,"-",T18,"-",U18,"-",V18,"-",W18,"-",X18,"-",Y18,"-",Z18,"-",AA18,"-",AB18,"-",AC18,"-",AD18,"-",AE18,"-",) -> 1-------------------11-12-----15-------------------25-26----------- | AG18: =TRIM(AF18) -> 1-------------------11-12-----15-------------------25-26----------- | AH18: 1-11-12-15-25-26 | AI18: X | AJ18: F | AK18: F | AL18: F | AM18: F | AN18: F | AO18: F | AP18: F | AQ18: F | AR18: F | AS18: X | AT18: X | AU18: F | AV18: F | AW18: X | AX18: F | AY18: F | AZ18: F | BA18: F | BB18: F | BC18: F | BD18: F | BE18: F | BF18: F | BG18: X | BH18: X | BI18: F | BJ18: F
A19: =IF(AI19="X",AI2,"-") -> - | B19: =IF(AJ19="X",AJ2,"-") -> - | C19: =IF(AK19="X",AK2,"-") -> - | D19: =IF(AL19="X",AL2,"-") -> - | E19: =IF(AM19="X",AM2,"-") -> 5 | F19: =IF(AN19="X",AN2,"-") -> - | G19: =IF(AO19="X",AO2,"-") -> - | H19: =IF(AP19="X",AP2,"-") -> - | ... AE19: =IF(BM19="X",BM2,"-") -> - | AF19: =CONCATENATE(A19,"-",B19,"-",C19,"-",D19,"-",E19,"-",F19,"-",G19,"-",H19,"-",I19,"-",J19,"-",K19,"-",L19,"-",M19,"-",N19,"-",O19,"-",P19,"-",Q19,"-",R19,"-",S19,"-",T19,"-",U19,"-",V19,"-",W19,"-",X19,"-",Y19,"-",Z19,"-",AA19,"-",AB19,"-",AC19,"-",AD19,"-",AE19,"-",) -> --------5-------------12-------------19-------------26----------- | AG19: =TRIM(AF19) -> --------5-------------12-------------19-------------26----------- | AH19: 5-12-19-26 | AI19: F | AJ19: F | AK19: F | AL19: F | AM19: X | AN19: F | AO19: F | AP19: F | AQ19: F | AR19: F | AS19: F | AT19: X | AU19: F | AV19: F | AW19: F | AX19: F | AY19: F | AZ19: F | BA19: X | BB19: F | BC19: F | BD19: F | BE19: F | BF19: F | BG19: F | BH19: X | BI19: F | BJ19: F
A20: =IF(AI20="X",AI2,"-") -> - | B20: =IF(AJ20="X",AJ2,"-") -> - | C20: =IF(AK20="X",AK2,"-") -> - | D20: =IF(AL20="X",AL2,"-") -> 4 | E20: =IF(AM20="X",AM2,"-") -> 5 | F20: =IF(AN20="X",AN2,"-") -> - | G20: =IF(AO20="X",AO2,"-") -> - | H20: =IF(AP20="X",AP2,"-") -> - | ... AE20: =IF(BM20="X",BM2,"-") -> - | AF20: =CONCATENATE(A20,"-",B20,"-",C20,"-",D20,"-",E20,"-",F20,"-",G20,"-",H20,"-",I20,"-",J20,"-",K20,"-",L20,"-",M20,"-",N20,"-",O20,"-",P20,"-",Q20,"-",R20,"-",S20,"-",T20,"-",U20,"-",V20,"-",W20,"-",X20,"-",Y20,"-",Z20,"-",AA20,"-",AB20,"-",AC20,"-",AD20,"-",AE20,"-",) -> ------4-5-----------11-------------18-19-----------25------------- | AG20: =TRIM(AF20) -> ------4-5-----------11-------------18-19-----------25------------- | AH20: 4-5-11-18-19-25 | AI20: F | AJ20: F | AK20: F | AL20: X | AM20: X | AN20: F | AO20: F | AP20: F | AQ20: F | AR20: F | AS20: X | AT20: F | AU20: F | AV20: F | AW20: F | AX20: F | AY20: F | AZ20: X | BA20: X | BB20: F | BC20: F | BD20: F | BE20: F | BF20: F | BG20: X | BH20: F | BI20: F | BJ20: F
A21: =IF(AI21="X",AI2,"-") -> - | B21: =IF(AJ21="X",AJ2,"-") -> - | C21: =IF(AK21="X",AK2,"-") -> 3 | D21: =IF(AL21="X",AL2,"-") -> - | E21: =IF(AM21="X",AM2,"-") -> - | F21: =IF(AN21="X",AN2,"-") -> - | G21: =IF(AO21="X",AO2,"-") -> - | H21: =IF(AP21="X",AP2,"-") -> 8 | ... AE21: =IF(BM21="X",BM2,"-") -> - | AF21: =CONCATENATE(A21,"-",B21,"-",C21,"-",D21,"-",E21,"-",F21,"-",G21,"-",H21,"-",I21,"-",J21,"-",K21,"-",L21,"-",M21,"-",N21,"-",O21,"-",P21,"-",Q21,"-",R21,"-",S21,"-",T21,"-",U21,"-",V21,"-",W21,"-",X21,"-",Y21,"-",Z21,"-",AA21,"-",AB21,"-",AC21,"-",AD21,"-",AE21,"-",) -> ----3---------8---10---------15---17-------------24-------28------- | AG21: =TRIM(AF21) -> ----3---------8---10---------15---17-------------24-------28------- | AH21: 3-8-10-15-17-24-28 | AI21: F | AJ21: F | AK21: X | AL21: F | AM21: F | AN21: F | AO21: F | AP21: X | AQ21: F | AR21: X | AS21: F | AT21: F | AU21: F | AV21: F | AW21: X | AX21: F | AY21: X | AZ21: F | BA21: F | BB21: F | BC21: F | BD21: F | BE21: F | BF21: X | BG21: F | BH21: F | BI21: F | BJ21: X
A22: =IF(AI22="X",AI2,"-") -> - | B22: =IF(AJ22="X",AJ2,"-") -> - | C22: =IF(AK22="X",AK2,"-") -> 3 | D22: =IF(AL22="X",AL2,"-") -> 4 | E22: =IF(AM22="X",AM2,"-") -> - | F22: =IF(AN22="X",AN2,"-") -> - | G22: =IF(AO22="X",AO2,"-") -> - | H22: =IF(AP22="X",AP2,"-") -> 8 | ... AE22: =IF(BM22="X",BM2,"-") -> - | AF22: =CONCATENATE(A22,"-",B22,"-",C22,"-",D22,"-",E22,"-",F22,"-",G22,"-",H22,"-",I22,"-",J22,"-",K22,"-",L22,"-",M22,"-",N22,"-",O22,"-",P22,"-",Q22,"-",R22,"-",S22,"-",T22,"-",U22,"-",V22,"-",W22,"-",X22,"-",Y22,"-",Z22,"-",AA22,"-",AB22,"-",AC22,"-",AD22,"-",AE22,"-",) -> ----3-4-------8---10-11-------15---17-18-19---------24-25-----28------- | AG22: =TRIM(AF22) -> ----3-4-------8---10-11-------15---17-18-19---------24-25-----28------- | AH22: 3-4-8-10-11-15-17-18-19-24-25-28 | AI22: F | AJ22: F | AK22: X | AL22: X | AM22: F | AN22: F | AO22: F | AP22: X | AQ22: F | AR22: X | AS22: X | AT22: F | AU22: F | AV22: F | AW22: X | AX22: F | AY22: X | AZ22: X | BA22: X | BB22: F | BC22: F | BD22: F | BE22: F | BF22: X | BG22: X | BH22: F | BI22: F | BJ22: X
A23: =IF(AI23="X",AI2,"-") -> - | B23: =IF(AJ23="X",AJ2,"-") -> - | C23: =IF(AK23="X",AK2,"-") -> - | D23: =IF(AL23="X",AL2,"-") -> - | E23: =IF(AM23="X",AM2,"-") -> 5 | F23: =IF(AN23="X",AN2,"-") -> - | G23: =IF(AO23="X",AO2,"-") -> - | H23: =IF(AP23="X",AP2,"-") -> - | ... AE23: =IF(BM23="X",BM2,"-") -> - | AF23: =CONCATENATE(A23,"-",B23,"-",C23,"-",D23,"-",E23,"-",F23,"-",G23,"-",H23,"-",I23,"-",J23,"-",K23,"-",L23,"-",M23,"-",N23,"-",O23,"-",P23,"-",Q23,"-",R23,"-",S23,"-",T23,"-",U23,"-",V23,"-",W23,"-",X23,"-",Y23,"-",Z23,"-",AA23,"-",AB23,"-",AC23,"-",AD23,"-",AE23,"-",) -> --------5-----------------------17----------------------------- | AG23: =TRIM(AF23) -> --------5-----------------------17----------------------------- | AH23: 5-17 | AI23: F | AJ23: F | AK23: F | AL23: F | AM23: X | AN23: F | AO23: F | AP23: F | AQ23: F | AR23: F | AS23: F | AT23: F | AU23: F | AV23: F | AW23: F | AX23: F | AY23: X | AZ23: F | BA23: F | BB23: F | BC23: F | BD23: F | BE23: F | BF23: F | BG23: F | BH23: F | BI23: F | BJ23: F
A24: =IF(AI24="X",AI2,"-") -> - | B24: =IF(AJ24="X",AJ2,"-") -> - | C24: =IF(AK24="X",AK2,"-") -> - | D24: =IF(AL24="X",AL2,"-") -> - | E24: =IF(AM24="X",AM2,"-") -> 5 | F24: =IF(AN24="X",AN2,"-") -> - | G24: =IF(AO24="X",AO2,"-") -> - | H24: =IF(AP24="X",AP2,"-") -> - | ... AE24: =IF(BM24="X",BM2,"-") -> - | AF24: =CONCATENATE(A24,"-",B24,"-",C24,"-",D24,"-",E24,"-",F24,"-",G24,"-",H24,"-",I24,"-",J24,"-",K24,"-",L24,"-",M24,"-",N24,"-",O24,"-",P24,"-",Q24,"-",R24,"-",S24,"-",T24,"-",U24,"-",V24,"-",W24,"-",X24,"-",Y24,"-",Z24,"-",AA24,"-",AB24,"-",AC24,"-",AD24,"-",AE24,"-",) -> --------5---------------------------19---21--------------------- | AG24: =TRIM(AF24) -> --------5---------------------------19---21--------------------- | AH24: 5-19-21 | AI24: F | AJ24: F | AK24: F | AL24: F | AM24: X | AN24: F | AO24: F | AP24: F | AQ24: F | AR24: F | AS24: F | AT24: F | AU24: F | AV24: F | AW24: F | AX24: F | AY24: F | AZ24: F | BA24: X | BB24: F | BC24: X | BD24: F | BE24: F | BF24: F | BG24: F | BH24: F | BI24: F | BJ24: F
A25: =IF(AI25="X",AI2,"-") -> - | B25: =IF(AJ25="X",AJ2,"-") -> - | C25: =IF(AK25="X",AK2,"-") -> - | D25: =IF(AL25="X",AL2,"-") -> - | E25: =IF(AM25="X",AM2,"-") -> 5 | F25: =IF(AN25="X",AN2,"-") -> - | G25: =IF(AO25="X",AO2,"-") -> - | H25: =IF(AP25="X",AP2,"-") -> - | ... AE25: =IF(BM25="X",BM2,"-") -> - | AF25: =CONCATENATE(A25,"-",B25,"-",C25,"-",D25,"-",E25,"-",F25,"-",G25,"-",H25,"-",I25,"-",J25,"-",K25,"-",L25,"-",M25,"-",N25,"-",O25,"-",P25,"-",Q25,"-",R25,"-",S25,"-",T25,"-",U25,"-",V25,"-",W25,"-",X25,"-",Y25,"-",Z25,"-",AA25,"-",AB25,"-",AC25,"-",AD25,"-",AE25,"-",) -> --------5---------------------------19---21-22------------------- | AG25: =TRIM(AF25) -> --------5---------------------------19---21-22------------------- | AH25: 5-19-21-22 | AI25: F | AJ25: F | AK25: F | AL25: F | AM25: X | AN25: F | AO25: F | AP25: F | AQ25: F | AR25: F | AS25: F | AT25: F | AU25: F | AV25: F | AW25: F | AX25: F | AY25: F | AZ25: F | BA25: X | BB25: F | BC25: X | BD25: X | BE25: F | BF25: F | BG25: F | BH25: F | BI25: F | BJ25: F
A26: =IF(AI26="X",AI7,"-") -> - | B26: =IF(AJ26="X",AJ2,"-") -> - | C26: =IF(AK26="X",AK2,"-") -> - | D26: =IF(AL26="X",AL2,"-") -> 4 | E26: =IF(AM26="X",AM2,"-") -> - | F26: =IF(AN26="X",AN2,"-") -> - | G26: =IF(AO26="X",AO2,"-") -> 7 | H26: =IF(AP26="X",AP2,"-") -> - | I26: =IF(AQ26="X",AQ2,"-") -> - | ... AE26: =IF(BM26="X",BM2,"-") -> - | AF26: =CONCATENATE(A26,"-",B26,"-",C26,"-",D26,"-",E26,"-",F26,"-",G26,"-",H26,"-",I26,"-",J26,"-",K26,"-",L26,"-",M26,"-",N26,"-",O26,"-",P26,"-",Q26,"-",R26,"-",S26,"-",T26,"-",U26,"-",V26,"-",W26,"-",X26,"-",Y26,"-",Z26,"-",AA26,"-",AB26,"-",AC26,"-",AD26,"-",AE26,"-",) -> ------4-----7---------------------18--------------------------- | AG26: =TRIM(AF26) -> ------4-----7---------------------18--------------------------- | AH26: 4-7-18 | AI26: F | AJ26: F | AK26: F | AL26: X | AM26: F | AN26: F | AO26: X | AP26: F | AQ26: F | AR26: F | AS26: F | AT26: F | AU26: F | AV26: F | AW26: F | AX26: F | AY26: F | AZ26: X | BA26: F | BB26: F | BC26: F | BD26: F | BE26: F | BF26: F | BG26: F | BH26: F | BI26: F | BJ26: F
A27: =IF(AI27="X",AI2,"-") -> - | B27: =IF(AJ27="X",AJ2,"-") -> - | C27: =IF(AK27="X",AK2,"-") -> - | D27: =IF(AL27="X",AL2,"-") -> 4 | E27: =IF(AM27="X",AM2,"-") -> - | F27: =IF(AN27="X",AN2,"-") -> - | G27: =IF(AO27="X",AO2,"-") -> 7 | H27: =IF(AP27="X",AP2,"-") -> - | ... AE27: =IF(BM27="X",BM2,"-") -> - | AF27: =CONCATENATE(A27,"-",B27,"-",C27,"-",D27,"-",E27,"-",F27,"-",G27,"-",H27,"-",I27,"-",J27,"-",K27,"-",L27,"-",M27,"-",N27,"-",O27,"-",P27,"-",Q27,"-",R27,"-",S27,"-",T27,"-",U27,"-",V27,"-",W27,"-",X27,"-",Y27,"-",Z27,"-",AA27,"-",AB27,"-",AC27,"-",AD27,"-",AE27,"-",) -> ------4-----7---------------------18--------------------------- | AG27: =TRIM(AF27) -> ------4-----7---------------------18--------------------------- | AH27: 4-7-18 | AI27: F | AJ27: F | AK27: F | AL27: X | AM27: F | AN27: F | AO27: X | AP27: F | AQ27: F | AR27: F | AS27: F | AT27: F | AU27: F | AV27: F | AW27: F | AX27: F | AY27: F | AZ27: X | BA27: F | BB27: F | BC27: F | BD27: F | BE27: F | BF27: F | BG27: F | BH27: F | BI27: F | BJ27: F
A28: =IF(AI28="X",AI2,"-") -> - | B28: =IF(AJ28="X",AJ2,"-") -> - | C28: =IF(AK28="X",AK2,"-") -> - | D28: =IF(AL28="X",AL2,"-") -> - | E28: =IF(AM28="X",AM2,"-") -> - | F28: =IF(AN28="X",AN2,"-") -> - | G28: =IF(AO28="X",AO2,"-") -> - | H28: =IF(AP28="X",AP2,"-") -> - | ... AE28: =IF(BM28="X",BM2,"-") -> - | AF28: =CONCATENATE(A28,"-",B28,"-",C28,"-",D28,"-",E28,"-",F28,"-",G28,"-",H28,"-",I28,"-",J28,"-",K28,"-",L28,"-",M28,"-",N28,"-",O28,"-",P28,"-",Q28,"-",R28,"-",S28,"-",T28,"-",U28,"-",V28,"-",W28,"-",X28,"-",Y28,"-",Z28,"-",AA28,"-",AB28,"-",AC28,"-",AD28,"-",AE28,"-",) -> ----------------------12---------------------------26----------- | AG28: =TRIM(AF28) -> ----------------------12---------------------------26----------- | AH28: 12-26 | AI28: F | AJ28: F | AK28: F | AL28: F | AM28: F | AN28: F | AO28: F | AP28: F | AQ28: F | AR28: F | AS28: F | AT28: X | AU28: F | AV28: F | AW28: F | AX28: F | AY28: F | AZ28: F | BA28: F | BB28: F | BC28: F | BD28: F | BE28: F | BF28: F | BG28: F | BH28: X | BI28: F | BJ28: F
A29: =IF(AI29="X",AI2,"-") -> - | B29: =IF(AJ29="X",AJ2,"-") -> - | C29: =IF(AK29="X",AK2,"-") -> - | D29: =IF(AL29="X",AL2,"-") -> - | E29: =IF(AM29="X",AM2,"-") -> - | F29: =IF(AN29="X",AN2,"-") -> - | G29: =IF(AO29="X",AO2,"-") -> - | H29: =IF(AP29="X",AP2,"-") -> - | ... AE29: =IF(BM29="X",BM2,"-") -> - | AF29: =CONCATENATE(A29,"-",B29,"-",C29,"-",D29,"-",E29,"-",F29,"-",G29,"-",H29,"-",I29,"-",J29,"-",K29,"-",L29,"-",M29,"-",N29,"-",O29,"-",P29,"-",Q29,"-",R29,"-",S29,"-",T29,"-",U29,"-",V29,"-",W29,"-",X29,"-",Y29,"-",Z29,"-",AA29,"-",AB29,"-",AC29,"-",AD29,"-",AE29,"-",) -> ----------------------12---------------------------26----------- | AG29: =TRIM(AF29) -> ----------------------12---------------------------26----------- | AH29: 12-26 | AI29: F | AJ29: F | AK29: F | AL29: F | AM29: F | AN29: F | AO29: F | AP29: F | AQ29: F | AR29: F | AS29: F | AT29: X | AU29: F | AV29: F | AW29: F | AX29: F | AY29: F | AZ29: F | BA29: F | BB29: F | BC29: F | BD29: F | BE29: F | BF29: F | BG29: F | BH29: X | BI29: F | BJ29: F
A30: =IF(AI30="X",AI2,"-") -> - | B30: =IF(AJ30="X",AJ2,"-") -> 2 | C30: =IF(AK30="X",AK2,"-") -> - | D30: =IF(AL30="X",AL2,"-") -> - | E30: =IF(AM30="X",AM2,"-") -> - | F30: =IF(AN30="X",AN2,"-") -> - | G30: =IF(AO30="X",AO2,"-") -> - | H30: =IF(AP30="X",AP2,"-") -> - | ... AE30: =IF(BM30="X",BM2,"-") -> - | AF30: =CONCATENATE(A30,"-",B30,"-",C30,"-",D30,"-",E30,"-",F30,"-",G30,"-",H30,"-",I30,"-",J30,"-",K30,"-",L30,"-",M30,"-",N30,"-",O30,"-",P30,"-",Q30,"-",R30,"-",S30,"-",T30,"-",U30,"-",V30,"-",W30,"-",X30,"-",Y30,"-",Z30,"-",AA30,"-",AB30,"-",AC30,"-",AD30,"-",AE30,"-",) -> --2-------------9-------------16-------------23----------------- | AG30: =TRIM(AF30) -> --2-------------9-------------16-------------23----------------- | AH30: 2-9-16-23 | AI30: F | AJ30: X | AK30: F | AL30: F | AM30: F | AN30: F | AO30: F | AP30: F | AQ30: X | AR30: F | AS30: F | AT30: F | AU30: F | AV30: F | AW30: F | AX30: X | AY30: F | AZ30: F | BA30: F | BB30: F | BC30: F | BD30: F | BE30: X | BF30: F | BG30: F | BH30: F | BI30: F | BJ30: F
A31: =IF(AI31="X",AI2,"-") -> - | B31: =IF(AJ31="X",AJ2,"-") -> 2 | C31: =IF(AK31="X",AK2,"-") -> - | D31: =IF(AL31="X",AL2,"-") -> - | E31: =IF(AM31="X",AM2,"-") -> - | F31: =IF(AN31="X",AN2,"-") -> - | G31: =IF(AO31="X",AO2,"-") -> - | H31: =IF(AP31="X",AP2,"-") -> - | ... AE31: =IF(BM31="X",BM2,"-") -> - | AF31: =CONCATENATE(A31,"-",B31,"-",C31,"-",D31,"-",E31,"-",F31,"-",G31,"-",H31,"-",I31,"-",J31,"-",K31,"-",L31,"-",M31,"-",N31,"-",O31,"-",P31,"-",Q31,"-",R31,"-",S31,"-",T31,"-",U31,"-",V31,"-",W31,"-",X31,"-",Y31,"-",Z31,"-",AA31,"-",AB31,"-",AC31,"-",AD31,"-",AE31,"-",) -> --2-------------9-------------16-------------23----------------- | AG31: =TRIM(AF31) -> --2-------------9-------------16-------------23----------------- | AH31: 2-9-16-23 | AI31: F | AJ31: X | AK31: F | AL31: F | AM31: F | AN31: F | AO31: F | AP31: F | AQ31: X | AR31: F | AS31: F | AT31: F | AU31: F | AV31: F | AW31: F | AX31: X | AY31: F | AZ31: F | BA31: F | BB31: F | BC31: F | BD31: F | BE31: X | BF31: F | BG31: F | BH31: F | BI31: F | BJ31: F
A32: =IF(AI32="X",AI2,"-") -> - | B32: =IF(AJ32="X",AJ2,"-") -> - | C32: =IF(AK32="X",AK2,"-") -> - | D32: =IF(AL32="X",AL2,"-") -> - | E32: =IF(AM32="X",AM2,"-") -> - | F32: =IF(AN32="X",AN2,"-") -> - | G32: =IF(AO32="X",AO2,"-") -> 7 | H32: =IF(AP32="X",AP2,"-") -> 8 | ... AE32: =IF(BM32="X",BM2,"-") -> - | AF32: =CONCATENATE(A32,"-",B32,"-",C32,"-",D32,"-",E32,"-",F32,"-",G32,"-",H32,"-",I32,"-",J32,"-",K32,"-",L32,"-",M32,"-",N32,"-",O32,"-",P32,"-",Q32,"-",R32,"-",S32,"-",T32,"-",U32,"-",V32,"-",W32,"-",X32,"-",Y32,"-",Z32,"-",AA32,"-",AB32,"-",AC32,"-",AD32,"-",AE32,"-",) -> ------------7-8----------------------------------------------- | AG32: =TRIM(AF32) -> ------------7-8----------------------------------------------- | AH32: 7-8 | AI32: F | AJ32: F | AK32: F | AL32: F | AM32: F | AN32: F | AO32: X | AP32: X | AQ32: F | AR32: F | AS32: F | AT32: F | AU32: F | AV32: F | AW32: F | AX32: F | AY32: F | AZ32: F | BA32: F | BB32: F | BC32: F | BD32: F | BE32: F | BF32: F | BG32: F | BH32: F | BI32: F | BJ32: F
A33: =IF(AI33="X",AI2,"-") -> - | B33: =IF(AJ33="X",AJ2,"-") -> - | C33: =IF(AK33="X",AK2,"-") -> - | D33: =IF(AL33="X",AL2,"-") -> - | E33: =IF(AM33="X",AM2,"-") -> - | F33: =IF(AN33="X",AN2,"-") -> - | G33: =IF(AO33="X",AO2,"-") -> 7 | H33: =IF(AP33="X",AP2,"-") -> 8 | ... AE33: =IF(BM33="X",BM2,"-") -> - | AF33: =CONCATENATE(A33,"-",B33,"-",C33,"-",D33,"-",E33,"-",F33,"-",G33,"-",H33,"-",I33,"-",J33,"-",K33,"-",L33,"-",M33,"-",N33,"-",O33,"-",P33,"-",Q33,"-",R33,"-",S33,"-",T33,"-",U33,"-",V33,"-",W33,"-",X33,"-",Y33,"-",Z33,"-",AA33,"-",AB33,"-",AC33,"-",AD33,"-",AE33,"-",) -> ------------7-8----------------------------------------------- | AG33: =TRIM(AF33) -> ------------7-8----------------------------------------------- | AH33: 7-8 | AI33: F | AJ33: F | AK33: F | AL33: F | AM33: F | AN33: F | AO33: X | AP33: X | AQ33: F | AR33: F | AS33: F | AT33: F | AU33: F | AV33: F | AW33: F | AX33: F | AY33: F | AZ33: F | BA33: F | BB33: F | BC33: F | BD33: F | BE33: F | BF33: F | BG33: F | BH33: F | BI33: F | BJ33: F
A34: =IF(AI34="X",AI2,"-") -> - | B34: =IF(AJ34="X",AJ2,"-") -> 2 | C34: =IF(AK34="X",AK2,"-") -> - | D34: =IF(AL34="X",AL2,"-") -> - | E34: =IF(AM34="X",AM2,"-") -> - | F34: =IF(AN34="X",AN2,"-") -> - | G34: =IF(AO34="X",AO2,"-") -> - | H34: =IF(AP34="X",AP2,"-") -> - | ... AE34: =IF(BM34="X",BM2,"-") -> - | AF34: =CONCATENATE(A34,"-",B34,"-",C34,"-",D34,"-",E34,"-",F34,"-",G34,"-",H34,"-",I34,"-",J34,"-",K34,"-",L34,"-",M34,"-",N34,"-",O34,"-",P34,"-",Q34,"-",R34,"-",S34,"-",T34,"-",U34,"-",V34,"-",W34,"-",X34,"-",Y34,"-",Z34,"-",AA34,"-",AB34,"-",AC34,"-",AD34,"-",AE34,"-",) -> --2-------------9-------------16-------------23----------------- | AG34: =TRIM(AF34) -> --2-------------9-------------16-------------23----------------- | AH34: 2-9-16-23 | AI34: F | AJ34: X | AK34: F | AL34: F | AM34: F | AN34: F | AO34: F | AP34: F | AQ34: X | AR34: F | AS34: F | AT34: F | AU34: F | AV34: F | AW34: F | AX34: X | AY34: F | AZ34: F | BA34: F | BB34: F | BC34: F | BD34: F | BE34: X | BF34: F | BG34: F | BH34: F | BI34: F | BJ34: F
A35: =IF(AI35="X",AI2,"-") -> - | B35: =IF(AJ35="X",AJ2,"-") -> 2 | C35: =IF(AK35="X",AK2,"-") -> - | D35: =IF(AL35="X",AL2,"-") -> - | E35: =IF(AM35="X",AM2,"-") -> - | F35: =IF(AN35="X",AN2,"-") -> - | G35: =IF(AO35="X",AO2,"-") -> - | H35: =IF(AP35="X",AP2,"-") -> - | ... AE35: =IF(BM35="X",BM2,"-") -> - | AF35: =CONCATENATE(A35,"-",B35,"-",C35,"-",D35,"-",E35,"-",F35,"-",G35,"-",H35,"-",I35,"-",J35,"-",K35,"-",L35,"-",M35,"-",N35,"-",O35,"-",P35,"-",Q35,"-",R35,"-",S35,"-",T35,"-",U35,"-",V35,"-",W35,"-",X35,"-",Y35,"-",Z35,"-",AA35,"-",AB35,"-",AC35,"-",AD35,"-",AE35,"-",) -> --2-------------9-------------16-------------23----------------- | AG35: =TRIM(AF35) -> --2-------------9-------------16-------------23----------------- | AH35: 2-9-16-23 | AI35: F | AJ35: X | AK35: F | AL35: F | AM35: F | AN35: F | AO35: F | AP35: F | AQ35: X | AR35: F | AS35: F | AT35: F | AU35: F | AV35: F | AW35: F | AX35: X | AY35: F | AZ35: F | BA35: F | BB35: F | BC35: F | BD35: F | BE35: X | BF35: F | BG35: F | BH35: F | BI35: F | BJ35: F
A36: =IF(AI36="X",AI2,"-") -> - | B36: =IF(AJ36="X",AJ2,"-") -> - | C36: =IF(AK36="X",AK2,"-") -> - | D36: =IF(AL36="X",AL2,"-") -> - | E36: =IF(AM36="X",AM2,"-") -> - | F36: =IF(AN36="X",AN2,"-") -> 6 | G36: =IF(AO36="X",AO2,"-") -> - | H36: =IF(AP36="X",AP2,"-") -> - | ... AE36: =IF(BM36="X",BM2,"-") -> - | AF36: =CONCATENATE(A36,"-",B36,"-",C36,"-",D36,"-",E36,"-",F36,"-",G36,"-",H36,"-",I36,"-",J36,"-",K36,"-",L36,"-",M36,"-",N36,"-",O36,"-",P36,"-",Q36,"-",R36,"-",S36,"-",T36,"-",U36,"-",V36,"-",W36,"-",X36,"-",Y36,"-",Z36,"-",AA36,"-",AB36,"-",AC36,"-",AD36,"-",AE36,"-",) -> ----------6-------------13-------------20-------------27--------- | AG36: =TRIM(AF36) -> ----------6-------------13-------------20-------------27--------- | AH36: 6-13-20-27 | AI36: F | AJ36: F | AK36: F | AL36: F | AM36: F | AN36: X | AO36: F | AP36: F | AQ36: F | AR36: F | AS36: F | AT36: F | AU36: X | AV36: F | AW36: F | AX36: F | AY36: F | AZ36: F | BA36: F | BB36: X | BC36: F | BD36: F | BE36: F | BF36: F | BG36: F | BH36: F | BI36: X | BJ36: F
A37: =IF(AI37="X",AI2,"-") -> 1 | B37: =IF(AJ37="X",AJ2,"-") -> 2 | C37: =IF(AK37="X",AK2,"-") -> 3 | D37: =IF(AL37="X",AL2,"-") -> 4 | E37: =IF(AM37="X",AM2,"-") -> 5 | F37: =IF(AN37="X",AN2,"-") -> 6 | G37: =IF(AO37="X",AO2,"-") -> 7 | H37: =IF(AP37="X",AP2,"-") -> 8 | ... AE37: =IF(BM37="X",BM2,"-") -> - | AF37: =CONCATENATE(A37,"-",B37,"-",C37,"-",D37,"-",E37,"-",F37,"-",G37,"-",H37,"-",I37,"-",J37,"-",K37,"-",L37,"-",M37,"-",N37,"-",O37,"-",P37,"-",Q37,"-",R37,"-",S37,"-",T37,"-",U37,"-",V37,"-",W37,"-",X37,"-",Y37,"-",Z37,"-",AA37,"-",AB37,"-",AC37,"-",AD37,"-",AE37,"-",) -> 1-2-3-4-5-6-7-8-9-10-11-12-13-14-15-16-17-18-19-20-21-22-23-24-25-26-27-28------- | AG37: =TRIM(AF37) -> 1-2-3-4-5-6-7-8-9-10-11-12-13-14-15-16-17-18-19-20-21-22-23-24-25-26-27-28------- | AH37: 1-2-3-4-5-6-7-8-9-10-11-12-13-14-15-16-17-18-19-20-21-22-23-24-25-26-27-28 | AI37: X | AJ37: X | AK37: X | AL37: X | AM37: X | AN37: X | AO37: X | AP37: X | AQ37: X | AR37: X | AS37: X | AT37: X | AU37: X | AV37: X | AW37: X | AX37: X | AY37: X | AZ37: X | BA37: X | BB37: X | BC37: X | BD37: X | BE37: X | BF37: X | BG37: X | BH37: X | BI37: X | BJ37: X
A38: =IF(AI38="X",AI2,"-") -> - | B38: =IF(AJ38="X",AJ2,"-") -> - | C38: =IF(AK38="X",AK2,"-") -> - | D38: =IF(AL38="X",AL2,"-") -> - | E38: =IF(AM38="X",AM2,"-") -> - | F38: =IF(AN38="X",AN2,"-") -> 6 | G38: =IF(AO38="X",AO2,"-") -> - | H38: =IF(AP38="X",AP2,"-") -> - | ... AE38: =IF(BM38="X",BM2,"-") -> - | AF38: =CONCATENATE(A38,"-",B38,"-",C38,"-",D38,"-",E38,"-",F38,"-",G38,"-",H38,"-",I38,"-",J38,"-",K38,"-",L38,"-",M38,"-",N38,"-",O38,"-",P38,"-",Q38,"-",R38,"-",S38,"-",T38,"-",U38,"-",V38,"-",W38,"-",X38,"-",Y38,"-",Z38,"-",AA38,"-",AB38,"-",AC38,"-",AD38,"-",AE38,"-",) -> ----------6-------------13---------------------------27--------- | AG38: =TRIM(AF38) -> ----------6-------------13---------------------------27--------- | AH38: 6-13-27 | AI38: F | AJ38: F | AK38: F | AL38: F | AM38: F | AN38: X | AO38: F | AP38: F | AQ38: F | AR38: F | AS38: F | AT38: F | AU38: X | AV38: F | AW38: F | AX38: F | AY38: F | AZ38: F | BA38: F | BB38: F | BC38: F | BD38: F | BE38: F | BF38: F | BG38: F | BH38: F | BI38: X | BJ38: F
A39: =IF(AI39="X",AI2,"-") -> - | B39: =IF(AJ39="X",AJ2,"-") -> - | C39: =IF(AK39="X",AK2,"-") -> - | D39: =IF(AL39="X",AL2,"-") -> 4 | E39: =IF(AM39="X",AM2,"-") -> - | F39: =IF(AN39="X",AN2,"-") -> - | G39: =IF(AO39="X",AO2,"-") -> - | H39: =IF(AP39="X",AP2,"-") -> - | ... AE39: =IF(BM39="X",BM2,"-") -> - | AF39: =CONCATENATE(A39,"-",B39,"-",C39,"-",D39,"-",E39,"-",F39,"-",G39,"-",H39,"-",I39,"-",J39,"-",K39,"-",L39,"-",M39,"-",N39,"-",O39,"-",P39,"-",Q39,"-",R39,"-",S39,"-",T39,"-",U39,"-",V39,"-",W39,"-",X39,"-",Y39,"-",Z39,"-",AA39,"-",AB39,"-",AC39,"-",AD39,"-",AE39,"-",) -> ------4-------------11-------------18-------------25------------- | AG39: =TRIM(AF39) -> ------4-------------11-------------18-------------25------------- | AH39: 4-11-18-25 | AI39: F | AJ39: F | AK39: F | AL39: X | AM39: F | AN39: F | AO39: F | AP39: F | AQ39: F | AR39: F | AS39: X | AT39: F | AU39: F | AV39: F | AW39: F | AX39: F | AY39: F | AZ39: X | BA39: F | BB39: F | BC39: F | BD39: F | BE39: F | BF39: F | BG39: X | BH39: F | BI39: F | BJ39: F
A40: =IF(AI40="X",AI2,"-") -> - | B40: =IF(AJ40="X",AJ2,"-") -> - | C40: =IF(AK40="X",AK2,"-") -> 3 | D40: =IF(AL40="X",AL2,"-") -> - | E40: =IF(AM40="X",AM2,"-") -> - | F40: =IF(AN40="X",AN2,"-") -> - | G40: =IF(AO40="X",AO2,"-") -> - | H40: =IF(AP40="X",AP2,"-") -> - | ... AE40: =IF(BM40="X",BM2,"-") -> - | AF40: =CONCATENATE(A40,"-",B40,"-",C40,"-",D40,"-",E40,"-",F40,"-",G40,"-",H40,"-",I40,"-",J40,"-",K40,"-",L40,"-",M40,"-",N40,"-",O40,"-",P40,"-",Q40,"-",R40,"-",S40,"-",T40,"-",U40,"-",V40,"-",W40,"-",X40,"-",Y40,"-",Z40,"-",AA40,"-",AB40,"-",AC40,"-",AD40,"-",AE40,"-",) -> ----3-------------10-------------17-------------24--------------- | AG40: =TRIM(AF40) -> ----3-------------10-------------17-------------24--------------- | AH40: 3-10-17-24 | AI40: F | AJ40: F | AK40: X | AL40: F | AM40: F | AN40: F | AO40: F | AP40: F | AQ40: F | AR40: X | AS40: F | AT40: F | AU40: F | AV40: F | AW40: F | AX40: F | AY40: X | AZ40: F | BA40: F | BB40: F | BC40: F | BD40: F | BE40: F | BF40: X | BG40: F | BH40: F | BI40: F | BJ40: F
...

Sheet Planilha1
B1: Escalas de trabalho dos principais serviços ofertados
B5: Mês: FEVEREIRO
B6: Ano: 2026
B7: Escala Prevista
A9: Nome da Unidade | B9: Nome do Profissional | C9: Especialidade | D9: Vínculo empregatício | E9: Conselho | F9: RQE | G9: LOCAL | H9: DIA | I9: Horário de Atendimento | J9: Carga Horária | K9: Serviço de Saúde Ofertado
A10: Hospital Estadual de Itumbiara São Marcos | B10: Luísa Junqueira de Mendonça Silva | C10: Hematologia e Hemoterapia | D10: PJ | E10: 25.732/GO | F10: 18467 | G10: Enfermarias | H10: ='BASE DE DADOS'!AH3 -> 2-3-4-5-6-9-10-11-12-13-16-17-18-19-20-23-24-25-26-27 | I10: 07:00 as 19:00 | J10: Sob Demanda | K10: Internações
A11: Hospital Estadual de Itumbiara São Marcos | B11: Arthur de Siqueira Rodrigues | C11: Ortopedia e traumatologia | D11: PJ | E11: 29860/GO | F11: 16187 | G11: Enfermaria Cirúrgica e Centro Cirurgico | H11: ='BASE DE DADOS'!AH4 -> 6-13-14-20-27 | I11: 07:00 as 19:00 | J11: 60h | K11: Internações e Cirurgias
A12: Hospital Estadual de Itumbiara São Marcos | B12: Arthur de Siqueira Rodrigues | C12: Ortopedia e traumatologia | D12: PJ | E12: 29860/GO | F12: 16187 | G12: Enfermaria Cirúrgica e Centro Cirurgico | H12: ='BASE DE DADOS'!AH5 -> 6-13-14-20-27 | I12: 19:00 as 07:00 | J12: 60h | K12: Internações e Cirurgias
A13: Hospital Estadual de Itumbiara São Marcos | B13: Arthur Souza e Faria | C13: Ortopedia e traumatologia | D13: PJ | E13: 36926/GO | F13: 20225 | G13: Enfermaria Cirúrgica e Centro Cirurgico | H13: ='BASE DE DADOS'!AH6 -> 3 | I13: 07:00 as 19:00 | J13: 06h | K13: Internações e Cirurgias
A14: Hospital Estadual de Itumbiara São Marcos | B14: Bernardo Couto N Mendonça | C14: Ortopedia e traumatologia | D14: PJ | E14: 33002/GO | F14: 17937 | G14: Enfermaria Cirúrgica e Centro Cirurgico | H14: ='BASE DE DADOS'!AH7 -> 6-13-20-27 | I14: 13:00 as 19:00 | J14: 24h | K14: Internações e Cirurgias
A15: Hospital Estadual de Itumbiara São Marcos | B15: Bernardo Couto N Mendonça | C15: Ortopedia e traumatologia | D15: PJ | E15: 33002/GO | F15: 17937 | G15: Enfermaria Cirúrgica e Centro Cirurgico | H15: ='BASE DE DADOS'!AH8 -> 1-10-14-24-28 | I15: 07:00 as 19:00 | J15: 60h | K15: Internações e Cirurgias
A16: Hospital Estadual de Itumbiara São Marcos | B16: Bernardo Couto N Mendonça | C16: Ortopedia e traumatologia | D16: PJ | E16: 33002/GO | F16: 17937 | G16: Enfermaria Cirúrgica e Centro Cirurgico | H16: ='BASE DE DADOS'!AH9 -> 1-6-10-13-14-20-24-27-28 | I16: 19:00 as 07:00 | J16: 108h | K16: Internações e Cirurgias
A17: Hospital Estadual de Itumbiara São Marcos | B17: Carlos Silva Chaves Pereira | C17: Ortopedia e traumatologia | D17: PJ | E17: 31914/GO | F17: 51146 | G17: Enfermaria Cirúrgica e Centro Cirurgico | H17: ='BASE DE DADOS'!AH10 -> 21-22 | I17: 07:00 as 19:00 | J17: 24h | K17: Internações e Cirurgias
A18: Hospital Estadual de Itumbiara São Marcos | B18: Carlos Silva Chaves Pereira | C18: Ortopedia e traumatologia | D18: PJ | E18: 31914/GO | F18: 51146 | G18: Enfermaria Cirúrgica e Centro Cirurgico | H18: ='BASE DE DADOS'!AH11 -> 21-22 | I18: 19:00 as 07:00 | J18: 24h | K18: Internações e Cirurgias
A19: Hospital Estadual de Itumbiara São Marcos | B19: Frederico Calegari Guizzetti | C19: Ortopedia e traumatologia | D19: PJ | E19: 20271/GO | F19: 15061 | G19: Enfermaria Cirúrgica e Centro Cirurgico | H19: ='BASE DE DADOS'!AH12 -> 2-9-16-23 | I19: 13:00 as 19:00 | J19: 24 | K19: Internações e Cirurgias
A20: Hospital Estadual de Itumbiara São Marcos | B20: Frederico Calegari Guizzetti | C20: Ortopedia e traumatologia | D20: PJ | E20: 20271/GO | F20: 15061 | G20: Enfermaria Cirúrgica e Centro Cirurgico | H20: ='BASE DE DADOS'!AH13 -> 22 | I20: 07:00 as 19:00 | J20: 12h | K20: Internações e Cirurgias
A21: Hospital Estadual de Itumbiara São Marcos | B21: Frederico Calegari Guizzetti | C21: Ortopedia e traumatologia | D21: PJ | E21: 20271/GO | F21: 15061 | G21: Enfermaria Cirúrgica e Centro Cirurgico | H21: ='BASE DE DADOS'!AH14 -> 3-17-22 | I21: 19:00 as 07:00 | J21: 36h | K21: Internações e Cirurgias
A22: Hospital Estadual de Itumbiara São Marcos | B22: Franco Schineider Andrade Marques | C22: Ortopedia e traumatologia | D22: PJ | E22: 13434GO | F22: 8872 | G22: Enfermaria Cirúrgica e Centro Cirurgico | H22: ='BASE DE DADOS'!AH15 -> 4-11-18-25 | I22: 13:00 as 19:00 | J22: 24h | K22: Internações e Cirurgias
A23: Hospital Estadual de Itumbiara São Marcos | B23: Herisson Wenceslau de Salles | C23: Ortopedia e traumatologia | D23: PJ | E23: 30862/GO | F23: 16629 | G23: Enfermaria Cirúrgica e Centro Cirurgico | H23: ='BASE DE DADOS'!AH16 -> 12-26 | I23: 07:00 as 13:00 | J23: 12h | K23: Internações e Cirurgias
A24: Hospital Estadual de Itumbiara São Marcos | B24: Herisson Wenceslau de Salles | C24: Ortopedia e traumatologia | D24: PJ | E24: 30862/GO | F24: 16629 | G24: Enfermaria Cirúrgica e Centro Cirurgico | H24: ='BASE DE DADOS'!AH17 -> 1-11-15-25 | I24: 07:00 as 19:00 | J24: 48h | K24: Internações e Cirurgias
A25: Hospital Estadual de Itumbiara São Marcos | B25: Herisson Wenceslau de Salles | C25: Ortopedia e traumatologia | D25: PJ | E25: 30862/GO | F25: 16629 | G25: Enfermaria Cirúrgica e Centro Cirurgico | H25: ='BASE DE DADOS'!AH18 -> 1-11-12-15-25-26 | I25: 19:00 as 07:00 | J25: 72h | K25: Internações e Cirurgias
A26: Hospital Estadual de Itumbiara São Marcos | B26: João Rodrigues de Queiroz | C26: Ortopedia e traumatologia | D26: PJ | E26: 6668/GO | F26: 2998 | G26: Enfermaria Cirúrgica e Centro Cirurgico | H26: ='BASE DE DADOS'!AH19 -> 5-12-19-26 | I26: 13:00 as 19:00 | J26: 24h | K26: Internações e Cirurgias
A27: Hospital Estadual de Itumbiara São Marcos | B27: José Luiz Da Silva Neto | C27: Ortopedia e traumatologia | D27: PJ | E27: 33088/GO | F27: 54520 | G27: Enfermaria Cirúrgica e Centro Cirurgico | H27: ='BASE DE DADOS'!AH20 -> 4-5-11-18-19-25 | I27: 07:00 as 13:00 | J27: 36 | K27: Internações e Cirurgias
A28: Hospital Estadual de Itumbiara São Marcos | B28: José Luiz Da Silva Neto | C28: Ortopedia e traumatologia | D28: PJ | E28: 33088/GO | F28: 54520 | G28: Enfermaria Cirúrgica e Centro Cirurgico | H28: ='BASE DE DADOS'!AH21 -> 3-8-10-15-17-24-28 | I28: 07:00 as 19:00 | J28: 42h | K28: Internações e Cirurgias
A29: Hospital Estadual de Itumbiara São Marcos | B29: José Luiz Da Silva Neto | C29: Ortopedia e traumatologia | D29: PJ | E29: 33088/GO | F29: 54520 | G29: Enfermaria Cirúrgica e Centro Cirurgico | H29: ='BASE DE DADOS'!AH22 -> 3-4-8-10-11-15-17-18-19-24-25-28 | I29: 19:00 as 07:00 | J29: 156h | K29: Internações e Cirurgias
A30: Hospital Estadual de Itumbiara São Marcos | B30: Lazio Guimares Antonini | C30: Ortopedia e traumatologia | D30: PJ | E30: 32825/GO | F30: 50870 | G30: Enfermaria Cirúrgica e Centro Cirurgico | H30: ='BASE DE DADOS'!AH23 -> 5-17 | I30: 07:00 as 19:00 | J30: 12h | K30: Internações e Cirurgias
A31: Hospital Estadual de Itumbiara São Marcos | B31: Paulo Henrique Vilela Amui | C31: Ortopedia e traumatologia | D31: PJ | E31: 37297/GO | F31: 53090 | G31: Enfermaria Cirúrgica e Centro Cirurgico | H31: ='BASE DE DADOS'!AH24 -> 5-19-21 | I31: 07:00 as 19:00 | J31: 35h | K31: Internações e Cirurgias
A32: Hospital Estadual de Itumbiara São Marcos | B32: Paulo Henrique Vilela Amui | C32: Ortopedia e traumatologia | D32: PJ | E32: 37297/GO | F32: 53090 | G32: Enfermaria Cirúrgica e Centro Cirurgico | H32: ='BASE DE DADOS'!AH25 -> 5-19-21-22 | I32: 19:00 as 07:00 | J32: 48h | K32: Internações e Cirurgias
A33: Hospital Estadual de Itumbiara São Marcos | B33: Renato Mason Rodrigues da Cunha | C33: Ortopedia e traumatologia | D33: PJ | E33: 36706/GO | F33: 53022 | G33: Enfermaria Cirúrgica e Centro Cirurgico | H33: ='BASE DE DADOS'!AH26 -> 4-7-18 | I33: 07:00 as 19:00 | J33: 36h | K33: Internações e Cirurgias
A34: Hospital Estadual de Itumbiara São Marcos | B34: Renato Mason Rodrigues da Cunha | C34: Ortopedia e traumatologia | D34: PJ | E34: 36706/GO | F34: 53022 | G34: Enfermaria Cirúrgica e Centro Cirurgico | H34: ='BASE DE DADOS'!AH27 -> 4-7-18 | I34: 19:00 as 07:00 | J34: 36h | K34: Internações e Cirurgias
A35: Hospital Estadual de Itumbiara São Marcos | B35: Reuder Pereira Prado | C35: Ortopedia e traumatologia | D35: PJ | E35: 23453/GO | F35: 18652 | G35: Enfermaria Cirúrgica e Centro Cirurgico | H35: ='BASE DE DADOS'!AH28 -> 12-26 | I35: 07:00 as 19:00 | J35: 24h | K35: Internações e Cirurgias
A36: Hospital Estadual de Itumbiara São Marcos | B36: Reuder Pereira Prado | C36: Ortopedia e traumatologia | D36: PJ | E36: 23453/GO | F36: 18652 | G36: Enfermaria Cirúrgica e Centro Cirurgico | H36: ='BASE DE DADOS'!AH29 -> 12-26 | I36: 19:00 as 07:00 | J36: 24h | K36: Internações e Cirurgias
A37: Hospital Estadual de Itumbiara São Marcos | B37: Rogerio Aparecido Silva | C37: Ortopedia e traumatologia | D37: PJ | E37: 15638/GO | F37: 9837 | G37: Enfermaria Cirúrgica e Centro Cirurgico | H37: ='BASE DE DADOS'!AH30 -> 2-9-16-23 | I37: 07:00 as 19:00 | J37: 48h | K37: Internações e Cirurgias
A38: Hospital Estadual de Itumbiara São Marcos | B38: Rogerio Aparecido Silva | C38: Ortopedia e traumatologia | D38: PJ | E38: 15638/GO | F38: 9837 | G38: Enfermaria Cirúrgica e Centro Cirurgico | H38: ='BASE DE DADOS'!AH31 -> 2-9-16-23 | I38: 19:00 as 07:00 | J38: 48h | K38: Internações e Cirurgias
A39: Hospital Estadual de Itumbiara São Marcos | B39: Thiago Augusto Corrêa | C39: Ortopedia e traumatologia | D39: PJ | E39: 29538/GO | F39: 15690 | G39: Enfermaria Cirúrgica e Centro Cirurgico | H39: ='BASE DE DADOS'!AH32 -> 7-8 | I39: 07:00-19:00 | J39: 24h | K39: Internações e Cirurgias
... A43: Hospital Estadual de Itumbiara São Marcos | B43: Wender Gonçalves Moura | C43: Ortopedia e traumatologia | D43: PJ | E43: 17885/GO | F43: 12361 | G43: Enfermaria Cirúrgica e Centro Cirurgico | H43: ='BASE DE DADOS'!AH36 -> 6-13-20-27 | I43: 07:00 as 13:00 | J43: 24h | K43: Internações e Cirurgias
A44: Hospital Estadual de Itumbiara São Marcos | B44: Frederico Calegari Guizzetti | C44: Ortopedia e traumatologia | D44: PJ | E44: 20271/GO | F44: 15061 | G44: Enfermaria Cirúrgica e Centro Cirurgico | H44: ='BASE DE DADOS'!AH37 -> 1-2-3-4-5-6-7-8-9-10-11-12-13-14-15-16-17-18-19-20-21-22-23-24-25-26-27-28 | I44: 07:00 às 19:00 | J44: 336 | K44: Internações e Cirurgias
A45: Hospital Estadual de Itumbiara São Marcos | B45: Bernardo Couto N Mendonça | C45: Ortopedia e traumatologia | D45: PJ | E45: 33002/GO | F45: 17937 | G45: Ambulatorio e Cirurgias | H45: ='BASE DE DADOS'!AH38 -> 6-13-27 | I45: 07:00 as 13:00 | J45: 36h | K45: Consultas e Internações
A46: Hospital Estadual de Itumbiara São Marcos | B46: Franco Schineider Andrade Marques | C46: Ortopedia e traumatologia | D46: PJ | E46: 13434/GO | F46: 8872 | G46: Ambulatorio e Cirurgias | H46: ='BASE DE DADOS'!AH39 -> 4-11-18-25 | I46: 07:00 as 13:00 | J46: 24h | K46: Consultas e Internações
A47: Hospital Estadual de Itumbiara São Marcos | B47: Frederico Calegari Guizzetti | C47: Ortopedia e traumatologia | D47: PJ | E47: 20271/GO | F47: 15061 | G47: Ambulatorio e Cirurgias | H47: ='BASE DE DADOS'!AH40 -> 3-10-17-24 | I47: 07:00 as 19:00 | J47: 48h | K47: Consultas e Internações
...
