Workbook

Sheet BASE DE DADOS
A1: Dias | AF1: Ajustes | AH1: Coluna-Escala-SES | AI1: Dados-Escalas-Médicas
A2: 1 | B2: 2 | C2: 3 | D2: 4 | E2: 5 | F2: 6 | G2: 7 | H2: 8 | I2: 9 | J2: 10 | K2: 11 | L2: 12 | M2: 13 | N2: 14 | O2: 15 | P2: 16 | Q2: 17 | R2: 18 | S2: 19 | T2: 20 | U2: 21 | V2: 22 | W2: 23 | X2: 24 | Y2: 25 | Z2: 26 | AA2: 27 | AB2: 28 | AC2: 29 | AD2: 30 | AE2: 31 | AH2: Dia | AI2: 1 | AJ2: 2 | AK2: 3 | AL2: 4 | AM2: 5 | AN2: 6 | AO2: 7 | AP2: 8 | AQ2: 9 | AR2: 10 | AS2: 11 | AT2: 12 | AU2: 13 | AV2: 14 | AW2: 15 | AX2: 16 | AY2: 17 | AZ2: 18 | BA2: 19 | BB2: 20 | BC2: 21 | BD2: 22 | BE2: 23 | BF2: 24 | BG2: 25 | BH2: 26 | BI2: 27 | BJ2: 28 | BK2: 29 | BL2: 30 | BM2: 31
A3: =IF(AI3="X",AI2,"-") -> - | B3: =IF(AJ3="X",AJ2,"-") -> 2 | C3: =IF(AK3="X",AK2,"-") -> 3 | D3: =IF(AL3="X",AL2,"-") -> 4 | E3: =IF(AM3="X",AM2,"-") -> 5 | F3: =IF(AN3="X",AN2,"-") -> 6 | G3: =IF(AO3="X",AO2,"-") -> - | H3: =IF(AP3="X",AP2,"-") -> - | ... AB3: =IF(BJ3="X",BJ2,"-") -> - | AC3: =IF(BN31="X",BK2,"-") -> - | AD3: =IF(BL3="X",BL2,"-") -> - | AE3: =IF(BM3="X",BM2,"-") -> - | AF3: =CONCATENATE(A3,"-",B3,"-",C3,"-",D3,"-",E3,"-",F3,"-",G3,"-",H3,"-",I3,"-",J3,"-",K3,"-",L3,"-",M3,"-",N3,"-",O3,"-",P3,"-",Q3,"-",R3,"-",S3,"-",T3,"-",U3,"-",V3,"-",W3,"-",X3,"-",Y3,"-",Z3,"-",AA3,"-",AB3,"-",AC3,"-",AD3,"-",AE3,"-",) -> --2-3-4-5-6-----9-10-11-12-13-----16-17-18-19-20-----23-24-25-26-27--------- | AG3: =TRIM(AF3) -> --2-3-4-5-6-----9-10-11-12-13-----16-17-18-19-20-----23-24-25-26-27--------- | AH3: 2-3-4-5-6-9-10-11-12-13-16-17-18-19-20-23-24-25-26-27 | AI3: F | AJ3: X | AK3: X | AL3: X | AM3: X | AN3: X | AO3: F | AP3: F | AQ3: X | AR3: X | AS3: X | AT3: X | AU3: X | AV3: F | AW3: F | AX3: X | AY3: X | AZ3: X | BA3: X | BB3: X | BC3: F | BD3: F | BE3: X | BF3: X | BG3: X | BH3: X | BI3: X | BJ3: F
A4: =IF(AI4="X",AI2,"-") -> - | B4: =IF(AJ4="X",AJ2,"-") -> - | C4: =IF(AK4="X",AK2,"-") -> - | D4: =IF(AL4="X",AL2,"-") -> - | E4: =IF(AM4="X",AM2,"-") -> - | F4: =IF(AN4="X",AN2,"-") -> 6 | G4: =IF(AO4="X",AO2,"-") -> - | H4: =IF(AP4="X",AP2,"-") -> - | ... AE4: =IF(BM4="X",BM2,"-") -> - | AF4: =CONCATENATE(A4,"-",B4,"-",C4,"-",D4,"-",E4,"-",F4,"-",G4,"-",H4,"-",I4,"-",J4,"-",K4,"-",L4,"-",M4,"-",N4,"-",O4,"-",P4,"-",Q4,"-",R4,"-",S4,"-",T4,"-",U4,"-",V4,"-",W4,"-",X4,"-",Y4,"-",Z4,"-",AA4,"-",AB4,"-",AC4,"-",AD4,"-",AE4,"-",) -> ----------6-------------13-14-----------20-------------27--------- | AG4: =TRIM(AF4) -> ----------6-------------13-14-----------20-------------27--------- | AH4: 6-13-14-20-27 | AI4: F | AJ4: F | AK4: F | AL4: F | AM4: F | AN4: X | AO4: F | AP4: F | AQ4: F | AR4: F | AS4: F | AT4: F | AU4: X | AV4: X | AW4: F | AX4: F | AY4: F | AZ4: F | BA4: F | BB4: X | BC4: F | BD4: F | BE4: F | BF4: F | BG4: F | BH4: F | BI4: X | BJ4: F
A5: =IF(AI5="X",AI2,"-") -> - | B5: =IF(AJ5="X",AJ2,"-") -> - | C5: =IF(AK5="X",AK2,"-") -> - | D5: =IF(AL5="X",AL2,"-") -> - | E5: =IF(AM5="X",AM2,"-") -> - | F5: =IF(AN5="X",AN2,"-") -> 6 | G5: =IF(AO5="X",AO2,"-") -> - | H5: =IF(AP5="X",AP2,"-") -> - | ... AE5: =IF(BM5="X",BM2,"-") -> - | AF5: =CONCATENATE(A5,"-",B5,"-",C5,"-",D5,"-",E5,"-",F5,"-",G5,"-",H5,"-",I5,"-",J5,"-",K5,"-",L5,"-",M5,"-",N5,"-",O5,"-",P5,"-",Q5,"-",R5,"-",S5,"-",T5,"-",U5,"-",V5,"-",W5,"-",X5,"-",Y5,"-",Z5,"-",AA5,"-",AB5,"-",AC5,"-",AD5,"-",AE5,"-",) -> ----------6-------------13-14-----------20-------------27--------- | AG5: =TRIM(AF5) -> ----------6-------------13-14-----------20-------------27--------- | AH5: 6-13-14-20-27 | AI5: F | AJ5: F | AK5: F | AL5: F | AM5: F | AN5: X | AO5: F | AP5: F | AQ5: F | AR5: F | AS5: F | AT5: F | AU5: X | AV5: X | AW5: F | AX5: F | AY5: F | AZ5: F | BA5: F | BB5: X | BC5: F | BD5: F | BE5: F | BF5: F | BG5: F | BH5: F | BI5: X | BJ5: F
A6: =IF(AI6="X",AI2,"-") -> - | B6: =IF(AJ6="X",AJ2,"-") -> - | C6: =IF(AK6="X",AK2,"-") -> 3 | D6: =IF(AL6="X",AL2,"-") -> - | E6: =IF(AM6="X",AM2,"-") -> - | F6: =IF(AN6="X",AN2,"-") -> - | G6: =IF(AO6="X",AO2,"-") -> - | H6: =IF(AP6="X",AP2,"-") -> - | ... AE6: =IF(BM6="X",BM2,"-") -> - | AF6: =CONCATENATE(A6,"-",B6,"-",C6,"-",D6,"-",E6,"-",F6,"-",G6,"-",H6,"-",I6,"-",J6,"-",K6,"-",L6,"-",M6,"-",N6,"-",O6,"-",P6,"-",Q6,"-",R6,"-",S6,"-",T6,"-",U6,"-",V6,"-",W6,"-",X6,"-",Y6,"-",Z6,"-",AA6,"-",AB6,"-",AC6,"-",AD6,"-",AE6,"-",) -> ----3--------------------------------------------------------- | AG6: =TRIM(AF6) -> ----3--------------------------------------------------------- | AH6: 3 | AI6: F | AJ6: F | AK6: X | AL6: F | AM6: F | AN6: F | AO6: F | AP6: F | AQ6: F | AR6: F | AS6: F | AT6: F | AU6: F | AV6: F | AW6: F | AX6: F | AY6: F | AZ6: F | BA6: F | BB6: F | BC6: F | BD6: F | BE6: F | BF6: F | BG6: F | BH6: F | BI6: F | BJ6: F
A7: =IF(AI7="X",AI2,"-") -> - | B7: =IF(AJ7="X",AJ2,"-") -> - | C7: =IF(AK7="X",AK2,"-") -> - | D7: =IF(AL7="X",AL2,"-") -> - | E7: =IF(AM7="X",AM2,"-") -> - | F7: =IF(AN7="X",AN2,"-") -> 6 | G7: =IF(AO7="X",AO2,"-") -> - | H7: =IF(AP7="X",AP2,"-") -> - | ... AE7: =IF(BM7="X",BM2,"-") -> - | AF7: =CONCATENATE(A7,"-",B7,"-",C7,"-",D7,"-",E7,"-",F7,"-",G7,"-",H7,"-",I7,"-",J7,"-",K7,"-",L7,"-",M7,"-",N7,"-",O7,"-",P7,"-",Q7,"-",R7,"-",S7,"-",T7,"-",U7,"-",V7,"-",W7,"-",X7,"-",Y7,"-",Z7,"-",AA7,"-",AB7,"-",AC7,"-",AD7,"-",AE7,"-",) -> ----------6-------------13-------------20-------------27--------- | AG7: =TRIM(AF7) -> ----------6-------------13-------------20-------------27--------- | AH7: 6-13-20-27 | AI7: F | AJ7: F | AK7: F | AL7: F | AM7: F | AN7: X | AO7: F | AP7: F | AQ7: F | AR7: F | AS7: F | AT7: F | AU7: X | AV7: F | AW7: F | AX7: F | AY7: F | AZ7: F | BA7: F | BB7: X | BC7: F | BD7: F | BE7: F | BF7: F | BG7: F | BH7: F | BI7: X | BJ7: F
A8: =IF(AI8="X",AI2,"-") -> 1 | B8: =IF(AJ8="X",AJ2,"-") -> - | C8: =IF(AK8="X",AK2,"-") -> - | D8: =IF(AL8="X",AL2,"-") -> - | E8: =IF(AM8="X",AM2,"-") -> - | F8: =IF(AN8="X",AN2,"-") -> - | G8: =IF(AO8="X",AO2,"-") -> - | H8: =IF(AP8="X",AP2,"-") -> - | ... AE8: =IF(BM8="X",BM2,"-") -> - | AF8: =CONCATENATE(A8,"-",B8,"-",C8,"-",D8,"-",E8,"-",F8,"-",G8,"-",H8,"-",I8,"-",J8,"-",K8,"-",L8,"-",M8,"-",N8,"-",O8,"-",P8,"-",Q8,"-",R8,"-",S8,"-",T8,"-",U8,"-",V8,"-",W8,"-",X8,"-",Y8,"-",Z8,"-",AA8,"-",AB8,"-",AC8,"-",AD8,"-",AE8,"-",) -> 1-----------------10-------14-------------------24-------28------- | AG8: =TRIM(AF8) -> 1-----------------10-------14-------------------24-------28------- | AH8: 1-10-14-24-28 | AI8: X | AJ8: F | AK8: F | AL8: F | AM8: F | AN8: F | AO8: F | AP8: F | AQ8: F | AR8: X | AS8: F | AT8: F | AU8: F | AV8: X | AW8: F | AX8: F | AY8: F | AZ8: F | BA8: F | BB8: F | BC8: F | BD8: F | BE8: F | BF8: X | BG8: F | BH8: F | BI8: F | BJ8: X
A9: =IF(AI9="X",AI2,"-") -> 1 | B9: =IF(AJ9="X",AJ2,"-") -> - | C9: =IF(AK9="X",AK2,"-") -> - | D9: =IF(AL9="X",AL2,"-") -> - | E9: =IF(AM9="X",AM2,"-") -> - | F9: =IF(AN9="X",AN2,"-") -> 6 | G9: =IF(AO9="X",AO2,"-") -> - | H9: =IF(AP9="X",AP2,"-") -> - | ... AE9: =IF(BM9="X",BM2,"-") -> - | AF9: =CONCATENATE(A9,"-",B9,"-",C9,"-",D9,"-",E9,"-",F9,"-",G9,"-",H9,"-",I9,"-",J9,"-",K9,"-",L9,"-",M9,"-",N9,"-",O9,"-",P9,"-",Q9,"-",R9,"-",S9,"-",T9,"-",U9,"-",V9,"-",W9,"-",X9,"-",Y9,"-",Z9,"-",AA9,"-",AB9,"-",AC9,"-",AD9,"-",AE9,"-",) -> 1---------6-------10-----13-14-----------20-------24-----27-28------- | AG9: =TRIM(AF9) -> 1---------6-------10-----13-14-----------20-------24-----27-28------- | AH9: 1-6-10-13-14-20-24-27-28 | AI9: X | AJ9: F | AK9: F | AL9: F | AM9: F | AN9: X | AO9: F | AP9: F | AQ9: F | AR9: X | AS9: F | AT9: F | AU9: X | AV9: X | AW9: F | AX9: F | AY9: F | AZ9: F | BA9: F | BB9: X | BC9: F | BD9: F | BE9: F | BF9: X | BG9: F | BH9: F | BI9: X | BJ9: X
A10: =IF(AI10="X",AI2,"-") -> - | B10: =IF(AJ10="X",AJ2,"-") -> - | C10: =IF(AK10="X",AK2,"-") -> - | D10: =IF(AL10="X",AL2,"-") -> - | E10: =IF(AM10="X",AM2,"-") -> - | F10: =IF(AN10="X",AN2,"-") -> - | G10: =IF(AO10="X",AO2,"-") -> - | H10: =IF(AP10="X",AP2,"-") -> - | ... AE10: =IF(BM10="X",BM2,"-") -> - | AF10: =CONCATENATE(A10,"-",B10,"-",C10,"-",D10,"-",E10,"-",F10,"-",G10,"-",H10,"-",I10,"-",J10,"-",K10,"-",L10,"-",M10,"-",N10,"-",O10,"-",P10,"-",Q10,"-",R10,"-",S10,"-",T10,"-",U10,"-",V10,"-",W10,"-",X10,"-",Y10,"-",Z10,"-",AA10,"-",AB10,"-",AC10,"-",AD10,"-",AE10,"-",) -> ----------------------------------------21-22------------------- | AG10: =TRIM(AF10) -> ----------------------------------------21-22------------------- | AH10: 21-22 | AI10: F | AJ10: F | AK10: F | AL10: F | AM10: F | AN10: F | AO10: F | AP10: F | AQ10: F | AR10: F | AS10: F | AT10: F | AU10: F | AV10: F | AW10: F | AX10: F | AY10: F | AZ10: F | BA10: F | BB10: F | BC10: X | BD10: X | BE10: F | BF10: F | BG10: F | BH10: F | BI10: F | BJ10: F
A11: =IF(AI11="X",AI2,"-") -> - | B11: =IF(AJ11="X",AJ2,"-") -> - | C11: =IF(AK11="X",AK2,"-") -> - | D11: =IF(AL11="X",AL2,"-") -> - | E11: =IF(AM11="X",AM2,"-") -> - | F11: =IF(AN11="X",AN2,"-") -> - | G11: =IF(AO11="X",AO2,"-") -> - | H11: =IF(AP11="X",AP2,"-") -> - | ... AE11: =IF(BM11="X",BM2,"-") -> - | AF11: =CONCATENATE(A11,"-",B11,"-",C11,"-",D11,"-",E11,"-",F11,"-",G11,"-",H11,"-",I11,"-",J11,"-",K11,"-",L11,"-",M11,"-",N11,"-",O11,"-",P11,"-",Q11,"-",R11,"-",S11,"-",T11,"-",U11,"-",V11,"-",W11,"-",X11,"-",Y11,"-",Z11,"-",AA11,"-",AB11,"-",AC11,"-",AD11,"-",AE11,"-",) -> ----------------------------------------21-22------------------- | AG11: =TRIM(AF11) -> ----------------------------------------21-22------------------- | AH11: 21-22 | AI11: F | AJ11: F | AK11: F | AL11: F | AM11: F | AN11: F | AO11: F | AP11: F | AQ11: F | AR11: F | AS11: F | AT11: F | AU11: F | AV11: F | AW11: F | AX11: F | AY11: F | AZ11: F | BA11: F | BB11: F | BC11: X | BD11: X | BE11: F | BF11: F | BG11: F | BH11: F | BI11: F | BJ11: F
A12: =IF(AI12="X",AI2,"-") -> - | B12: =IF(AJ12="X",AJ2,"-") -> 2 | C12: =IF(AK12="X",AK2,"-") -> - | D12: =IF(AL12="X",AL2,"-") -> - | E12: =IF(AM12="X",AM2,"-") -> - | F12: =IF(AN12="X",AN2,"-") -> - | G12: =IF(AO12="X",AO2,"-") -> - | H12: =IF(AP12="X",AP2,"-") -> - | ... AE12: =IF(BM12="X",BM2,"-") -> - | AF12: =CONCATENATE(A12,"-",B12,"-",C12,"-",D12,"-",E12,"-",F12,"-",G12,"-",H12,"-",I12,"-",J12,"-",K12,"-",L12,"-",M12,"-",N12,"-",O12,"-",P12,"-",Q12,"-",R12,"-",S12,"-",T12,"-",U12,"-",V12,"-",W12,"-",X12,"-",Y12,"-",Z12,"-",AA12,"-",AB12,"-",AC12,"-",AD12,"-",AE12,"-",) -> --2-------------9-------------16-------------23----------------- | AG12: =TRIM(AF12) -> --2-------------9-------------16-------------23----------------- | AH12: 2-9-16-23 | AI12: F | AJ12: X | AK12: F | AL12: F | AM12: F | AN12: F | AO12: F | AP12: F | AQ12: X | AR12: F | AS12: F | AT12: F | AU12: F | AV12: F | AW12: F | AX12: X | AY12: F | AZ12: F | BA12: F | BB12: F | BC12: F | BD12: F | BE12: X | BF12: F | BG12: F | BH12: F | BI12: F | BJ12: F
A13: =IF(AI13="X",AI2,"-") -> - | B13: =IF(AJ13="X",AJ2,"-") -> - | C13: =IF(AK13="X",AK2,"-") -> - | D13: =IF(AL13="X",AL2,"-") -> - | E13: =IF(AM13="X",AM2,"-") -> - | F13: =IF(AN13="X",AN2,"-") -> - | G13: =IF(AO13="X",AO2,"-") -> - | H13: =IF(AP13="X",AP2,"-") -> - | ... AE13: =IF(BM13="X",BM2,"-") -> - | AF13: =CONCATENATE(A13,"-",B13,"-",C13,"-",D13,"-",E13,"-",F13,"-",G13,"-",H13,"-",I13,"-",J13,"-",K13,"-",L13,"-",M13,"-",N13,"-",O13,"-",P13,"-",Q13,"-",R13,"-",S13,"-",T13,"-",U13,"-",V13,"-",W13,"-",X13,"-",Y13,"-",Z13,"-",AA13,"-",AB13,"-",AC13,"-",AD13,"-",AE13,"-",) -> ------------------------------------------22------------------- | AG13: =TRIM(AF13) -> ------------------------------------------22------------------- | AH13: 22 | AI13: F | AJ13: F | AK13: F | AL13: F | AM13: F | AN13: F | AO13: F | AP13: F | AQ13: F | AR13: F | AS13: F | AT13: F | AU13: F | AV13: F | AW13: F | AX13: F | AY13: F | AZ13: F | BA13: F | BB13: F | BC13: F | BD13: X | BE13: F | BF13: F | BG13: F | BH13: F | BI13: F | BJ13: F
A14: =IF(AI14="X",AI2,"-") -> - | B14: =IF(AJ14="X",AJ2,"-") -> - | C14: =IF(AK14="X",AK2,"-") -> 3 | D14: =IF(AL14="X",AL2,"-") -> - | E14: =IF(AM14="X",AM2,"-") -> - | F14: =IF(AN14="X",AN2,"-") -> - | G14: =IF(AO14="X",AO2,"-") -> - | H14: =IF(AP14="X",AP2,"-") -> - | ... AE14: =IF(BM14="X",BM2,"-") -> - | AF14: =CONCATENATE(A14,"-",B14,"-",C14,"-",D14,"-",E14,"-",F14,"-",G14,"-",H14,"-",I14,"-",J14,"-",K14,"-",L14,"-",M14,"-",N14,"-",O14,"-",P14,"-",Q14,"-",R14,"-",S14,"-",T14,"-",U14,"-",V14,"-",W14,"-",X14,"-",Y14,"-",Z14,"-",AA14,"-",AB14,"-",AC14,"-",AD14,"-",AE14,"-",) -> ----3---------------------------17---------22------------------- | AG14: =TRIM(AF14) -> ----3---------------------------17---------22------------------- | AH14: 3-17-22 | AI14: F | AJ14: F | AK14: X | AL14: F | AM14: F | AN14: F | AO14: F | AP14: F | AQ14: F | AR14: F | AS14: F | AT14: F | AU14: F | AV14: F | AW14: F | AX14: F | AY14: X | AZ14: F | BA14: F | BB14: F | BC14: F | BD14: X | BE14: F | BF14: F | BG14: F | BH14: F | BI14: F | BJ14: F
A15: =IF(AI15="X",AI2,"-") -> - | B15: =IF(AJ15="X",AJ2,"-") -> - | C15: =IF(AK15="X",AK2,"-") -> - | D15: =IF(AL15="X",AL2,"-") -> 4 | E15: =IF(AM15="X",AM2,"-") -> - | F15: =IF(AN15="X",AN2,"-") -> - | G15: =IF(AO15="X",AO2,"-") -> - | H15: =IF(AP15="X",AP2,"-") -> - | ... AE15: =IF(BM15="X",BM2,"-") -> - | AF15: =CONCATENATE(A15,"-",B15,"-",C15,"-",D15,"-",E15,"-",F15,"-",G15,"-",H15,"-",I15,"-",J15,"-",K15,"-",L15,"-",M15,"-",N15,"-",O15,"-",P15,"-",Q15,"-",R15,"-",S15,"-",T15,"-",U15,"-",V15,"-",W15,"-",X15,"-",Y15,"-",Z15,"-",AA15,"-",AB15,"-",AC15,"-",AD15,"-",AE15,"-",) -> ------4-------------11-------------18-------------25------------- | AG15: =TRIM(AF15) -> ------4-------------11-------------18-------------25------------- | AH15: 4-11-18-25 | AI15: F | AJ15: F | AK15: F | AL15: X | AM15: F | AN15: F | AO15: F | AP15: F | AQ15: F | AR15: F | AS15: X | AT15: F | AU15: F | AV15: F | AW15: F | AX15: F | AY15: F | AZ15: X | BA15: F | BB15: F | BC15: F | BD15: F | BE15: F | BF15: F | BG15: X | BH15: F | BI15: F | BJ15: F
A16: =IF(AI16="X",AI2,"-") -> - | B16: =IF(AJ16="X",AJ2,"-") -> - | C16: =IF(AK16="X",AK2,"-") -> - | D16: =IF(AL16="X",AL2,"-") -> - | E16: =IF(AM16="X",AM2,"-") -> - | F16: =IF(AN16="X",AN2,"-") -> - | G16: =IF(AO16="X",AO2,"-") -> - | H16: =IF(AP16="X",AP2,"-") -> - | ... AE16: =IF(BM16="X",BM2,"-") -> - | AF16: =CONCATENATE(A16,"-",B16,"-",C16,"-",D16,"-",E16,"-",F16,"-",G16,"-",H16,"-",I16,"-",J16,"-",K16,"-",L16,"-",M16,"-",N16,"-",O16,"-",P16,"-",Q16,"-",R16,"-",S16,"-",T16,"-",U16,"-",V16,"-",W16,"-",X16,"-",Y16,"-",Z16,"-",AA16,"-",AB16,"-",AC16,"-",AD16,"-",AE16,"-",) -> ----------------------12---------------------------26----------- | AG16: =TRIM(AF16) -> ----------------------12---------------------------26----------- | AH16: 12-26 | AI16: F | AJ16: F | AK16: F | AL16: F | AM16: F | AN16: F | AO16: F | AP16: F | AQ16: F | AR16: F | AS16: F | AT16: X | AU16: F | AV16: F | AW16: F | AX16: F | AY16: F | AZ16: F | BA16: F | BB16: F | BC16: F | BD16: F | BE16: F | BF16: F | BG16: F | BH16: X | BI16: F | BJ16: F
A17: =IF(AI17="X",AI2,"-") -> 1 | B17: =IF(AJ17="X",AJ2,"-") -> - | C17: =IF(AK17="X",AK2,"-") -> - | D17: =IF(AL17="X",AL2,"-") -> - | E17: =IF(AM17="X",AM2,"-") -> - | F17: =IF(AN17="X",AN2,"-") -> - | G17: =IF(AO17="X",AO2,"-") -> - | H17: =IF(AP17="X",AP2,"-") -> - | ... AE17: =IF(BM17="X",BM2,"-") -> - | AF17: =CONCATENATE(A17,"-",B17,"-",C17,"-",D17,"-",E17,"-",F17,"-",G17,"-",H17,"-",I17,"-",J17,"-",K17,"-",L17,"-",M17,"-",N17,"-",O17,"-",P17,"-",Q17,"-",R17,"-",S17,"-",T17,"-",U17,"-",V17,"-",W17,"-",X17,"-",Y17,"-",Z17,"-",AA17,"-",AB17,"-",AC17,"-",AD17,"-",AE17,"-",) -> 1-------------------11-------15-------------------25------------- | AG17: =TRIM(AF17) -> 1-------------------11-------15-------------------25------------- | AH17: 1-11-15-25 | AI17: X | AJ17: F | AK17: F | AL17: F | AM17: F | AN17: F | AO17: F | AP17: F | AQ17: F | AR17: F | AS17: X | AT17: F | AU17: F | AV17: F | AW17: X | AX17: F | AY17: F | AZ17: F | BA17: F | BB17: F | BC17: F | BD17: F | BE17: F | BF17: F | BG17: X | BH17: F | BI17: F | BJ17: F
A18: =IF(AI18="X",AI2,"-") -> 1 | B18: =IF(AJ18="X",AJ2,"-") -> - | C18: =IF(AK18="X",AK2,"-") -> - | D18: =IF(AL18="X",AL2,"-") -> - | E18: =IF(AM18="X",AM2,"-") -> - | F18: =IF(AN18="X",AN2,"-") -> - | G18: =IF(AO18="X",AO2,"-") -> - | H18: =IF(AP18="X",AP2,"-") -> - | ... AE18: =IF(BM18="X",BM2,"-") -> - | AF18: =CONCATENATE(A18,"-",B18,"-",C18,"-",D18,"-",E18,"-",F18,"-",G18,"-",H18,"-",I18,"-",J18,"-",K18,"-",L18,"-",M18,"-",N18,"-",O18,"-",P18,"-",Q18,"-",R18,"-",S18,"-",T18,"-",U18,"-",V18,"-",W18,"-",X18,"-",Y18,"-",Z18,"-",AA18,"-",AB18,"-",AC18,"-",AD18,"-",AE18,"-",) -> 1-------------------11-12-----15-------------------25-26----------- | AG18: =TRIM(AF18) -> 1-------------------11-12-----15-------------------25-26----------- | AH18: 1-11-12-15-25-26 | AI18: X | AJ18: F | AK18: F | AL18: F | AM18: F | AN18: F | AO18: F | AP18: F | AQ18: F | AR18: F | AS18: X | AT18: X | AU18: F | AV18: F | AW18: X | AX18: F | AY18: F | AZ18: F | BA18: F | BB18: F | BC18: F | BD18: F | BE18: F | BF18: F | BG18: X | BH18: X | BI18: F | BJ18: F
A19: =IF(AI19="X",AI2,"-") -> - | B19: =IF(AJ19="X",AJ2,"-") -> - | C19: =IF(AK19="X",AK2,"-") -> - | D19: =IF(AL19="X",AL2,"-") -> - | E19: =IF(AM19="X",AM2,"-") -> 5 | F19: =IF(AN19="X",AN2,"-") -> - | G19: =IF(AO19="X",AO2,"-") -> - | H19: =IF(AP19="X",AP2,"-") -> - | ... AE19: =IF(BM19="X",BM2,"-") -> - | AF19: =CONCATENATE(A19,"-",B19,"-",C19,"-",D19,"-",E19,"-",F19,"-",G19,"-",H19,"-",I19,"-",J19,"-",K19,"-",L19,"-",M19,"-",N19,"-",O19,"-",P19,"-",Q19,"-",R19,"-",S19,"-",T19,"-",U19,"-",V19,"-",W19,"-",X19,"-",Y19,"-",Z19,"-",AA19,"-",AB19,"-",AC19,"-",AD19,"-",AE19,"-",) -> --------5-------------12-------------19-------------26----------- | AG19: =TRIM(AF19) -> --------5-------------12-------------19-------------26----------- | AH19: 5-12-19-26 | AI19: F | AJ19: F | AK19: F | AL19: F | AM19: X | AN19: F | AO19: F | AP19: F | AQ19: F | AR19: F | AS19: F | AT19: X | AU19: F | AV19: F | AW19: F | AX19: F | AY19: F | AZ19: F | BA19: X | BB19: F | BC19: F | BD19: F | BE19: F | BF19: F | BG19: F | BH19: X | BI19: F | BJ19: F
A20: =IF(AI20="X",AI2,"-") -> - | B20: =IF(AJ20="X",AJ2,"-") -> - | C20: =IF(AK20="X",AK2,"-") -> - | D20: =IF(AL20="X",AL2,"-") -> 4 | E20: =IF(AM20="X",AM2,"-") -> 5 | F20: =IF(AN20="X",AN2,"-") -> - | G20: =IF(AO20="X",AO2,"-") -> - | H20: =IF(AP20="X",AP2,"-") -> - | ... AE20: =IF(BM20="X",BM2,"-") -> - | AF20: =CONCATENATE(A20,"-",B20,"-",C20,"-",D20,"-",E20,"-",F20,"-",G20,"-",H20,"-",I20,"-",J20,"-",K20,"-",L20,"-",M20,"-",N20,"-",O20,"-",P20,"-",Q20,"-",R20,"-",S20,"-",T20,"-",U20,"-",V20,"-",W20,"-",X20,"-",Y20,"-",Z20,"-",AA20,"-",AB20,"-",AC20,"-",AD20,"-",AE20,"-",) -> ------4-5-----------11-------------18-19-----------25------------- | AG20: =TRIM(AF20) -> ------4-5-----------11-------------18-19-----------25------------- | AH20: 4-5-11-18-19-25 | AI20: F | AJ20: F | AK20: F | AL20: X | AM20: X | AN20: F | AO20: F | AP20: F | AQ20: F | AR20: F | AS20: X | AT20: F | AU20: F | AV20: F | AW20: F | AX20: F | AY20: F | AZ20: X | BA20: X | BB20: F | BC20: F | BD20: F | BE20: F | BF20: F | BG20: X | BH20: F | BI20: F | BJ20: F
A21: =IF(AI21="X",AI2,"-") -> - | B21: =IF(AJ21="X",AJ2,"-") -> - | C21: =IF(AK21="X",AK2,"-") -> 3 | D21: =IF(AL21="X",AL2,"-") -> - | E21: =IF(AM21="X",AM2,"-") -> - | F21: =IF(AN21="X",AN2,"-") -> - | G21: =IF(AO21="X",AO2,"-") -> - | H21: =IF(AP21="X",AP2,"-") -> 8 | ... AE21: =IF(BM21="X",BM2,"-") -> - | AF21: =CONCATENATE(A21,"-",B21,"-",C21,"-",D21,"-",E21,"-",F21,"-",G21,"-",H21,"-",I21,"-",J21,"-",K21,"-",L21,"-",M21,"-",N21,"-",O21,"-",P21,"-",Q21,"-",R21,"-",S21,"-",T21,"-",U21,"-",V21,"-",W21,"-",X21,"-",Y21,"-",Z21,"-",AA21,"-",AB21,"-",AC21,"-",AD21,"-",AE21,"-",) -> ----3---------8---10---------15---17-------------24-------28------- | AG21: =TRIM(AF21) -> ----3---------8---10---------15---17-------------24-------28------- | AH21: 3-8-10-15-17-24-28 | AI21: F | AJ21: F | AK21: X | AL21: F | AM21: F | AN21: F | AO21: F | AP21: X | AQ21: F | AR21: X | AS21: F | AT21: F | AU21: F | AV21: F | AW21: X | AX21: F | AY21: X | AZ21: F | BA21: F | BB21: F | BC21: F | BD21: F | BE21: F | BF21: X | BG21: F | BH21: F | BI21: F | BJ21: X
A22: =IF(AI22="X",AI2,"-") -> - | B22: =IF(AJ22="X",AJ2,"-") -> - | C22: =IF(AK22="X",AK2,"-") -> 3 | D22: =IF(AL22="X",AL2,"-") -> 4 | E22: =IF(AM22="X",AM2,"-") -> - | F22: =IF(AN22="X",AN2,"-") -> - | G22: =IF(AO22="X",AO2,"-") -> - | H22: =IF(AP22="X",AP2,"-") -> 8 | ... AE22: =IF(BM22="X",BM2,"-") -> - | AF22: =CONCATENATE(A22,"-",B22,"-",C22,"-",D22,"-",E22,"-",F22,"-",G22,"-",H22,"-",I22,"-",J22,"-",K22,"-",L22,"-",M22,"-",N22,"-",O22,"-",P22,"-",Q22,"-",R22,"-",S22,"-",T22,"-",U22,"-",V22,"-",W22,"-",X22,"-",Y22,"-",Z22,"-",AA22,"-",AB22,"-",AC22,"-",AD22,"-",AE22,"-",) -> ----3-4-------8---10-11-------15---17-18-19---------24-25-----28------- | AG22: =TRIM(AF22) -> ----3-4-------8---10-11-------15---17-18-19---------24-25-----28------- | AH22: 3-4-8-10-11-15-17-18-19-24-25-28 | AI22: F | AJ22: F | AK22: X | AL22: X | AM22: F | AN22: F | AO22: F | AP22: X | AQ22: F | AR22: X | AS22: X | AT22: F | AU22: F | AV22: F | AW22: X | AX22: F | AY22: X | AZ22: X | BA22: X | BB22: F | BC22: F | BD22: F | BE22: F | BF22: X | BG22: X | BH22: F | BI22: F | BJ22: X
A23: =IF(AI23="X",AI2,"-") -> - | B23: =IF(AJ23="X",AJ2,"-") -> - | C23: =IF(AK23="X",AK2,"-") -> - | D23: =IF(AL23="X",AL2,"-") -> - | E23: =IF(AM23="X",AM2,"-") -> 5 | F23: =IF(AN23="X",AN2,"-") -> - | G23: =IF(AO23="X",AO2,"-") -> - | H23: =IF(AP23="X",AP2,"-") -> - | ... AE23: =IF(BM23="X",BM2,"-") -> - | AF23: =CONCATENATE(A23,"-",B23,"-",C23,"-",D23,"-",E23,"-",F23,"-",G23,"-",H23,"-",I23,"-",J23,"-",K23,"-",L23,"-",M23,"-",N23,"-",O23,"-",P23,"-",Q23,"-",R23,"-",S23,"-",T23,"-",U23,"-",V23,"-",W23,"-",X23,"-",Y23,"-",Z23,"-",AA23,"-",AB23,"-",AC23,"-",AD23,"-",AE23,"-",) -> --------5-----------------------17----------------------------- | AG23: =TRIM(AF23) -> --------5-----------------------17----------------------------- | AH23: 5-17 | AI23: F | AJ23: F | AK23: F | AL23: F | AM23: X | AN23: F | AO23: F | AP23: F | AQ23: F | AR23: F | AS23: F | AT23: F | AU23: F | AV23: F | AW23: F | AX23: F | AY23: X | AZ23: F | BA23: F | BB23: F | BC23: F | BD23: F | BE23: F | BF23: F | BG23: F | BH23: F | BI23: F | BJ23: F
A24: =IF(AI24="X",AI2,"-") -> - | B24: =IF(AJ24="X",AJ2,"-") -> - | C24: =IF(AK24="X",AK2,"-") -> - | D24: =IF(AL24="X",AL2,"-") -> - | E24: =IF(AM24="X",AM2,"-") -> 5 | F24: =IF(AN24="X",AN2,"-") -> - | G24: =IF(AO24="X",AO2,"-") -> - | H24: =IF(AP24="X",AP2,"-") -> - | ... AE24: =IF(BM24="X",BM2,"-") -> - | AF24: =CONCATENATE(A24,"-",B24,"-",C24,"-",D24,"-",E24,"-",F24,"-",G24,"-",H24,"-",I24,"-",J24,"-",K24,"-",L24,"-",M24,"-",N24,"-",O24,"-",P24,"-",Q24,"-",R24,"-",S24,"-",T24,"-",U24,"-",V24,"-",W24,"-",X24,"-",Y24,"-",Z24,"-",AA24,"-",AB24,"-",AC24,"-",AD24,"-",AE24,"-",) -> --------5---------------------------19---21--------------------- | AG24: =TRIM(AF24) -> --------5---------------------------19---21--------------------- | AH24: 5-19-21 | AI24: F | AJ24: F | AK24: F | AL24: F | AM24: X | AN24: F | AO24: F | AP24: F | AQ24: F | AR24: F | AS24: F | AT24: F | AU24: F | AV24: F | AW24: F | AX24: F | AY24: F | AZ24: F | BA24: X | BB24: F | BC24: X | BD24: F | BE24: F | BF24: F | BG24: F | BH24: F | BI24: F | BJ24: F
A25: =IF(AI25="X",AI2,"-") -> - | B25: =IF(AJ25="X",AJ2,"-") -> - | C25: =IF(AK25="X",AK2,"-") -> - | D25: =IF(AL25="X",AL2,"-") -> - | E25: =IF(AM25="X",AM2,"-") -> 5 | F25: =IF(AN25="X",AN2,"-") -> - | G25: =IF(AO25="X",AO2,"-") -> - | H25: =IF(AP25="X",AP2,"-") -> - | ... AE25: =IF(BM25="X",BM2,"-") -> - | AF25: =CONCATENATE(A25,"-",B25,"-",C25,"-",D25,"-",E25,"-",F25,"-",G25,"-",H25,"-",I25,"-",J25,"-",K25,"-",L25,"-",M25,"-",N25,"-",O25,"-",P25,"-",Q25,"-",R25,"-",S25,"-",T25,"-",U25,"-",V25,"-",W25,"-",X25,"-",Y25,"-",Z25,"-",AA25,"-",AB25,"-",AC25,"-",AD25,"-",AE25,"-",) -> --------5---------------------------19---21-22------------------- | AG25: =TRIM(AF25) -> --------5---------------------------19---21-22------------------- | AH25: 5-19-21-22 | AI25: F | AJ25: F | AK25: F | AL25: F | AM25: X | AN25: F | AO25: F | AP25: F | AQ25: F | AR25: F | AS25: F | AT25: F | AU25: F | AV25: F | AW25: F | AX25: F | AY25: F | AZ25: F | BA25: X | BB25: F | BC25: X | BD25: X | BE25: F | BF25: F | BG25: F | BH25: F | BI25: F | BJ25: F
A26: =IF(AI26="X",AI7,"-") -> - | B26: =IF(AJ26="X",AJ2,"-") -> - | C26: =IF(AK26="X",AK2,"-") -> - | D26: =IF(AL26="X",AL2,"-") -> 4 | E26: =IF(AM26="X",AM2,"-") -> - | F26: =IF(AN26="X",AN2,"-") -> - | G26: =IF(AO26="X",AO2,"-") -> 7 | H26: =IF(AP26="X",AP2,"-") -> - | I26: =IF(AQ26="X",AQ2,"-") -> - | ... AE26: =IF(BM26="X",BM2,"-") -> - | AF26: =CONCATENATE(A26,"-",B26,"-",C26,"-",D26,"-",E26,"-",F26,"-",G26,"-",H26,"-",I26,"-",J26,"-",K26,"-",L26,"-",M26,"-",N26,"-",O26,"-",P26,"-",Q26,"-",R26,"-",S26,"-",T26,"-",U26,"-",V26,"-",W26,"-",X26,"-",Y26,"-",Z26,"-",AA26,"-",AB26,"-",AC26,"-",AD26,"-",AE26,"-",) -> ------4-----7---------------------18--------------------------- | AG26: =TRIM(AF26) -> ------4-----7---------------------18--------------------------- | AH26: 4-7-18 | AI26: F | AJ26: F | AK26: F | AL26: X | AM26: F | AN26: F | AO26: X | AP26: F | AQ26: F | AR26: F | AS26: F | AT26: F | AU26: F | AV26: F | AW26: F | AX26: F | AY26: F | AZ26: X | BA26: F | BB26: F | BC26: F | BD26: F | BE26: F | BF26: F | BG26: F | BH26: F | BI26: F | BJ26: F
A27: =IF(AI27="X",AI2,"-") -> - | B27: =IF(AJ27="X",AJ2,"-") -> - | C27: =IF(AK27="X",AK2,"-") -> - | D27: =IF(AL27="X",AL2,"-") -> 4 | E27: =IF(AM27="X",AM2,"-") -> - | F27: =IF(AN27="X",AN2,"-") -> - | G27: =IF(AO27="X",AO2,"-") -> 7 | H27: =IF(AP27="X",AP2,"-") -> - | ... AE27: =IF(BM27="X",BM2,"-") -> - | AF27: =CONCATENATE(A27,"-",B27,"-",C27,"-",D27,"-",E27,"-",F27,"-",G27,"-",H27,"-",I27,"-",J27,"-",K27,"-",L27,"-",M27,"-",N27,"-",O27,"-",P27,"-",Q27,"-",R27,"-",S27,"-",T27,"-",U27,"-",V27,"-",W27,"-",X27,"-",Y27,"-",Z27,"-",AA27,"-",AB27,"-",AC27,"-",AD27,"-",AE27,"-",) -> ------4-----7---------------------18--------------------------- | AG27: =TRIM(AF27) -> ------4-----7---------------------18--------------------------- | AH27: 4-7-18 | AI27: F | AJ27: F | AK27: F | AL27: X | AM27: F | AN27: F | AO27: X | AP27: F | AQ27: F | AR27: F | AS27: F | AT27: F | AU27: F | AV27: F | AW27: F | AX27: F | AY27: F | AZ27: X | BA27: F | BB27: F | BC27: F | BD27: F | BE27: F | BF27: F | BG27: F | BH27: F | BI27: F | BJ27: F
A28: =IF(AI28="X",AI2,"-") -> - | B28: =IF(AJ28="X",AJ2,"-") -> - | C28: =IF(AK28="X",AK2,"-") -> - | D28: =IF(AL28="X",AL2,"-") -> - | E28: =IF(AM28="X",AM2,"-") -> - | F28: =IF(AN28="X",AN2,"-") -> - | G28: =IF(AO28="X",AO2,"-") -> - | H28: =IF(AP28="X",AP2,"-") -> - | ... AE28: =IF(BM28="X",BM2,"-") -> - | AF28: =CONCATENATE(A28,"-",B28,"-",C28,"-",D28,"-",E28,"-",F28,"-",G28,"-",H28,"-",I28,"-",J28,"-",K28,"-",L28,"-",M28,"-",N28,"-",O28,"-",P28,"-",Q28,"-",R28,"-",S28,"-",T28,"-",U28,"-",V28,"-",W28,"-",X28,"-",Y28,"-",Z28,"-",AA28,"-",AB28,"-",AC28,"-",AD28,"-",AE28,"-",) -> ----------------------12---------------------------26----------- | AG28: =TRIM(AF28) -> ----------------------12---------------------------26----------- | AH28: 12-26 | AI28: F | AJ28: F | AK28: F | AL28: F | AM28: F | AN28: F | AO28: F | AP28: F | AQ28: F | AR28: F | AS28: F | AT28: X | AU28: F | AV28: F | AW28: F | AX28: F | AY28: F | AZ28: F | BA28: F | BB28: F | BC28: F | BD28: F | BE28: F | BF28: F | BG28: F | BH28: X | BI28: F | BJ28: F
A29: =IF(AI29="X",AI2,"-") -> - | B29: =IF(AJ29="X",AJ2,"-") -> - | C29: =IF(AK29="X",AK2,"-") -> - | D29: =IF(AL29="X",AL2,"-") -> - | E29: =IF(AM29="X",AM2,"-") -> - | F29: =IF(AN29="X",AN2,"-") -> - | G29: =IF(AO29="X",AO2,"-") -> - | H29: =IF(AP29="X",AP2,"-") -> - | ... AE29: =IF(BM29="X",BM2,"-") -> - | AF29: =CONCATENATE(A29,"-",B29,"-",C29,"-",D29,"-",E29,"-",F29,"-",G29,"-",H29,"-",I29,"-",J29,"-",K29,"-",L29,"-",M29,"-",N29,"-",O29,"-",P29,"-",Q29,"-",R29,"-",S29,"-",T29,"-",U29,"-",V29,"-",W29,"-",X29,"-",Y29,"-",Z29,"-",AA29,"-",AB29,"-",AC29,"-",AD29,"-",AE29,"-",) -> ----------------------12---------------------------26----------- | AG29: =TRIM(AF29) -> ----------------------12---------------------------26----------- | AH29: 12-26 | AI29: F | AJ29: F | AK29: F | AL29: F | AM29: F | AN29: F | AO29: F | AP29: F | AQ29: F | AR29: F | AS29: F | AT29: X | AU29: F | AV29: F | AW29: F | AX29: F | AY29: F | AZ29: F | BA29: F | BB29: F | BC29: F | BD29: F | BE29: F | BF29: F | BG29: F | BH29: X | BI29: F | BJ29: F
A30: =IF(AI30="X",AI2,"-") -> - | B30: =IF(AJ30="X",AJ2,"-") -> 2 | C30: =IF(AK30="X",AK2,"-") -> - | D30: =IF(AL30="X",AL2,"-") -> - | E30: =IF(AM30="X",AM2,"-") -> - | F30: =IF(AN30="X",AN2,"-") -> - | G30: =IF(AO30="X",AO2,"-") -> - | H30: =IF(AP30="X",AP2,"-") -> - | ... AE30: =IF(BM30="X",BM2,"-") -> - | AF30: =CONCATENATE(A30,"-",B30,"-",C30,"-",D30,"-",E30,"-",F30,"-",G30,"-",H30,"-",I30,"-",J30,"-",K30,"-",L30,"-",M30,"-",N30,"-",O30,"-",P30,"-",Q30,"-",R30,"-",S30,"-",T30,"-",U30,"-",V30,"-",W30,"-",X30,"-",Y30,"-",Z30,"-",AA30,"-",AB30,"-",AC30,"-",AD30,"-",AE30,"-",) -> --2-------------9-------------16-------------23----------------- | AG30: =TRIM(AF30) -> --2-------------9-------------16-------------23----------------- | AH30: 2-9-16-23 | AI30: F | AJ30: X | AK30: F | AL30: F | AM30: F | AN30: F | AO30: F | AP30: F | AQ30: X | AR30: F | AS30: F | AT30: F | AU30: F | AV30: F | AW30: F | AX30: X | AY30: F | AZ30: F | BA30: F | BB30: F | BC30: F | BD30: F | BE30: X | BF30: F | BG30: F | BH30: F | BI30: F | BJ30: F
A31: =IF(AI31="X",AI2,"-") -> - | B31: =IF(AJ31="X",AJ2,"-") -> 2 | C31: =IF(AK31="X",AK2,"-") -> - | D31: =IF(AL31="X",AL2,"-") -> - | E31: =IF(AM31="X",AM2,"-") -> - | F31: =IF(AN31="X",AN2,"-") -> - | G31: =IF(AO31="X",AO2,"-") -> - | H31: =IF(AP31="X",AP2,"-") -> - | ... AE31: =IF(BM31="X",BM2,"-") -> - | AF31: =CONCATENATE(A31,"-",B31,"-",C31,"-",D31,"-",E31,"-",F31,"-",G31,"-",H31,"-",I31,"-",J31,"-",K31,"-",L31,"-",M31,"-",N31,"-",O31,"-",P31,"-",Q31,"-",R31,"-",S31,"-",T31,"-",U31,"-",V31,"-",W31,"-",X31,"-",Y31,"-",Z31,"-",AA31,"-",AB31,"-",AC31,"-",AD31,"-",AE31,"-",) -> --2-------------9-------------16-------------23----------------- | AG31: =TRIM(AF31) -> --2-------------9-------------16-------------23----------------- | AH31: 2-9-16-23 | AI31: F | AJ31: X | AK31: F | AL31: F | AM31: F | AN31: F | AO31: F | AP31: F | AQ31: X | AR31: F | AS31: F | AT31: F | AU31: F | AV31: F | AW31: F | AX31: X | AY31: F | AZ31: F | BA31: F | BB31: F | BC31: F | BD31: F | BE31: X | BF31: F | BG31: F | BH31: F | BI31: F | BJ31: F
A32: =IF(AI32="X",AI2,"-") -> - | B32: =IF(AJ32="X",AJ2,"-") -> - | C32: =IF(AK32="X",AK2,"-") -> - | D32: =IF(AL32="X",AL2,"-") -> - | E32: =IF(AM32="X",AM2,"-") -> - | F32: =IF(AN32="X",AN2,"-") -> - | G32: =IF(AO32="X",AO2,"-") -> 7 | H32: =IF(AP32="X",AP2,"-") -> 8 | ... AE32: =IF(BM32="X",BM2,"-") -> - | AF32: =CONCATENATE(A32,"-",B32,"-",C32,"-",D32,"-",E32,"-",F32,"-",G32,"-",H32,"-",I32,"-",J32,"-",K32,"-",L32,"-",M32,"-",N32,"-",O32,"-",P32,"-",Q32,"-",R32,"-",S32,"-",T32,"-",U32,"-",V32,"-",W32,"-",X32,"-",Y32,"-",Z32,"-",AA32,"-",AB32,"-",AC32,"-",AD32,"-",AE32,"-",) -> ------------7-8----------------------------------------------- | AG32: =TRIM(AF32) -> ------------7-8----------------------------------------------- | AH32: 7-8 | AI32: F | AJ32: F | AK32: F | AL32: F | AM32: F | AN32: F | AO32: X | AP32: X | AQ32: F | AR32: F | AS32: F | AT32: F | AU32: F | AV32: F | AW32: F | AX32: F | AY32: F | AZ32: F | BA32: F | BB32: F | BC32: F | BD32: F | BE32: F | BF32: F | BG32: F | BH32: F | BI32: F | BJ32: F
A33: =IF(AI33="X",AI2,"-") -> - | B33: =IF(AJ33="X",AJ2,"-") -> - | C33: =IF(AK33="X",AK2,"-") -> - | D33: =IF(AL33="X",AL2,"-") -> - | E33: =IF(AM33="X",AM2,"-") -> - | F33: =IF(AN33="X",AN2,"-") -> - | G33: =IF(AO33="X",AO2,"-") -> 7 | H33: =IF(AP33="X",AP2,"-") -> 8 | ... AE33: =IF(BM33="X",BM2,"-") -> - | AF33: =CONCATENATE(A33,"-",B33,"-",C33,"-",D33,"-",E33,"-",F33,"-",G33,"-",H33,"-",I33,"-",J33,"-",K33,"-",L33,"-",M33,"-",N33,"-",O33,"-",P33,"-",Q33,"-",R33,"-",S33,"-",T33,"-",U33,"-",V33,"-",W33,"-",X33,"-",Y33,"-",Z33,"-",AA33,"-",AB33,"-",AC33,"-",AD33,"-",AE33,"-",) -> ------------7-8----------------------------------------------- | AG33: =TRIM(AF33) -> ------------7-8----------------------------------------------- | AH33: 7-8 | AI33: F | AJ33: F | AK33: F | AL33: F | AM33: F | AN33: F | AO33: X | AP33: X | AQ33: F | AR33: F | AS33: F | AT33: F | AU33: F | AV33: F | AW33: F | AX33: F | AY33: F | AZ33: F | BA33: F | BB33: F | BC33: F | BD33: F | BE33: F | BF33: F | BG33: F | BH33: F | BI33: F | BJ33: F
A34: =IF(AI34="X",AI2,"-") -> - | B34: =IF(AJ34="X",AJ2,"-") -> 2 | C34: =IF(AK34="X",AK2,"-") -> - | D34: =IF(AL34="X",AL2,"-") -> - | E34: =IF(AM34="X",AM2,"-") -> - | F34: =IF(AN34="X",AN2,"-") -> - | G34: =IF(AO34="X",AO2,"-") -> - | H34: =IF(AP34="X",AP2,"-") -> - | ... AE34: =IF(BM34="X",BM2,"-") -> - | AF34: =CONCATENATE(A34,"-",B34,"-",C34,"-",D34,"-",E34,"-",F34,"-",G34,"-",H34,"-",I34,"-",J34,"-",K34,"-",L34,"-",M34,"-",N34,"-",O34,"-",P34,"-",Q34,"-",R34,"-",S34,"-",T34,"-",U34,"-",V34,"-",W34,"-",X34,"-",Y34,"-",Z34,"-",AA34,"-",AB34,"-",AC34,"-",AD34,"-",AE34,"-",) -> --2-------------9-------------16-------------23----------------- | AG34: =TRIM(AF34) -> --2-------------9-------------16-------------23----------------- | AH34: 2-9-16-23 | AI34: F | AJ34: X | AK34: F | AL34: F | AM34: F | AN34: F | AO34: F | AP34: F | AQ34: X | AR34: F | AS34: F | AT34: F | AU34: F | AV34: F | AW34: F | AX34: X | AY34: F | AZ34: F | BA34: F | BB34: F | BC34: F | BD34: F | BE34: X | BF34: F | BG34: F | BH34: F | BI34: F | BJ34: F
A35: =IF(AI35="X",AI2,"-") -> - | B35: =IF(AJ35="X",AJ2,"-") -> 2 | C35: =IF(AK35="X",AK2,"-") -> - | D35: =IF(AL35="X",AL2,"-") -> - | E35: =IF(AM35="X",AM2,"-") -> - | F35: =IF(AN35="X",AN2,"-") -> - | G35: =IF(AO35="X",AO2,"-") -> - | H35: =IF(AP35="X",AP2,"-") -> - | ... AE35: =IF(BM35="X",BM2,"-") -> - | AF35: =CONCATENATE(A35,"-",B35,"-",C35,"-",D35,"-",E35,"-",F35,"-",G35,"-",H35,"-",I35,"-",J35,"-",K35,"-",L35,"-",M35,"-",N35,"-",O35,"-",P35,"-",Q35,"-",R35,"-",S35,"-",T35,"-",U35,"-",V35,"-",W35,"-",X35,"-",Y35,"-",Z35,"-",AA35,"-",AB35,"-",AC35,"-",AD35,"-",AE35,"-",) -> --2-------------9-------------16-------------23----------------- | AG35: =TRIM(AF35) -> --2-------------9-------------16-------------23----------------- | AH35: 2-9-16-23 | AI35: F | AJ35: X | AK35: F | AL35: F | AM35: F | AN35: F | AO35: F | AP35: F | AQ35: X | AR35: F | AS35: F | AT35: F | AU35: F | AV35: F | AW35: F | AX35: X | AY35: F | AZ35: F | BA35: F | BB35: F | BC35: F | BD35: F | BE35: X | BF35: F | BG35: F | BH35: F | BI35: F | BJ35: F
A36: =IF(AI36="X",AI2,"-") -> - | B36: =IF(AJ36="X",AJ2,"-") -> - | C36: =IF(AK36="X",AK2,"-") -> - | D36: =IF(AL36="X",AL2,"-") -> - | E36: =IF(AM36="X",AM2,"-") -> - | F36: =IF(AN36="X",AN2,"-") -> 6 | G36: =IF(AO36="X",AO2,"-") -> - | H36: =IF(AP36="X",AP2,"-") -> - | ... AE36: =IF(BM36="X",BM2,"-") -> - | AF36: =CONCATENATE(A36,"-",B36,"-",C36,"-",D36,"-",E36,"-",F36,"-",G36,"-",H36,"-",I36,"-",J36,"-",K36,"-",L36,"-",M36,"-",N36,"-",O36,"-",P36,"-",Q36,"-",R36,"-",S36,"-",T36,"-",U36,"-",V36,"-",W36,"-",X36,"-",Y36,"-",Z36,"-",AA36,"-",AB36,"-",AC36,"-",AD36,"-",AE36,"-",) -> ----------6-------------13-------------20-------------27--------- | AG36: =TRIM(AF36) -> ----------6-------------13-------------20-------------27--------- | AH36: 6-13-20-27 | AI36: F | AJ36: F | AK36: F | AL36: F | AM36: F | AN36: X | AO36: F | AP36: F | AQ36: F | AR36: F | AS36: F | AT36: F | AU36: X | AV36: F | AW36: F | AX36: F | AY36: F | AZ36: F | BA36: F | BB36: X | BC36: F | BD36: F | BE36: F | BF36: F | BG36: F | BH36: F | BI36: X | BJ36: F
A37: =IF(AI37="X",AI2,"-") -> 1 | B37: =IF(AJ37="X",AJ2,"-") -> 2 | C37: =IF(AK37="X",AK2,"-") -> 3 | D37: =IF(AL37="X",AL2,"-") -> 4 | E37: =IF(AM37="X",AM2,"-") -> 5 | F37: =IF(AN37="X",AN2,"-") -> 6 | G37: =IF(AO37="X",AO2,"-") -> 7 | H37: =IF(AP37="X",AP2,"-") -> 8 | ... AE37: =IF(BM37="X",BM2,"-") -> - | AF37: =CONCATENATE(A37,"-",B37,"-",C37,"-",D37,"-",E37,"-",F37,"-",G37,"-",H37,"-",I37,"-",J37,"-",K37,"-",L37,"-",M37,"-",N37,"-",O37,"-",P37,"-",Q37,"-",R37,"-",S37,"-",T37,"-",U37,"-",V37,"-",W37,"-",X37,"-",Y37,"-",Z37,"-",AA37,"-",AB37,"-",AC37,"-",AD37,"-",AE37,"-",) -> 1-2-3-4-5-6-7-8-9-10-11-12-13-14-15-16-17-18-19-20-21-22-23-24-25-26-27-28------- | AG37: =TRIM(AF37) -> 1-2-3-4-5-6-7-8-9-10-11-12-13-14-15-16-17-18-19-20-21-22-23-24-25-26-27-28------- | AH37: 1-2-3-4-5-6-7-8-9-10-11-12-13-14-15-16-17-18-19-20-21-22-23-24-25-26-27-28 | AI37: X | AJ37: X | AK37: X | AL37: X | AM37: X | AN37: X | AO37: X | AP37: X | AQ37: X | AR37: X | AS37: X | AT37: X | AU37: X | AV37: X | AW37: X | AX37: X | AY37: X | AZ37: X | BA37: X | BB37: X | BC37: X | BD37: X | BE37: X | BF37: X | BG37: X | BH37: X | BI37: X | BJ37: X
A38: =IF(AI38="X",AI2,"-") -> - | B38: =IF(AJ38="X",AJ2,"-") -> - | C38: =IF(AK38="X",AK2,"-") -> - | D38: =IF(AL38="X",AL2,"-") -> - | E38: =IF(AM38="X",AM2,"-") -> - | F38: =IF(AN38="X",AN2,"-") -> 6 | G38: =IF(AO38="X",AO2,"-") -> - | H38: =IF(AP38="X",AP2,"-") -> - | ... AE38: =IF(BM38="X",BM2,"-") -> - | AF38: =CONCATENATE(A38,"-",B38,"-",C38,"-",D38,"-",E38,"-",F38,"-",G38,"-",H38,"-",I38,"-",J38,"-",K38,"-",L38,"-",M38,"-",N38,"-",O38,"-",P38,"-",Q38,"-",R38,"-",S38,"-",T38,"-",U38,"-",V38,"-",W38,"-",X38,"-",Y38,"-",Z38,"-",AA38,"-",AB38,"-",AC38,"-",AD38,"-",AE38,"-",) -> ----------6-------------13---------------------------27--------- | AG38: =TRIM(AF38) -> ----------6-------------13---------------------------27--------- | AH38: 6-13-27 | AI38: F | AJ38: F | AK38: F | AL38: F | AM38: F | AN38: X | AO38: F | AP38: F | AQ38: F | AR38: F | AS38: F | AT38: F | AU38: X | AV38: F | AW38: F | AX38: F | AY38: F | AZ38: F | BA38: F | BB38: F | BC38: F | BD38: F | BE38: F | BF38: F | BG38: F | BH38: F | BI38: X | BJ38: F
A39: =IF(AI39="X",AI2,"-") -> - | B39: =IF(AJ39="X",AJ2,"-") -> - | C39: =IF(AK39="X",AK2,"-") -> - | D39: =IF(AL39="X",AL2,"-") -> 4 | E39: =IF(AM39="X",AM2,"-") -> - | F39: =IF(AN39="X",AN2,"-") -> - | G39: =IF(AO39="X",AO2,"-") -> - | H39: =IF(AP39="X",AP2,"-") -> - | ... AE39: =IF(BM39="X",BM2,"-") -> - | AF39: =CONCATENATE(A39,"-",B39,"-",C39,"-",D39,"-",E39,"-",F39,"-",G39,"-",H39,"-",I39,"-",J39,"-",K39,"-",L39,"-",M39,"-",N39,"-",O39,"-",P39,"-",Q39,"-",R39,"-",S39,"-",T39,"-",U39,"-",V39,"-",W39,"-",X39,"-",Y39,"-",Z39,"-",AA39,"-",AB39,"-",AC39,"-",AD39,"-",AE39,"-",) -> ------4-------------11-------------18-------------25------------- | AG39: =TRIM(AF39) -> ------4-------------11-------------18-------------25------------- | AH39: 4-11-18-25 | AI39: F | AJ39: F | AK39: F | AL39: X | AM39: F | AN39: F | AO39: F | AP39: F | AQ39: F | AR39: F | AS39: X | AT39: F | AU39: F | AV39: F | AW39: F | AX39: F | AY39: F | AZ39: X | BA39: F | BB39: F | BC39: F | BD39: F | BE39: F | BF39: F | BG39: X | BH39: F | BI39: F | BJ39: F
A40: =IF(AI40="X",AI2,"-") -> - | B40: =IF(AJ40="X",AJ2,"-") -> - | C40: =IF(AK40="X",AK2,"-") -> 3 | D40: =IF(AL40="X",AL2,"-") -> - | E40: =IF(AM40="X",AM2,"-") -> - | F40: =IF(AN40="X",AN2,"-") -> - | G40: =IF(AO40="X",AO2,"-") -> - | H40: =IF(AP40="X",AP2,"-") -> - | ... AE40: =IF(BM40="X",BM2,"-") -> - | AF40: =CONCATENATE(A40,"-",B40,"-",C40,"-",D40,"-",E40,"-",F40,"-",G40,"-",H40,"-",I40,"-",J40,"-",K40,"-",L40,"-",M40,"-",N40,"-",O40,"-",P40,"-",Q40,"-",R40,"-",S40,"-",T40,"-",U40,"-",V40,"-",W40,"-",X40,"-",Y40,"-",Z40,"-",AA40,"-",AB40,"-",AC40,"-",AD40,"-",AE40,"-",) -> ----3-------------10-------------17-------------24--------------- | AG40: =TRIM(AF40) -> ----3-------------10-------------17-------------24--------------- | AH40: 3-10-17-24 | AI40: F | AJ40: F | AK40: X | AL40: F | AM40: F | AN40: F | AO40: F | AP40: F | AQ40: F | AR40: X | AS40: F | AT40: F | AU40: F | AV40: F | AW40: F | AX40: F | AY40: X | AZ40: F | BA40: F | BB40: F | BC40: F | BD40: F | BE40: F | BF40: X | BG40: F | BH40: F | BI40: F | BJ40: F
A41: =IF(AI41="X",AI2,"-") -> - | B41: =IF(AJ41="X",AJ2,"-") -> 2 | C41: =IF(AK41="X",AK2,"-") -> - | D41: =IF(AL41="X",AL2,"-") -> - | E41: =IF(AM41="X",AM2,"-") -> - | F41: =IF(AN41="X",AN2,"-") -> - | G41: =IF(AO41="X",AO2,"-") -> - | H41: =IF(AP41="X",AP2,"-") -> - | ... AE41: =IF(BM41="X",BM2,"-") -> - | AF41: =CONCATENATE(A41,"-",B41,"-",C41,"-",D41,"-",E41,"-",F41,"-",G41,"-",H41,"-",I41,"-",J41,"-",K41,"-",L41,"-",M41,"-",N41,"-",O41,"-",P41,"-",Q41,"-",R41,"-",S41,"-",T41,"-",U41,"-",V41,"-",W41,"-",X41,"-",Y41,"-",Z41,"-",AA41,"-",AB41,"-",AC41,"-",AD41,"-",AE41,"-",) -> --2-------------9-------------16-------------23----------------- | AG41: =TRIM(AF41) -> --2-------------9-------------16-------------23----------------- | AH41: 2-9-16-23 | AI41: F | AJ41: X | AK41: F | AL41: F | AM41: F | AN41: F | AO41: F | AP41: F | AQ41: X | AR41: F | AS41: F | AT41: F | AU41: F | AV41: F | AW41: F | AX41: X | AY41: F | AZ41: F | BA41: F | BB41: F | BC41: F | BD41: F | BE41: X | BF41: F | BG41: F | BH41: F | BI41: F | BJ41: F
A42: =IF(AI42="X",AI2,"-") -> - | B42: =IF(AJ42="X",AJ2,"-") -> - | C42: =IF(AK42="X",AK2,"-") -> - | D42: =IF(AL42="X",AL2,"-") -> - | E42: =IF(AM42="X",AM2,"-") -> - | F42: =IF(AN42="X",AN2,"-") -> 6 | G42: =IF(AO42="X",AO2,"-") -> - | H42: =IF(AP42="X",AP2,"-") -> - | ... AE42: =IF(BM42="X",BM2,"-") -> - | AF42: =CONCATENATE(A42,"-",B42,"-",C42,"-",D42,"-",E42,"-",F42,"-",G42,"-",H42,"-",I42,"-",J42,"-",K42,"-",L42,"-",M42,"-",N42,"-",O42,"-",P42,"-",Q42,"-",R42,"-",S42,"-",T42,"-",U42,"-",V42,"-",W42,"-",X42,"-",Y42,"-",Z42,"-",AA42,"-",AB42,"-",AC42,"-",AD42,"-",AE42,"-",) -> ----------6-------------13-------------20-------------27--------- | AG42: =TRIM(AF42) -> ----------6-------------13-------------20-------------27--------- | AH42: 6-13-20-27 | AI42: F | AJ42: F | AK42: F | AL42: F | AM42: F | AN42: X | AO42: F | AP42: F | AQ42: F | AR42: F | AS42: F | AT42: F | AU42: X | AV42: F | AW42: F | AX42: F | AY42: F | AZ42: F | BA42: F | BB42: X | BC42: F | BD42: F | BE42: F | BF42: F | BG42: F | BH42: F | BI42: X | BJ42: F
A43: =IF(AI43="X",AI2,"-") -> - | B43: =IF(AJ43="X",AJ2,"-") -> - | C43: =IF(AK43="X",AK2,"-") -> - | D43: =IF(AL43="X",AL2,"-") -> - | E43: =IF(AM43="X",AM2,"-") -> 5 | F43: =IF(AN43="X",AN2,"-") -> - | G43: =IF(AO43="X",AO2,"-") -> - | H43: =IF(AP43="X",AP2,"-") -> - | ... AE43: =IF(BM43="X",BM2,"-") -> - | AF43: =CONCATENATE(A43,"-",B43,"-",C43,"-",D43,"-",E43,"-",F43,"-",G43,"-",H43,"-",I43,"-",J43,"-",K43,"-",L43,"-",M43,"-",N43,"-",O43,"-",P43,"-",Q43,"-",R43,"-",S43,"-",T43,"-",U43,"-",V43,"-",W43,"-",X43,"-",Y43,"-",Z43,"-",AA43,"-",AB43,"-",AC43,"-",AD43,"-",AE43,"-",) -> --------5-------------12-------------19-------------26----------- | AG43: =TRIM(AF43) -> --------5-------------12-------------19-------------26----------- | AH43: 5-12-19-26 | AI43: F | AJ43: F | AK43: F | AL43: F | AM43: X | AN43: F | AO43: F | AP43: F | AQ43: F | AR43: F | AS43: F | AT43: X | AU43: F | AV43: F | AW43: F | AX43: F | AY43: F | AZ43: F | BA43: X | BB43: F | BC43: F | BD43: F | BE43: F | BF43: F | BG43: F | BH43: X | BI43: F | BJ43: F
A44: =IF(AI44="X",AI2,"-") -> - | B44: =IF(AJ44="X",AJ2,"-") -> - | C44: =IF(AK44="X",AK2,"-") -> - | D44: =IF(AL44="X",AL2,"-") -> 4 | E44: =IF(AM44="X",AM2,"-") -> 5 | F44: =IF(AN44="X",AN2,"-") -> - | G44: =IF(AO44="X",AO2,"-") -> - | H44: =IF(AP44="X",AP2,"-") -> - | ... AE44: =IF(BM44="X",BM2,"-") -> - | AF44: =CONCATENATE(A44,"-",B44,"-",C44,"-",D44,"-",E44,"-",F44,"-",G44,"-",H44,"-",I44,"-",J44,"-",K44,"-",L44,"-",M44,"-",N44,"-",O44,"-",P44,"-",Q44,"-",R44,"-",S44,"-",T44,"-",U44,"-",V44,"-",W44,"-",X44,"-",Y44,"-",Z44,"-",AA44,"-",AB44,"-",AC44,"-",AD44,"-",AE44,"-",) -> ------4-5-----------11-------------18-19-----------25------------- | AG44: =TRIM(AF44) -> ------4-5-----------11-------------18-19-----------25------------- | AH44: 4-5-11-18-19-25 | AI44: F | AJ44: F | AK44: F | AL44: X | AM44: X | AN44: F | AO44: F | AP44: F | AQ44: F | AR44: F | AS44: X | AT44: F | AU44: F | AV44: F | AW44: F | AX44: F | AY44: F | AZ44: X | BA44: X | BB44: F | BC44: F | BD44: F | BE44: F | BF44: F | BG44: X | BH44: F | BI44: F | BJ44: F
A45: =IF(AI45="X",AI2,"-") -> - | B45: =IF(AJ45="X",AJ2,"-") -> - | C45: =IF(AK45="X",AK2,"-") -> - | D45: =IF(AL45="X",AL2,"-") -> - | E45: =IF(AM45="X",AM2,"-") -> - | F45: =IF(AN45="X",AN2,"-") -> - | G45: =IF(AO45="X",AO2,"-") -> - | H45: =IF(AP45="X",AP2,"-") -> - | ... AE45: =IF(BM45="X",BM2,"-") -> - | AF45: =CONCATENATE(A45,"-",B45,"-",C45,"-",D45,"-",E45,"-",F45,"-",G45,"-",H45,"-",I45,"-",J45,"-",K45,"-",L45,"-",M45,"-",N45,"-",O45,"-",P45,"-",Q45,"-",R45,"-",S45,"-",T45,"-",U45,"-",V45,"-",W45,"-",X45,"-",Y45,"-",Z45,"-",AA45,"-",AB45,"-",AC45,"-",AD45,"-",AE45,"-",) -> ----------------------12---------------------------26----------- | AG45: =TRIM(AF45) -> ----------------------12---------------------------26----------- | AH45: 12-26 | AI45: F | AJ45: F | AK45: F | AL45: F | AM45: F | AN45: F | AO45: F | AP45: F | AQ45: F | AR45: F | AS45: F | AT45: X | AU45: F | AV45: F | AW45: F | AX45: F | AY45: F | AZ45: F | BA45: F | BB45: F | BC45: F | BD45: F | BE45: F | BF45: F | BG45: F | BH45: X | BI45: F | BJ45: F
A46: =IF(AI46="X",AI2,"-") -> - | B46: =IF(AJ46="X",AJ2,"-") -> - | C46: =IF(AK46="X",AK2,"-") -> - | D46: =IF(AL46="X",AL2,"-") -> - | E46: =IF(AM46="X",AM2,"-") -> - | F46: =IF(AN46="X",AN2,"-") -> - | G46: =IF(AO46="X",AO2,"-") -> - | H46: =IF(AP46="X",AP2,"-") -> - | ... AE46: =IF(BM46="X",BM2,"-") -> - | AF46: =CONCATENATE(A46,"-",B46,"-",C46,"-",D46,"-",E46,"-",F46,"-",G46,"-",H46,"-",I46,"-",J46,"-",K46,"-",L46,"-",M46,"-",N46,"-",O46,"-",P46,"-",Q46,"-",R46,"-",S46,"-",T46,"-",U46,"-",V46,"-",W46,"-",X46,"-",Y46,"-",Z46,"-",AA46,"-",AB46,"-",AC46,"-",AD46,"-",AE46,"-",) -> --------------------------------------20----------------------- | AG46: =TRIM(AF46) -> --------------------------------------20----------------------- | AH46: 20 | AI46: F | AJ46: F | AK46: F | AL46: F | AM46: F | AN46: F | AO46: F | AP46: F | AQ46: F | AR46: F | AS46: F | AT46: F | AU46: F | AV46: F | AW46: F | AX46: F | AY46: F | AZ46: F | BA46: F | BB46: X | BC46: F | BD46: F | BE46: F | BF46: F | BG46: F | BH46: F | BI46: F | BJ46: F
A47: =IF(AI47="X",AI2,"-") -> - | B47: =IF(AJ47="X",AJ2,"-") -> 2 | C47: =IF(AK47="X",AK2,"-") -> - | D47: =IF(AL47="X",AL2,"-") -> - | E47: =IF(AM47="X",AM2,"-") -> - | F47: =IF(AN47="X",AN2,"-") -> - | G47: =IF(AO47="X",AO2,"-") -> - | H47: =IF(AP47="X",AP2,"-") -> - | ... AE47: =IF(BM47="X",BM2,"-") -> - | AF47: =CONCATENATE(A47,"-",B47,"-",C47,"-",D47,"-",E47,"-",F47,"-",G47,"-",H47,"-",I47,"-",J47,"-",K47,"-",L47,"-",M47,"-",N47,"-",O47,"-",P47,"-",Q47,"-",R47,"-",S47,"-",T47,"-",U47,"-",V47,"-",W47,"-",X47,"-",Y47,"-",Z47,"-",AA47,"-",AB47,"-",AC47,"-",AD47,"-",AE47,"-",) -> --2-------------9-------------16-------------23----------------- | AG47: =TRIM(AF47) -> --2-------------9-------------16-------------23----------------- | AH47: 2-9-16-23 | AI47: F | AJ47: X | AK47: F | AL47: F | AM47: F | AN47: F | AO47: F | AP47: F | AQ47: X | AR47: F | AS47: F | AT47: F | AU47: F | AV47: F | AW47: F | AX47: X | AY47: F | AZ47: F | BA47: F | BB47: F | BC47: F | BD47: F | BE47: X | BF47: F | BG47: F | BH47: F | BI47: F | BJ47: F
A48: =IF(AI48="X",AI2,"-") -> 1 | B48: =IF(AJ48="X",AJ2,"-") -> 2 | C48: =IF(AK48="X",AK2,"-") -> 3 | D48: =IF(AL48="X",AL2,"-") -> 4 | E48: =IF(AM48="X",AM2,"-") -> 5 | F48: =IF(AN48="X",AN2,"-") -> 6 | G48: =IF(AO48="X",AO2,"-") -> 7 | H48: =IF(AP48="X",AP2,"-") -> 8 | ... AE48: =IF(BM48="X",BM2,"-") -> - | AF48: =CONCATENATE(A48,"-",B48,"-",C48,"-",D48,"-",E48,"-",F48,"-",G48,"-",H48,"-",I48,"-",J48,"-",K48,"-",L48,"-",M48,"-",N48,"-",O48,"-",P48,"-",Q48,"-",R48,"-",S48,"-",T48,"-",U48,"-",V48,"-",W48,"-",X48,"-",Y48,"-",Z48,"-",AA48,"-",AB48,"-",AC48,"-",AD48,"-",AE48,"-",) -> 1-2-3-4-5-6-7-8-9-10-11-12-13-14-15-16-17-18-19-20-21-22-23-24-25-26-27-28------- | AG48: =TRIM(AF48) -> 1-2-3-4-5-6-7-8-9-10-11-12-13-14-15-16-17-18-19-20-21-22-23-24-25-26-27-28------- | AH48: 1-2-3-4-5-6-7-8-9-10-11-12-13-14-15-16-17-18-19-20-21-22-23-24-25-26-27-28 | AI48: X | AJ48: X | AK48: X | AL48: X | AM48: X | AN48: X | AO48: X | AP48: X | AQ48: X | AR48: X | AS48: X | AT48: X | AU48: X | AV48: X | AW48: X | AX48: X | AY48: X | AZ48: X | BA48: X | BB48: X | BC48: X | BD48: X | BE48: X | BF48: X | BG48: X | BH48: X | BI48: X | BJ48: X
A49: =IF(AI49="X",AI2,"-") -> - | B49: =IF(AJ49="X",AJ2,"-") -> - | C49: =IF(AK49="X",AK2,"-") -> - | D49: =IF(AL49="X",AL2,"-") -> 4 | E49: =IF(AM49="X",AM2,"-") -> 5 | F49: =IF(AN49="X",AN2,"-") -> - | G49: =IF(AO49="X",AO2,"-") -> 7 | H49: =IF(AP49="X",AP2,"-") -> - | ... AE49: =IF(BM49="X",BM2,"-") -> - | AF49: =CONCATENATE(A49,"-",B49,"-",C49,"-",D49,"-",E49,"-",F49,"-",G49,"-",H49,"-",I49,"-",J49,"-",K49,"-",L49,"-",M49,"-",N49,"-",O49,"-",P49,"-",Q49,"-",R49,"-",S49,"-",T49,"-",U49,"-",V49,"-",W49,"-",X49,"-",Y49,"-",Z49,"-",AA49,"-",AB49,"-",AC49,"-",AD49,"-",AE49,"-",) -> ------4-5---7-------11-12-----------18-19---21-------25-26----------- | AG49: =TRIM(AF49) -> ------4-5---7-------11-12-----------18-19---21-------25-26----------- | AH49: 4-5-7-11-12-18-19-21-25-26 | AI49: F | AJ49: F | AK49: F | AL49: X | AM49: X | AN49: F | AO49: X | AP49: F | AQ49: F | AR49: F | AS49: X | AT49: X | AU49: F | AV49: F | AW49: F | AX49: F | AY49: F | AZ49: X | BA49: X | BB49: F | BC49: X | BD49: F | BE49: F | BF49: F | BG49: X | BH49: X | BI49: F | BJ49: F
A50: =IF(AI50="X",AI2,"-") -> - | B50: =IF(AJ50="X",AJ2,"-") -> - | C50: =IF(AK50="X",AK2,"-") -> - | D50: =IF(AL50="X",AL2,"-") -> - | E50: =IF(AM50="X",AM2,"-") -> - | F50: =IF(AN50="X",AN2,"-") -> 6 | G50: =IF(AO50="X",AO2,"-") -> - | H50: =IF(AP50="X",AP2,"-") -> - | ... AE50: =IF(BM50="X",BM2,"-") -> - | AF50: =CONCATENATE(A50,"-",B50,"-",C50,"-",D50,"-",E50,"-",F50,"-",G50,"-",H50,"-",I50,"-",J50,"-",K50,"-",L50,"-",M50,"-",N50,"-",O50,"-",P50,"-",Q50,"-",R50,"-",S50,"-",T50,"-",U50,"-",V50,"-",W50,"-",X50,"-",Y50,"-",Z50,"-",AA50,"-",AB50,"-",AC50,"-",AD50,"-",AE50,"-",) -> ----------6-------------13-------------20-------------27--------- | AG50: =TRIM(AF50) -> ----------6-------------13-------------20-------------27--------- | AH50: 6-13-20-27 | AI50: F | AJ50: F | AK50: F | AL50: F | AM50: F | AN50: X | AO50: F | AP50: F | AQ50: F | AR50: F | AS50: F | AT50: F | AU50: X | AV50: F | AW50: F | AX50: F | AY50: F | AZ50: F | BA50: F | BB50: X | BC50: F | BD50: F | BE50: F | BF50: F | BG50: F | BH50: F | BI50: X | BJ50: F
A51: =IF(AI51="X",AI2,"-") -> - | B51: =IF(AJ51="X",AJ2,"-") -> - | C51: =IF(AK51="X",AK2,"-") -> - | D51: =IF(AL51="X",AL2,"-") -> - | E51: =IF(AM51="X",AM2,"-") -> - | F51: =IF(AN51="X",AN2,"-") -> 6 | G51: =IF(AO51="X",AO2,"-") -> - | H51: =IF(AP51="X",AP2,"-") -> - | ... AE51: =IF(BM51="X",BM2,"-") -> - | AF51: =CONCATENATE(A51,"-",B51,"-",C51,"-",D51,"-",E51,"-",F51,"-",G51,"-",H51,"-",I51,"-",J51,"-",K51,"-",L51,"-",M51,"-",N51,"-",O51,"-",P51,"-",Q51,"-",R51,"-",S51,"-",T51,"-",U51,"-",V51,"-",W51,"-",X51,"-",Y51,"-",Z51,"-",AA51,"-",AB51,"-",AC51,"-",AD51,"-",AE51,"-",) -> ----------6-------------13-------------20-------------27--------- | AG51: =TRIM(AF51) -> ----------6-------------13-------------20-------------27--------- | AH51: 6-13-20-27 | AI51: F | AJ51: F | AK51: F | AL51: F | AM51: F | AN51: X | AO51: F | AP51: F | AQ51: F | AR51: F | AS51: F | AT51: F | AU51: X | AV51: F | AW51: F | AX51: F | AY51: F | AZ51: F | BA51: F | BB51: X | BC51: F | BD51: F | BE51: F | BF51: F | BG51: F | BH51: F | BI51: X | BJ51: F
A52: =IF(AI52="X",AI2,"-") -> 1 | B52: =IF(AJ52="X",AJ2,"-") -> 2 | C52: =IF(AK52="X",AK2,"-") -> 3 | D52: =IF(AL52="X",AL2,"-") -> - | E52: =IF(AM52="X",AM2,"-") -> - | F52: =IF(AN52="X",AN2,"-") -> - | G52: =IF(AO52="X",AO2,"-") -> - | H52: =IF(AP52="X",AP2,"-") -> 8 | ... AE52: =IF(BM52="X",BM2,"-") -> - | AF52: =CONCATENATE(A52,"-",B52,"-",C52,"-",D52,"-",E52,"-",F52,"-",G52,"-",H52,"-",I52,"-",J52,"-",K52,"-",L52,"-",M52,"-",N52,"-",O52,"-",P52,"-",Q52,"-",R52,"-",S52,"-",T52,"-",U52,"-",V52,"-",W52,"-",X52,"-",Y52,"-",Z52,"-",AA52,"-",AB52,"-",AC52,"-",AD52,"-",AE52,"-",) -> 1-2-3---------8-9-10-------14-15-16-17---------22-23-24-------28------- | AG52: =TRIM(AF52) -> 1-2-3---------8-9-10-------14-15-16-17---------22-23-24-------28------- | AH52: 1-2-3-8-9-10-14-15-16-17-22-23-24-28 | AI52: X | AJ52: X | AK52: X | AL52: F | AM52: F | AN52: F | AO52: F | AP52: X | AQ52: X | AR52: X | AS52: F | AT52: F | AU52: F | AV52: X | AW52: X | AX52: X | AY52: X | AZ52: F | BA52: F | BB52: F | BC52: F | BD52: X | BE52: X | BF52: X | BG52: F | BH52: F | BI52: F | BJ52: X
A53: =IF(AI53="X",AI2,"-") -> 1 | B53: =IF(AJ53="X",AJ2,"-") -> 2 | C53: =IF(AK53="X",AK2,"-") -> 3 | D53: =IF(AL53="X",AL2,"-") -> 4 | E53: =IF(AM53="X",AM2,"-") -> 5 | F53: =IF(AN53="X",AN2,"-") -> 6 | G53: =IF(AO53="X",AO2,"-") -> 7 | H53: =IF(AP53="X",AP2,"-") -> 8 | ... AE53: =IF(BM53="X",BM2,"-") -> - | AF53: =CONCATENATE(A53,"-",B53,"-",C53,"-",D53,"-",E53,"-",F53,"-",G53,"-",H53,"-",I53,"-",J53,"-",K53,"-",L53,"-",M53,"-",N53,"-",O53,"-",P53,"-",Q53,"-",R53,"-",S53,"-",T53,"-",U53,"-",V53,"-",W53,"-",X53,"-",Y53,"-",Z53,"-",AA53,"-",AB53,"-",AC53,"-",AD53,"-",AE53,"-",) -> 1-2-3-4-5-6-7-8-9-10-11-12-13-14-15-16-17-18-19-20-21-22-23-24-25-26-27-28------- | AG53: =TRIM(AF53) -> 1-2-3-4-5-6-7-8-9-10-11-12-13-14-15-16-17-18-19-20-21-22-23-24-25-26-27-28------- | AH53: 1-2-3-4-5-6-7-8-9-10-11-12-13-14-15-16-17-18-19-20-21-22-23-24-25-26-27-28 | AI53: X | AJ53: X | AK53: X | AL53: X | AM53: X | AN53: X | AO53: X | AP53: X | AQ53: X | AR53: X | AS53: X | AT53: X | AU53: X | AV53: X | AW53: X | AX53: X | AY53: X | AZ53: X | BA53: X | BB53: X | BC53: X | BD53: X | BE53: X | BF53: X | BG53: X | BH53: X | BI53: X | BJ53: X
A54: =IF(AI54="X",AI2,"-") -> - | B54: =IF(AJ54="X",AJ2,"-") -> 2 | C54: =IF(AK54="X",AK2,"-") -> 3 | D54: =IF(AL54="X",AL2,"-") -> 4 | E54: =IF(AM54="X",AM2,"-") -> 5 | F54: =IF(AN54="X",AN2,"-") -> - | G54: =IF(AO54="X",AO2,"-") -> - | H54: =IF(AP54="X",AP2,"-") -> 8 | ... AE54: =IF(BM54="X",BM2,"-") -> - | AF54: =CONCATENATE(A54,"-",B54,"-",C54,"-",D54,"-",E54,"-",F54,"-",G54,"-",H54,"-",I54,"-",J54,"-",K54,"-",L54,"-",M54,"-",N54,"-",O54,"-",P54,"-",Q54,"-",R54,"-",S54,"-",T54,"-",U54,"-",V54,"-",W54,"-",X54,"-",Y54,"-",Z54,"-",AA54,"-",AB54,"-",AC54,"-",AD54,"-",AE54,"-",) -> --2-3-4-5-----8-9-10-11-12-----15-16-17-18-19-20-----23-24-25-26-27--------- | AG54: =TRIM(AF54) -> --2-3-4-5-----8-9-10-11-12-----15-16-17-18-19-20-----23-24-25-26-27--------- | AH54: 2-3-4-5-8-9-10-11-12-15-16-17-18-19-20-23-24-25-26-27 | AI54: F | AJ54: X | AK54: X | AL54: X | AM54: X | AN54: F | AO54: F | AP54: X | AQ54: X | AR54: X | AS54: X | AT54: X | AU54: F | AV54: F | AW54: X | AX54: X | AY54: X | AZ54: X | BA54: X | BB54: X | BC54: F | BD54: F | BE54: X | BF54: X | BG54: X | BH54: X | BI54: X | BJ54: F
A55: =IF(AI55="X",AI2,"-") -> 1 | B55: =IF(AJ55="X",AJ2,"-") -> 2 | C55: =IF(AK55="X",AK2,"-") -> 3 | D55: =IF(AL55="X",AL2,"-") -> 4 | E55: =IF(AM55="X",AM2,"-") -> 5 | F55: =IF(AN55="X",AN2,"-") -> 6 | G55: =IF(AO55="X",AO2,"-") -> 7 | H55: =IF(AP55="X",AP2,"-") -> 8 | ... AE55: =IF(BM55="X",BM2,"-") -> - | AF55: =CONCATENATE(A55,"-",B55,"-",C55,"-",D55,"-",E55,"-",F55,"-",G55,"-",H55,"-",I55,"-",J55,"-",K55,"-",L55,"-",M55,"-",N55,"-",O55,"-",P55,"-",Q55,"-",R55,"-",S55,"-",T55,"-",U55,"-",V55,"-",W55,"-",X55,"-",Y55,"-",Z55,"-",AA55,"-",AB55,"-",AC55,"-",AD55,"-",AE55,"-",) -> 1-2-3-4-5-6-7-8-9-10-11-12-13-14-15-16-17-18-19-20-21-22-23-24-25-26-27-28------- | AG55: =TRIM(AF55) -> 1-2-3-4-5-6-7-8-9-10-11-12-13-14-15-16-17-18-19-20-21-22-23-24-25-26-27-28------- | AH55: 1-2-3-4-5-6-7-8-9-10-11-12-13-14-15-16-17-18-19-20-21-22-23-24-25-26-27-28 | AI55: X | AJ55: X | AK55: X | AL55: X | AM55: X | AN55: X | AO55: X | AP55: X | AQ55: X | AR55: X | AS55: X | AT55: X | AU55: X | AV55: X | AW55: X | AX55: X | AY55: X | AZ55: X | BA55: X | BB55: X | BC55: X | BD55: X | BE55: X | BF55: X | BG55: X | BH55: X | BI55: X | BJ55: X
A56: =IF(AI56="X",AI2,"-") -> 1 | B56: =IF(AJ56="X",AJ2,"-") -> 2 | C56: =IF(AK56="X",AK2,"-") -> 3 | D56: =IF(AL56="X",AL2,"-") -> 4 | E56: =IF(AM56="X",AM2,"-") -> 5 | F56: =IF(AN56="X",AN2,"-") -> 6 | G56: =IF(AO56="X",AO2,"-") -> 7 | H56: =IF(AP56="X",AP2,"-") -> 8 | ... AE56: =IF(BM56="X",BM2,"-") -> - | AF56: =CONCATENATE(A56,"-",B56,"-",C56,"-",D56,"-",E56,"-",F56,"-",G56,"-",H56,"-",I56,"-",J56,"-",K56,"-",L56,"-",M56,"-",N56,"-",O56,"-",P56,"-",Q56,"-",R56,"-",S56,"-",T56,"-",U56,"-",V56,"-",W56,"-",X56,"-",Y56,"-",Z56,"-",AA56,"-",AB56,"-",AC56,"-",AD56,"-",AE56,"-",) -> 1-2-3-4-5-6-7-8-9-10-11-12-13-14-15-16-17-18-19-20-21-22-23-24-25-26-27-28------- | AG56: =TRIM(AF56) -> 1-2-3-4-5-6-7-8-9-10-11-12-13-14-15-16-17-18-19-20-21-22-23-24-25-26-27-28------- | AH56: 1-2-3-4-5-6-7-8-9-10-11-12-13-14-15-16-17-18-19-20-21-22-23-24-25-26-27-28 | AI56: X | AJ56: X | AK56: X | AL56: X | AM56: X | AN56: X | AO56: X | AP56: X | AQ56: X | AR56: X | AS56: X | AT56: X | AU56: X | AV56: X | AW56: X | AX56: X | AY56: X | AZ56: X | BA56: X | BB56: X | BC56: X | BD56: X | BE56: X | BF56: X | BG56: X | BH56: X | BI56: X | BJ56: X
A57: =IF(AI57="X",AI2,"-") -> - | B57: =IF(AJ57="X",AJ2,"-") -> - | C57: =IF(AK57="X",AK2,"-") -> - | D57: =IF(AL57="X",AL2,"-") -> - | E57: =IF(AM57="X",AM2,"-") -> - | F57: =IF(AN57="X",AN2,"-") -> - | G57: =IF(AO57="X",AO2,"-") -> - | H57: =IF(AP57="X",AP2,"-") -> 8 | ... AE57: =IF(BM57="X",BM2,"-") -> - | AF57: =CONCATENATE(A57,"-",B57,"-",C57,"-",D57,"-",E57,"-",F57,"-",G57,"-",H57,"-",I57,"-",J57,"-",K57,"-",L57,"-",M57,"-",N57,"-",O57,"-",P57,"-",Q57,"-",R57,"-",S57,"-",T57,"-",U57,"-",V57,"-",W57,"-",X57,"-",Y57,"-",Z57,"-",AA57,"-",AB57,"-",AC57,"-",AD57,"-",AE57,"-",) -> --------------8---------------------------22------------------- | AG57: =TRIM(AF57) -> --------------8---------------------------22------------------- | AH57: 8-22 | AI57: F | AJ57: F | AK57: F | AL57: F | AM57: F | AN57: F | AO57: F | AP57: X | AQ57: F | AR57: F | AS57: F | AT57: F | AU57: F | AV57: F | AW57: F | AX57: F | AY57: F | AZ57: F | BA57: F | BB57: F | BC57: F | BD57: X | BE57: F | BF57: F | BG57: F | BH57: F | BI57: F | BJ57: F
A58: =IF(AI58="X",AI2,"-") -> - | B58: =IF(AJ58="X",AJ2,"-") -> - | C58: =IF(AK58="X",AK2,"-") -> - | D58: =IF(AL58="X",AL2,"-") -> - | E58: =IF(AM58="X",AM2,"-") -> - | F58: =IF(AN58="X",AN2,"-") -> - | G58: =IF(AO58="X",AO2,"-") -> - | H58: =IF(AP58="X",AP2,"-") -> 8 | ... AE58: =IF(BM58="X",BM2,"-") -> - | AF58: =CONCATENATE(A58,"-",B58,"-",C58,"-",D58,"-",E58,"-",F58,"-",G58,"-",H58,"-",I58,"-",J58,"-",K58,"-",L58,"-",M58,"-",N58,"-",O58,"-",P58,"-",Q58,"-",R58,"-",S58,"-",T58,"-",U58,"-",V58,"-",W58,"-",X58,"-",Y58,"-",Z58,"-",AA58,"-",AB58,"-",AC58,"-",AD58,"-",AE58,"-",) -> --------------8---------------------------22------------------- | AG58: =TRIM(AF58) -> --------------8---------------------------22------------------- | AH58: 8-22 | AI58: F | AJ58: F | AK58: F | AL58: F | AM58: F | AN58: F | AO58: F | AP58: X | AQ58: F | AR58: F | AS58: F | AT58: F | AU58: F | AV58: F | AW58: F | AX58: F | AY58: F | AZ58: F | BA58: F | BB58: F | BC58: F | BD58: X | BE58: F | BF58: F | BG58: F | BH58: F | BI58: F | BJ58: F
A59: =IF(AI59="X",AI2,"-") -> 1 | B59: =IF(AJ59="X",AJ2,"-") -> - | C59: =IF(AK59="X",AK2,"-") -> 3 | D59: =IF(AL59="X",AL2,"-") -> 4 | E59: =IF(AM59="X",AM2,"-") -> 5 | F59: =IF(AN59="X",AN2,"-") -> 6 | G59: =IF(AO59="X",AO2,"-") -> - | H59: =IF(AP59="X",AP2,"-") -> - | ... AE59: =IF(BM59="X",BM2,"-") -> - | AF59: =CONCATENATE(A59,"-",B59,"-",C59,"-",D59,"-",E59,"-",F59,"-",G59,"-",H59,"-",I59,"-",J59,"-",K59,"-",L59,"-",M59,"-",N59,"-",O59,"-",P59,"-",Q59,"-",R59,"-",S59,"-",T59,"-",U59,"-",V59,"-",W59,"-",X59,"-",Y59,"-",Z59,"-",AA59,"-",AB59,"-",AC59,"-",AD59,"-",AE59,"-",) -> 1---3-4-5-6-----9-10-11-12-13-----16-17-18-19-20-----23-24-25-26-27--------- | AG59: =TRIM(AF59) -> 1---3-4-5-6-----9-10-11-12-13-----16-17-18-19-20-----23-24-25-26-27--------- | AH59: 1-3-4-5-6-9-10-11-12-13-16-17-18-19-20-23-24-25-26-27 | AI59: X | AJ59: F | AK59: X | AL59: X | AM59: X | AN59: X | AO59: F | AP59: F | AQ59: X | AR59: X | AS59: X | AT59: X | AU59: X | AV59: F | AW59: F | AX59: X | AY59: X | AZ59: X | BA59: X | BB59: X | BC59: F | BD59: F | BE59: X | BF59: X | BG59: X | BH59: X | BI59: X | BJ59: F
A60: =IF(AI60="X",AI2,"-") -> - | B60: =IF(AJ60="X",AJ2,"-") -> 2 | C60: =IF(AK60="X",AK2,"-") -> - | D60: =IF(AL60="X",AL2,"-") -> 4 | E60: =IF(AM60="X",AM2,"-") -> - | F60: =IF(AN60="X",AN2,"-") -> 6 | G60: =IF(AO60="X",AO2,"-") -> - | H60: =IF(AP60="X",AP2,"-") -> - | ... AE60: =IF(BM60="X",BM2,"-") -> - | AF60: =CONCATENATE(A60,"-",B60,"-",C60,"-",D60,"-",E60,"-",F60,"-",G60,"-",H60,"-",I60,"-",J60,"-",K60,"-",L60,"-",M60,"-",N60,"-",O60,"-",P60,"-",Q60,"-",R60,"-",S60,"-",T60,"-",U60,"-",V60,"-",W60,"-",X60,"-",Y60,"-",Z60,"-",AA60,"-",AB60,"-",AC60,"-",AD60,"-",AE60,"-",) -> --2---4---6-----9---11---13-----16---18---20-----23---25---27--------- | AG60: =TRIM(AF60) -> --2---4---6-----9---11---13-----16---18---20-----23---25---27--------- | AH60: 2-4-6-9-11-13-16-18-20-23-25-27 | AI60: F | AJ60: X | AK60: F | AL60: X | AM60: F | AN60: X | AO60: F | AP60: F | AQ60: X | AR60: F | AS60: X | AT60: F | AU60: X | AV60: F | AW60: F | AX60: X | AY60: F | AZ60: X | BA60: F | BB60: X | BC60: F | BD60: F | BE60: X | BF60: F | BG60: X | BH60: F | BI60: X | BJ60: F
A61: =IF(AI61="X",AI2,"-") -> - | B61: =IF(AJ61="X",AJ2,"-") -> - | C61: =IF(AK61="X",AK2,"-") -> - | D61: =IF(AL61="X",AL2,"-") -> - | E61: =IF(AM61="X",AM2,"-") -> - | F61: =IF(AN61="X",AN2,"-") -> - | G61: =IF(AO61="X",AO2,"-") -> - | H61: =IF(AP61="X",AP2,"-") -> - | ... AE61: =IF(BM61="X",BM2,"-") -> - | AF61: =CONCATENATE(A61,"-",B61,"-",C61,"-",D61,"-",E61,"-",F61,"-",G61,"-",H61,"-",I61,"-",J61,"-",K61,"-",L61,"-",M61,"-",N61,"-",O61,"-",P61,"-",Q61,"-",R61,"-",S61,"-",T61,"-",U61,"-",V61,"-",W61,"-",X61,"-",Y61,"-",Z61,"-",AA61,"-",AB61,"-",AC61,"-",AD61,"-",AE61,"-",) -> ------------------------------------------------------28------- | AG61: =TRIM(AF61) -> ------------------------------------------------------28------- | AH61: 28 | AI61: F | AJ61: F | AK61: F | AL61: F | AM61: F | AN61: F | AO61: F | AP61: F | AQ61: F | AR61: F | AS61: F | AT61: F | AU61: F | AV61: F | AW61: F | AX61: F | AY61: F | AZ61: F | BA61: F | BB61: F | BC61: F | BD61: F | BE61: F | BF61: F | BG61: F | BH61: F | BI61: F | BJ61: X
A62: =IF(AI62="X",AI2,"-") -> - | B62: =IF(AJ62="X",AJ2,"-") -> - | C62: =IF(AK62="X",AK2,"-") -> 3 | D62: =IF(AL62="X",AL2,"-") -> - | E62: =IF(AM62="X",AM2,"-") -> - | F62: =IF(AN62="X",AN2,"-") -> - | G62: =IF(AO62="X",AO2,"-") -> - | H62: =IF(AP62="X",AP2,"-") -> - | ... AE62: =IF(BM62="X",BM2,"-") -> - | AF62: =CONCATENATE(A62,"-",B62,"-",C62,"-",D62,"-",E62,"-",F62,"-",G62,"-",H62,"-",I62,"-",J62,"-",K62,"-",L62,"-",M62,"-",N62,"-",O62,"-",P62,"-",Q62,"-",R62,"-",S62,"-",T62,"-",U62,"-",V62,"-",W62,"-",X62,"-",Y62,"-",Z62,"-",AA62,"-",AB62,"-",AC62,"-",AD62,"-",AE62,"-",) -> ----3-------------10-------------17-------------24---26---28------- | AG62: =TRIM(AF62) -> ----3-------------10-------------17-------------24---26---28------- | AH62: 3-10-17-24-26-28 | AI62: F | AJ62: F | AK62: X | AL62: F | AM62: F | AN62: F | AO62: F | AP62: F | AQ62: F | AR62: X | AS62: F | AT62: F | AU62: F | AV62: F | AW62: F | AX62: F | AY62: X | AZ62: F | BA62: F | BB62: F | BC62: F | BD62: F | BE62: F | BF62: X | BG62: F | BH62: X | BI62: F | BJ62: X
A63: =IF(AI63="X",AI2,"-") -> - | B63: =IF(AJ63="X",AJ2,"-") -> - | C63: =IF(AK63="X",AK2,"-") -> - | D63: =IF(AL63="X",AL2,"-") -> - | E63: =IF(AM63="X",AM2,"-") -> - | F63: =IF(AN63="X",AN2,"-") -> - | G63: =IF(AO63="X",AO2,"-") -> - | H63: =IF(AP63="X",AP2,"-") -> - | ... AE63: =IF(BM63="X",BM2,"-") -> - | AF63: =CONCATENATE(A63,"-",B63,"-",C63,"-",D63,"-",E63,"-",F63,"-",G63,"-",H63,"-",I63,"-",J63,"-",K63,"-",L63,"-",M63,"-",N63,"-",O63,"-",P63,"-",Q63,"-",R63,"-",S63,"-",T63,"-",U63,"-",V63,"-",W63,"-",X63,"-",Y63,"-",Z63,"-",AA63,"-",AB63,"-",AC63,"-",AD63,"-",AE63,"-",) -> --------------------------14----------------------------------- | AG63: =TRIM(AF63) -> --------------------------14----------------------------------- | AH63: 14 | AI63: F | AJ63: F | AK63: F | AL63: F | AM63: F | AN63: F | AO63: F | AP63: F | AQ63: F | AR63: F | AS63: F | AT63: F | AU63: F | AV63: X | AW63: F | AX63: F | AY63: F | AZ63: F | BA63: F | BB63: F | BC63: F | BD63: F | BE63: F | BF63: F | BG63: F | BH63: F | BI63: F | BJ63: F
A64: =IF(AI64="X",AI2,"-") -> 1 | B64: =IF(AJ64="X",AJ2,"-") -> - | C64: =IF(AK64="X",AK2,"-") -> - | D64: =IF(AL64="X",AL2,"-") -> - | E64: =IF(AM64="X",AM2,"-") -> - | F64: =IF(AN64="X",AN2,"-") -> - | G64: =IF(AO64="X",AO2,"-") -> - | H64: =IF(AP64="X",AP2,"-") -> - | ... AE64: =IF(BM64="X",BM2,"-") -> - | AF64: =CONCATENATE(A64,"-",B64,"-",C64,"-",D64,"-",E64,"-",F64,"-",G64,"-",H64,"-",I64,"-",J64,"-",K64,"-",L64,"-",M64,"-",N64,"-",O64,"-",P64,"-",Q64,"-",R64,"-",S64,"-",T64,"-",U64,"-",V64,"-",W64,"-",X64,"-",Y64,"-",Z64,"-",AA64,"-",AB64,"-",AC64,"-",AD64,"-",AE64,"-",) -> 1-------------------------14-15--------------------------------- | AG64: =TRIM(AF64) -> 1-------------------------14-15--------------------------------- | AH64: 1-14-15 | AI64: X | AJ64: F | AK64: F | AL64: F | AM64: F | AN64: F | AO64: F | AP64: F | AQ64: F | AR64: F | AS64: F | AT64: F | AU64: F | AV64: X | AW64: X | AX64: F | AY64: F | AZ64: F | BA64: F | BB64: F | BC64: F | BD64: F | BE64: F | BF64: F | BG64: F | BH64: F | BI64: F | BJ64: F
A65: =IF(AI65="X",AI2,"-") -> 1 | B65: =IF(AJ65="X",AJ2,"-") -> - | C65: =IF(AK65="X",AK2,"-") -> - | D65: =IF(AL65="X",AL2,"-") -> - | E65: =IF(AM65="X",AM2,"-") -> - | F65: =IF(AN65="X",AN2,"-") -> - | G65: =IF(AO65="X",AO2,"-") -> - | H65: =IF(AP65="X",AP2,"-") -> - | ... AE65: =IF(BM65="X",BM2,"-") -> - | AF65: =CONCATENATE(A65,"-",B65,"-",C65,"-",D65,"-",E65,"-",F65,"-",G65,"-",H65,"-",I65,"-",J65,"-",K65,"-",L65,"-",M65,"-",N65,"-",O65,"-",P65,"-",Q65,"-",R65,"-",S65,"-",T65,"-",U65,"-",V65,"-",W65,"-",X65,"-",Y65,"-",Z65,"-",AA65,"-",AB65,"-",AC65,"-",AD65,"-",AE65,"-",) -> 1------------------------------------------------------------- | AG65: =TRIM(AF65) -> 1------------------------------------------------------------- | AH65: 1 | AI65: X | AJ65: F | AK65: F | AL65: F | AM65: F | AN65: F | AO65: F | AP65: F | AQ65: F | AR65: F | AS65: F | AT65: F | AU65: F | AV65: F | AW65: F | AX65: F | AY65: F | AZ65: F | BA65: F | BB65: F | BC65: F | BD65: F | BE65: F | BF65: F | BG65: F | BH65: F | BI65: F | BJ65: F
A66: =IF(AI66="X",AI2,"-") -> - | B66: =IF(AJ66="X",AJ2,"-") -> - | C66: =IF(AK66="X",AK2,"-") -> - | D66: =IF(AL66="X",AL2,"-") -> - | E66: =IF(AM66="X",AM2,"-") -> - | F66: =IF(AN66="X",AN2,"-") -> - | G66: =IF(AO66="X",AO2,"-") -> - | H66: =IF(AP66="X",AP2,"-") -> - | ... AE66: =IF(BM66="X",BM2,"-") -> - | AF66: =CONCATENATE(A66,"-",B66,"-",C66,"-",D66,"-",E66,"-",F66,"-",G66,"-",H66,"-",I66,"-",J66,"-",K66,"-",L66,"-",M66,"-",N66,"-",O66,"-",P66,"-",Q66,"-",R66,"-",S66,"-",T66,"-",U66,"-",V66,"-",W66,"-",X66,"-",Y66,"-",Z66,"-",AA66,"-",AB66,"-",AC66,"-",AD66,"-",AE66,"-",) -> ----------------------------15--------------------------------- | AG66: =TRIM(AF66) -> ----------------------------15--------------------------------- | AH66: 15 | AI66: F | AJ66: F | AK66: F | AL66: F | AM66: F | AN66: F | AO66: F | AP66: F | AQ66: F | AR66: F | AS66: F | AT66: F | AU66: F | AV66: F | AW66: X | AX66: F | AY66: F | AZ66: F | BA66: F | BB66: F | BC66: F | BD66: F | BE66: F | BF66: F | BG66: F | BH66: F | BI66: F | BJ66: F
A67: =IF(AI67="X",AI2,"-") -> - | B67: =IF(AJ67="X",AJ2,"-") -> - | C67: =IF(AK67="X",AK2,"-") -> - | D67: =IF(AL67="X",AL2,"-") -> - | E67: =IF(AM67="X",AM2,"-") -> - | F67: =IF(AN67="X",AN2,"-") -> - | G67: =IF(AO67="X",AO2,"-") -> 7 | H67: =IF(AP67="X",AP2,"-") -> - | ... AE67: =IF(BM67="X",BM2,"-") -> - | AF67: =CONCATENATE(A67,"-",B67,"-",C67,"-",D67,"-",E67,"-",F67,"-",G67,"-",H67,"-",I67,"-",J67,"-",K67,"-",L67,"-",M67,"-",N67,"-",O67,"-",P67,"-",Q67,"-",R67,"-",S67,"-",T67,"-",U67,"-",V67,"-",W67,"-",X67,"-",Y67,"-",Z67,"-",AA67,"-",AB67,"-",AC67,"-",AD67,"-",AE67,"-",) -> ------------7---------------------------21--------------------- | AG67: =TRIM(AF67) -> ------------7---------------------------21--------------------- | AH67: 7-21 | AI67: F | AJ67: F | AK67: F | AL67: F | AM67: F | AN67: F | AO67: X | AP67: F | AQ67: F | AR67: F | AS67: F | AT67: F | AU67: F | AV67: F | AW67: F | AX67: F | AY67: F | AZ67: F | BA67: F | BB67: F | BC67: X | BD67: F | BE67: F | BF67: F | BG67: F | BH67: F | BI67: F | BJ67: F
A68: =IF(AI68="X",AI2,"-") -> - | B68: =IF(AJ68="X",AJ2,"-") -> - | C68: =IF(AK68="X",AK2,"-") -> - | D68: =IF(AL68="X",AL2,"-") -> - | E68: =IF(AM68="X",AM2,"-") -> - | F68: =IF(AN68="X",AN2,"-") -> - | G68: =IF(AO68="X",AO2,"-") -> 7 | H68: =IF(AP68="X",AP2,"-") -> - | ... AE68: =IF(BM68="X",BM2,"-") -> - | AF68: =CONCATENATE(A68,"-",B68,"-",C68,"-",D68,"-",E68,"-",F68,"-",G68,"-",H68,"-",I68,"-",J68,"-",K68,"-",L68,"-",M68,"-",N68,"-",O68,"-",P68,"-",Q68,"-",R68,"-",S68,"-",T68,"-",U68,"-",V68,"-",W68,"-",X68,"-",Y68,"-",Z68,"-",AA68,"-",AB68,"-",AC68,"-",AD68,"-",AE68,"-",) -> ------------7---------------------------21--------------------- | AG68: =TRIM(AF68) -> ------------7---------------------------21--------------------- | AH68: 7-21 | AI68: F | AJ68: F | AK68: F | AL68: F | AM68: F | AN68: F | AO68: X | AP68: F | AQ68: F | AR68: F | AS68: F | AT68: F | AU68: F | AV68: F | AW68: F | AX68: F | AY68: F | AZ68: F | BA68: F | BB68: F | BC68: X | BD68: F | BE68: F | BF68: F | BG68: F | BH68: F | BI68: F | BJ68: F
A69: =IF(AI69="X",AI2,"-") -> - | B69: =IF(AJ69="X",AJ2,"-") -> 2 | C69: =IF(AK69="X",AK2,"-") -> 3 | D69: =IF(AL69="X",AL2,"-") -> 4 | E69: =IF(AM69="X",AM2,"-") -> 5 | F69: =IF(AN69="X",AN2,"-") -> 6 | G69: =IF(AO69="X",AO2,"-") -> - | H69: =IF(AP69="X",AP2,"-") -> - | ... AE69: =IF(BM69="X",BM2,"-") -> - | AF69: =CONCATENATE(A69,"-",B69,"-",C69,"-",D69,"-",E69,"-",F69,"-",G69,"-",H69,"-",I69,"-",J69,"-",K69,"-",L69,"-",M69,"-",N69,"-",O69,"-",P69,"-",Q69,"-",R69,"-",S69,"-",T69,"-",U69,"-",V69,"-",W69,"-",X69,"-",Y69,"-",Z69,"-",AA69,"-",AB69,"-",AC69,"-",AD69,"-",AE69,"-",) -> --2-3-4-5-6-----9-10-11-12-13-----16-17-18-19-20-----23-24-25-26-27--------- | AG69: =TRIM(AF69) -> --2-3-4-5-6-----9-10-11-12-13-----16-17-18-19-20-----23-24-25-26-27--------- | AH69: 2-3-4-5-6-9-10-11-12-13-16-17-18-19-20-23-24-25-26-27 | AI69: F | AJ69: X | AK69: X | AL69: X | AM69: X | AN69: X | AO69: F | AP69: F | AQ69: X | AR69: X | AS69: X | AT69: X | AU69: X | AV69: F | AW69: F | AX69: X | AY69: X | AZ69: X | BA69: X | BB69: X | BC69: F | BD69: F | BE69: X | BF69: X | BG69: X | BH69: X | BI69: X | BJ69: F
A70: =IF(AI70="X",AI2,"-") -> 1 | B70: =IF(AJ70="X",AJ2,"-") -> 2 | C70: =IF(AK70="X",AK2,"-") -> 3 | D70: =IF(AL70="X",AL2,"-") -> 4 | E70: =IF(AM70="X",AM2,"-") -> 5 | F70: =IF(AN70="X",AN2,"-") -> 6 | G70: =IF(AO70="X",AO2,"-") -> 7 | H70: =IF(AP70="X",AP2,"-") -> 8 | ... AE70: =IF(BM70="X",BM2,"-") -> - | AF70: =CONCATENATE(A70,"-",B70,"-",C70,"-",D70,"-",E70,"-",F70,"-",G70,"-",H70,"-",I70,"-",J70,"-",K70,"-",L70,"-",M70,"-",N70,"-",O70,"-",P70,"-",Q70,"-",R70,"-",S70,"-",T70,"-",U70,"-",V70,"-",W70,"-",X70,"-",Y70,"-",Z70,"-",AA70,"-",AB70,"-",AC70,"-",AD70,"-",AE70,"-",) -> 1-2-3-4-5-6-7-8-9-10-11-12-13-14-15-16-17-18-19-20-21-22-23-24-25-26-27-28------- | AG70: =TRIM(AF70) -> 1-2-3-4-5-6-7-8-9-10-11-12-13-14-15-16-17-18-19-20-21-22-23-24-25-26-27-28------- | AH70: 1-2-3-4-5-6-7-8-9-10-11-12-13-14-15-16-17-18-19-20-21-22-23-24-25-26-27-28 | AI70: X | AJ70: X | AK70: X | AL70: X | AM70: X | AN70: X | AO70: X | AP70: X | AQ70: X | AR70: X | AS70: X | AT70: X | AU70: X | AV70: X | AW70: X | AX70: X | AY70: X | AZ70: X | BA70: X | BB70: X | BC70: X | BD70: X | BE70: X | BF70: X | BG70: X | BH70: X | BI70: X | BJ70: X
A71: =IF(AI71="X",AI2,"-") -> 1 | B71: =IF(AJ71="X",AJ2,"-") -> 2 | C71: =IF(AK71="X",AK2,"-") -> 3 | D71: =IF(AL71="X",AL2,"-") -> 4 | E71: =IF(AM71="X",AM2,"-") -> 5 | F71: =IF(AN71="X",AN2,"-") -> 6 | G71: =IF(AO71="X",AO2,"-") -> 7 | H71: =IF(AP71="X",AP2,"-") -> 8 | ... AE71: =IF(BM71="X",BM2,"-") -> - | AF71: =CONCATENATE(A71,"-",B71,"-",C71,"-",D71,"-",E71,"-",F71,"-",G71,"-",H71,"-",I71,"-",J71,"-",K71,"-",L71,"-",M71,"-",N71,"-",O71,"-",P71,"-",Q71,"-",R71,"-",S71,"-",T71,"-",U71,"-",V71,"-",W71,"-",X71,"-",Y71,"-",Z71,"-",AA71,"-",AB71,"-",AC71,"-",AD71,"-",AE71,"-",) -> 1-2-3-4-5-6-7-8-9-10-11-12-13-14-15-16-17-18-19-20-21-22-23-24-25-26-27-28------- | AG71: =TRIM(AF71) -> 1-2-3-4-5-6-7-8-9-10-11-12-13-14-15-16-17-18-19-20-21-22-23-24-25-26-27-28------- | AH71: 1-2-3-4-5-6-7-8-9-10-11-12-13-14-15-16-17-18-19-20-21-22-23-24-25-26-27-28 | AI71: X | AJ71: X | AK71: X | AL71: X | AM71: X | AN71: X | AO71: X | AP71: X | AQ71: X | AR71: X | AS71: X | AT71: X | AU71: X | AV71: X | AW71: X | AX71: X | AY71: X | AZ71: X | BA71: X | BB71: X | BC71: X | BD71: X | BE71: X | BF71: X | BG71: X | BH71: X | BI71: X | BJ71: X
A72: =IF(AI72="X",AI2,"-") -> - | B72: =IF(AJ72="X",AJ2,"-") -> - | C72: =IF(AK72="X",AK2,"-") -> 3 | D72: =IF(AL72="X",AL2,"-") -> - | E72: =IF(AM72="X",AM2,"-") -> - | F72: =IF(AN72="X",AN2,"-") -> - | G72: =IF(AO72="X",AO2,"-") -> - | H72: =IF(AP72="X",AP2,"-") -> - | ... AE72: =IF(BM72="X",BM2,"-") -> - | AF72: =CONCATENATE(A72,"-",B72,"-",C72,"-",D72,"-",E72,"-",F72,"-",G72,"-",H72,"-",I72,"-",J72,"-",K72,"-",L72,"-",M72,"-",N72,"-",O72,"-",P72,"-",Q72,"-",R72,"-",S72,"-",T72,"-",U72,"-",V72,"-",W72,"-",X72,"-",Y72,"-",Z72,"-",AA72,"-",AB72,"-",AC72,"-",AD72,"-",AE72,"-",) -> ----3-----------9-10-----------16-17-------------24--------------- | AG72: =TRIM(AF72) -> ----3-----------9-10-----------16-17-------------24--------------- | AH72: 3-9-10-16-17-24 | AI72: F | AJ72: F | AK72: X | AL72: F | AM72: F | AN72: F | AO72: F | AP72: F | AQ72: X | AR72: X | AS72: F | AT72: F | AU72: F | AV72: F | AW72: F | AX72: X | AY72: X | AZ72: F | BA72: F | BB72: F | BC72: F | BD72: F | BE72: F | BF72: X | BG72: F | BH72: F | BI72: F | BJ72: F
A73: =IF(AI73="X",AI2,"-") -> - | B73: =IF(AJ73="X",AJ2,"-") -> - | C73: =IF(AK73="X",AK2,"-") -> - | D73: =IF(AL73="X",AL2,"-") -> - | E73: =IF(AM73="X",AM2,"-") -> - | F73: =IF(AN73="X",AN2,"-") -> - | G73: =IF(AO73="X",AO2,"-") -> - | H73: =IF(AP73="X",AP2,"-") -> - | ... AE73: =IF(BM73="X",BM2,"-") -> - | AF73: =CONCATENATE(A73,"-",B73,"-",C73,"-",D73,"-",E73,"-",F73,"-",G73,"-",H73,"-",I73,"-",J73,"-",K73,"-",L73,"-",M73,"-",N73,"-",O73,"-",P73,"-",Q73,"-",R73,"-",S73,"-",T73,"-",U73,"-",V73,"-",W73,"-",X73,"-",Y73,"-",Z73,"-",AA73,"-",AB73,"-",AC73,"-",AD73,"-",AE73,"-",) -> ------------------------------------------------------28------- | AG73: =TRIM(AF73) -> ------------------------------------------------------28------- | AH73: 28 | AI73: F | AJ73: F | AK73: F | AL73: F | AM73: F | AN73: F | AO73: F | AP73: F | AQ73: F | AR73: F | AS73: F | AT73: F | AU73: F | AV73: F | AW73: F | AX73: F | AY73: F | AZ73: F | BA73: F | BB73: F | BC73: F | BD73: F | BE73: F | BF73: F | BG73: F | BH73: F | BI73: F | BJ73: X
A74: =IF(AI74="X",AI2,"-") -> - | B74: =IF(AJ74="X",AJ2,"-") -> 2 | C74: =IF(AK74="X",AK2,"-") -> - | D74: =IF(AL74="X",AL2,"-") -> - | E74: =IF(AM74="X",AM2,"-") -> - | F74: =IF(AN74="X",AN2,"-") -> - | G74: =IF(AO74="X",AO2,"-") -> - | H74: =IF(AP74="X",AP2,"-") -> - | ... AE74: =IF(BM74="X",BM2,"-") -> - | AF74: =CONCATENATE(A74,"-",B74,"-",C74,"-",D74,"-",E74,"-",F74,"-",G74,"-",H74,"-",I74,"-",J74,"-",K74,"-",L74,"-",M74,"-",N74,"-",O74,"-",P74,"-",Q74,"-",R74,"-",S74,"-",T74,"-",U74,"-",V74,"-",W74,"-",X74,"-",Y74,"-",Z74,"-",AA74,"-",AB74,"-",AC74,"-",AD74,"-",AE74,"-",) -> --2-------------------12---------------20-----23-----26---28------- | AG74: =TRIM(AF74) -> --2-------------------12---------------20-----23-----26---28------- | AH74: 2-12-20-23-26-28 | AI74: F | AJ74: X | AK74: F | AL74: F | AM74: F | AN74: F | AO74: F | AP74: F | AQ74: F | AR74: F | AS74: F | AT74: X | AU74: F | AV74: F | AW74: F | AX74: F | AY74: F | AZ74: F | BA74: F | BB74: X | BC74: F | BD74: F | BE74: X | BF74: F | BG74: F | BH74: X | BI74: F | BJ74: X
A75: =IF(AI75="X",AI2,"-") -> 1 | B75: =IF(AJ75="X",AJ2,"-") -> 2 | C75: =IF(AK75="X",AK2,"-") -> 3 | D75: =IF(AL75="X",AL2,"-") -> 4 | E75: =IF(AM75="X",AM2,"-") -> 5 | F75: =IF(AN75="X",AN2,"-") -> 6 | G75: =IF(AO75="X",AO2,"-") -> - | H75: =IF(AP75="X",AP2,"-") -> - | ... AE75: =IF(BM75="X",BM2,"-") -> - | AF75: =CONCATENATE(A75,"-",B75,"-",C75,"-",D75,"-",E75,"-",F75,"-",G75,"-",H75,"-",I75,"-",J75,"-",K75,"-",L75,"-",M75,"-",N75,"-",O75,"-",P75,"-",Q75,"-",R75,"-",S75,"-",T75,"-",U75,"-",V75,"-",W75,"-",X75,"-",Y75,"-",Z75,"-",AA75,"-",AB75,"-",AC75,"-",AD75,"-",AE75,"-",) -> 1-2-3-4-5-6-----9-10-11-12-13---15-16-17-18-19-20-----23-24-25-26-27--------- | AG75: =TRIM(AF75) -> 1-2-3-4-5-6-----9-10-11-12-13---15-16-17-18-19-20-----23-24-25-26-27--------- | AH75: 1-2-3-4-5-6-9-10-11-12-13-15-16-17-18-19-20-23-24-25-26-27 | AI75: x | AJ75: x | AK75: x | AL75: x | AM75: x | AN75: x | AO75: F | AP75: F | AQ75: X | AR75: X | AS75: X | AT75: X | AU75: X | AV75: F | AW75: X | AX75: X | AY75: X | AZ75: X | BA75: X | BB75: X | BC75: F | BD75: F | BE75: X | BF75: X | BG75: X | BH75: X | BI75: X | BJ75: F
A76: =IF(AI76="X",AI2,"-") -> 1 | B76: =IF(AJ76="X",AJ2,"-") -> - | C76: =IF(AK76="X",AK2,"-") -> - | D76: =IF(AL76="X",AL2,"-") -> - | E76: =IF(AM76="X",AM2,"-") -> - | F76: =IF(AN76="X",AN2,"-") -> - | G76: =IF(AO76="X",AO2,"-") -> - | H76: =IF(AP76="X",AP2,"-") -> - | ... AE76: =IF(BM76="X",BM2,"-") -> - | AF76: =CONCATENATE(A76,"-",B76,"-",C76,"-",D76,"-",E76,"-",F76,"-",G76,"-",H76,"-",I76,"-",J76,"-",K76,"-",L76,"-",M76,"-",N76,"-",O76,"-",P76,"-",Q76,"-",R76,"-",S76,"-",T76,"-",U76,"-",V76,"-",W76,"-",X76,"-",Y76,"-",Z76,"-",AA76,"-",AB76,"-",AC76,"-",AD76,"-",AE76,"-",) -> 1---------------------------15--------------------------------- | AG76: =TRIM(AF76) -> 1---------------------------15--------------------------------- | AH76: 1-15 | AI76: X | AJ76: F | AK76: F | AL76: F | AM76: F | AN76: F | AO76: F | AP76: F | AQ76: F | AR76: F | AS76: F | AT76: F | AU76: F | AV76: F | AW76: X | AX76: F | AY76: F | AZ76: F | BA76: F | BB76: F | BC76: F | BD76: F | BE76: F | BF76: F | BG76: F | BH76: F | BI76: F | BJ76: F
A77: =IF(AI77="X",AI2,"-") -> - | B77: =IF(AJ77="X",AJ2,"-") -> - | C77: =IF(AK77="X",AK2,"-") -> - | D77: =IF(AL77="X",AL2,"-") -> - | E77: =IF(AM77="X",AM2,"-") -> - | F77: =IF(AN77="X",AN2,"-") -> - | G77: =IF(AO77="X",AO2,"-") -> - | H77: =IF(AP77="X",AP2,"-") -> 8 | ... AE77: =IF(BM77="X",BM2,"-") -> - | AF77: =CONCATENATE(A77,"-",B77,"-",C77,"-",D77,"-",E77,"-",F77,"-",G77,"-",H77,"-",I77,"-",J77,"-",K77,"-",L77,"-",M77,"-",N77,"-",O77,"-",P77,"-",Q77,"-",R77,"-",S77,"-",T77,"-",U77,"-",V77,"-",W77,"-",X77,"-",Y77,"-",Z77,"-",AA77,"-",AB77,"-",AC77,"-",AD77,"-",AE77,"-",) -> --------------8---------------------------22------------------- | AG77: =TRIM(AF77) -> --------------8---------------------------22------------------- | AH77: 8-22 | AI77: F | AJ77: F | AK77: F | AL77: F | AM77: F | AN77: F | AO77: F | AP77: X | AQ77: F | AR77: F | AS77: F | AT77: F | AU77: F | AV77: F | AW77: F | AX77: F | AY77: F | AZ77: F | BA77: F | BB77: F | BC77: F | BD77: X | BE77: F | BF77: F | BG77: F | BH77: F | BI77: F | BJ77: F
A78: =IF(AI78="X",AI2,"-") -> - | B78: =IF(AJ78="X",AJ2,"-") -> - | C78: =IF(AK78="X",AK2,"-") -> - | D78: =IF(AL78="X",AL2,"-") -> - | E78: =IF(AM78="X",AM2,"-") -> - | F78: =IF(AN78="X",AN2,"-") -> - | G78: =IF(AO78="X",AO2,"-") -> - | H78: =IF(AP78="X",AP2,"-") -> 8 | ... AE78: =IF(BM78="X",BM2,"-") -> - | AF78: =CONCATENATE(A78,"-",B78,"-",C78,"-",D78,"-",E78,"-",F78,"-",G78,"-",H78,"-",I78,"-",J78,"-",K78,"-",L78,"-",M78,"-",N78,"-",O78,"-",P78,"-",Q78,"-",R78,"-",S78,"-",T78,"-",U78,"-",V78,"-",W78,"-",X78,"-",Y78,"-",Z78,"-",AA78,"-",AB78,"-",AC78,"-",AD78,"-",AE78,"-",) -> --------------8---------------------------22------------------- | AG78: =TRIM(AF78) -> --------------8---------------------------22------------------- | AH78: 8-22 | AI78: F | AJ78: F | AK78: F | AL78: F | AM78: F | AN78: F | AO78: F | AP78: X | AQ78: F | AR78: F | AS78: F | AT78: F | AU78: F | AV78: F | AW78: F | AX78: F | AY78: F | AZ78: F | BA78: F | BB78: F | BC78: F | BD78: X | BE78: F | BF78: F | BG78: F | BH78: F | BI78: F | BJ78: F
A79: =IF(AI79="X",AI2,"-") -> - | B79: =IF(AJ79="X",AJ2,"-") -> - | C79: =IF(AK79="X",AK2,"-") -> - | D79: =IF(AL79="X",AL2,"-") -> - | E79: =IF(AM79="X",AM2,"-") -> - | F79: =IF(AN79="X",AN2,"-") -> - | G79: =IF(AO79="X",AO2,"-") -> 7 | H79: =IF(AP79="X",AP2,"-") -> - | ... AE79: =IF(BM79="X",BM2,"-") -> - | AF79: =CONCATENATE(A79,"-",B79,"-",C79,"-",D79,"-",E79,"-",F79,"-",G79,"-",H79,"-",I79,"-",J79,"-",K79,"-",L79,"-",M79,"-",N79,"-",O79,"-",P79,"-",Q79,"-",R79,"-",S79,"-",T79,"-",U79,"-",V79,"-",W79,"-",X79,"-",Y79,"-",Z79,"-",AA79,"-",AB79,"-",AC79,"-",AD79,"-",AE79,"-",) -> ------------7-------------14-------------21--------------------- | AG79: =TRIM(AF79) -> ------------7-------------14-------------21--------------------- | AH79: 7-14-21 | AI79: F | AJ79: F | AK79: F | AL79: F | AM79: F | AN79: F | AO79: X | AP79: F | AQ79: F | AR79: F | AS79: F | AT79: F | AU79: F | AV79: X | AW79: F | AX79: F | AY79: F | AZ79: F | BA79: F | BB79: F | BC79: X | BD79: F | BE79: F | BF79: F | BG79: F | BH79: F | BI79: F | BJ79: F
A80: =IF(AI80="X",AI2,"-") -> - | B80: =IF(AJ80="X",AJ2,"-") -> - | C80: =IF(AK80="X",AK2,"-") -> - | D80: =IF(AL80="X",AL2,"-") -> - | E80: =IF(AM80="X",AM2,"-") -> - | F80: =IF(AN80="X",AN2,"-") -> 6 | G80: =IF(AO80="X",AO2,"-") -> 7 | H80: =IF(AP80="X",AP2,"-") -> - | ... AE80: =IF(BM80="X",BM2,"-") -> - | AF80: =CONCATENATE(A80,"-",B80,"-",C80,"-",D80,"-",E80,"-",F80,"-",G80,"-",H80,"-",I80,"-",J80,"-",K80,"-",L80,"-",M80,"-",N80,"-",O80,"-",P80,"-",Q80,"-",R80,"-",S80,"-",T80,"-",U80,"-",V80,"-",W80,"-",X80,"-",Y80,"-",Z80,"-",AA80,"-",AB80,"-",AC80,"-",AD80,"-",AE80,"-",) -> ----------6-7-----------13-14-------------21-----------27--------- | AG80: =TRIM(AF80) -> ----------6-7-----------13-14-------------21-----------27--------- | AH80: 6-7-13-14-21-27 | AI80: F | AJ80: F | AK80: F | AL80: F | AM80: F | AN80: X | AO80: X | AP80: F | AQ80: F | AR80: F | AS80: F | AT80: F | AU80: X | AV80: X | AW80: F | AX80: F | AY80: F | AZ80: F | BA80: F | BB80: F | BC80: X | BD80: F | BE80: F | BF80: F | BG80: F | BH80: F | BI80: X | BJ80: F
A81: =IF(AI81="X",AI2,"-") -> - | B81: =IF(AJ81="X",AJ2,"-") -> - | C81: =IF(AK81="X",AK2,"-") -> - | D81: =IF(AL81="X",AL2,"-") -> 4 | E81: =IF(AM81="X",AM2,"-") -> - | F81: =IF(AN81="X",AN2,"-") -> - | G81: =IF(AO81="X",AO2,"-") -> - | H81: =IF(AP81="X",AP2,"-") -> - | ... AE81: =IF(BM81="X",BM2,"-") -> - | AF81: =CONCATENATE(A81,"-",B81,"-",C81,"-",D81,"-",E81,"-",F81,"-",G81,"-",H81,"-",I81,"-",J81,"-",K81,"-",L81,"-",M81,"-",N81,"-",O81,"-",P81,"-",Q81,"-",R81,"-",S81,"-",T81,"-",U81,"-",V81,"-",W81,"-",X81,"-",Y81,"-",Z81,"-",AA81,"-",AB81,"-",AC81,"-",AD81,"-",AE81,"-",) -> ------4-------------11-------------18-----------24--------------- | AG81: =TRIM(AF81) -> ------4-------------11-------------18-----------24--------------- | AH81: 4-11-18-24 | AI81: F | AJ81: F | AK81: F | AL81: X | AM81: F | AN81: F | AO81: F | AP81: F | AQ81: F | AR81: F | AS81: X | AT81: F | AU81: F | AV81: F | AW81: F | AX81: F | AY81: F | AZ81: X | BA81: F | BB81: F | BC81: F | BD81: F | BE81: F | BF81: X | BG81: F | BH81: F | BI81: F | BJ81: F
A82: =IF(AI82="X",AI2,"-") -> - | B82: =IF(AJ82="X",AJ2,"-") -> - | C82: =IF(AK82="X",AK2,"-") -> - | D82: =IF(AL82="X",AL2,"-") -> - | E82: =IF(AM82="X",AM2,"-") -> 5 | F82: =IF(AN82="X",AN2,"-") -> - | G82: =IF(AO82="X",AO2,"-") -> - | H82: =IF(AP82="X",AP2,"-") -> - | ... AE82: =IF(BM82="X",BM2,"-") -> - | AF82: =CONCATENATE(A82,"-",B82,"-",C82,"-",D82,"-",E82,"-",F82,"-",G82,"-",H82,"-",I82,"-",J82,"-",K82,"-",L82,"-",M82,"-",N82,"-",O82,"-",P82,"-",Q82,"-",R82,"-",S82,"-",T82,"-",U82,"-",V82,"-",W82,"-",X82,"-",Y82,"-",Z82,"-",AA82,"-",AB82,"-",AC82,"-",AD82,"-",AE82,"-",) -> --------5---------------------------19------------------------- | AG82: =TRIM(AF82) -> --------5---------------------------19------------------------- | AH82: 5-19 | AI82: F | AJ82: F | AK82: F | AL82: F | AM82: X | AN82: F | AO82: F | AP82: F | AQ82: F | AR82: F | AS82: F | AT82: F | AU82: F | AV82: F | AW82: F | AX82: F | AY82: F | AZ82: F | BA82: X | BB82: F | BC82: F | BD82: F | BE82: F | BF82: F | BG82: F | BH82: F | BI82: F | BJ82: F
A83: =IF(AI83="X",AI2,"-") -> - | B83: =IF(AJ83="X",AJ2,"-") -> 2 | C83: =IF(AK83="X",AK2,"-") -> 3 | D83: =IF(AL83="X",AL2,"-") -> 4 | E83: =IF(AM83="X",AM2,"-") -> 5 | F83: =IF(AN83="X",AN2,"-") -> 6 | G83: =IF(AO83="X",AO2,"-") -> - | H83: =IF(AP83="X",AP2,"-") -> - | ... AE83: =IF(BM83="X",BM2,"-") -> - | AF83: =CONCATENATE(A83,"-",B83,"-",C83,"-",D83,"-",E83,"-",F83,"-",G83,"-",H83,"-",I83,"-",J83,"-",K83,"-",L83,"-",M83,"-",N83,"-",O83,"-",P83,"-",Q83,"-",R83,"-",S83,"-",T83,"-",U83,"-",V83,"-",W83,"-",X83,"-",Y83,"-",Z83,"-",AA83,"-",AB83,"-",AC83,"-",AD83,"-",AE83,"-",) -> --2-3-4-5-6-----9-10-11-12-13-----16-17-18-19-20-----23-24-25-26-27--------- | AG83: =TRIM(AF83) -> --2-3-4-5-6-----9-10-11-12-13-----16-17-18-19-20-----23-24-25-26-27--------- | AH83: 2-3-4-5-6-9-10-11-12-13-16-17-18-19-20-23-24-25-26-27 | AI83: F | AJ83: X | AK83: X | AL83: X | AM83: X | AN83: X | AO83: F | AP83: F | AQ83: X | AR83: X | AS83: X | AT83: X | AU83: X | AV83: F | AW83: F | AX83: X | AY83: X | AZ83: X | BA83: X | BB83: X | BC83: F | BD83: F | BE83: X | BF83: X | BG83: X | BH83: X | BI83: X | BJ83: F
A84: =IF(AI84="X",AI2,"-") -> - | B84: =IF(AJ84="X",AJ2,"-") -> 2 | C84: =IF(AK84="X",AK2,"-") -> 3 | D84: =IF(AL84="X",AL2,"-") -> 4 | E84: =IF(AM84="X",AM2,"-") -> 5 | F84: =IF(AN84="X",AN2,"-") -> 6 | G84: =IF(AO84="X",AO2,"-") -> - | H84: =IF(AP84="X",AP2,"-") -> - | ... AE84: =IF(BM84="X",BM2,"-") -> - | AF84: =CONCATENATE(A84,"-",B84,"-",C84,"-",D84,"-",E84,"-",F84,"-",G84,"-",H84,"-",I84,"-",J84,"-",K84,"-",L84,"-",M84,"-",N84,"-",O84,"-",P84,"-",Q84,"-",R84,"-",S84,"-",T84,"-",U84,"-",V84,"-",W84,"-",X84,"-",Y84,"-",Z84,"-",AA84,"-",AB84,"-",AC84,"-",AD84,"-",AE84,"-",) -> --2-3-4-5-6-----9-10-11-12-13-----16-17-18-19-20-----23-24-25-26-27--------- | AG84: =TRIM(AF84) -> --2-3-4-5-6-----9-10-11-12-13-----16-17-18-19-20-----23-24-25-26-27--------- | AH84: 2-3-4-5-6-9-10-11-12-13-16-17-18-19-20-23-24-25-26-27 | AI84: F | AJ84: X | AK84: X | AL84: X | AM84: X | AN84: X | AO84: F | AP84: F | AQ84: X | AR84: X | AS84: X | AT84: X | AU84: X | AV84: F | AW84: F | AX84: X | AY84: X | AZ84: X | BA84: X | BB84: X | BC84: F | BD84: F | BE84: X | BF84: X | BG84: X | BH84: X | BI84: X | BJ84: F
A85: =IF(AI85="X",AI2,"-") -> - | B85: =IF(AJ85="X",AJ2,"-") -> - | C85: =IF(AK85="X",AK2,"-") -> - | D85: =IF(AL85="X",AL2,"-") -> - | E85: =IF(AM85="X",AM2,"-") -> - | F85: =IF(AN85="X",AN2,"-") -> - | G85: =IF(AO85="X",AO2,"-") -> 7 | H85: =IF(AP85="X",AP2,"-") -> - | ... AE85: =IF(BM85="X",BM2,"-") -> - | AF85: =CONCATENATE(A85,"-",B85,"-",C85,"-",D85,"-",E85,"-",F85,"-",G85,"-",H85,"-",I85,"-",J85,"-",K85,"-",L85,"-",M85,"-",N85,"-",O85,"-",P85,"-",Q85,"-",R85,"-",S85,"-",T85,"-",U85,"-",V85,"-",W85,"-",X85,"-",Y85,"-",Z85,"-",AA85,"-",AB85,"-",AC85,"-",AD85,"-",AE85,"-",) -> ------------7-------------14----------------------------------- | AG85: =TRIM(AF85) -> ------------7-------------14----------------------------------- | AH85: 7-14 | AI85: F | AJ85: F | AK85: F | AL85: F | AM85: F | AN85: F | AO85: X | AP85: F | AQ85: F | AR85: F | AS85: F | AT85: F | AU85: F | AV85: X | AW85: F | AX85: F | AY85: F | AZ85: F | BA85: F | BB85: F | BC85: F | BD85: F | BE85: F | BF85: F | BG85: F | BH85: F | BI85: F | BJ85: F
A86: =IF(AI86="X",AI2,"-") -> - | B86: =IF(AJ86="X",AJ2,"-") -> - | C86: =IF(AK86="X",AK2,"-") -> - | D86: =IF(AL86="X",AL2,"-") -> - | E86: =IF(AM86="X",AM2,"-") -> - | F86: =IF(AN86="X",AN2,"-") -> - | G86: =IF(AO86="X",AO2,"-") -> 7 | H86: =IF(AP86="X",AP2,"-") -> - | ... AE86: =IF(BM86="X",BM2,"-") -> - | AF86: =CONCATENATE(A86,"-",B86,"-",C86,"-",D86,"-",E86,"-",F86,"-",G86,"-",H86,"-",I86,"-",J86,"-",K86,"-",L86,"-",M86,"-",N86,"-",O86,"-",P86,"-",Q86,"-",R86,"-",S86,"-",T86,"-",U86,"-",V86,"-",W86,"-",X86,"-",Y86,"-",Z86,"-",AA86,"-",AB86,"-",AC86,"-",AD86,"-",AE86,"-",) -> ------------7-------------14----------------------------------- | AG86: =TRIM(AF86) -> ------------7-------------14----------------------------------- | AH86: 7-14 | AI86: F | AJ86: F | AK86: F | AL86: F | AM86: F | AN86: F | AO86: X | AP86: F | AQ86: F | AR86: F | AS86: F | AT86: F | AU86: F | AV86: X | AW86: F | AX86: F | AY86: F | AZ86: F | BA86: F | BB86: F | BC86: F | BD86: F | BE86: F | BF86: F | BG86: F | BH86: F | BI86: F | BJ86: F
A87: =IF(AI87="X",AI2,"-") -> - | B87: =IF(AJ87="X",AJ2,"-") -> - | C87: =IF(AK87="X",AK2,"-") -> - | D87: =IF(AL87="X",AL2,"-") -> - | E87: =IF(AM87="X",AM2,"-") -> 5 | F87: =IF(AN87="X",AN2,"-") -> - | G87: =IF(AO87="X",AO2,"-") -> 7 | H87: =IF(AP87="X",AP2,"-") -> - | ... AE87: =IF(BM87="X",BM2,"-") -> - | AF87: =CONCATENATE(A87,"-",B87,"-",C87,"-",D87,"-",E87,"-",F87,"-",G87,"-",H87,"-",I87,"-",J87,"-",K87,"-",L87,"-",M87,"-",N87,"-",O87,"-",P87,"-",Q87,"-",R87,"-",S87,"-",T87,"-",U87,"-",V87,"-",W87,"-",X87,"-",Y87,"-",Z87,"-",AA87,"-",AB87,"-",AC87,"-",AD87,"-",AE87,"-",) -> --------5---7---------12---14---------19-------------26----------- | AG87: =TRIM(AF87) -> --------5---7---------12---14---------19-------------26----------- | AH87: 5-7-12-14-19-26 | AI87: F | AJ87: F | AK87: F | AL87: F | AM87: X | AN87: F | AO87: X | AP87: F | AQ87: F | AR87: F | AS87: F | AT87: X | AU87: F | AV87: X | AW87: F | AX87: F | AY87: F | AZ87: F | BA87: X | BB87: F | BC87: F | BD87: F | BE87: F | BF87: F | BG87: F | BH87: X | BI87: F | BJ87: F
A88: =IF(AI88="X",AI2,"-") -> - | B88: =IF(AJ88="X",AJ2,"-") -> - | C88: =IF(AK88="X",AK2,"-") -> - | D88: =IF(AL88="X",AL2,"-") -> - | E88: =IF(AM88="X",AM2,"-") -> - | F88: =IF(AN88="X",AN2,"-") -> 6 | G88: =IF(AO88="X",AO2,"-") -> - | H88: =IF(AP88="X",AP2,"-") -> 8 | ... AE88: =IF(BM88="X",BM2,"-") -> - | AF88: =CONCATENATE(A88,"-",B88,"-",C88,"-",D88,"-",E88,"-",F88,"-",G88,"-",H88,"-",I88,"-",J88,"-",K88,"-",L88,"-",M88,"-",N88,"-",O88,"-",P88,"-",Q88,"-",R88,"-",S88,"-",T88,"-",U88,"-",V88,"-",W88,"-",X88,"-",Y88,"-",Z88,"-",AA88,"-",AB88,"-",AC88,"-",AD88,"-",AE88,"-",) -> ----------6---8-----------------------20----------------------- | AG88: =TRIM(AF88) -> ----------6---8-----------------------20----------------------- | AH88: 6-8-20 | AI88: F | AJ88: F | AK88: F | AL88: F | AM88: F | AN88: X | AO88: F | AP88: X | AQ88: F | AR88: F | AS88: F | AT88: F | AU88: F | AV88: F | AW88: F | AX88: F | AY88: F | AZ88: F | BA88: F | BB88: X | BC88: F | BD88: F | BE88: F | BF88: F | BG88: F | BH88: F | BI88: F | BJ88: F
A89: =IF(AI89="X",AI2,"-") -> - | B89: =IF(AJ89="X",AJ2,"-") -> - | C89: =IF(AK89="X",AK2,"-") -> - | D89: =IF(AL89="X",AL2,"-") -> - | E89: =IF(AM89="X",AM2,"-") -> - | F89: =IF(AN89="X",AN2,"-") -> 6 | G89: =IF(AO89="X",AO2,"-") -> - | H89: =IF(AP89="X",AP2,"-") -> 8 | ... AE89: =IF(BM89="X",BM2,"-") -> - | AF89: =CONCATENATE(A89,"-",B89,"-",C89,"-",D89,"-",E89,"-",F89,"-",G89,"-",H89,"-",I89,"-",J89,"-",K89,"-",L89,"-",M89,"-",N89,"-",O89,"-",P89,"-",Q89,"-",R89,"-",S89,"-",T89,"-",U89,"-",V89,"-",W89,"-",X89,"-",Y89,"-",Z89,"-",AA89,"-",AB89,"-",AC89,"-",AD89,"-",AE89,"-",) -> ----------6---8-----------------------20----------------------- | AG89: =TRIM(AF89) -> ----------6---8-----------------------20----------------------- | AH89: 6-8-20 | AI89: F | AJ89: F | AK89: F | AL89: F | AM89: F | AN89: X | AO89: F | AP89: X | AQ89: F | AR89: F | AS89: F | AT89: F | AU89: F | AV89: F | AW89: F | AX89: F | AY89: F | AZ89: F | BA89: F | BB89: X | BC89: F | BD89: F | BE89: F | BF89: F | BG89: F | BH89: F | BI89: F | BJ89: F
A90: =IF(AI90="X",AI2,"-") -> - | B90: =IF(AJ90="X",AJ2,"-") -> - | C90: =IF(AK90="X",AK2,"-") -> 3 | D90: =IF(AL90="X",AL2,"-") -> 4 | E90: =IF(AM90="X",AM2,"-") -> 5 | F90: =IF(AN90="X",AN2,"-") -> - | G90: =IF(AO90="X",AO2,"-") -> - | H90: =IF(AP90="X",AP2,"-") -> - | ... AE90: =IF(BM90="X",BM2,"-") -> - | AF90: =CONCATENATE(A90,"-",B90,"-",C90,"-",D90,"-",E90,"-",F90,"-",G90,"-",H90,"-",I90,"-",J90,"-",K90,"-",L90,"-",M90,"-",N90,"-",O90,"-",P90,"-",Q90,"-",R90,"-",S90,"-",T90,"-",U90,"-",V90,"-",W90,"-",X90,"-",Y90,"-",Z90,"-",AA90,"-",AB90,"-",AC90,"-",AD90,"-",AE90,"-",) -> ----3-4-5---------10-11-12---------17-18-19---------24-25-26----------- | AG90: =TRIM(AF90) -> ----3-4-5---------10-11-12---------17-18-19---------24-25-26----------- | AH90: 3-4-5-10-11-12-17-18-19-24-25-26 | AI90: F | AJ90: F | AK90: X | AL90: X | AM90: X | AN90: F | AO90: F | AP90: F | AQ90: F | AR90: X | AS90: X | AT90: X | AU90: F | AV90: F | AW90: F | AX90: F | AY90: X | AZ90: X | BA90: X | BB90: F | BC90: F | BD90: F | BE90: F | BF90: X | BG90: X | BH90: X | BI90: F | BJ90: F
A91: =IF(AI91="X",AI2,"-") -> - | B91: =IF(AJ91="X",AJ2,"-") -> - | C91: =IF(AK91="X",AK2,"-") -> 3 | D91: =IF(AL91="X",AL2,"-") -> 4 | E91: =IF(AM91="X",AM2,"-") -> 5 | F91: =IF(AN91="X",AN2,"-") -> - | G91: =IF(AO91="X",AO2,"-") -> - | H91: =IF(AP91="X",AP2,"-") -> - | ... AE91: =IF(BM91="X",BM2,"-") -> - | AF91: =CONCATENATE(A91,"-",B91,"-",C91,"-",D91,"-",E91,"-",F91,"-",G91,"-",H91,"-",I91,"-",J91,"-",K91,"-",L91,"-",M91,"-",N91,"-",O91,"-",P91,"-",Q91,"-",R91,"-",S91,"-",T91,"-",U91,"-",V91,"-",W91,"-",X91,"-",Y91,"-",Z91,"-",AA91,"-",AB91,"-",AC91,"-",AD91,"-",AE91,"-",) -> ----3-4-5---------10-11-12---------17-18-19---------24-25-26----------- | AG91: =TRIM(AF91) -> ----3-4-5---------10-11-12---------17-18-19---------24-25-26----------- | AH91: 3-4-5-10-11-12-17-18-19-24-25-26 | AI91: F | AJ91: F | AK91: X | AL91: X | AM91: X | AN91: F | AO91: F | AP91: F | AQ91: F | AR91: X | AS91: X | AT91: X | AU91: F | AV91: F | AW91: F | AX91: F | AY91: X | AZ91: X | BA91: X | BB91: F | BC91: F | BD91: F | BE91: F | BF91: X | BG91: X | BH91: X | BI91: F | BJ91: F
A92: =IF(AI92="X",AI2,"-") -> 1 | B92: =IF(AJ92="X",AJ2,"-") -> 2 | C92: =IF(AK92="X",AK2,"-") -> - | D92: =IF(AL92="X",AL2,"-") -> 4 | E92: =IF(AM92="X",AM2,"-") -> - | F92: =IF(AN92="X",AN2,"-") -> - | G92: =IF(AO92="X",AO2,"-") -> - | H92: =IF(AP92="X",AP2,"-") -> 8 | ... AE92: =IF(BM92="X",BM2,"-") -> - | AF92: =CONCATENATE(A92,"-",B92,"-",C92,"-",D92,"-",E92,"-",F92,"-",G92,"-",H92,"-",I92,"-",J92,"-",K92,"-",L92,"-",M92,"-",N92,"-",O92,"-",P92,"-",Q92,"-",R92,"-",S92,"-",T92,"-",U92,"-",V92,"-",W92,"-",X92,"-",Y92,"-",Z92,"-",AA92,"-",AB92,"-",AC92,"-",AD92,"-",AE92,"-",) -> 1-2---4-------8-9---11-------15-16---18-------22-23---25------------- | AG92: =TRIM(AF92) -> 1-2---4-------8-9---11-------15-16---18-------22-23---25------------- | AH92: 1-2-4-8-9-11-15-16-18-22-23-25 | AI92: X | AJ92: X | AK92: F | AL92: X | AM92: F | AN92: F | AO92: F | AP92: X | AQ92: X | AR92: F | AS92: X | AT92: F | AU92: F | AV92: F | AW92: X | AX92: X | AY92: F | AZ92: X | BA92: F | BB92: F | BC92: F | BD92: X | BE92: X | BF92: F | BG92: X | BH92: F | BI92: F | BJ92: F
A93: =IF(AI93="X",AI2,"-") -> - | B93: =IF(AJ93="X",AJ2,"-") -> - | C93: =IF(AK93="X",AK2,"-") -> - | D93: =IF(AL93="X",AL2,"-") -> - | E93: =IF(AM93="X",AM2,"-") -> - | F93: =IF(AN93="X",AN2,"-") -> - | G93: =IF(AO93="X",AO2,"-") -> - | H93: =IF(AP93="X",AP2,"-") -> - | ... AE93: =IF(BM93="X",BM2,"-") -> - | AF93: =CONCATENATE(A93,"-",B93,"-",C93,"-",D93,"-",E93,"-",F93,"-",G93,"-",H93,"-",I93,"-",J93,"-",K93,"-",L93,"-",M93,"-",N93,"-",O93,"-",P93,"-",Q93,"-",R93,"-",S93,"-",T93,"-",U93,"-",V93,"-",W93,"-",X93,"-",Y93,"-",Z93,"-",AA93,"-",AB93,"-",AC93,"-",AD93,"-",AE93,"-",) -> ----------------------------------------21--------------------- | AG93: =TRIM(AF93) -> ----------------------------------------21--------------------- | AH93: 21 | AI93: F | AJ93: F | AK93: F | AL93: F | AM93: F | AN93: F | AO93: F | AP93: F | AQ93: F | AR93: F | AS93: F | AT93: F | AU93: F | AV93: F | AW93: F | AX93: F | AY93: F | AZ93: F | BA93: F | BB93: F | BC93: X | BD93: F | BE93: F | BF93: F | BG93: F | BH93: F | BI93: F | BJ93: F
A94: =IF(AI94="X",AI2,"-") -> - | B94: =IF(AJ94="X",AJ2,"-") -> - | C94: =IF(AK94="X",AK2,"-") -> - | D94: =IF(AL94="X",AL2,"-") -> - | E94: =IF(AM94="X",AM2,"-") -> - | F94: =IF(AN94="X",AN2,"-") -> - | G94: =IF(AO94="X",AO2,"-") -> - | H94: =IF(AP94="X",AP2,"-") -> - | ... AE94: =IF(BM94="X",BM2,"-") -> - | AF94: =CONCATENATE(A94,"-",B94,"-",C94,"-",D94,"-",E94,"-",F94,"-",G94,"-",H94,"-",I94,"-",J94,"-",K94,"-",L94,"-",M94,"-",N94,"-",O94,"-",P94,"-",Q94,"-",R94,"-",S94,"-",T94,"-",U94,"-",V94,"-",W94,"-",X94,"-",Y94,"-",Z94,"-",AA94,"-",AB94,"-",AC94,"-",AD94,"-",AE94,"-",) -> ----------------------------------------21--------------------- | AG94: =TRIM(AF94) -> ----------------------------------------21--------------------- | AH94: 21 | AI94: F | AJ94: F | AK94: F | AL94: F | AM94: F | AN94: F | AO94: F | AP94: F | AQ94: F | AR94: F | AS94: F | AT94: F | AU94: F | AV94: F | AW94: F | AX94: F | AY94: F | AZ94: F | BA94: F | BB94: F | BC94: X | BD94: F | BE94: F | BF94: F | BG94: F | BH94: F | BI94: F | BJ94: F
A95: =IF(AI95="X",AI2,"-") -> - | B95: =IF(AJ95="X",AJ2,"-") -> - | C95: =IF(AK95="X",AK2,"-") -> - | D95: =IF(AL95="X",AL2,"-") -> - | E95: =IF(AM95="X",AM2,"-") -> - | F95: =IF(AN95="X",AN2,"-") -> - | G95: =IF(AO95="X",AO2,"-") -> - | H95: =IF(AP95="X",AP2,"-") -> - | ... AE95: =IF(BM95="X",BM2,"-") -> - | AF95: =CONCATENATE(A95,"-",B95,"-",C95,"-",D95,"-",E95,"-",F95,"-",G95,"-",H95,"-",I95,"-",J95,"-",K95,"-",L95,"-",M95,"-",N95,"-",O95,"-",P95,"-",Q95,"-",R95,"-",S95,"-",T95,"-",U95,"-",V95,"-",W95,"-",X95,"-",Y95,"-",Z95,"-",AA95,"-",AB95,"-",AC95,"-",AD95,"-",AE95,"-",) -> ----------------------------------------21--------------------- | AG95: =TRIM(AF95) -> ----------------------------------------21--------------------- | AH95: 21 | AI95: F | AJ95: F | AK95: F | AL95: F | AM95: F | AN95: F | AO95: F | AP95: F | AQ95: F | AR95: F | AS95: F | AT95: F | AU95: F | AV95: F | AW95: F | AX95: F | AY95: F | AZ95: F | BA95: F | BB95: F | BC95: X | BD95: F | BE95: F | BF95: F | BG95: F | BH95: F | BI95: F | BJ95: F
A96: =IF(AI96="X",AI2,"-") -> 1 | B96: =IF(AJ96="X",AJ2,"-") -> - | C96: =IF(AK96="X",AK2,"-") -> - | D96: =IF(AL96="X",AL2,"-") -> - | E96: =IF(AM96="X",AM2,"-") -> - | F96: =IF(AN96="X",AN2,"-") -> - | G96: =IF(AO96="X",AO2,"-") -> - | H96: =IF(AP96="X",AP2,"-") -> - | ... AE96: =IF(BM96="X",BM2,"-") -> - | AF96: =CONCATENATE(A96,"-",B96,"-",C96,"-",D96,"-",E96,"-",F96,"-",G96,"-",H96,"-",I96,"-",J96,"-",K96,"-",L96,"-",M96,"-",N96,"-",O96,"-",P96,"-",Q96,"-",R96,"-",S96,"-",T96,"-",U96,"-",V96,"-",W96,"-",X96,"-",Y96,"-",Z96,"-",AA96,"-",AB96,"-",AC96,"-",AD96,"-",AE96,"-",) -> 1-----------------------13------------------------------------- | AG96: =TRIM(AF96) -> 1-----------------------13------------------------------------- | AH96: 1-13 | AI96: X | AJ96: F | AK96: F | AL96: F | AM96: F | AN96: F | AO96: F | AP96: F | AQ96: F | AR96: F | AS96: F | AT96: F | AU96: X | AV96: F | AW96: F | AX96: F | AY96: F | AZ96: F | BA96: F | BB96: F | BC96: F | BD96: F | BE96: F | BF96: F | BG96: F | BH96: F | BI96: F | BJ96: F
A97: =IF(AI97="X",AI2,"-") -> 1 | B97: =IF(AJ97="X",AJ2,"-") -> - | C97: =IF(AK97="X",AK2,"-") -> - | D97: =IF(AL97="X",AL2,"-") -> - | E97: =IF(AM97="X",AM2,"-") -> - | F97: =IF(AN97="X",AN2,"-") -> - | G97: =IF(AO97="X",AO2,"-") -> - | H97: =IF(AP97="X",AP2,"-") -> - | ... AE97: =IF(BM97="X",BM2,"-") -> - | AF97: =CONCATENATE(A97,"-",B97,"-",C97,"-",D97,"-",E97,"-",F97,"-",G97,"-",H97,"-",I97,"-",J97,"-",K97,"-",L97,"-",M97,"-",N97,"-",O97,"-",P97,"-",Q97,"-",R97,"-",S97,"-",T97,"-",U97,"-",V97,"-",W97,"-",X97,"-",Y97,"-",Z97,"-",AA97,"-",AB97,"-",AC97,"-",AD97,"-",AE97,"-",) -> 1-----------------------13------------------------------------- | AG97: =TRIM(AF97) -> 1-----------------------13------------------------------------- | AH97: 1-13 | AI97: X | AJ97: F | AK97: F | AL97: F | AM97: F | AN97: F | AO97: F | AP97: F | AQ97: F | AR97: F | AS97: F | AT97: F | AU97: X | AV97: F | AW97: F | AX97: F | AY97: F | AZ97: F | BA97: F | BB97: F | BC97: F | BD97: F | BE97: F | BF97: F | BG97: F | BH97: F | BI97: F | BJ97: F
A98: =IF(AI98="X",AI2,"-") -> - | B98: =IF(AJ98="X",AJ2,"-") -> 2 | C98: =IF(AK98="X",AK2,"-") -> - | D98: =IF(AL98="X",AL2,"-") -> - | E98: =IF(AM98="X",AM2,"-") -> - | F98: =IF(AN98="X",AN2,"-") -> - | G98: =IF(AO98="X",AO2,"-") -> - | H98: =IF(AP98="X",AP2,"-") -> - | ... AE98: =IF(BM98="X",BM2,"-") -> - | AF98: =CONCATENATE(A98,"-",B98,"-",C98,"-",D98,"-",E98,"-",F98,"-",G98,"-",H98,"-",I98,"-",J98,"-",K98,"-",L98,"-",M98,"-",N98,"-",O98,"-",P98,"-",Q98,"-",R98,"-",S98,"-",T98,"-",U98,"-",V98,"-",W98,"-",X98,"-",Y98,"-",Z98,"-",AA98,"-",AB98,"-",AC98,"-",AD98,"-",AE98,"-",) -> --2-------------9-----------15-16-------------23----------------- | AG98: =TRIM(AF98) -> --2-------------9-----------15-16-------------23----------------- | AH98: 2-9-15-16-23 | AI98: F | AJ98: X | AK98: F | AL98: F | AM98: F | AN98: F | AO98: F | AP98: F | AQ98: X | AR98: F | AS98: F | AT98: F | AU98: F | AV98: F | AW98: X | AX98: X | AY98: F | AZ98: F | BA98: F | BB98: F | BC98: F | BD98: F | BE98: X | BF98: F | BG98: F | BH98: F | BI98: F | BJ98: F | BK98: F | BL98: F | BM98: F
A99: =IF(AI99="X",AI2,"-") -> - | B99: =IF(AJ99="X",AJ2,"-") -> 2 | C99: =IF(AK99="X",AK2,"-") -> - | D99: =IF(AL99="X",AL2,"-") -> - | E99: =IF(AM99="X",AM2,"-") -> - | F99: =IF(AN99="X",AN2,"-") -> - | G99: =IF(AO99="X",AO2,"-") -> - | H99: =IF(AP99="X",AP2,"-") -> - | ... AE99: =IF(BM99="X",BM2,"-") -> - | AF99: =CONCATENATE(A99,"-",B99,"-",C99,"-",D99,"-",E99,"-",F99,"-",G99,"-",H99,"-",I99,"-",J99,"-",K99,"-",L99,"-",M99,"-",N99,"-",O99,"-",P99,"-",Q99,"-",R99,"-",S99,"-",T99,"-",U99,"-",V99,"-",W99,"-",X99,"-",Y99,"-",Z99,"-",AA99,"-",AB99,"-",AC99,"-",AD99,"-",AE99,"-",) -> --2-------------9-----------15-16-------------23----------------- | AG99: =TRIM(AF99) -> --2-------------9-----------15-16-------------23----------------- | AH99: 2-9-15-16-23 | AI99: F | AJ99: X | AK99: F | AL99: F | AM99: F | AN99: F | AO99: F | AP99: F | AQ99: X | AR99: F | AS99: F | AT99: F | AU99: F | AV99: F | AW99: X | AX99: X | AY99: F | AZ99: F | BA99: F | BB99: F | BC99: F | BD99: F | BE99: X | BF99: F | BG99: F | BH99: F | BI99: F | BJ99: F
A100: =IF(AI100="X",AI2,"-") -> - | B100: =IF(AJ100="X",AJ2,"-") -> - | C100: =IF(AK100="X",AK2,"-") -> 3 | D100: =IF(AL100="X",AL2,"-") -> - | E100: =IF(AM100="X",AM2,"-") -> - | F100: =IF(AN100="X",AN2,"-") -> - | G100: =IF(AO100="X",AO2,"-") -> - | H100: =IF(AP100="X",AP2,"-") -> - | ... AE100: =IF(BM100="X",BM2,"-") -> - | AF100: =CONCATENATE(A100,"-",B100,"-",C100,"-",D100,"-",E100,"-",F100,"-",G100,"-",H100,"-",I100,"-",J100,"-",K100,"-",L100,"-",M100,"-",N100,"-",O100,"-",P100,"-",Q100,"-",R100,"-",S100,"-",T100,"-",U100,"-",V100,"-",W100,"-",X100,"-",Y100,"-",Z100,"-",AA100,"-",AB100,"-",AC100,"-",AD100,"-",AE100,"-",) -> ----3-------------10-------------17-------------24--------------- | AG100: =TRIM(AF100) -> ----3-------------10-------------17-------------24--------------- | AH100: 3-10-17-24 | AI100: F | AJ100: F | AK100: X | AL100: F | AM100: F | AN100: F | AO100: F | AP100: F | AQ100: F | AR100: X | AS100: F | AT100: F | AU100: F | AV100: F | AW100: F | AX100: F | AY100: X | AZ100: F | BA100: F | BB100: F | BC100: F | BD100: F | BE100: F | BF100: X | BG100: F | BH100: F | BI100: F | BJ100: F
...

Sheet Planilha1
B1: Escalas de trabalho dos principais serviços ofertados
B5: Mês: FEVEREIRO
B6: Ano: 2026
B7: Escala Prevista
A9: Nome da Unidade | B9: Nome do Profissional | C9: Especialidade | D9: Vínculo empregatício | E9: Conselho | F9: RQE | G9: LOCAL | H9: DIA | I9: Horário de Atendimento | J9: Carga Horária | K9: Serviço de Saúde Ofertado
A10: Hospital Estadual de Itumbiara São Marcos | B10: Luísa Junqueira de Mendonça Silva | C10: Hematologia e Hemoterapia | D10: PJ | E10: 25.732/GO | F10: 18467 | G10: Enfermarias | H10: ='BASE DE DADOS'!AH3 -> 2-3-4-5-6-9-10-11-12-13-16-17-18-19-20-23-24-25-26-27 | I10: 07:00 as 19:00 | J10: Sob Demanda | K10: Internações
A11: Hospital Estadual de Itumbiara São Marcos | B11: Arthur de Siqueira Rodrigues | C11: Ortopedia e traumatologia | D11: PJ | E11: 29860/GO | F11: 16187 | G11: Enfermaria Cirúrgica e Centro Cirurgico | H11: ='BASE DE DADOS'!AH4 -> 6-13-14-20-27 | I11: 07:00 as 19:00 | J11: 60h | K11: Internações e Cirurgias
A12: Hospital Estadual de Itumbiara São Marcos | B12: Arthur de Siqueira Rodrigues | C12: Ortopedia e traumatologia | D12: PJ | E12: 29860/GO | F12: 16187 | G12: Enfermaria Cirúrgica e Centro Cirurgico | H12: ='BASE DE DADOS'!AH5 -> 6-13-14-20-27 | I12: 19:00 as 07:00 | J12: 60h | K12: Internações e Cirurgias
A13: Hospital Estadual de Itumbiara São Marcos | B13: Arthur Souza e Faria | C13: Ortopedia e traumatologia | D13: PJ | E13: 36926/GO | F13: 20225 | G13: Enfermaria Cirúrgica e Centro Cirurgico | H13: ='BASE DE DADOS'!AH6 -> 3 | I13: 07:00 as 19:00 | J13: 06h | K13: Internações e Cirurgias
A14: Hospital Estadual de Itumbiara São Marcos | B14: Bernardo Couto N Mendonça | C14: Ortopedia e traumatologia | D14: PJ | E14: 33002/GO | F14: 17937 | G14: Enfermaria Cirúrgica e Centro Cirurgico | H14: ='BASE DE DADOS'!AH7 -> 6-13-20-27 | I14: 13:00 as 19:00 | J14: 24h | K14: Internações e Cirurgias
A15: Hospital Estadual de Itumbiara São Marcos | B15: Bernardo Couto N Mendonça | C15: Ortopedia e traumatologia | D15: PJ | E15: 33002/GO | F15: 17937 | G15: Enfermaria Cirúrgica e Centro Cirurgico | H15: ='BASE DE DADOS'!AH8 -> 1-10-14-24-28 | I15: 07:00 as 19:00 | J15: 60h | K15: Internações e Cirurgias
A16: Hospital Estadual de Itumbiara São Marcos | B16: Bernardo Couto N Mendonça | C16: Ortopedia e traumatologia | D16: PJ | E16: 33002/GO | F16: 17937 | G16: Enfermaria Cirúrgica e Centro Cirurgico | H16: ='BASE DE DADOS'!AH9 -> 1-6-10-13-14-20-24-27-28 | I16: 19:00 as 07:00 | J16: 108h | K16: Internações e Cirurgias
A17: Hospital Estadual de Itumbiara São Marcos | B17: Carlos Silva Chaves Pereira | C17: Ortopedia e traumatologia | D17: PJ | E17: 31914/GO | F17: 51146 | G17: Enfermaria Cirúrgica e Centro Cirurgico | H17: ='BASE DE DADOS'!AH10 -> 21-22 | I17: 07:00 as 19:00 | J17: 24h | K17: Internações e Cirurgias
A18: Hospital Estadual de Itumbiara São Marcos | B18: Carlos Silva Chaves Pereira | C18: Ortopedia e traumatologia | D18: PJ | E18: 31914/GO | F18: 51146 | G18: Enfermaria Cirúrgica e Centro Cirurgico | H18: ='BASE DE DADOS'!AH11 -> 21-22 | I18: 19:00 as 07:00 | J18: 24h | K18: Internações e Cirurgias
A19: Hospital Estadual de Itumbiara São Marcos | B19: Frederico Calegari Guizzetti | C19: Ortopedia e traumatologia | D19: PJ | E19: 20271/GO | F19: 15061 | G19: Enfermaria Cirúrgica e Centro Cirurgico | H19: ='BASE DE DADOS'!AH12 -> 2-9-16-23 | I19: 13:00 as 19:00 | J19: 24 | K19: Internações e Cirurgias
A20: Hospital Estadual de Itumbiara São Marcos | B20: Frederico Calegari Guizzetti | C20: Ortopedia e traumatologia | D20: PJ | E20: 20271/GO | F20: 15061 | G20: Enfermaria Cirúrgica e Centro Cirurgico | H20: ='BASE DE DADOS'!AH13 -> 22 | I20: 07:00 as 19:00 | J20: 12h | K20: Internações e Cirurgias
A21: Hospital Estadual de Itumbiara São Marcos | B21: Frederico Calegari Guizzetti | C21: Ortopedia e traumatologia | D21: PJ | E21: 20271/GO | F21: 15061 | G21: Enfermaria Cirúrgica e Centro Cirurgico | H21: ='BASE DE DADOS'!AH14 -> 3-17-22 | I21: 19:00 as 07:00 | J21: 36h | K21: Internações e Cirurgias
A22: Hospital Estadual de Itumbiara São Marcos | B22: Franco Schineider Andrade Marques | C22: Ortopedia e traumatologia | D22: PJ | E22: 13434GO | F22: 8872 | G22: Enfermaria Cirúrgica e Centro Cirurgico | H22: ='BASE DE DADOS'!AH15 -> 4-11-18-25 | I22: 13:00 as 19:00 | J22: 24h | K22: Internações e Cirurgias
A23: Hospital Estadual de Itumbiara São Marcos | B23: Herisson Wenceslau de Salles | C23: Ortopedia e traumatologia | D23: PJ | E23: 30862/GO | F23: 16629 | G23: Enfermaria Cirúrgica e Centro Cirurgico | H23: ='BASE DE DADOS'!AH16 -> 12-26 | I23: 07:00 as 13:00 | J23: 12h | K23: Internações e Cirurgias
A24: Hospital Estadual de Itumbiara São Marcos | B24: Herisson Wenceslau de Salles | C24: Ortopedia e traumatologia | D24: PJ | E24: 30862/GO | F24: 16629 | G24: Enfermaria Cirúrgica e Centro Cirurgico | H24: ='BASE DE DADOS'!AH17 -> 1-11-15-25 | I24: 07:00 as 19:00 | J24: 48h | K24: Internações e Cirurgias
A25: Hospital Estadual de Itumbiara São Marcos | B25: Herisson Wenceslau de Salles | C25: Ortopedia e traumatologia | D25: PJ | E25: 30862/GO | F25: 16629 | G25: Enfermaria Cirúrgica e Centro Cirurgico | H25: ='BASE DE DADOS'!AH18 -> 1-11-12-15-25-26 | I25: 19:00 as 07:00 | J25: 72h | K25: Internações e Cirurgias
A26: Hospital Estadual de Itumbiara São Marcos | B26: João Rodrigues de Queiroz | C26: Ortopedia e traumatologia | D26: PJ | E26: 6668/GO | F26: 2998 | G26: Enfermaria Cirúrgica e Centro Cirurgico | H26: ='BASE DE DADOS'!AH19 -> 5-12-19-26 | I26: 13:00 as 19:00 | J26: 24h | K26: Internações e Cirurgias
A27: Hospital Estadual de Itumbiara São Marcos | B27: José Luiz Da Silva Neto | C27: Ortopedia e traumatologia | D27: PJ | E27: 33088/GO | F27: 54520 | G27: Enfermaria Cirúrgica e Centro Cirurgico | H27: ='BASE DE DADOS'!AH20 -> 4-5-11-18-19-25 | I27: 07:00 as 13:00 | J27: 36 | K27: Internações e Cirurgias
A28: Hospital Estadual de Itumbiara São Marcos | B28: José Luiz Da Silva Neto | C28: Ortopedia e traumatologia | D28: PJ | E28: 33088/GO | F28: 54520 | G28: Enfermaria Cirúrgica e Centro Cirurgico | H28: ='BASE DE DADOS'!AH21 -> 3-8-10-15-17-24-28 | I28: 07:00 as 19:00 | J28: 42h | K28: Internações e Cirurgias
A29: Hospital Estadual de Itumbiara São Marcos | B29: José Luiz Da Silva Neto | C29: Ortopedia e traumatologia | D29: PJ | E29: 33088/GO | F29: 54520 | G29: Enfermaria Cirúrgica e Centro Cirurgico | H29: ='BASE DE DADOS'!AH22 -> 3-4-8-10-11-15-17-18-19-24-25-28 | I29: 19:00 as 07:00 | J29: 156h | K29: Internações e Cirurgias
A30: Hospital Estadual de Itumbiara São Marcos | B30: Lazio Guimares Antonini | C30: Ortopedia e traumatologia | D30: PJ | E30: 32825/GO | F30: 50870 | G30: Enfermaria Cirúrgica e Centro Cirurgico | H30: ='BASE DE DADOS'!AH23 -> 5-17 | I30: 07:00 as 19:00 | J30: 12h | K30: Internações e Cirurgias
A31: Hospital Estadual de Itumbiara São Marcos | B31: Paulo Henrique Vilela Amui | C31: Ortopedia e traumatologia | D31: PJ | E31: 37297/GO | F31: 53090 | G31: Enfermaria Cirúrgica e Centro Cirurgico | H31: ='BASE DE DADOS'!AH24 -> 5-19-21 | I31: 07:00 as 19:00 | J31: 35h | K31: Internações e Cirurgias
A32: Hospital Estadual de Itumbiara São Marcos | B32: Paulo Henrique Vilela Amui | C32: Ortopedia e traumatologia | D32: PJ | E32: 37297/GO | F32: 53090 | G32: Enfermaria Cirúrgica e Centro Cirurgico | H32: ='BASE DE DADOS'!AH25 -> 5-19-21-22 | I32: 19:00 as 07:00 | J32: 48h | K32: Internações e Cirurgias
A33: Hospital Estadual de Itumbiara São Marcos | B33: Renato Mason Rodrigues da Cunha | C33: Ortopedia e traumatologia | D33: PJ | E33: 36706/GO | F33: 53022 | G33: Enfermaria Cirúrgica e Centro Cirurgico | H33: ='BASE DE DADOS'!AH26 -> 4-7-18 | I33: 07:00 as 19:00 | J33: 36h | K33: Internações e Cirurgias
A34: Hospital Estadual de Itumbiara São Marcos | B34: Renato Mason Rodrigues da Cunha | C34: Ortopedia e traumatologia | D34: PJ | E34: 36706/GO | F34: 53022 | G34: Enfermaria Cirúrgica e Centro Cirurgico | H34: ='BASE DE DADOS'!AH27 -> 4-7-18 | I34: 19:00 as 07:00 | J34: 36h | K34: Internações e Cirurgias
A35: Hospital Estadual de Itumbiara São Marcos | B35: Reuder Pereira Prado | C35: Ortopedia e traumatologia | D35: PJ | E35: 23453/GO | F35: 18652 | G35: Enfermaria Cirúrgica e Centro Cirurgico | H35: ='BASE DE DADOS'!AH28 -> 12-26 | I35: 07:00 as 19:00 | J35: 24h | K35: Internações e Cirurgias
A36: Hospital Estadual de Itumbiara São Marcos | B36: Reuder Pereira Prado | C36: Ortopedia e traumatologia | D36: PJ | E36: 23453/GO | F36: 18652 | G36: Enfermaria Cirúrgica e Centro Cirurgico | H36: ='BASE DE DADOS'!AH29 -> 12-26 | I36: 19:00 as 07:00 | J36: 24h | K36: Internações e Cirurgias
A37: Hospital Estadual de Itumbiara São Marcos | B37: Rogerio Aparecido Silva | C37: Ortopedia e traumatologia | D37: PJ | E37: 15638/GO | F37: 9837 | G37: Enfermaria Cirúrgica e Centro Cirurgico | H37: ='BASE DE DADOS'!AH30 -> 2-9-16-23 | I37: 07:00 as 19:00 | J37: 48h | K37: Internações e Cirurgias
A38: Hospital Estadual de Itumbiara São Marcos | B38: Rogerio Aparecido Silva | C38: Ortopedia e traumatologia | D38: PJ | E38: 15638/GO | F38: 9837 | G38: Enfermaria Cirúrgica e Centro Cirurgico | H38: ='BASE DE DADOS'!AH31 -> 2-9-16-23 | I38: 19:00 as 07:00 | J38: 48h | K38: Internações e Cirurgias
A39: Hospital Estadual de Itumbiara São Marcos | B39: Thiago Augusto Corrêa | C39: Ortopedia e traumatologia | D39: PJ | E39: 29538/GO | F39: 15690 | G39: Enfermaria Cirúrgica e Centro Cirurgico | H39: ='BASE DE DADOS'!AH32 -> 7-8 | I39: 07:00-19:00 | J39: 24h | K39: Internações e Cirurgias
... A43: Hospital Estadual de Itumbiara São Marcos | B43: Wender Gonçalves Moura | C43: Ortopedia e traumatologia | D43: PJ | E43: 17885/GO | F43: 12361 | G43: Enfermaria Cirúrgica e Centro Cirurgico | H43: ='BASE DE DADOS'!AH36 -> 6-13-20-27 | I43: 07:00 as 13:00 | J43: 24h | K43: Internações e Cirurgias
A44: Hospital Estadual de Itumbiara São Marcos | B44: Frederico Calegari Guizzetti | C44: Ortopedia e traumatologia | D44: PJ | E44: 20271/GO | F44: 15061 | G44: Enfermaria Cirúrgica e Centro Cirurgico | H44: ='BASE DE DADOS'!AH37 -> 1-2-3-4-5-6-7-8-9-10-11-12-13-14-15-16-17-18-19-20-21-22-23-24-25-26-27-28 | I44: 07:00 às 19:00 | J44: 336 | K44: Internações e Cirurgias
A45: Hospital Estadual de Itumbiara São Marcos | B45: Bernardo Couto N Mendonça | C45: Ortopedia e traumatologia | D45: PJ | E45: 33002/GO | F45: 17937 | G45: Ambulatorio e Cirurgias | H45: ='BASE DE DADOS'!AH38 -> 6-13-27 | I45: 07:00 as 13:00 | J45: 36h | K45: Consultas e Internações
A46: Hospital Estadual de Itumbiara São Marcos | B46: Franco Schineider Andrade Marques | C46: Ortopedia e traumatologia | D46: PJ | E46: 13434/GO | F46: 8872 | G46: Ambulatorio e Cirurgias | H46: ='BASE DE DADOS'!AH39 -> 4-11-18-25 | I46: 07:00 as 13:00 | J46: 24h | K46: Consultas e Internações
A47: Hospital Estadual de Itumbiara São Marcos | B47: Frederico Calegari Guizzetti | C47: Ortopedia e traumatologia | D47: PJ | E47: 20271/GO | F47: 15061 | G47: Ambulatorio e Cirurgias | H47: ='BASE DE DADOS'!AH40 -> 3-10-17-24 | I47: 07:00 as 19:00 | J47: 48h | K47: Consultas e Internações
A48: Hospital Estadual de Itumbiara São Marcos | B48: Frederico Calegari Guizzetti | C48: Ortopedia e traumatologia | D48: PJ | E48: 20271/GO | F48: 15061 | G48: Ambulatorio e Cirurgias | H48: ='BASE DE DADOS'!AH41 -> 2-9-16-23 | I48: 07:00 as 13:00 | J48: 24h | K48: Consultas e Internações
A49: Hospital Estadual de Itumbiara São Marcos | B49: Frederico Calegari Guizzetti | C49: Ortopedia e traumatologia | D49: PJ | E49: 20271/GO | F49: 15061 | G49: Ambulatorio e Cirurgias | H49: ='BASE DE DADOS'!AH42 -> 6-13-20-27 | I49: 13:00 as 19:00 | J49: 24h | K49: Consultas e Internações
A50: Hospital Estadual de Itumbiara São Marcos | B50: João Rodrigues de Queiroz | C50: Ortopedia e traumatologia | D50: PJ | E50: 6668 /GO | F50: 5298 | G50: Ambulatorio e Cirurgias | H50: ='BASE DE DADOS'!AH43 -> 5-12-19-26 | I50: 07:00 as 13:00 | J50: 24h | K50: Consultas e Internações
A51: Hospital Estadual de Itumbiara São Marcos | B51: José Luiz Da Silva Neto | C51: Ortopedia e traumatologia | D51: PJ | E51: 33088/GO | F51: 54520 | G51: Ambulatorio e Cirurgias | H51: ='BASE DE DADOS'!AH44 -> 4-5-11-18-19-25 | I51: 13:00 as 19:00 | J51: 36h | K51: Consultas e Internações
A52: Hospital Estadual de Itumbiara São Marcos | B52: Herisson Wenceslau de Salles | C52: Ortopedia e traumatologia | D52: PJ | E52: 30862/GO | F52: 16629 | G52: Ambulatorio e Cirurgias | H52: ='BASE DE DADOS'!AH45 -> 12-26 | I52: 13:00 as 19:00 | J52: 12h | K52: Consultas e Internações
A53: Hospital Estadual de Itumbiara São Marcos | B53: Paulo Henrique Vilela Amui | C53: Ortopedia e traumatologia | D53: PJ | E53: 37297/GO | F53: 53090 | G53: Ambulatorio e Cirurgias | H53: ='BASE DE DADOS'!AH46 -> 20 | I53: 07:00 as 13:00 | J53: 06h | K53: Consultas e Internações
A54: Hospital Estadual de Itumbiara São Marcos | B54: Vinicius Mendes Bonfim | C54: Ortopedia e traumatologia | D54: PJ | E54: 22446/GO | F54: 14745 | G54: Ambulatorio e Cirurgias | H54: ='BASE DE DADOS'!AH47 -> 2-9-16-23 | I54: 13:00 as 19:00 | J54: 48h | K54: Consultas e Internações
A55: Hospital Estadual de Itumbiara São Marcos | B55: Frederico Calegari Guizzetti | C55: Ortopedia e traumatologia | D55: PJ | E55: 20271/GO | F55: 15061 | G55: Ambulatorio e Cirurgias | H55: ='BASE DE DADOS'!AH48 -> 1-2-3-4-5-6-7-8-9-10-11-12-13-14-15-16-17-18-19-20-21-22-23-24-25-26-27-28 | I55: 07:00 às 19:00 | J55: 336 | K55: Consultas e Internações
A56: Hospital Estadual de Itumbiara São Marcos | B56: Frederico Calegari Guizzetti | C56: Ortopedia e traumatologia | D56: PJ | E56: 20271/GO | F56: 15061 | G56: Enfermarias | H56: ='BASE DE DADOS'!AH49 -> 4-5-7-11-12-18-19-21-25-26 | I56: 07:00 as 15:00 | J56: 40 | K56: Internações
A57: Hospital Estadual de Itumbiara São Marcos | B57: Frederico Calegari Guizzetti | C57: Ortopedia e traumatologia | D57: PJ | E57: 20271/GO | F57: 15061 | G57: Enfermarias | H57: ='BASE DE DADOS'!AH50 -> 6-13-20-27 | I57: 07:00 as 11:00 | J57: 20h | K57: Internações
A58: Hospital Estadual de Itumbiara São Marcos | B58: Wender Gonçalves Moura | C58: Ortopedia e traumatologia | D58: PJ | E58: 17885/GO | F58: 12361 | G58: Enfermarias | H58: ='BASE DE DADOS'!AH51 -> 6-13-20-27 | I58: 13:00 as 17:00 | J58: 20h | K58: Internações
A59: Hospital Estadual de Itumbiara São Marcos | B59: Wender Gonçalves Moura | C59: Ortopedia e traumatologia | D59: PJ | E59: 17885/GO | F59: 12361 | G59: Enfermarias | H59: ='BASE DE DADOS'!AH52 -> 1-2-3-8-9-10-14-15-16-17-22-23-24-28 | I59: 07:00 as 15:00 | J59: 152h | K59: Internações
A60: Hospital Estadual de Itumbiara São Marcos | B60: Frederico Calegari Guizzetti | C60: Ortopedia e traumatologia | D60: PJ | E60: 20271/GO | F60: 15061 | G60: Enfermarias | H60: ='BASE DE DADOS'!AH53 -> 1-2-3-4-5-6-7-8-9-10-11-12-13-14-15-16-17-18-19-20-21-22-23-24-25-26-27-28 | I60: 07:00 às 19:00 | J60: 336 | K60: Internações
A61: Hospital Estadual de Itumbiara São Marcos | B61: João Vicente Soares Martins | C61: Medicina Intensiva | D61: PJ | E61: 31883/GO | F61: 17392 | G61: UTI A | H61: ='BASE DE DADOS'!AH54 -> 2-3-4-5-8-9-10-11-12-15-16-17-18-19-20-23-24-25-26-27 | I61: 07:00 as 11:00 | J61: 80 | K61: Internações
A62: Hospital Estadual de Itumbiara São Marcos | B62: João Vicente Soares Martins | C62: Medicina Intensiva | D62: PJ | E62: 31883/GO | F62: 17392 | G62: UTI A | H62: ='BASE DE DADOS'!AH55 -> 1-2-3-4-5-6-7-8-9-10-11-12-13-14-15-16-17-18-19-20-21-22-23-24-25-26-27-28 | I62: 11:00 as 15:00 | J62: 112 | K62: Internações
A63: Hospital Estadual de Itumbiara São Marcos | B63: João Vicente Soares Martins | C63: Medicina Intensiva | D63: PJ | E63: 31883/GO | F63: 17392 | G63: UTI A | H63: ='BASE DE DADOS'!AH56 -> 1-2-3-4-5-6-7-8-9-10-11-12-13-14-15-16-17-18-19-20-21-22-23-24-25-26-27-28 | I63: 15:00 as 19:00 | J63: 112 | K63: Internações
A64: Hospital Estadual de Itumbiara São Marcos | B64: Bianca Mendes De Moura | C64: N/A | D64: PJ | E64: 30481/GO | F64: N/A | G64: UTI A | H64: ='BASE DE DADOS'!AH57 -> 8-22 | I64: 07:00 as 19:00 | J64: 24 | K64: Internações
A65: Hospital Estadual de Itumbiara São Marcos | B65: Bianca Mendes De Moura | C65: N/A | D65: PJ | E65: 30481/GO | F65: N/A | G65: UTI A | H65: ='BASE DE DADOS'!AH58 -> 8-22 | I65: 19:00 as 07:00 | J65: 24 | K65: Internações
A66: Hospital Estadual de Itumbiara São Marcos | B66: Rafael Leal De Souza | C66: N/A | D66: PJ | E66: 29517/GO | F66: N/A | G66: UTI A | H66: ='BASE DE DADOS'!AH59 -> 1-3-4-5-6-9-10-11-12-13-16-17-18-19-20-23-24-25-26-27 | I66: 07:00 as 19:00 | J66: 240 | K66: Internações
A67: Hospital Estadual de Itumbiara São Marcos | B67: Rafael Leal De Souza | C67: N/A | D67: PJ | E67: 29517/GO | F67: N/A | G67: UTI A | H67: ='BASE DE DADOS'!AH60 -> 2-4-6-9-11-13-16-18-20-23-25-27 | I67: 19:00 as 07:00 | J67: 144 | K67: Internações
A68: Hospital Estadual de Itumbiara São Marcos | B68: Renan Andrade Bessa Guimarães | C68: N/A | D68: PJ | E68: 23935/GO | F68: N/A | G68: UTI A | H68: ='BASE DE DADOS'!AH61 -> 28 | I68: 07:00 as 19:00 | J68: 12 | K68: Internações
A69: Hospital Estadual de Itumbiara São Marcos | B69: Renan Andrade Bessa Guimarães | C69: N/A | D69: PJ | E69: 23935/GO | F69: N/A | G69: UTI A | H69: ='BASE DE DADOS'!AH62 -> 3-10-17-24-26-28 | I69: 19:00 as 07:00 | J69: 72 | K69: Internações
A70: Hospital Estadual de Itumbiara São Marcos | B70: Helder Barbosa Rodrigues | C70: N/A | D70: PJ | E70: 35675/GO | F70: N/A | G70: UTI A | H70: ='BASE DE DADOS'!AH63 -> 14 | I70: 07:00 as 19:00 | J70: 12 | K70: Internações
A71: Hospital Estadual de Itumbiara São Marcos | B71: Helder Barbosa Rodrigues | C71: N/A | D71: PJ | E71: 35675/GO | F71: N/A | G71: UTI A | H71: ='BASE DE DADOS'!AH64 -> 1-14-15 | I71: 19:00 as 07:00 | J71: 36 | K71: Internações
A72: Hospital Estadual de Itumbiara São Marcos | B72: Camylla Machado Marques | C72: N/A | D72: PJ | E72: 34779/GO | F72: N/A | G72: UTI A | H72: ='BASE DE DADOS'!AH65 -> 1 | I72: 07:00 as 19:00 | J72: 12 | K72: Internações
A73: Hospital Estadual de Itumbiara São Marcos | B73: Camylla Machado Marques | C73: N/A | D73: PJ | E73: 34779/GO | F73: N/A | G73: UTI A | H73: ='BASE DE DADOS'!AH66 -> 15 | I73: 19:00 as 07:00 | J73: 12 | K73: Internações
A74: Hospital Estadual de Itumbiara São Marcos | B74: Franscine Leão Rodrigues Arcar Pereira | C74: N/A | D74: PJ | E74: 15504/G0 | F74: N/A | G74: UTI A | H74: ='BASE DE DADOS'!AH67 -> 7-21 | I74: 07:00 as 19:00 | J74: 24 | K74: Internações
A75: Hospital Estadual de Itumbiara São Marcos | B75: Franscine Leão Rodrigues Arcar Pereira | C75: N/A | D75: PJ | E75: 15504/G0 | F75: N/A | G75: UTI A | H75: ='BASE DE DADOS'!AH68 -> 7-21 | I75: 19:00 as 07:00 | J75: 24 | K75: Internações
A76: Hospital Estadual de Itumbiara São Marcos | B76: João Vicente Soares Martins | C76: MEDICINA INTENSIVA | D76: PJ | E76: 31883/GO | F76: 17392 | G76: UTI ADULTO B | H76: ='BASE DE DADOS'!AH69 -> 2-3-4-5-6-9-10-11-12-13-16-17-18-19-20-23-24-25-26-27 | I76: 07:00 ás 11:00 | J76: 80 | K76: Internações
A77: Hospital Estadual de Itumbiara São Marcos | B77: Luana Da Silva Tonetti | C77: N/A | D77: PJ | E77: 29744/GO | F77: N/A | G77: UTI ADULTO B | H77: ='BASE DE DADOS'!AH70 -> 1-2-3-4-5-6-7-8-9-10-11-12-13-14-15-16-17-18-19-20-21-22-23-24-25-26-27-28 | I77: 11:00 as 15:00 | J77: 112 | K77: Internações
A78: Hospital Estadual de Itumbiara São Marcos | B78: Luana Da Silva Tonetti | C78: N/A | D78: PJ | E78: 29744/GO | F78: N/A | G78: UTI ADULTO B | H78: ='BASE DE DADOS'!AH71 -> 1-2-3-4-5-6-7-8-9-10-11-12-13-14-15-16-17-18-19-20-21-22-23-24-25-26-27-28 | I78: 15:00 as 19:00 | J78: 112 | K78: Internações
A79: Hospital Estadual de Itumbiara São Marcos | B79: Bianca Mendes De Moura | C79: N/A | D79: PJ | E79: 30481/GO | F79: N/A | G79: UTI ADULTO B | H79: ='BASE DE DADOS'!AH72 -> 3-9-10-16-17-24 | I79: 19:00 as 07:00 | J79: 112 | K79: Internações
A80: Hospital Estadual de Itumbiara São Marcos | B80: Amanda Lamounier Balduino | C80: N/A | D80: PJ | E80: 30093 /GO | F80: N/A | G80: UTI ADULTO B | H80: ='BASE DE DADOS'!AH73 -> 28 | I80: 07:00 as 19:00 | J80: 12 | K80: Internações
A81: Hospital Estadual de Itumbiara São Marcos | B81: Amanda Lamounier Balduino | C81: N/A | D81: PJ | E81: 30093 /GO | F81: N/A | G81: UTI ADULTO B | H81: ='BASE DE DADOS'!AH74 -> 2-12-20-23-26-28 | I81: 19:00 as 07:00 | J81: 72 | K81: Internações
A82: Hospital Estadual de Itumbiara São Marcos | B82: Daniel Ferreira Nascimento | C82: N/A | D82: PJ | E82: 27325/GO | F82: N/A | G82: UTI ADULTO B | H82: ='BASE DE DADOS'!AH75 -> 1-2-3-4-5-6-9-10-11-12-13-15-16-17-18-19-20-23-24-25-26-27 | I82: 07:00 as 19:00 | J82: 264 | K82: Internações
A83: Hospital Estadual de Itumbiara São Marcos | B83: Daniel Ferreira Nascimento | C83: N/A | D83: PJ | E83: 27325/GO | F83: N/A | G83: UTI ADULTO B | H83: ='BASE DE DADOS'!AH76 -> 1-15 | I83: 19:00 as 07:00 | J83: 24 | K83: Internações
A84: Hospital Estadual de Itumbiara São Marcos | B84: Renan Andrade Bessa Guimarae | C84: N/A | D84: PJ | E84: 23935/GO | F84: N/A | G84: UTI ADULTO B | H84: ='BASE DE DADOS'!AH77 -> 8-22 | I84: 07:00 as 19:00 | J84: 24 | K84: Internações
A85: Hospital Estadual de Itumbiara São Marcos | B85: Renan Andrade Bessa Guimarae | C85: N/A | D85: PJ | E85: 23935/GO | F85: N/A | G85: UTI ADULTO B | H85: ='BASE DE DADOS'!AH78 -> 8-22 | I85: 19:00 as 07:00 | J85: 24 | K85: Internações
A86: Hospital Estadual de Itumbiara São Marcos | B86: Kleifer Francisco De Liz | C86: N/A | D86: PJ | E86: 37193/GO | F86: N/A | G86: UTI ADULTO B | H86: ='BASE DE DADOS'!AH79 -> 7-14-21 | I86: 07:00 as 19:00 | J86: 36 | K86: Internações
A87: Hospital Estadual de Itumbiara São Marcos | B87: Kleifer Francisco De Liz | C87: N/A | D87: PJ | E87: 33854/GO | F87: N/A | G87: UTI ADULTO B | H87: ='BASE DE DADOS'!AH80 -> 6-7-13-14-21-27 | I87: 19:00 as 07:00 | J87: 72 | K87: Internações
A88: Hospital Estadual de Itumbiara São Marcos | B88: Kassio-Rhener Bonfim Pinto | C88: N/A | D88: PJ | E88: 18764/GO | F88: N/A | G88: UTI ADULTO B | H88: ='BASE DE DADOS'!AH81 -> 4-11-18-24 | I88: 19:00 as 07:00 | J88: 48 | K88: Internações
A89: Hospital Estadual de Itumbiara São Marcos | B89: Ronaldo Cesar Brito | C89: N/A | D89: PJ | E89: 37193/GO | F89: N/A | G89: UTI ADULTO B | H89: ='BASE DE DADOS'!AH82 -> 5-19 | I89: 19:00 as 07:00 | J89: 24 | K89: Internações
A90: Hospital Estadual de Itumbiara São Marcos | B90: Pricila Borges D'avila | C90: Pediatria | D90: PJ | E90: 13726 | F90: 11552 | G90: Enfermaria Pediatria | H90: ='BASE DE DADOS'!AH83 -> 2-3-4-5-6-9-10-11-12-13-16-17-18-19-20-23-24-25-26-27 | I90: 07:00 as 11:00 | J90: SOB DEMANDA | K90: Internações
A91: Hospital Estadual de Itumbiara São Marcos | B91: Carolina Rodrigues Parreira Guizzetti | C91: Pediatria | D91: PJ | E91: 20710 | F91: 14452 | G91: Enfermaria Pediatria | H91: ='BASE DE DADOS'!AH84 -> 2-3-4-5-6-9-10-11-12-13-16-17-18-19-20-23-24-25-26-27 | I91: 07:00 as 13:00 | J91: 126H | K91: Internações
A92: Hospital Estadual de Itumbiara São Marcos | B92: Bianca Mendes de Moura | C92: N/A | D92: PJ | E92: 30481 | F92: N/A | G92: Enfermaria Pediatria | H92: ='BASE DE DADOS'!AH85 -> 7-14 | I92: 07:00 as 13:00 | J92: 12 | K92: Internações
A93: Hospital Estadual de Itumbiara São Marcos | B93: Bianca Mendes de Moura | C93: N/A | D93: PJ | E93: 30481 | F93: N/A | G93: Enfermaria Pediatria | H93: ='BASE DE DADOS'!AH86 -> 7-14 | I93: 13:00 as 19:00 | J93: 12 | K93: Internações
A94: Hospital Estadual de Itumbiara São Marcos | B94: Bianca Mendes de Moura | C94: N/A | D94: PJ | E94: 30481 | F94: N/A | G94: Enfermaria Pediatria | H94: ='BASE DE DADOS'!AH87 -> 5-7-12-14-19-26 | I94: 19:00 as 07:00 | J94: 72 | K94: Internações
A95: Hospital Estadual de Itumbiara São Marcos | B95: Ellen Karoliny de Souza Arruda | C95: N/A | D95: PJ | E95: 31651 | F95: N/A | G95: Enfermaria Pediatria | H95: ='BASE DE DADOS'!AH88 -> 6-8-20 | I95: 07:00 as 13:00 | J95: 18 | K95: Internações
A96: Hospital Estadual de Itumbiara São Marcos | B96: Ellen Karoliny de Souza Arruda | C96: N/A | D96: PJ | E96: 31651 | F96: N/A | G96: Enfermaria Pediatria | H96: ='BASE DE DADOS'!AH89 -> 6-8-20 | I96: 19:00 as 07:00 | J96: 36 | K96: Internações
A97: Hospital Estadual de Itumbiara São Marcos | B97: Fabiana Franco Santos de Santana | C97: N/A | D97: PJ | E97: 24027 | F97: N/A | G97: Enfermaria Pediatria | H97: ='BASE DE DADOS'!AH90 -> 3-4-5-10-11-12-17-18-19-24-25-26 | I97: 07:00 as 13:00 | J97: 72 | K97: Internações
A98: Hospital Estadual de Itumbiara São Marcos | B98: Fabiana Franco Santos de Santana | C98: N/A | D98: PJ | E98: 24027 | F98: N/A | G98: Enfermaria Pediatria | H98: ='BASE DE DADOS'!AH91 -> 3-4-5-10-11-12-17-18-19-24-25-26 | I98: 13:00 as 19:00 | J98: 72 | K98: Internações
A99: Hospital Estadual de Itumbiara São Marcos | B99: Fabiana Franco Santos de Santana | C99: N/A | D99: PJ | E99: 24027 | F99: N/A | G99: Enfermaria Pediatria | H99: ='BASE DE DADOS'!AH92 -> 1-2-4-8-9-11-15-16-18-22-23-25 | I99: 19:00 as 07:00 | J99: 144 | K99: Internações
A100: Hospital Estadual de Itumbiara São Marcos | B100: Isabella Cintra Santanna | C100: N/A | D100: PJ | E100: 34654 | F100: N/A | G100: Enfermaria Pediatria | H100: ='BASE DE DADOS'!AH93 -> 21 | I100: 07:00 as 13:00 | J100: 6 | K100: Internações
A101: Hospital Estadual de Itumbiara São Marcos | B101: Isabella Cintra Santanna | C101: N/A | D101: PJ | E101: 34654 | F101: N/A | G101: Enfermaria Pediatria | H101: ='BASE DE DADOS'!AH94 -> 21 | I101: 13:00 as 19:00 | J101: 6 | K101: Internações
A102: Hospital Estadual de Itumbiara São Marcos | B102: Isabella Cintra Santanna | C102: N/A | D102: PJ | E102: 34654 | F102: N/A | G102: Enfermaria Pediatria | H102: ='BASE DE DADOS'!AH95 -> 21 | I102: 19:00 as 07:00 | J102: 12 | K102: Internações
A103: Hospital Estadual de Itumbiara São Marcos | B103: John Pitter Macalles Duarte Pereira | C103: N/A | D103: PJ | E103: 22031 | F103: 18020 | G103: Enfermaria Pediatria | H103: ='BASE DE DADOS'!AH96 -> 1-13 | I103: 07:00 as 13:00 | J103: 12 | K103: Internações
A104: Hospital Estadual de Itumbiara São Marcos | B104: John Pitter Macalles Duarte Pereira | C104: N/A | D104: PJ | E104: 22031 | F104: 18020 | G104: Enfermaria Pediatria | H104: ='BASE DE DADOS'!AH97 -> 1-13 | I104: 13:00 as 19:00 | J104: 12 | K104: Internações
A105: Hospital Estadual de Itumbiara São Marcos | B105: Laura Pereira Jabur Silva | C105: N/A | D105: PJ | E105: 22031 | F105: 18020 | G105: Enfermaria Pediatria | H105: ='BASE DE DADOS'!AH98 -> 2-9-15-16-23 | I105: 07:00 as 13:00 | J105: 30 | K105: Internações
A106: Hospital Estadual de Itumbiara São Marcos | B106: Laura Pereira Jabur Silva | C106: N/A | D106: PJ | E106: 22031 | F106: 18020 | G106: Enfermaria Pediatria | H106: ='BASE DE DADOS'!AH99 -> 2-9-15-16-23 | I106: 13:00 as 19:00 | J106: 30 | K106: Internações
A107: Hospital Estadual de Itumbiara São Marcos | B107: Laura Pereira Jabur Silva | C107: N/A | D107: PJ | E107: 22031 | F107: 18020 | G107: Enfermaria Pediatria | H107: ='BASE DE DADOS'!AH100 -> 3-10-17-24 | I107: 19:00 as 07:00 | J107: 48 | K107: Internações
...
