
BEGIN:VCALENDAR
VERSION:2.0
PRODID:-//wp-events-plugin.com//7.2.3.1//EN
TZID:America/Sao_Paulo
X-WR-TIMEZONE:America/Sao_Paulo
BEGIN:VEVENT
UID:46-134@goias.gov.br
DTSTART;TZID=America/Sao_Paulo:20241003T090000
DTEND;TZID=America/Sao_Paulo:20241027T170000
DTSTAMP:20241001T184401Z
URL:https://goias.gov.br/ocupagoias/eventos/um-novo-olhar/
SUMMARY:Um Novo Olhar
DESCRIPTION:Serviço\nExposição fotográfica “Um Novo Olhar”\nAbertur
 a: Quinta-feira (03/10)\, às 19h\nVisitação: 03/10 a 27/10\, todos os d
 ias das 9h às 17h\nLocal: Sala Sebastião Barbosa\, Vila Cultural Cora Co
 ralina – Rua 03\, Setor Central\, Goiânia\n\nSecretaria de Estado da Cu
 ltura
ATTACH;FMTTYPE=image/jpeg:https://goias.gov.br/ocupagoias/wp-content/uploa
 ds/sites/46/2024/10/Vila-Cultural-1-1024x680-1.jpg
CATEGORIES:Exposições
LOCATION:Vila Cultural Cora Coralina\, R. 3\, s/n - St. Central\, Goiânia\
 , Goiás\, 74015120\, Centro-Oeste\, Brasil
X-APPLE-STRUCTURED-LOCATION;VALUE=URI;X-ADDRESS=R. 3\, s/n - St. Central\, 
 Goiânia\, Goiás\, 74015120\, Centro-Oeste\, Brasil;X-APPLE-RADIUS=100;X-
 TITLE=Vila Cultural Cora Coralina:geo:0,0
END:VEVENT
BEGIN:VTIMEZONE
TZID:America/Sao_Paulo
X-LIC-LOCATION:America/Sao_Paulo
BEGIN:STANDARD
DTSTART:20231004T090000
TZOFFSETFROM:-0300
TZOFFSETTO:-0300
TZNAME:-03
END:STANDARD
END:VTIMEZONE
END:VCALENDAR