
BEGIN:VCALENDAR
VERSION:2.0
PRODID:-//wp-events-plugin.com//7.2.3.1//EN
TZID:America/Sao_Paulo
X-WR-TIMEZONE:America/Sao_Paulo
BEGIN:VEVENT
UID:0-260@goias.gov.br
DTSTART;TZID=America/Sao_Paulo:20250906T210000
DTEND;TZID=America/Sao_Paulo:20250907T030000
DTSTAMP:20250626T135237Z
URL:https://goias.gov.br/ocupagoias/eventos/show-roupa-nova/
SUMMARY:Show Roupa Nova
DESCRIPTION:Prepare-se para uma noite inesquecível! No dia 06 de setembro
 \, Roupa Nova vai agitar o palco em Anápolis\, com seus grandes sucessos 
 e muita emoção!
ATTACH;FMTTYPE=image/jpeg:https://goias.gov.br/ocupagoias/wp-content/uploa
 ds/sites/46/2025/06/show-ccA-3.jpg
CATEGORIES:Locais,Shows
LOCATION:Espaço Exposição 3\, Centro de Convenções de Anápolis - Rod.
  Transbrasiliana\, 208 - Viviam Parque 2A Etapa.\, Anápolis\, Goiás\, 75
 001-970\, Brasil
X-APPLE-STRUCTURED-LOCATION;VALUE=URI;X-ADDRESS=Centro de Convenções de A
 nápolis - Rod. Transbrasiliana\, 208 - Viviam Parque 2A Etapa.\, Anápoli
 s\, Goiás\, 75001-970\, Brasil;X-APPLE-RADIUS=100;X-TITLE=Espaço Exposi
 ção 3:geo:0,0
END:VEVENT
BEGIN:VTIMEZONE
TZID:America/Sao_Paulo
X-LIC-LOCATION:America/Sao_Paulo
BEGIN:STANDARD
DTSTART:20240906T210000
TZOFFSETFROM:-0300
TZOFFSETTO:-0300
TZNAME:-03
END:STANDARD
END:VTIMEZONE
END:VCALENDAR