
BEGIN:VCALENDAR
VERSION:2.0
PRODID:-//wp-events-plugin.com//7.2.3.1//EN
TZID:America/Sao_Paulo
X-WR-TIMEZONE:America/Sao_Paulo
BEGIN:VEVENT
UID:0-171@goias.gov.br
DTSTART;TZID=America/Sao_Paulo:20241122T200000
DTEND;TZID=America/Sao_Paulo:20241122T200000
DTSTAMP:20241121T185000Z
URL:https://goias.gov.br/ocupagoias/eventos/show-de-humor-tom-carvalho/
SUMMARY:Show de humor – Tom Carvalho
DESCRIPTION:Serviço\nData: Sexta-feira (22/11)\nLocal: Teatro Goiânia\nHo
 rário: 20h\nIngressos: A partir de R$ 40\nSite: cegal.org.br
ATTACH;FMTTYPE=image/jpeg:https://goias.gov.br/ocupagoias/wp-content/uploa
 ds/sites/46/2024/11/Design-sem-nome.jpg
CATEGORIES:Teatro
LOCATION:Teatro Goiânia\, R. 23\, 252 - St. Central\, Goiânia\, Goiás \,
  74015-120\, Centro-oeste \, Brasil
X-APPLE-STRUCTURED-LOCATION;VALUE=URI;X-ADDRESS=R. 23\, 252 - St. Central\,
  Goiânia\, Goiás \, 74015-120\, Centro-oeste \, Brasil;X-APPLE-RADIUS=10
 0;X-TITLE=Teatro Goiânia:geo:0,0
END:VEVENT
BEGIN:VTIMEZONE
TZID:America/Sao_Paulo
X-LIC-LOCATION:America/Sao_Paulo
BEGIN:STANDARD
DTSTART:20231123T200000
TZOFFSETFROM:-0300
TZOFFSETTO:-0300
TZNAME:-03
END:STANDARD
END:VTIMEZONE
END:VCALENDAR