
BEGIN:VCALENDAR
VERSION:2.0
PRODID:-//wp-events-plugin.com//7.2.3.1//EN
TZID:America/Sao_Paulo
X-WR-TIMEZONE:America/Sao_Paulo
BEGIN:VEVENT
UID:0-77@goias.gov.br
DTSTART;TZID=America/Sao_Paulo:20240704T190000
DTEND;TZID=America/Sao_Paulo:20240704T200000
DTSTAMP:20240703T162816Z
URL:https://goias.gov.br/ocupagoias/eventos/performance-abo/
SUMMARY:Performance “Abô”
DESCRIPTION:A exposição Matriarcas\, da artista Raquel Rocha\, montada no
  Centro Cultural Octo Marques desde maio\, realiza\, nesta quinta-feira (0
 4/07)\, às 19h\, a Poesia-performance “Abô”\, gratuita e aberta ao p
 úblico em geral. Trata-se de uma representação do preparo e da realiza
 ção de um banho de ervas segundo a cultura yorubá. A mostra e a apresen
 tação artística são uma realização do Orum Aiyê Quilombo Cultural\,
  com apoio do Governo de Goiás\, por meio do Fundo de Arte e Cultura (FAC
 )\, operacionalizado pela Secretaria de Estado da Cultura (Secult).
ATTACH;FMTTYPE=image/jpeg:https://goias.gov.br/ocupagoias/wp-content/uploa
 ds/sites/46/2024/07/RAQUEL-AS-MATRIARCAS-98-Foto-Talis-Martins-2.jpeg
CATEGORIES:Artes visuais
LOCATION:Centro Cultural Octo Marques\, R. 4\, 515 - St. Central\, Goiânia
 \, Goiás\, 74020-045\, Centro Oeste\, Brasil
X-APPLE-STRUCTURED-LOCATION;VALUE=URI;X-ADDRESS=R. 4\, 515 - St. Central\, 
 Goiânia\, Goiás\, 74020-045\, Centro Oeste\, Brasil;X-APPLE-RADIUS=100;X
 -TITLE=Centro Cultural Octo Marques:geo:0,0
END:VEVENT
BEGIN:VTIMEZONE
TZID:America/Sao_Paulo
X-LIC-LOCATION:America/Sao_Paulo
BEGIN:STANDARD
DTSTART:20230705T190000
TZOFFSETFROM:-0300
TZOFFSETTO:-0300
TZNAME:-03
END:STANDARD
END:VTIMEZONE
END:VCALENDAR