
BEGIN:VCALENDAR
VERSION:2.0
PRODID:-//wp-events-plugin.com//7.2.3.1//EN
TZID:America/Sao_Paulo
X-WR-TIMEZONE:America/Sao_Paulo
BEGIN:VEVENT
UID:46-52@goias.gov.br
DTSTART;TZID=America/Sao_Paulo:20240614T000000
DTEND;TZID=America/Sao_Paulo:20240616T000000
DTSTAMP:20240611T192522Z
URL:https://goias.gov.br/ocupagoias/eventos/festival-primeiro-sol/
SUMMARY:Festival Primeiro Sol
DESCRIPTION:“A História do Tambor”\n\nA contação Cênico Musical "A 
 História do Tambor" foi elaborada a partir do livro lançado em 2021 pelo
  artista e arte-educador Tom Nascimento. O espetáculo é um convite à re
 flexão sobre ancestralidade\, negritude e africanidades por meio de uma l
 inguagem acessível\, lúdica\, simples e poética. O trabalho está reple
 to de filosofia e subjetividades\, que valorizam a singularidade dos seres
  humanos\, sem perder de vista a pluralidade.\n\n&nbsp\;\n\n“Bamberê”
 \n\nBamberê é um espetáculo musical infantil interativo\, que passeia p
 or ritmos afro-brasileiros urbanos como o funk e o rap e apresenta cenas e
  histórias sobre os povos originários e negros. O nome “Bamberê”\, 
 de origem africana\, remete às canções de ninar amazônicas\, e o espet
 áculo mescla as canções autorais com brincadeiras e cenas curtas\, abor
 dando a diversidade cultural e étnica do Brasil. Realizado pelo paranaens
 e Grupo Baquetá\, o show fala sobre as diferentes formas de brincar: “S
 ão as brincadeiras de rua\, de diferentes infâncias\, do interior\, da r
 oça\, das periferias”\, explica a brincante Kamylla dos Santos\, que ta
 mbém assina a produção do espetáculo. Bamberê é um espetáculo para 
 todas as idades e considera a infância como fase de construção de ident
 idades e saberes para toda a família. Para falar sobre esse tema\, o grup
 o criou um repertório autoral em ritmos afro-brasileiros como o rap\, mar
 acatu\, ciranda e funk. Com um detalhe: grande parte dos instrumentos é f
 eita com material alternativo.\n\n&nbsp\;\n\n“Origens”\n\nO show "Orig
 ens" é uma apresentação do segundo álbum do Grupo Passarinhos do Cerra
 do e traz fortes referências dos cantos indígenas\, da congada\, das fol
 ias\, convidando o público a se conectar com as origens da cultura popula
 r brasileira e refletir sobre a importância de preservação do Cerrado. 
 É um show para pessoas de todas as idades\, e tem conquistado especialmen
 te as crianças que se envolvem com os ritmos\, letras e melodias das can
 ções.\n\n&nbsp\;\n\nINGRESSOS GRATUITOS\n\nDATAS E LOCAIS:\n\n14/6 - 6ª
  feira\n\n- 9h - Teatro Goiânia Ouro - “A história do Tambor” - Tom 
 Nascimento (MG)\n\n- 14h - CMEI Alto da Glória - "Contos\, cantos e otras
  cositas mas" - Projeto Otras Cosistas Mas (GO)\n\n- 15h - Teatro Goiânia
  Ouro - “Bamberê” - Grupo Paquetá (PR)\n\n16/6 - Domingo\n\n- 15h - 
 Parque Mutirama - "Origens" - Passarinhos do Cerrado (GO)
ATTACH;FMTTYPE=image/jpeg:https://goias.gov.br/ocupagoias/wp-content/uploa
 ds/sites/46/2024/06/WhatsApp-Image-2024-06-10-at-10.57.47.jpeg
CATEGORIES:Teatro
END:VEVENT
BEGIN:VTIMEZONE
TZID:America/Sao_Paulo
X-LIC-LOCATION:America/Sao_Paulo
BEGIN:STANDARD
DTSTART:20230615T000000
TZOFFSETFROM:-0300
TZOFFSETTO:-0300
TZNAME:-03
END:STANDARD
END:VTIMEZONE
END:VCALENDAR