
BEGIN:VCALENDAR
VERSION:2.0
PRODID:-//wp-events-plugin.com//7.2.3.1//EN
TZID:America/Sao_Paulo
X-WR-TIMEZONE:America/Sao_Paulo
BEGIN:VEVENT
UID:46-74@goias.gov.br
DTSTART;TZID=America/Sao_Paulo:20240709T090000
DTEND;TZID=America/Sao_Paulo:20240804T170000
DTSTAMP:20240628T180313Z
URL:https://goias.gov.br/ocupagoias/eventos/exposicao-individual-lapidariu
 m/
SUMMARY:Exposição individual “Lapidarium”
DESCRIPTION:“Lapidarium” fica em cartaz até 04 de agosto e também apr
 esenta registros fotográficos das paisagens que serviram de ponto de cole
 ta e inspiração\, feitos pela própria artista\, que enxerga nas sobras\
 , partes ou ruínas da cidade diálogos desencadeadores de suas intençõe
 s inventivas. Esses fragmentos e imagens sofrem interferências pela artis
 ta em sua casa/ateliê\, denominada pela própria Hortência como lapidari
 um\, “lugar de abrigo de restos\, vestígios de algo que pertencia a um 
 todo”.\n\nServiço:\nExposição: “Lapidarium” - Hortência Moreira\
 nInauguração: 09/07 (terça-feira)\nVisitação: até 04/08/2024\nFuncio
 namento: De segunda-feira a domingo\, das 9h às 17h\nLocal: Vila Cultural
  Cora Coralina – R. 3\, s/n – St. Central\, Goiânia\nAgendamento de v
 isitas para escolas: Favor entrar em contato através do número (62)3201-
 9863
ATTACH;FMTTYPE=image/jpeg:https://goias.gov.br/ocupagoias/wp-content/uploa
 ds/sites/46/2024/06/WhatsApp-Image-2024-06-28-at-10.29.25.jpeg
CATEGORIES:Exposições
LOCATION:Vila Cultural Cora Coralina\, R. 3\, s/n - St. Central\, Goiânia\
 , Goiás\, 74015120\, Centro-Oeste\, Brasil
X-APPLE-STRUCTURED-LOCATION;VALUE=URI;X-ADDRESS=R. 3\, s/n - St. Central\, 
 Goiânia\, Goiás\, 74015120\, Centro-Oeste\, Brasil;X-APPLE-RADIUS=100;X-
 TITLE=Vila Cultural Cora Coralina:geo:0,0
END:VEVENT
BEGIN:VTIMEZONE
TZID:America/Sao_Paulo
X-LIC-LOCATION:America/Sao_Paulo
BEGIN:STANDARD
DTSTART:20230710T090000
TZOFFSETFROM:-0300
TZOFFSETTO:-0300
TZNAME:-03
END:STANDARD
END:VTIMEZONE
END:VCALENDAR