
BEGIN:VCALENDAR
VERSION:2.0
PRODID:-//wp-events-plugin.com//7.2.3.1//EN
TZID:America/Sao_Paulo
X-WR-TIMEZONE:America/Sao_Paulo
BEGIN:VEVENT
UID:0-143@goias.gov.br
DTSTART;TZID=America/Sao_Paulo:20241011T083000
DTEND;TZID=America/Sao_Paulo:20241011T153000
DTSTAMP:20241008T145020Z
URL:https://goias.gov.br/ocupagoias/eventos/evento-teste-04/
SUMMARY:Evento teste 04
DESCRIPTION:
ATTACH;FMTTYPE=image/jpeg:https://goias.gov.br/ocupagoias/wp-content/uploa
 ds/sites/46/2024/08/IMAGEM-DE-EXEMPLO-1.png
LOCATION:Esplanada Juscelino Kubitschek (lateral esquerda)\, Centro Cultura
 l Oscar Niemeyer - GO-020 - Chácaras Alto da Glória\, Goiânia\, Goiás\
 , 74865-421\, Brasil
X-APPLE-STRUCTURED-LOCATION;VALUE=URI;X-ADDRESS=Centro Cultural Oscar Nieme
 yer - GO-020 - Chácaras Alto da Glória\, Goiânia\, Goiás\, 74865-421\,
  Brasil;X-APPLE-RADIUS=100;X-TITLE=Esplanada Juscelino Kubitschek (lateral
  esquerda):geo:0,0
END:VEVENT
BEGIN:VTIMEZONE
TZID:America/Sao_Paulo
X-LIC-LOCATION:America/Sao_Paulo
BEGIN:STANDARD
DTSTART:20231012T083000
TZOFFSETFROM:-0300
TZOFFSETTO:-0300
TZNAME:-03
END:STANDARD
END:VTIMEZONE
END:VCALENDAR