
BEGIN:VCALENDAR
VERSION:2.0
PRODID:-//wp-events-plugin.com//7.2.3.1//EN
TZID:America/Sao_Paulo
X-WR-TIMEZONE:America/Sao_Paulo
BEGIN:VEVENT
UID:0-209@goias.gov.br
DTSTART;TZID=America/Sao_Paulo:20250315T090000
DTEND;TZID=America/Sao_Paulo:20250316T210000
DTSTAMP:20250211T135951Z
URL:https://goias.gov.br/ocupagoias/eventos/circuito-mulher-empreendedora/
SUMMARY:Circuito Mulher Empreendedora
DESCRIPTION:Acreditamos que juntas podemos sempre mais e por isso\nalém do
  evento procurar conexões entre empresárias\,\nprodutoras e micro empres
 as lideradas por mulheres\, nos\nacreditamos que a solidariedade é uma gr
 ande forma de\nresignificação de valores e também de aprendizado.\nNest
 a 2ª Edição\ncontaremos com o Apoio\nda Organização das\nVoluntárias
  de Goiás e\ncom o seu\, para\nparticipar doe 2kg de\nalimentos não pere
 cíveis\nna entrada do evento\n🎟 Garanta sua Vaga!\nAs inscrições sã
 o limitadas e o custo da Inscrição é de\nsomente R$ 150\,00 e 2kg alime
 ntos não perecíveis\npara a OVG Informações: 62 99994-5294
ATTACH;FMTTYPE=image/jpeg:https://goias.gov.br/ocupagoias/wp-content/uploa
 ds/sites/46/2025/02/Captura-de-tela-2025-02-11-105710.jpg
CATEGORIES:Feiras,Locais,Oficinas,Rodas de Conversas,Seminários
LOCATION:Biblioteca\, Centro Cultural Oscar Niemeyer -  GO-020 - Chácaras 
 Alto da Glória\, Goiânia\, Goiás\, 74865-421\, Brasil
X-APPLE-STRUCTURED-LOCATION;VALUE=URI;X-ADDRESS=Centro Cultural Oscar Nieme
 yer -  GO-020 - Chácaras Alto da Glória\, Goiânia\, Goiás\, 74865-421\
 , Brasil;X-APPLE-RADIUS=100;X-TITLE=Biblioteca:geo:0,0
END:VEVENT
BEGIN:VTIMEZONE
TZID:America/Sao_Paulo
X-LIC-LOCATION:America/Sao_Paulo
BEGIN:STANDARD
DTSTART:20240315T090000
TZOFFSETFROM:-0300
TZOFFSETTO:-0300
TZNAME:-03
END:STANDARD
END:VTIMEZONE
END:VCALENDAR