Workbook

Sheet BALANCETE 2021
A6: INDUSTRIA QUIMICA DO ESTADO DE GOIAS S/A
A8: Balancete Analítico Consolidado de 01/01/2021 até 31/12/2021 | E8: 2020 | I8: 2021
A9: Descrição | B9: Classificação | C9: U | D9: tip | E9: Saldo Anterior | G9: Debito | H9: Crédito | I9: SaldoAtual | J9: SaldoAtual | N9: NOTAS | O9: NOTAS
A10: ATIVO - [1] | B10: [1] | C10: =(LEFT(SUBSTITUTE(B10,"[",""),1))+0 -> 1 | D10: =IF((LEN(B10)+0)<15,"s","A") -> s | E10: 75.536.053,65D | F10: D | G10: 2.8152483e+08 | H10: 2.6596959e+08 | I10: 91.091.292,63D | J10: 91.091.292,63D | K10: =RIGHT(J10) -> D | L10: =(SUBSTITUTE(SUBSTITUTE(J10,"D","",1),"C","",1)+0)*IF(K10=F10,1,-1) -> 91091293 | N10: =_xlfn.XLOOKUP(B10,'BALANCETE 2022'!B:B,'BALANCETE 2022'!J:J) -> 0 | O10: =_xlfn.XLOOKUP(B10,'BALANCETE 2022'!B:B,'BALANCETE 2022'!J:J,0) -> 0
A11: CIRCULANTE - [2] | B11: [1.1] | C11: =(LEFT(SUBSTITUTE(B11,"[",""),1))+0 -> 1 | D11: =IF((LEN(B11)+0)<15,"s","A") -> s | E11: 36.136.903,96D | F11: D | G11: 2.3414684e+08 | H11: 2.4676086e+08 | I11: 23.522.890,95D | J11: 23.522.890,95D | K11: =RIGHT(J11) -> D | L11: =(SUBSTITUTE(SUBSTITUTE(J11,"D","",1),"C","",1)+0)*IF(K11=F11,1,-1) -> 23522891 | O11: =_xlfn.XLOOKUP(B11,'BALANCETE 2022'!B:B,'BALANCETE 2022'!J:J,0) -> 0
A12: BENS NUMERARIOS - [3] | B12: [1.1.11] | C12: =(LEFT(SUBSTITUTE(B12,"[",""),1))+0 -> 1 | D12: =IF((LEN(B12)+0)<15,"s","A") -> s | E12: 10042028 | F12: D | G12: 1.3462547e+08 | H12: 1.3776368e+08 | I12: 6903819.1 | J12: 6903819.1 | K12: =RIGHT(J12) -> 9 | L12: =(SUBSTITUTE(SUBSTITUTE(J12,"D","",1),"C","",1)+0)*IF(K12=F12,1,-1) -> -6903819.1 | M12: 4 | O12: =_xlfn.XLOOKUP(B12,'BALANCETE 2022'!B:B,'BALANCETE 2022'!J:J,0) -> 0
A13: CAIXA GERAL - [4] | B13: [1.1.11.01] | C13: =(LEFT(SUBSTITUTE(B13,"[",""),1))+0 -> 1 | D13: =IF((LEN(B13)+0)<15,"s","A") -> s | E13: 330,62D | F13: D | G13: 0 | H13: 330.62 | I13: 0,00D | J13: 0,00D | K13: =RIGHT(J13) -> D | L13: =(SUBSTITUTE(SUBSTITUTE(J13,"D","",1),"C","",1)+0)*IF(K13=F13,1,-1) -> 0 | O13: =_xlfn.XLOOKUP(B13,'BALANCETE 2022'!B:B,'BALANCETE 2022'!J:J,0) -> 0
A14: CAIXA - [6] | B14: [1.1.11.01.0001] | C14: =(LEFT(SUBSTITUTE(B14,"[",""),1))+0 -> 1 | D14: =IF((LEN(B14)+0)<15,"s","A") -> A | E14: 330,62D | F14: D | G14: 0 | H14: 330.62 | I14: 0,00D | J14: 0,00D | K14: =RIGHT(J14) -> D | L14: =(SUBSTITUTE(SUBSTITUTE(J14,"D","",1),"C","",1)+0)*IF(K14=F14,1,-1) -> 0 | O14: =_xlfn.XLOOKUP(B14,'BALANCETE 2022'!B:B,'BALANCETE 2022'!J:J,0) -> 0
A15: DEPOSITOS BANCARIOS - [9] | B15: [1.1.11.02] | C15: =(LEFT(SUBSTITUTE(B15,"[",""),1))+0 -> 1 | D15: =IF((LEN(B15)+0)<15,"s","A") -> s | E15: 7.824.034,74D | F15: D | G15: 1.2666703e+08 | H15: 1.3432944e+08 | I15: 161.619,26D | J15: 161.619,26D | K15: =RIGHT(J15) -> D | L15: =(SUBSTITUTE(SUBSTITUTE(J15,"D","",1),"C","",1)+0)*IF(K15=F15,1,-1) -> 161619.26 | O15: =_xlfn.XLOOKUP(B15,'BALANCETE 2022'!B:B,'BALANCETE 2022'!J:J,0) -> 0
A16: BANCO DO BRASIL S/A - C/C 6.091-7 - [11] | B16: [1.1.11.02.0002] | C16: =(LEFT(SUBSTITUTE(B16,"[",""),1))+0 -> 1 | D16: =IF((LEN(B16)+0)<15,"s","A") -> A | E16: 0,00D | F16: D | G16: 111257.64 | H16: 111257.64 | I16: 0,00D | J16: 0,00D | K16: =RIGHT(J16) -> D | L16: =(SUBSTITUTE(SUBSTITUTE(J16,"D","",1),"C","",1)+0)*IF(K16=F16,1,-1) -> 0 | O16: =_xlfn.XLOOKUP(B16,'BALANCETE 2022'!B:B,'BALANCETE 2022'!J:J,0) -> 0
A17: BANCO ITAU S/A - C/C 1.399-5 - [12] | B17: [1.1.11.02.0003] | C17: =(LEFT(SUBSTITUTE(B17,"[",""),1))+0 -> 1 | D17: =IF((LEN(B17)+0)<15,"s","A") -> A | E17: 10,00D | F17: D | G17: 31671899 | H17: 31671899 | I17: 10,00D | J17: 10,00D | K17: =RIGHT(J17) -> D | L17: =(SUBSTITUTE(SUBSTITUTE(J17,"D","",1),"C","",1)+0)*IF(K17=F17,1,-1) -> 10 | O17: =_xlfn.XLOOKUP(B17,'BALANCETE 2022'!B:B,'BALANCETE 2022'!J:J,0) -> 0
A18: BANCO CEF S/A C/C 1661-5 - [8559] | B18: [1.1.11.02.0019] | C18: =(LEFT(SUBSTITUTE(B18,"[",""),1))+0 -> 1 | D18: =IF((LEN(B18)+0)<15,"s","A") -> A | E18: 27.860,95D | F18: D | G18: 137103.6 | H18: 153362.8 | I18: 11.601,75D | J18: 11.601,75D | K18: =RIGHT(J18) -> D | L18: =(SUBSTITUTE(SUBSTITUTE(J18,"D","",1),"C","",1)+0)*IF(K18=F18,1,-1) -> 11601.75 | O18: =_xlfn.XLOOKUP(B18,'BALANCETE 2022'!B:B,'BALANCETE 2022'!J:J,0) -> 0
A19: BANCO CEF S/A - C/C 2385-9 - [11530] | B19: [1.1.11.02.0031] | C19: =(LEFT(SUBSTITUTE(B19,"[",""),1))+0 -> 1 | D19: =IF((LEN(B19)+0)<15,"s","A") -> A | E19: 154.367,81D | F19: D | G19: 2418210.1 | H19: 2422683 | I19: 149.894,91D | J19: 149.894,91D | K19: =RIGHT(J19) -> D | L19: =(SUBSTITUTE(SUBSTITUTE(J19,"D","",1),"C","",1)+0)*IF(K19=F19,1,-1) -> 149894.91 | O19: =_xlfn.XLOOKUP(B19,'BALANCETE 2022'!B:B,'BALANCETE 2022'!J:J,0) -> 0
A20: BANCO DO BRASIL S/A C/C 7096-3 - [12888] | B20: [1.1.11.02.0032] | C20: =(LEFT(SUBSTITUTE(B20,"[",""),1))+0 -> 1 | D20: =IF((LEN(B20)+0)<15,"s","A") -> A | E20: 11.124,77D | F20: D | G20: 19728983 | H20: 19740005 | I20: 102,60D | J20: 102,60D | K20: =RIGHT(J20) -> D | L20: =(SUBSTITUTE(SUBSTITUTE(J20,"D","",1),"C","",1)+0)*IF(K20=F20,1,-1) -> 102.6 | O20: =_xlfn.XLOOKUP(B20,'BALANCETE 2022'!B:B,'BALANCETE 2022'!J:J,0) -> 0
A21: BANCO NO BRASIL - OP - [15870] | B21: [1.1.11.02.0034] | C21: =(LEFT(SUBSTITUTE(B21,"[",""),1))+0 -> 1 | D21: =IF((LEN(B21)+0)<15,"s","A") -> A | E21: 7.630.671,21D | F21: D | G21: 30342524 | H21: 37973195 | I21: 0,00D | J21: 0,00D | K21: =RIGHT(J21) -> D | L21: =(SUBSTITUTE(SUBSTITUTE(J21,"D","",1),"C","",1)+0)*IF(K21=F21,1,-1) -> 0 | O21: =_xlfn.XLOOKUP(B21,'BALANCETE 2022'!B:B,'BALANCETE 2022'!J:J,0) -> 0
A22: BANCO ITAU S/A C/C 10744-2 - [16283] | B22: [1.1.11.02.0035] | C22: =(LEFT(SUBSTITUTE(B22,"[",""),1))+0 -> 1 | D22: =IF((LEN(B22)+0)<15,"s","A") -> A | E22: 0,00D | F22: D | G22: 42257049 | H22: 42257039 | I22: 10,00D | J22: 10,00D | K22: =RIGHT(J22) -> D | L22: =(SUBSTITUTE(SUBSTITUTE(J22,"D","",1),"C","",1)+0)*IF(K22=F22,1,-1) -> 10 | O22: =_xlfn.XLOOKUP(B22,'BALANCETE 2022'!B:B,'BALANCETE 2022'!J:J,0) -> 0
A23: APLICAÇÕES FINANCEIRAS - [30] | B23: [1.1.11.03] | C23: =(LEFT(SUBSTITUTE(B23,"[",""),1))+0 -> 1 | D23: =IF((LEN(B23)+0)<15,"s","A") -> s | E23: 46.164,03D | F23: D | G23: 7901809.2 | H23: 3421165 | I23: 4.526.808,20D | J23: 4.526.808,20D | K23: =RIGHT(J23) -> D | L23: =(SUBSTITUTE(SUBSTITUTE(J23,"D","",1),"C","",1)+0)*IF(K23=F23,1,-1) -> 4526808.2 | O23: =_xlfn.XLOOKUP(B23,'BALANCETE 2022'!B:B,'BALANCETE 2022'!J:J,0) -> 0
A24: BANCO ITAU S/A C/C 1399-5 - [5425] | B24: [1.1.11.03.0004] | C24: =(LEFT(SUBSTITUTE(B24,"[",""),1))+0 -> 1 | D24: =IF((LEN(B24)+0)<15,"s","A") -> A | E24: 6.194,92D | F24: D | G24: 3383817.3 | H24: 3384744.2 | I24: 5.268,00D | J24: 5.268,00D | K24: =RIGHT(J24) -> D | L24: =(SUBSTITUTE(SUBSTITUTE(J24,"D","",1),"C","",1)+0)*IF(K24=F24,1,-1) -> 5268 | O24: =_xlfn.XLOOKUP(B24,'BALANCETE 2022'!B:B,'BALANCETE 2022'!J:J,0) -> 0
... A26: BANCO CEF S/A C/P 1866-9 - [10606] | B26: [1.1.11.03.0014] | C26: =(LEFT(SUBSTITUTE(B26,"[",""),1))+0 -> 1 | D26: =IF((LEN(B26)+0)<15,"s","A") -> A | E26: 77,97D | F26: D | G26: 1.86 | H26: 0.28 | I26: 79,55D | J26: 79,55D | K26: =RIGHT(J26) -> D | L26: =(SUBSTITUTE(SUBSTITUTE(J26,"D","",1),"C","",1)+0)*IF(K26=F26,1,-1) -> 79.55 | O26: =_xlfn.XLOOKUP(B26,'BALANCETE 2022'!B:B,'BALANCETE 2022'!J:J,0) -> 0
A27: BANCO ITAU S/A C/C 10744-2 - [16857] | B27: [1.1.11.03.0015] | C27: =(LEFT(SUBSTITUTE(B27,"[",""),1))+0 -> 1 | D27: =IF((LEN(B27)+0)<15,"s","A") -> A | E27: 0 | F27: D | G27: 4514866 | H27: 0 | I27: 4.514.866,04D | J27: 4.514.866,04D | K27: =RIGHT(J27) -> D | L27: =(SUBSTITUTE(SUBSTITUTE(J27,"D","",1),"C","",1)+0)*IF(K27=F27,1,-1) -> 4514866 | O27: =_xlfn.XLOOKUP(B27,'BALANCETE 2022'!B:B,'BALANCETE 2022'!J:J,0) -> 0
A28: POUPANÇA - [13658] | B28: [1.1.11.05] | C28: =(LEFT(SUBSTITUTE(B28,"[",""),1))+0 -> 1 | D28: =IF((LEN(B28)+0)<15,"s","A") -> s | E28: 2.171.498,30D | F28: D | G28: 56636.5 | H28: 12743.17 | I28: 2.215.391,63D | J28: 2.215.391,63D | K28: =RIGHT(J28) -> D | L28: =(SUBSTITUTE(SUBSTITUTE(J28,"D","",1),"C","",1)+0)*IF(K28=F28,1,-1) -> 2215391.6 | O28: =_xlfn.XLOOKUP(B28,'BALANCETE 2022'!B:B,'BALANCETE 2022'!J:J,0) -> 0
A29: BANCO CEF S/A C/POUP 1866-9 CONV 787297/2013 - [13665] | B29: [1.1.11.05.0001] | C29: =(LEFT(SUBSTITUTE(B29,"[",""),1))+0 -> 1 | D29: =IF((LEN(B29)+0)<15,"s","A") -> A | E29: 2.171.498,30D | F29: D | G29: 56636.5 | H29: 12743.17 | I29: 2.215.391,63D | J29: 2.215.391,63D | K29: =RIGHT(J29) -> D | L29: =(SUBSTITUTE(SUBSTITUTE(J29,"D","",1),"C","",1)+0)*IF(K29=F29,1,-1) -> 2215391.6 | O29: =_xlfn.XLOOKUP(B29,'BALANCETE 2022'!B:B,'BALANCETE 2022'!J:J,0) -> 0
A30: CREDITOS - [48] | B30: [1.1.21] | C30: =(LEFT(SUBSTITUTE(B30,"[",""),1))+0 -> 1 | D30: =IF((LEN(B30)+0)<15,"s","A") -> s | E30: 5.129.514,33D | F30: D | G30: 23892126 | H30: 21424266 | I30: 7597374.4 | J30: 7597374.4 | K30: =RIGHT(J30) -> 8 | L30: =(SUBSTITUTE(SUBSTITUTE(J30,"D","",1),"C","",1)+0)*IF(K30=F30,1,-1) -> -7597374.4 | M30: 5 | O30: =_xlfn.XLOOKUP(B30,'BALANCETE 2022'!B:B,'BALANCETE 2022'!J:J,0) -> 0
A31: DUPLICATAS A RECEBER - [49] | B31: [1.1.21.01] | C31: =(LEFT(SUBSTITUTE(B31,"[",""),1))+0 -> 1 | D31: =IF((LEN(B31)+0)<15,"s","A") -> s | E31: 6.923.284,79D | F31: D | G31: 21992760 | H31: 21318670 | I31: 7.597.374,38D | J31: 7.597.374,38D | K31: =RIGHT(J31) -> D | L31: =(SUBSTITUTE(SUBSTITUTE(J31,"D","",1),"C","",1)+0)*IF(K31=F31,1,-1) -> 7597374.4 | O31: =_xlfn.XLOOKUP(B31,'BALANCETE 2022'!B:B,'BALANCETE 2022'!J:J,0) -> 0
A32: FUNDAÇÃO EZEQUIEL DIAS - FUNED - [63] | B32: [1.1.21.01.0014] | C32: =(LEFT(SUBSTITUTE(B32,"[",""),1))+0 -> 1 | D32: =IF((LEN(B32)+0)<15,"s","A") -> A | E32: 91.092,02D | F32: D | G32: 0 | H32: 91092.02 | I32: 0,00D | J32: 0,00D | K32: =RIGHT(J32) -> D | L32: =(SUBSTITUTE(SUBSTITUTE(J32,"D","",1),"C","",1)+0)*IF(K32=F32,1,-1) -> 0 | O32: =_xlfn.XLOOKUP(B32,'BALANCETE 2022'!B:B,'BALANCETE 2022'!J:J,0) -> 0
A33: PREFEITURA DE FORTALEZA - CE - [64] | B33: [1.1.21.01.0015] | C33: =(LEFT(SUBSTITUTE(B33,"[",""),1))+0 -> 1 | D33: =IF((LEN(B33)+0)<15,"s","A") -> A | E33: 7.849,40D | F33: D | G33: 0 | H33: 7849.4 | I33: 0,00D | J33: 0,00D | K33: =RIGHT(J33) -> D | L33: =(SUBSTITUTE(SUBSTITUTE(J33,"D","",1),"C","",1)+0)*IF(K33=F33,1,-1) -> 0 | O33: =_xlfn.XLOOKUP(B33,'BALANCETE 2022'!B:B,'BALANCETE 2022'!J:J,0) -> 0
A34: PREFEITURA DE UMUARAMA - SC - [69] | B34: [1.1.21.01.0020] | C34: =(LEFT(SUBSTITUTE(B34,"[",""),1))+0 -> 1 | D34: =IF((LEN(B34)+0)<15,"s","A") -> A | E34: 5.264,00D | F34: D | G34: 0 | H34: 5264 | I34: 0,00D | J34: 0,00D | K34: =RIGHT(J34) -> D | L34: =(SUBSTITUTE(SUBSTITUTE(J34,"D","",1),"C","",1)+0)*IF(K34=F34,1,-1) -> 0 | O34: =_xlfn.XLOOKUP(B34,'BALANCETE 2022'!B:B,'BALANCETE 2022'!J:J,0) -> 0
A35: FUNDAÇÃO OSWALDO CRUZ - [70] | B35: [1.1.21.01.0021] | C35: =(LEFT(SUBSTITUTE(B35,"[",""),1))+0 -> 1 | D35: =IF((LEN(B35)+0)<15,"s","A") -> A | E35: 282.595,40D | F35: D | G35: 0 | H35: 282595.4 | I35: 0,00D | J35: 0,00D | K35: =RIGHT(J35) -> D | L35: =(SUBSTITUTE(SUBSTITUTE(J35,"D","",1),"C","",1)+0)*IF(K35=F35,1,-1) -> 0 | O35: =_xlfn.XLOOKUP(B35,'BALANCETE 2022'!B:B,'BALANCETE 2022'!J:J,0) -> 0
A36: GREEN FARMA QUIM. FARMACEUTICA LTDA - [74] | B36: [1.1.21.01.0025] | C36: =(LEFT(SUBSTITUTE(B36,"[",""),1))+0 -> 1 | D36: =IF((LEN(B36)+0)<15,"s","A") -> A | E36: 14.086,28D | F36: D | G36: 0 | H36: 14086.28 | I36: 0,00D | J36: 0,00D | K36: =RIGHT(J36) -> D | L36: =(SUBSTITUTE(SUBSTITUTE(J36,"D","",1),"C","",1)+0)*IF(K36=F36,1,-1) -> 0 | O36: =_xlfn.XLOOKUP(B36,'BALANCETE 2022'!B:B,'BALANCETE 2022'!J:J,0) -> 0
A37: INSTITUTO DE SAUDE DO PARANA - [76] | B37: [1.1.21.01.0027] | C37: =(LEFT(SUBSTITUTE(B37,"[",""),1))+0 -> 1 | D37: =IF((LEN(B37)+0)<15,"s","A") -> A | E37: 78.794,22D | F37: D | G37: 0 | H37: 78794.22 | I37: 0,00D | J37: 0,00D | K37: =RIGHT(J37) -> D | L37: =(SUBSTITUTE(SUBSTITUTE(J37,"D","",1),"C","",1)+0)*IF(K37=F37,1,-1) -> 0 | O37: =_xlfn.XLOOKUP(B37,'BALANCETE 2022'!B:B,'BALANCETE 2022'!J:J,0) -> 0
A38: LAB. FARM. DA MARINHA - RJ CONTRATO 765741/2013 - [81] | B38: [1.1.21.01.0032] | C38: =(LEFT(SUBSTITUTE(B38,"[",""),1))+0 -> 1 | D38: =IF((LEN(B38)+0)<15,"s","A") -> A | E38: 188.754,41D | F38: D | G38: 0 | H38: 188754.41 | I38: 0,00D | J38: 0,00D | K38: =RIGHT(J38) -> D | L38: =(SUBSTITUTE(SUBSTITUTE(J38,"D","",1),"C","",1)+0)*IF(K38=F38,1,-1) -> 0 | O38: =_xlfn.XLOOKUP(B38,'BALANCETE 2022'!B:B,'BALANCETE 2022'!J:J,0) -> 0
A39: LAB. QUIM. FARM. AERONAUTICA - RJ - [82] | B39: [1.1.21.01.0033] | C39: =(LEFT(SUBSTITUTE(B39,"[",""),1))+0 -> 1 | D39: =IF((LEN(B39)+0)<15,"s","A") -> A | E39: 71.000,70D | F39: D | G39: 0 | H39: 71000.7 | I39: 0,00D | J39: 0,00D | K39: =RIGHT(J39) -> D | L39: =(SUBSTITUTE(SUBSTITUTE(J39,"D","",1),"C","",1)+0)*IF(K39=F39,1,-1) -> 0 | O39: =_xlfn.XLOOKUP(B39,'BALANCETE 2022'!B:B,'BALANCETE 2022'!J:J,0) -> 0
A40: LAB. FARM. EST. PERNAMBUCO - LAFEPE - [83] | B40: [1.1.21.01.0034] | C40: =(LEFT(SUBSTITUTE(B40,"[",""),1))+0 -> 1 | D40: =IF((LEN(B40)+0)<15,"s","A") -> A | E40: 108.614,56D | F40: D | G40: 0 | H40: 108614.56 | I40: 0,00D | J40: 0,00D | K40: =RIGHT(J40) -> D | L40: =(SUBSTITUTE(SUBSTITUTE(J40,"D","",1),"C","",1)+0)*IF(K40=F40,1,-1) -> 0 | O40: =_xlfn.XLOOKUP(B40,'BALANCETE 2022'!B:B,'BALANCETE 2022'!J:J,0) -> 0
A41: LEON HEINER S/A - [84] | B41: [1.1.21.01.0035] | C41: =(LEFT(SUBSTITUTE(B41,"[",""),1))+0 -> 1 | D41: =IF((LEN(B41)+0)<15,"s","A") -> A | E41: 12.000,00D | F41: D | G41: 0 | H41: 12000 | I41: 0,00D | J41: 0,00D | K41: =RIGHT(J41) -> D | L41: =(SUBSTITUTE(SUBSTITUTE(J41,"D","",1),"C","",1)+0)*IF(K41=F41,1,-1) -> 0 | O41: =_xlfn.XLOOKUP(B41,'BALANCETE 2022'!B:B,'BALANCETE 2022'!J:J,0) -> 0
A42: MINISTERIO DA SAUDE - CONV. 015/04 - [90] | B42: [1.1.21.01.0041] | C42: =(LEFT(SUBSTITUTE(B42,"[",""),1))+0 -> 1 | D42: =IF((LEN(B42)+0)<15,"s","A") -> A | E42: 11.130,00D | F42: D | G42: 0 | H42: 11130 | I42: 0,00D | J42: 0,00D | K42: =RIGHT(J42) -> D | L42: =(SUBSTITUTE(SUBSTITUTE(J42,"D","",1),"C","",1)+0)*IF(K42=F42,1,-1) -> 0 | O42: =_xlfn.XLOOKUP(B42,'BALANCETE 2022'!B:B,'BALANCETE 2022'!J:J,0) -> 0
... A66: FUNDO DE SAUDE DE CAMPOS DOS GOYTACAZES RJ - [5049] | B66: [1.1.21.01.0229] | C66: =(LEFT(SUBSTITUTE(B66,"[",""),1))+0 -> 1 | D66: =IF((LEN(B66)+0)<15,"s","A") -> A | E66: 15.926,00D | F66: D | G66: 0 | H66: 15926 | I66: 0,00D | J66: 0,00D | K66: =RIGHT(J66) -> D | L66: =(SUBSTITUTE(SUBSTITUTE(J66,"D","",1),"C","",1)+0)*IF(K66=F66,1,-1) -> 0 | O66: =_xlfn.XLOOKUP(B66,'BALANCETE 2022'!B:B,'BALANCETE 2022'!J:J,0) -> 0
A67: FUNDO DE SAUDE DE CHUPINGUAIA - [679] | B67: [1.1.21.01.0230] | C67: =(LEFT(SUBSTITUTE(B67,"[",""),1))+0 -> 1 | D67: =IF((LEN(B67)+0)<15,"s","A") -> A | E67: 3.401,95D | F67: D | G67: 0 | H67: 3401.95 | I67: 0 | J67: 0 | K67: =RIGHT(J67) -> 0 | L67: =(SUBSTITUTE(SUBSTITUTE(J67,"D","",1),"C","",1)+0)*IF(K67=F67,1,-1) -> 0 | O67: =_xlfn.XLOOKUP(B67,'BALANCETE 2022'!B:B,'BALANCETE 2022'!J:J,0) -> 0
A68: PREFEITURA DE ARAGUAPAZ GO - [1057] | B68: [1.1.21.01.0265] | C68: =(LEFT(SUBSTITUTE(B68,"[",""),1))+0 -> 1 | D68: =IF((LEN(B68)+0)<15,"s","A") -> A | E68: 4.750,00D | F68: D | G68: 0 | H68: 4750 | I68: 0 | J68: 0 | K68: =RIGHT(J68) -> 0 | L68: =(SUBSTITUTE(SUBSTITUTE(J68,"D","",1),"C","",1)+0)*IF(K68=F68,1,-1) -> 0 | O68: =_xlfn.XLOOKUP(B68,'BALANCETE 2022'!B:B,'BALANCETE 2022'!J:J,0) -> 0
A69: FUNDO DE SAUDE DE COARI AM - [1379] | B69: [1.1.21.01.0311] | C69: =(LEFT(SUBSTITUTE(B69,"[",""),1))+0 -> 1 | D69: =IF((LEN(B69)+0)<15,"s","A") -> A | E69: 46.613,00D | F69: D | G69: 0 | H69: 46613 | I69: 0 | J69: 0 | K69: =RIGHT(J69) -> 0 | L69: =(SUBSTITUTE(SUBSTITUTE(J69,"D","",1),"C","",1)+0)*IF(K69=F69,1,-1) -> 0 | O69: =_xlfn.XLOOKUP(B69,'BALANCETE 2022'!B:B,'BALANCETE 2022'!J:J,0) -> 0
A70: PREFEITURA DE IACIARA - [2352] | B70: [1.1.21.01.0440] | C70: =(LEFT(SUBSTITUTE(B70,"[",""),1))+0 -> 1 | D70: =IF((LEN(B70)+0)<15,"s","A") -> A | E70: 690,00D | F70: D | G70: 0 | H70: 690 | I70: 0 | J70: 0 | K70: =RIGHT(J70) -> 0 | L70: =(SUBSTITUTE(SUBSTITUTE(J70,"D","",1),"C","",1)+0)*IF(K70=F70,1,-1) -> 0 | O70: =_xlfn.XLOOKUP(B70,'BALANCETE 2022'!B:B,'BALANCETE 2022'!J:J,0) -> 0
...

Sheet BALANCETE 2022
A8: INDUSTRIA QUIMICA DO ESTADO DE GOIAS S/A(00011)
A10: BALANCETE ANALÍTICO CONSOLIDADO DE 01/01/2022 ATÉ 31/12/2022
A11: Descrição | B11: Classificação | C11: Saldo Anterior | D11: Débito | E11: Crédito | F11: Saldo Atual | G11: VAZIAS | J11: NOTAS DRE | K11: NOME | L11: DFC | M11: QUADROS | N11: NOME QUADROS
A12: ATIVO - [1] | B12: [1] | C12: 91091293 | D12: 2.0277397e+08 | E12: 2.3537705e+08 | F12: 58488221 | J12: 0 | N12: =_xlfn.XLOOKUP(M12,'QUADROS QUE FALTARAM'!F:F,'QUADROS QUE FALTARAM'!B:B,0) -> 0
A13: Ativo - [16444] | B13: [1.1] | C13: 23522891 | D13: 1.7148251e+08 | E13: 1.7240351e+08 | F13: 22601893 | J13: 0 | N13: =_xlfn.XLOOKUP(M13,'QUADROS QUE FALTARAM'!F:F,'QUADROS QUE FALTARAM'!B:B,0) -> 0
A14: BENS NUMERARIOS - [4] | B14: [1.1.11] | C14: 6903819.1 | D14: 1.0694205e+08 | E14: 1.1098467e+08 | F14: 2861198.4 | J14: 0 | N14: =_xlfn.XLOOKUP(M14,'QUADROS QUE FALTARAM'!F:F,'QUADROS QUE FALTARAM'!B:B,0) -> 0
A15: DEPOSITOS BANCARIOS - [9] | B15: [1.1.11.02] | C15: 161619.26 | D15: 1.0221683e+08 | E15: 1.0186872e+08 | F15: 509731.36 | J15: 0 | N15: =_xlfn.XLOOKUP(M15,'QUADROS QUE FALTARAM'!F:F,'QUADROS QUE FALTARAM'!B:B,0) -> 0
A16: BANCO DO BRASIL S/A - C/C 6.091-7 - [11] | B16: [1.1.11.02.0002] | C16: 0 | D16: 34090.94 | E16: 20868.22 | F16: 13222.72 | J16: 0 | N16: =_xlfn.XLOOKUP(M16,'QUADROS QUE FALTARAM'!F:F,'QUADROS QUE FALTARAM'!B:B,0) -> 0
A17: BANCO ITAU S/A - C/C 1.399-5 - [12] | B17: [1.1.11.02.0003] | C17: 10 | D17: 2780003.3 | E17: 2780010.6 | F17: 2.7 | J17: 0 | N17: =_xlfn.XLOOKUP(M17,'QUADROS QUE FALTARAM'!F:F,'QUADROS QUE FALTARAM'!B:B,0) -> 0
A18: BANCO CEF S/A C/C 1661-5 - [8559] | B18: [1.1.11.02.0019] | C18: 11601.75 | D18: 0 | E18: 11601.75 | F18: 0 | J18: 0 | N18: =_xlfn.XLOOKUP(M18,'QUADROS QUE FALTARAM'!F:F,'QUADROS QUE FALTARAM'!B:B,0) -> 0
A19: BANCO CEF S/A - C/C 2385-9 - [11530] | B19: [1.1.11.02.0031] | C19: 149894.91 | D19: 7408411.6 | E19: 7558306.5 | F19: 0 | J19: 0 | N19: =_xlfn.XLOOKUP(M19,'QUADROS QUE FALTARAM'!F:F,'QUADROS QUE FALTARAM'!B:B,0) -> 0
A20: BANCO DO BRASIL S/A C/C 7096-3 - [12888] | B20: [1.1.11.02.0032] | C20: 102.6 | D20: 14038775 | E20: 14018033 | F20: 20844 | J20: 0 | N20: =_xlfn.XLOOKUP(M20,'QUADROS QUE FALTARAM'!F:F,'QUADROS QUE FALTARAM'!B:B,0) -> 0
A21: BANCO CEF S/A - C/C 0264-4 - [14064] | B21: [1.1.11.02.0033] | C21: 0 | D21: 2561483.8 | E21: 2561483.8 | F21: 0 | J21: ##### | N21: =_xlfn.XLOOKUP(M21,'QUADROS QUE FALTARAM'!F:F,'QUADROS QUE FALTARAM'!B:B,0) -> 0
A22: BANCO NO BRASIL - OP - [15870] | B22: [1.1.11.02.0034] | C22: 0 | D22: 12522170 | E22: 12522170 | F22: 0 | J22: 0 | N22: =_xlfn.XLOOKUP(M22,'QUADROS QUE FALTARAM'!F:F,'QUADROS QUE FALTARAM'!B:B,0) -> 0
A23: BANCO ITAU S/A C/C 10744-2 - [16283] | B23: [1.1.11.02.0035] | C23: 10 | D23: 27555327 | E23: 27555337 | F23: 0 | J23: 0 | N23: =_xlfn.XLOOKUP(M23,'QUADROS QUE FALTARAM'!F:F,'QUADROS QUE FALTARAM'!B:B,0) -> 0
A24: CONTA ÚNICA Nº 100004 - GOV. GOIÁS - FILIAL - [16997] | B24: [1.1.11.02.0036] | C24: 0 | D24: 19300573 | E24: 19081688 | F24: 218884.75 | J24: ##### | N24: =_xlfn.XLOOKUP(M24,'QUADROS QUE FALTARAM'!F:F,'QUADROS QUE FALTARAM'!B:B,0) -> 0
A25: CONTA ÚNICA Nº 100004 - GOV. GOIÁS - MATRIZ - [17004] | B25: [1.1.11.02.0037] | C25: 0 | D25: 16015996 | E25: 15759219 | F25: 256777.19 | N25: =_xlfn.XLOOKUP(M25,'QUADROS QUE FALTARAM'!F:F,'QUADROS QUE FALTARAM'!B:B,0) -> 0
A26: APLICAÇÕES FINANCEIRAS - [30] | B26: [1.1.11.03] | C26: 4526808.2 | D26: 4556696.7 | E26: 9078031.7 | F26: 5473.17 | J26: 0 | N26: =_xlfn.XLOOKUP(M26,'QUADROS QUE FALTARAM'!F:F,'QUADROS QUE FALTARAM'!B:B,0) -> 0
A27: BANCO ITAU S/A C/C 1399-5 - [5425] | B27: [1.1.11.03.0004] | C27: 5268 | D27: 308696.97 | E27: 313964.97 | F27: 0 | J27: 0 | N27: =_xlfn.XLOOKUP(M27,'QUADROS QUE FALTARAM'!F:F,'QUADROS QUE FALTARAM'!B:B,0) -> 0
A28: BANCO DO BRASIL C/P 6091-7 - [3898] | B28: [1.1.11.03.0012] | C28: 6594.61 | D28: 3340.88 | E28: 4548.02 | F28: 5387.47 | J28: 0 | N28: =_xlfn.XLOOKUP(M28,'QUADROS QUE FALTARAM'!F:F,'QUADROS QUE FALTARAM'!B:B,0) -> 0
A29: BANCO CEF S/A C/P 1866-9 - [10606] | B29: [1.1.11.03.0014] | C29: 79.55 | D29: 7.6 | E29: 1.45 | F29: 85.7 | J29: 0 | N29: =_xlfn.XLOOKUP(M29,'QUADROS QUE FALTARAM'!F:F,'QUADROS QUE FALTARAM'!B:B,0) -> 0
A30: BANCO ITAU S/A C/C 10744-2 - [16857] | B30: [1.1.11.03.0015] | C30: 4514866 | D30: 4244651.2 | E30: 8759517.2 | F30: 0 | J30: 0 | N30: =_xlfn.XLOOKUP(M30,'QUADROS QUE FALTARAM'!F:F,'QUADROS QUE FALTARAM'!B:B,0) -> 0
A31: POUPANÇA - [13658] | B31: [1.1.11.05] | C31: 2215391.6 | D31: 168518.94 | E31: 37916.73 | F31: 2345993.8 | J31: 0 | N31: =_xlfn.XLOOKUP(M31,'QUADROS QUE FALTARAM'!F:F,'QUADROS QUE FALTARAM'!B:B,0) -> 0
A32: BANCO CEF S/A C/POUP 1866-9 CONV 787297/2013 - [13665] | B32: [1.1.11.05.0001] | C32: 2215391.6 | D32: 168518.94 | E32: 37916.73 | F32: 2345993.8 | J32: 0 | N32: =_xlfn.XLOOKUP(M32,'QUADROS QUE FALTARAM'!F:F,'QUADROS QUE FALTARAM'!B:B,0) -> 0
A33: CREDITOS - [48] | B33: [1.1.21] | C33: 7597374.4 | D33: 11035770 | E33: 16743757 | F33: 1889386.8 | J33: 0 | N33: =_xlfn.XLOOKUP(M33,'QUADROS QUE FALTARAM'!F:F,'QUADROS QUE FALTARAM'!B:B,0) -> 0
A34: DUPLICATAS A RECEBER - [49] | B34: [1.1.21.01] | C34: 7597374.4 | D34: 9175045.6 | E34: 15158655 | F34: 1613764.6 | J34: 0 | N34: =_xlfn.XLOOKUP(M34,'QUADROS QUE FALTARAM'!F:F,'QUADROS QUE FALTARAM'!B:B,0) -> 0
A35: FUNDO DE SAUDE DE NOVA IGUAÇU - GO - [198] | B35: [1.1.21.01.0149] | C35: 224.3 | D35: 0 | E35: 224.3 | F35: 0 | J35: 0 | N35: =_xlfn.XLOOKUP(M35,'QUADROS QUE FALTARAM'!F:F,'QUADROS QUE FALTARAM'!B:B,0) -> 0
A36: FUNDO DE SAUDE ALTO ALEGRE DOS PARECIS R - [4552] | B36: [1.1.21.01.0190] | C36: 0 | D36: 23200 | E36: 23200 | F36: 0 | J36: 0 | N36: =_xlfn.XLOOKUP(M36,'QUADROS QUE FALTARAM'!F:F,'QUADROS QUE FALTARAM'!B:B,0) -> 0
A37: PREFEITURA MUNICIPAL DE VIANOPOLIS - [5460] | B37: [1.1.21.01.0569] | C37: 0 | D37: 23800 | E37: 23800 | F37: 0 | J37: 0 | N37: =_xlfn.XLOOKUP(M37,'QUADROS QUE FALTARAM'!F:F,'QUADROS QUE FALTARAM'!B:B,0) -> 0
... A52: FUNDO DE SAUDE DE SOBRAL CE - [12538] | B52: [1.1.21.01.0874] | C52: 74250 | D52: 181650 | E52: 255900 | F52: 0 | J52: 0 | N52: =_xlfn.XLOOKUP(M52,'QUADROS QUE FALTARAM'!F:F,'QUADROS QUE FALTARAM'!B:B,0) -> 0
A53: FUNDO DE SAUDE DE PALMELO GO - [12545] | B53: [1.1.21.01.0875] | C53: 0 | D53: 4500 | E53: 4500 | F53: 0 | J53: ##### | N53: =_xlfn.XLOOKUP(M53,'QUADROS QUE FALTARAM'!F:F,'QUADROS QUE FALTARAM'!B:B,0) -> 0
A54: FUNDO DE SAUDE DE ITAJA GO - [12552] | B54: [1.1.21.01.0876] | C54: 0 | D54: 6495 | E54: 6180 | F54: 315 | J54: 0 | N54: =_xlfn.XLOOKUP(M54,'QUADROS QUE FALTARAM'!F:F,'QUADROS QUE FALTARAM'!B:B,0) -> 0
A55: FUNDO DE SAUDE DE MAIRIPOTABA GO - [12818] | B55: [1.1.21.01.0882] | C55: 0 | D55: 5543 | E55: 5543 | F55: 0 | J55: 0 | N55: =_xlfn.XLOOKUP(M55,'QUADROS QUE FALTARAM'!F:F,'QUADROS QUE FALTARAM'!B:B,0) -> 0
A56: FUNDO DE SAUDE DE TRES RANCHOS GO - [12832] | B56: [1.1.21.01.0884] | C56: 0 | D56: 3990 | E56: 3990 | F56: 0 | J56: 0 | N56: =_xlfn.XLOOKUP(M56,'QUADROS QUE FALTARAM'!F:F,'QUADROS QUE FALTARAM'!B:B,0) -> 0
A57: FUNDO DE SAUDE DE ALOANDIA GO - [12923] | B57: [1.1.21.01.0888] | C57: 0 | D57: 10327.5 | E57: 8032.5 | F57: 2295 | J57: 0 | N57: =_xlfn.XLOOKUP(M57,'QUADROS QUE FALTARAM'!F:F,'QUADROS QUE FALTARAM'!B:B,0) -> 0
A58: FUNDO DE SAUDE DE ALTO HORIZONTE GO - [12930] | B58: [1.1.21.01.0889] | C58: 345 | D58: 0 | E58: 345 | F58: 0 | J58: 0 | N58: =_xlfn.XLOOKUP(M58,'QUADROS QUE FALTARAM'!F:F,'QUADROS QUE FALTARAM'!B:B,0) -> 0
A59: FUNDO DE SAUDE DE CASTELANDIA GO - [13350] | B59: [1.1.21.01.0900] | C59: 0 | D59: 420 | E59: 420 | F59: 0 | J59: 0 | N59: =_xlfn.XLOOKUP(M59,'QUADROS QUE FALTARAM'!F:F,'QUADROS QUE FALTARAM'!B:B,0) -> 0
A60: FUNDO DE SAUDE ARAGUAPAZ GO - [13693] | B60: [1.1.21.01.0902] | C60: 4750 | D60: 0 | E60: 0 | F60: 4750 | J60: 0 | N60: =_xlfn.XLOOKUP(M60,'QUADROS QUE FALTARAM'!F:F,'QUADROS QUE FALTARAM'!B:B,0) -> 0
A61: FUNDO DE SAUDE DE THEOBROMA RO - [13721] | B61: [1.1.21.01.0906] | C61: 0 | D61: 11200 | E61: 11200 | F61: 0 | J61: 0 | N61: =_xlfn.XLOOKUP(M61,'QUADROS QUE FALTARAM'!F:F,'QUADROS QUE FALTARAM'!B:B,0) -> 0
A62: FUNDO MUNICIPAL DE SAUDE DE PORTEIRAO - [13203] | B62: [1.1.21.01.0910] | C62: 0 | D62: 9345 | E62: 7245 | F62: 2100 | J62: 0 | N62: =_xlfn.XLOOKUP(M62,'QUADROS QUE FALTARAM'!F:F,'QUADROS QUE FALTARAM'!B:B,0) -> 0
...

Sheet Balancete 2022 DMPL (Zerado)
A1: Descrição | B1: Classificação | C1: Núm.Caract | D1: Redutora | E1: Grupo | F1: Natureza | G1: Saldo Anterior | H1: Débito | I1: Crédito | J1: Saldo Atual | K1: Nat | L1: Saldo Atual | N1: VAZIAS | O1: VAZIAS
A2: ATIVO - [1] | B2: [1] | C2: =LEN(B2) -> 3 | D2: =IF(LEFT(TRIM(A2),1)="(","Red.","Norm") -> Norm | E2: =LEFT(SUBSTITUTE(B2,"[","",1),1)+0 -> 1 | F2: =IF(AND(OR(E2=1,E2=3,E2=5),D2="Norm"),"D", IF(AND(OR(E2=1,E2=3,E2=5),D2="Red."),"C", IF(AND(OR(E2=2,E2=4,E2=6),D2="Norm"),"C", IF(AND(OR(E2=2,E2=4,E2=6),D2="Red."),"D")))) -> D | G2: 91.091.292,63D | H2: 2.0250312e+08 | I2: 2.3682088e+08 | J2: 56.773.531,62D | K2: =RIGHT(J2,1) -> D | L2: =IF(J2=0,0,LEFT(J2,LEN(J2)-1)+0) -> 56773532
A3: Ativo - [16444] | B3: [1.1] | C3: =LEN(B3) -> 5 | D3: =IF(LEFT(TRIM(A3),1)="(","Red.","Norm") -> Norm | E3: =LEFT(SUBSTITUTE(B3,"[","",1),1)+0 -> 1 | F3: =IF(AND(OR(E3=1,E3=3,E3=5),D3="Norm"),"D", IF(AND(OR(E3=1,E3=3,E3=5),D3="Red."),"C", IF(AND(OR(E3=2,E3=4,E3=6),D3="Norm"),"C", IF(AND(OR(E3=2,E3=4,E3=6),D3="Red."),"D")))) -> D | G3: 23.522.890,95D | H3: 1.7122396e+08 | I3: 1.7385964e+08 | J3: 20.887.204,13D | K3: =RIGHT(J3,1) -> D | L3: =IF(J3=0,0,LEFT(J3,LEN(J3)-1)+0) -> 20887204
A4: BENS NUMERARIOS - [4] | B4: [1.1.11] | C4: =LEN(B4) -> 8 | D4: =IF(LEFT(TRIM(A4),1)="(","Red.","Norm") -> Norm | E4: =LEFT(SUBSTITUTE(B4,"[","",1),1)+0 -> 1 | F4: =IF(AND(OR(E4=1,E4=3,E4=5),D4="Norm"),"D", IF(AND(OR(E4=1,E4=3,E4=5),D4="Red."),"C", IF(AND(OR(E4=2,E4=4,E4=6),D4="Norm"),"C", IF(AND(OR(E4=2,E4=4,E4=6),D4="Red."),"D")))) -> D | G4: 6.903.819,09D | H4: 1.0584599e+08 | I4: 1.0988861e+08 | J4: 2.861.198,37D | K4: =RIGHT(J4,1) -> D | L4: =IF(J4=0,0,LEFT(J4,LEN(J4)-1)+0) -> 2861198.4
A5: DEPOSITOS BANCARIOS - [9] | B5: [1.1.11.02] | C5: =LEN(B5) -> 11 | D5: =IF(LEFT(TRIM(A5),1)="(","Red.","Norm") -> Norm | E5: =LEFT(SUBSTITUTE(B5,"[","",1),1)+0 -> 1 | F5: =IF(AND(OR(E5=1,E5=3,E5=5),D5="Norm"),"D", IF(AND(OR(E5=1,E5=3,E5=5),D5="Red."),"C", IF(AND(OR(E5=2,E5=4,E5=6),D5="Norm"),"C", IF(AND(OR(E5=2,E5=4,E5=6),D5="Red."),"D")))) -> D | G5: 161.619,26D | H5: 1.0112077e+08 | I5: 1.0077266e+08 | J5: 509.731,36D | K5: =RIGHT(J5,1) -> D | L5: =IF(J5=0,0,LEFT(J5,LEN(J5)-1)+0) -> 509731.36
A6: BANCO DO BRASIL S/A - C/C 6.091-7 - [11] | B6: [1.1.11.02.0002] | C6: =LEN(B6) -> 16 | D6: =IF(LEFT(TRIM(A6),1)="(","Red.","Norm") -> Norm | E6: =LEFT(SUBSTITUTE(B6,"[","",1),1)+0 -> 1 | F6: =IF(AND(OR(E6=1,E6=3,E6=5),D6="Norm"),"D", IF(AND(OR(E6=1,E6=3,E6=5),D6="Red."),"C", IF(AND(OR(E6=2,E6=4,E6=6),D6="Norm"),"C", IF(AND(OR(E6=2,E6=4,E6=6),D6="Red."),"D")))) -> D | G6: 0,00D | H6: 32970.94 | I6: 19748.22 | J6: 13.222,72D | K6: =RIGHT(J6,1) -> D | L6: =IF(J6=0,0,LEFT(J6,LEN(J6)-1)+0) -> 13222.72
A7: BANCO ITAU S/A - C/C 1.399-5 - [12] | B7: [1.1.11.02.0003] | C7: =LEN(B7) -> 16 | D7: =IF(LEFT(TRIM(A7),1)="(","Red.","Norm") -> Norm | E7: =LEFT(SUBSTITUTE(B7,"[","",1),1)+0 -> 1 | F7: =IF(AND(OR(E7=1,E7=3,E7=5),D7="Norm"),"D", IF(AND(OR(E7=1,E7=3,E7=5),D7="Red."),"C", IF(AND(OR(E7=2,E7=4,E7=6),D7="Norm"),"C", IF(AND(OR(E7=2,E7=4,E7=6),D7="Red."),"D")))) -> D | G7: 10,00D | H7: 2780003.3 | I7: 2780010.6 | J7: 2,70D | K7: =RIGHT(J7,1) -> D | L7: =IF(J7=0,0,LEFT(J7,LEN(J7)-1)+0) -> 2.7
A8: BANCO CEF S/A C/C 1661-5 - [8559] | B8: [1.1.11.02.0019] | C8: =LEN(B8) -> 16 | D8: =IF(LEFT(TRIM(A8),1)="(","Red.","Norm") -> Norm | E8: =LEFT(SUBSTITUTE(B8,"[","",1),1)+0 -> 1 | F8: =IF(AND(OR(E8=1,E8=3,E8=5),D8="Norm"),"D", IF(AND(OR(E8=1,E8=3,E8=5),D8="Red."),"C", IF(AND(OR(E8=2,E8=4,E8=6),D8="Norm"),"C", IF(AND(OR(E8=2,E8=4,E8=6),D8="Red."),"D")))) -> D | G8: 11.601,75D | H8: 0 | I8: 11601.75 | J8: 0,00D | K8: =RIGHT(J8,1) -> D | L8: =IF(J8=0,0,LEFT(J8,LEN(J8)-1)+0) -> 0
A9: BANCO CEF S/A - C/C 2385-9 - [11530] | B9: [1.1.11.02.0031] | C9: =LEN(B9) -> 16 | D9: =IF(LEFT(TRIM(A9),1)="(","Red.","Norm") -> Norm | E9: =LEFT(SUBSTITUTE(B9,"[","",1),1)+0 -> 1 | F9: =IF(AND(OR(E9=1,E9=3,E9=5),D9="Norm"),"D", IF(AND(OR(E9=1,E9=3,E9=5),D9="Red."),"C", IF(AND(OR(E9=2,E9=4,E9=6),D9="Norm"),"C", IF(AND(OR(E9=2,E9=4,E9=6),D9="Red."),"D")))) -> D | G9: 149.894,91D | H9: 7408411.6 | I9: 7558306.5 | J9: 0,00D | K9: =RIGHT(J9,1) -> D | L9: =IF(J9=0,0,LEFT(J9,LEN(J9)-1)+0) -> 0
A10: BANCO DO BRASIL S/A C/C 7096-3 - [12888] | B10: [1.1.11.02.0032] | C10: =LEN(B10) -> 16 | D10: =IF(LEFT(TRIM(A10),1)="(","Red.","Norm") -> Norm | E10: =LEFT(SUBSTITUTE(B10,"[","",1),1)+0 -> 1 | F10: =IF(AND(OR(E10=1,E10=3,E10=5),D10="Norm"),"D", IF(AND(OR(E10=1,E10=3,E10=5),D10="Red."),"C", IF(AND(OR(E10=2,E10=4,E10=6),D10="Norm"),"C", IF(AND(OR(E10=2,E10=4,E10=6),D10="Red."),"D")))) -> D | G10: 102,60D | H10: 14038775 | I10: 14018033 | J10: 20.844,00D | K10: =RIGHT(J10,1) -> D | L10: =IF(J10=0,0,LEFT(J10,LEN(J10)-1)+0) -> 20844
A11: BANCO CEF S/A - C/C 0264-4 - [14064] | B11: [1.1.11.02.0033] | C11: =LEN(B11) -> 16 | D11: =IF(LEFT(TRIM(A11),1)="(","Red.","Norm") -> Norm | E11: =LEFT(SUBSTITUTE(B11,"[","",1),1)+0 -> 1 | F11: =IF(AND(OR(E11=1,E11=3,E11=5),D11="Norm"),"D", IF(AND(OR(E11=1,E11=3,E11=5),D11="Red."),"C", IF(AND(OR(E11=2,E11=4,E11=6),D11="Norm"),"C", IF(AND(OR(E11=2,E11=4,E11=6),D11="Red."),"D")))) -> D | G11: 0,00D | H11: 2561483.8 | I11: 2561483.8 | J11: 0,00D | K11: =RIGHT(J11,1) -> D | L11: =IF(J11=0,0,LEFT(J11,LEN(J11)-1)+0) -> 0
A12: BANCO NO BRASIL - OP - [15870] | B12: [1.1.11.02.0034] | C12: =LEN(B12) -> 16 | D12: =IF(LEFT(TRIM(A12),1)="(","Red.","Norm") -> Norm | E12: =LEFT(SUBSTITUTE(B12,"[","",1),1)+0 -> 1 | F12: =IF(AND(OR(E12=1,E12=3,E12=5),D12="Norm"),"D", IF(AND(OR(E12=1,E12=3,E12=5),D12="Red."),"C", IF(AND(OR(E12=2,E12=4,E12=6),D12="Norm"),"C", IF(AND(OR(E12=2,E12=4,E12=6),D12="Red."),"D")))) -> D | G12: 0,00D | H12: 12522170 | I12: 12522170 | J12: 0,00D | K12: =RIGHT(J12,1) -> D | L12: =IF(J12=0,0,LEFT(J12,LEN(J12)-1)+0) -> 0
A13: BANCO ITAU S/A C/C 10744-2 - [16283] | B13: [1.1.11.02.0035] | C13: =LEN(B13) -> 16 | D13: =IF(LEFT(TRIM(A13),1)="(","Red.","Norm") -> Norm | E13: =LEFT(SUBSTITUTE(B13,"[","",1),1)+0 -> 1 | F13: =IF(AND(OR(E13=1,E13=3,E13=5),D13="Norm"),"D", IF(AND(OR(E13=1,E13=3,E13=5),D13="Red."),"C", IF(AND(OR(E13=2,E13=4,E13=6),D13="Norm"),"C", IF(AND(OR(E13=2,E13=4,E13=6),D13="Red."),"D")))) -> D | G13: 10,00D | H13: 27555327 | I13: 27555337 | J13: 0,00D | K13: =RIGHT(J13,1) -> D | L13: =IF(J13=0,0,LEFT(J13,LEN(J13)-1)+0) -> 0
... A19: BANCO CEF S/A C/P 1866-9 - [10606] | B19: [1.1.11.03.0014] | C19: =LEN(B19) -> 16 | D19: =IF(LEFT(TRIM(A19),1)="(","Red.","Norm") -> Norm | E19: =LEFT(SUBSTITUTE(B19,"[","",1),1)+0 -> 1 | F19: =IF(AND(OR(E19=1,E19=3,E19=5),D19="Norm"),"D", IF(AND(OR(E19=1,E19=3,E19=5),D19="Red."),"C", IF(AND(OR(E19=2,E19=4,E19=6),D19="Norm"),"C", IF(AND(OR(E19=2,E19=4,E19=6),D19="Red."),"D")))) -> D | G19: 79,55D | H19: 7.6 | I19: 1.45 | J19: 85,70D | K19: =RIGHT(J19,1) -> D | L19: =IF(J19=0,0,LEFT(J19,LEN(J19)-1)+0) -> 85.7
A20: BANCO ITAU S/A C/C 10744-2 - [16857] | B20: [1.1.11.03.0015] | C20: =LEN(B20) -> 16 | D20: =IF(LEFT(TRIM(A20),1)="(","Red.","Norm") -> Norm | E20: =LEFT(SUBSTITUTE(B20,"[","",1),1)+0 -> 1 | F20: =IF(AND(OR(E20=1,E20=3,E20=5),D20="Norm"),"D", IF(AND(OR(E20=1,E20=3,E20=5),D20="Red."),"C", IF(AND(OR(E20=2,E20=4,E20=6),D20="Norm"),"C", IF(AND(OR(E20=2,E20=4,E20=6),D20="Red."),"D")))) -> D | G20: 4.514.866,04D | H20: 4244651.2 | I20: 8759517.2 | J20: 0 | K20: =RIGHT(J20,1) -> 0 | L20: =IF(J20=0,0,LEFT(J20,LEN(J20)-1)+0) -> 0
A21: POUPANÇA - [13658] | B21: [1.1.11.05] | C21: =LEN(B21) -> 11 | D21: =IF(LEFT(TRIM(A21),1)="(","Red.","Norm") -> Norm | E21: =LEFT(SUBSTITUTE(B21,"[","",1),1)+0 -> 1 | F21: =IF(AND(OR(E21=1,E21=3,E21=5),D21="Norm"),"D", IF(AND(OR(E21=1,E21=3,E21=5),D21="Red."),"C", IF(AND(OR(E21=2,E21=4,E21=6),D21="Norm"),"C", IF(AND(OR(E21=2,E21=4,E21=6),D21="Red."),"D")))) -> D | G21: 2.215.391,63D | H21: 168518.94 | I21: 37916.73 | J21: 2.345.993,84D | K21: =RIGHT(J21,1) -> D | L21: =IF(J21=0,0,LEFT(J21,LEN(J21)-1)+0) -> 2345993.8
A22: BANCO CEF S/A C/POUP 1866-9 CONV 787297/2013 - [13665] | B22: [1.1.11.05.0001] | C22: =LEN(B22) -> 16 | D22: =IF(LEFT(TRIM(A22),1)="(","Red.","Norm") -> Norm | E22: =LEFT(SUBSTITUTE(B22,"[","",1),1)+0 -> 1 | F22: =IF(AND(OR(E22=1,E22=3,E22=5),D22="Norm"),"D", IF(AND(OR(E22=1,E22=3,E22=5),D22="Red."),"C", IF(AND(OR(E22=2,E22=4,E22=6),D22="Norm"),"C", IF(AND(OR(E22=2,E22=4,E22=6),D22="Red."),"D")))) -> D | G22: 2.215.391,63D | H22: 168518.94 | I22: 37916.73 | J22: 2.345.993,84D | K22: =RIGHT(J22,1) -> D | L22: =IF(J22=0,0,LEFT(J22,LEN(J22)-1)+0) -> 2345993.8
A23: CREDITOS - [48] | B23: [1.1.21] | C23: =LEN(B23) -> 8 | D23: =IF(LEFT(TRIM(A23),1)="(","Red.","Norm") -> Norm | E23: =LEFT(SUBSTITUTE(B23,"[","",1),1)+0 -> 1 | F23: =IF(AND(OR(E23=1,E23=3,E23=5),D23="Norm"),"D", IF(AND(OR(E23=1,E23=3,E23=5),D23="Red."),"C", IF(AND(OR(E23=2,E23=4,E23=6),D23="Norm"),"C", IF(AND(OR(E23=2,E23=4,E23=6),D23="Red."),"D")))) -> D | G23: 7.597.374,38D | H23: 11035770 | I23: 16743757 | J23: 1.889.386,78D | K23: =RIGHT(J23,1) -> D | L23: =IF(J23=0,0,LEFT(J23,LEN(J23)-1)+0) -> 1889386.8
A24: DUPLICATAS A RECEBER - [49] | B24: [1.1.21.01] | C24: =LEN(B24) -> 11 | D24: =IF(LEFT(TRIM(A24),1)="(","Red.","Norm") -> Norm | E24: =LEFT(SUBSTITUTE(B24,"[","",1),1)+0 -> 1 | F24: =IF(AND(OR(E24=1,E24=3,E24=5),D24="Norm"),"D", IF(AND(OR(E24=1,E24=3,E24=5),D24="Red."),"C", IF(AND(OR(E24=2,E24=4,E24=6),D24="Norm"),"C", IF(AND(OR(E24=2,E24=4,E24=6),D24="Red."),"D")))) -> D | G24: 7.597.374,38D | H24: 9175045.6 | I24: 15158655 | J24: 1.613.764,58D | K24: =RIGHT(J24,1) -> D | L24: =IF(J24=0,0,LEFT(J24,LEN(J24)-1)+0) -> 1613764.6
A25: FUNDO DE SAUDE DE NOVA IGUAÇU - GO - [198] | B25: [1.1.21.01.0149] | C25: =LEN(B25) -> 16 | D25: =IF(LEFT(TRIM(A25),1)="(","Red.","Norm") -> Norm | E25: =LEFT(SUBSTITUTE(B25,"[","",1),1)+0 -> 1 | F25: =IF(AND(OR(E25=1,E25=3,E25=5),D25="Norm"),"D", IF(AND(OR(E25=1,E25=3,E25=5),D25="Red."),"C", IF(AND(OR(E25=2,E25=4,E25=6),D25="Norm"),"C", IF(AND(OR(E25=2,E25=4,E25=6),D25="Red."),"D")))) -> D | G25: 224,30D | H25: 0 | I25: 224.3 | J25: 0 | K25: =RIGHT(J25,1) -> 0 | L25: =IF(J25=0,0,LEFT(J25,LEN(J25)-1)+0) -> 0
A26: FUNDO DE SAUDE ALTO ALEGRE DOS PARECIS R - [4552] | B26: [1.1.21.01.0190] | C26: =LEN(B26) -> 16 | D26: =IF(LEFT(TRIM(A26),1)="(","Red.","Norm") -> Norm | E26: =LEFT(SUBSTITUTE(B26,"[","",1),1)+0 -> 1 | F26: =IF(AND(OR(E26=1,E26=3,E26=5),D26="Norm"),"D", IF(AND(OR(E26=1,E26=3,E26=5),D26="Red."),"C", IF(AND(OR(E26=2,E26=4,E26=6),D26="Norm"),"C", IF(AND(OR(E26=2,E26=4,E26=6),D26="Red."),"D")))) -> D | G26: 0,00D | H26: 23200 | I26: 23200 | J26: 0,00D | K26: =RIGHT(J26,1) -> D | L26: =IF(J26=0,0,LEFT(J26,LEN(J26)-1)+0) -> 0
A27: PREFEITURA MUNICIPAL DE VIANOPOLIS - [5460] | B27: [1.1.21.01.0569] | C27: =LEN(B27) -> 16 | D27: =IF(LEFT(TRIM(A27),1)="(","Red.","Norm") -> Norm | E27: =LEFT(SUBSTITUTE(B27,"[","",1),1)+0 -> 1 | F27: =IF(AND(OR(E27=1,E27=3,E27=5),D27="Norm"),"D", IF(AND(OR(E27=1,E27=3,E27=5),D27="Red."),"C", IF(AND(OR(E27=2,E27=4,E27=6),D27="Norm"),"C", IF(AND(OR(E27=2,E27=4,E27=6),D27="Red."),"D")))) -> D | G27: 0 | H27: 23800 | I27: 23800 | J27: 0 | K27: =RIGHT(J27,1) -> 0 | L27: =IF(J27=0,0,LEFT(J27,LEN(J27)-1)+0) -> 0
A28: INSTITUTO DE CIENCIAS FARMACEUTICAS - [8286] | B28: [1.1.21.01.0629] | C28: =LEN(B28) -> 16 | D28: =IF(LEFT(TRIM(A28),1)="(","Red.","Norm") -> Norm | E28: =LEFT(SUBSTITUTE(B28,"[","",1),1)+0 -> 1 | F28: =IF(AND(OR(E28=1,E28=3,E28=5),D28="Norm"),"D", IF(AND(OR(E28=1,E28=3,E28=5),D28="Red."),"C", IF(AND(OR(E28=2,E28=4,E28=6),D28="Norm"),"C", IF(AND(OR(E28=2,E28=4,E28=6),D28="Red."),"D")))) -> D | G28: 20.584,03D | H28: 0 | I28: 0 | J28: 20.584,03D | K28: =RIGHT(J28,1) -> D | L28: =IF(J28=0,0,LEFT(J28,LEN(J28)-1)+0) -> 20584.03
A29: MINISTERIO DA SAUDE - [8615] | B29: [1.1.21.01.0639] | C29: =LEN(B29) -> 16 | D29: =IF(LEFT(TRIM(A29),1)="(","Red.","Norm") -> Norm | E29: =LEFT(SUBSTITUTE(B29,"[","",1),1)+0 -> 1 | F29: =IF(AND(OR(E29=1,E29=3,E29=5),D29="Norm"),"D", IF(AND(OR(E29=1,E29=3,E29=5),D29="Red."),"C", IF(AND(OR(E29=2,E29=4,E29=6),D29="Norm"),"C", IF(AND(OR(E29=2,E29=4,E29=6),D29="Red."),"D")))) -> D | G29: 164.931,20D | H29: 0 | I29: 164931.2 | J29: 0,00D | K29: =RIGHT(J29,1) -> D | L29: =IF(J29=0,0,LEFT(J29,LEN(J29)-1)+0) -> 0
A30: FUNDO DE SAUDE DE EDEIA GO - [9259] | B30: [1.1.21.01.0654] | C30: =LEN(B30) -> 16 | D30: =IF(LEFT(TRIM(A30),1)="(","Red.","Norm") -> Norm | E30: =LEFT(SUBSTITUTE(B30,"[","",1),1)+0 -> 1 | F30: =IF(AND(OR(E30=1,E30=3,E30=5),D30="Norm"),"D", IF(AND(OR(E30=1,E30=3,E30=5),D30="Red."),"C", IF(AND(OR(E30=2,E30=4,E30=6),D30="Norm"),"C", IF(AND(OR(E30=2,E30=4,E30=6),D30="Red."),"D")))) -> D | G30: 0,00D | H30: 35700 | I30: 35700 | J30: 0,00D | K30: =RIGHT(J30,1) -> D | L30: =IF(J30=0,0,LEFT(J30,LEN(J30)-1)+0) -> 0
A31: FUNDO DE SAUDE DE MARA ROSA - [10755] | B31: [1.1.21.01.0764] | C31: =LEN(B31) -> 16 | D31: =IF(LEFT(TRIM(A31),1)="(","Red.","Norm") -> Norm | E31: =LEFT(SUBSTITUTE(B31,"[","",1),1)+0 -> 1 | F31: =IF(AND(OR(E31=1,E31=3,E31=5),D31="Norm"),"D", IF(AND(OR(E31=1,E31=3,E31=5),D31="Red."),"C", IF(AND(OR(E31=2,E31=4,E31=6),D31="Norm"),"C", IF(AND(OR(E31=2,E31=4,E31=6),D31="Red."),"D")))) -> D | G31: 0,00D | H31: 4200 | I31: 4200 | J31: 0,00D | K31: =RIGHT(J31,1) -> D | L31: =IF(J31=0,0,LEFT(J31,LEN(J31)-1)+0) -> 0
A32: FUNDO DE SAUDE DE CALDAS NOVAS GO - [10874] | B32: [1.1.21.01.0770] | C32: =LEN(B32) -> 16 | D32: =IF(LEFT(TRIM(A32),1)="(","Red.","Norm") -> Norm | E32: =LEFT(SUBSTITUTE(B32,"[","",1),1)+0 -> 1 | F32: =IF(AND(OR(E32=1,E32=3,E32=5),D32="Norm"),"D", IF(AND(OR(E32=1,E32=3,E32=5),D32="Red."),"C", IF(AND(OR(E32=2,E32=4,E32=6),D32="Norm"),"C", IF(AND(OR(E32=2,E32=4,E32=6),D32="Red."),"D")))) -> D | G32: 31.000,00D | H32: 30225 | I32: 61225 | J32: 0,00D | K32: =RIGHT(J32,1) -> D | L32: =IF(J32=0,0,LEFT(J32,LEN(J32)-1)+0) -> 0
A33: FUNDO DE SAUDE DE IPAMERI GO - [11042] | B33: [1.1.21.01.0787] | C33: =LEN(B33) -> 16 | D33: =IF(LEFT(TRIM(A33),1)="(","Red.","Norm") -> Norm | E33: =LEFT(SUBSTITUTE(B33,"[","",1),1)+0 -> 1 | F33: =IF(AND(OR(E33=1,E33=3,E33=5),D33="Norm"),"D", IF(AND(OR(E33=1,E33=3,E33=5),D33="Red."),"C", IF(AND(OR(E33=2,E33=4,E33=6),D33="Norm"),"C", IF(AND(OR(E33=2,E33=4,E33=6),D33="Red."),"D")))) -> D | G33: 0,00D | H33: 52500 | I33: 52500 | J33: 0,00D | K33: =RIGHT(J33,1) -> D | L33: =IF(J33=0,0,LEFT(J33,LEN(J33)-1)+0) -> 0
A34: FUNDO DE SAUDE DE TURVANIA GO - [11698] | B34: [1.1.21.01.0815] | C34: =LEN(B34) -> 16 | D34: =IF(LEFT(TRIM(A34),1)="(","Red.","Norm") -> Norm | E34: =LEFT(SUBSTITUTE(B34,"[","",1),1)+0 -> 1 | F34: =IF(AND(OR(E34=1,E34=3,E34=5),D34="Norm"),"D", IF(AND(OR(E34=1,E34=3,E34=5),D34="Red."),"C", IF(AND(OR(E34=2,E34=4,E34=6),D34="Norm"),"C", IF(AND(OR(E34=2,E34=4,E34=6),D34="Red."),"D")))) -> D | G34: 0,00D | H34: 16800 | I34: 16800 | J34: 0,00D | K34: =RIGHT(J34,1) -> D | L34: =IF(J34=0,0,LEFT(J34,LEN(J34)-1)+0) -> 0
A35: FUNDO DE SAUDE DE NOVO PLANALTO DE GOIAS - GO - [11768] | B35: [1.1.21.01.0823] | C35: =LEN(B35) -> 16 | D35: =IF(LEFT(TRIM(A35),1)="(","Red.","Norm") -> Norm | E35: =LEFT(SUBSTITUTE(B35,"[","",1),1)+0 -> 1 | F35: =IF(AND(OR(E35=1,E35=3,E35=5),D35="Norm"),"D", IF(AND(OR(E35=1,E35=3,E35=5),D35="Red."),"C", IF(AND(OR(E35=2,E35=4,E35=6),D35="Norm"),"C", IF(AND(OR(E35=2,E35=4,E35=6),D35="Red."),"D")))) -> D | G35: 0,00D | H35: 9000 | I35: 9000 | J35: 0,00D | K35: =RIGHT(J35,1) -> D | L35: =IF(J35=0,0,LEFT(J35,LEN(J35)-1)+0) -> 0
A36: FUNDO DE SAUDE DE LEOPOLDO DE BULHOES -GO - [11824] | B36: [1.1.21.01.0831] | C36: =LEN(B36) -> 16 | D36: =IF(LEFT(TRIM(A36),1)="(","Red.","Norm") -> Norm | E36: =LEFT(SUBSTITUTE(B36,"[","",1),1)+0 -> 1 | F36: =IF(AND(OR(E36=1,E36=3,E36=5),D36="Norm"),"D", IF(AND(OR(E36=1,E36=3,E36=5),D36="Red."),"C", IF(AND(OR(E36=2,E36=4,E36=6),D36="Norm"),"C", IF(AND(OR(E36=2,E36=4,E36=6),D36="Red."),"D")))) -> D | G36: 0,00D | H36: 4200 | I36: 4200 | J36: 0,00D | K36: =RIGHT(J36,1) -> D | L36: =IF(J36=0,0,LEFT(J36,LEN(J36)-1)+0) -> 0
A37: FUNDO DE SAUDE DE GOIANAPOLIS - GO - [11992] | B37: [1.1.21.01.0845] | C37: =LEN(B37) -> 16 | D37: =IF(LEFT(TRIM(A37),1)="(","Red.","Norm") -> Norm | E37: =LEFT(SUBSTITUTE(B37,"[","",1),1)+0 -> 1 | F37: =IF(AND(OR(E37=1,E37=3,E37=5),D37="Norm"),"D", IF(AND(OR(E37=1,E37=3,E37=5),D37="Red."),"C", IF(AND(OR(E37=2,E37=4,E37=6),D37="Norm"),"C", IF(AND(OR(E37=2,E37=4,E37=6),D37="Red."),"D")))) -> D | G37: 0,00D | H37: 33600 | I37: 33600 | J37: 0,00D | K37: =RIGHT(J37,1) -> D | L37: =IF(J37=0,0,LEFT(J37,LEN(J37)-1)+0) -> 0
A38: PREFEITURA DE QUERENCIA MT - [12279] | B38: [1.1.21.01.0854] | C38: =LEN(B38) -> 16 | D38: =IF(LEFT(TRIM(A38),1)="(","Red.","Norm") -> Norm | E38: =LEFT(SUBSTITUTE(B38,"[","",1),1)+0 -> 1 | F38: =IF(AND(OR(E38=1,E38=3,E38=5),D38="Norm"),"D", IF(AND(OR(E38=1,E38=3,E38=5),D38="Red."),"C", IF(AND(OR(E38=2,E38=4,E38=6),D38="Norm"),"C", IF(AND(OR(E38=2,E38=4,E38=6),D38="Red."),"D")))) -> D | G38: 0,00D | H38: 35302.5 | I38: 34477.5 | J38: 825,00D | K38: =RIGHT(J38,1) -> D | L38: =IF(J38=0,0,LEFT(J38,LEN(J38)-1)+0) -> 825
A39: FUNDO DE SAÚDE DE MIRANTE DA SERRA RO - [12405] | B39: [1.1.21.01.0855] | C39: =LEN(B39) -> 16 | D39: =IF(LEFT(TRIM(A39),1)="(","Red.","Norm") -> Norm | E39: =LEFT(SUBSTITUTE(B39,"[","",1),1)+0 -> 1 | F39: =IF(AND(OR(E39=1,E39=3,E39=5),D39="Norm"),"D", IF(AND(OR(E39=1,E39=3,E39=5),D39="Red."),"C", IF(AND(OR(E39=2,E39=4,E39=6),D39="Norm"),"C", IF(AND(OR(E39=2,E39=4,E39=6),D39="Red."),"D")))) -> D | G39: 0,00D | H39: 21000 | I39: 21000 | J39: 0,00D | K39: =RIGHT(J39,1) -> D | L39: =IF(J39=0,0,LEFT(J39,LEN(J39)-1)+0) -> 0
... A106: OPERAÇÕES COM A MATRIZ - [13231] | B106: [1.1.22.10] | C106: =LEN(B106) -> 11 | D106: =IF(LEFT(TRIM(A106),1)="(","Red.","Norm") -> Norm | E106: =LEFT(SUBSTITUTE(B106,"[","",1),1)+0 -> 1 | F106: =IF(AND(OR(E106=1,E106=3,E106=5),D106="Norm"),"D", IF(AND(OR(E106=1,E106=3,E106=5),D106="Red."),"C", IF(AND(OR(E106=2,E106=4,E106=6),D106="Norm"),"C", IF(AND(OR(E106=2,E106=4,E106=6),D106="Red."),"D")))) -> D | G106: 0,00D | H106: 3568271.1 | I106: 3568271.1 | J106: 0,00D | K106: =RIGHT(J106,1) -> D | L106: =IF(J106=0,0,LEFT(J106,LEN(J106)-1)+0) -> 0
A107: CRÉDITOS COM MATRIZ - [14078] | B107: [1.1.22.10.0004] | C107: =LEN(B107) -> 16 | D107: =IF(LEFT(TRIM(A107),1)="(","Red.","Norm") -> Norm | E107: =LEFT(SUBSTITUTE(B107,"[","",1),1)+0 -> 1 | F107: =IF(AND(OR(E107=1,E107=3,E107=5),D107="Norm"),"D", IF(AND(OR(E107=1,E107=3,E107=5),D107="Red."),"C", IF(AND(OR(E107=2,E107=4,E107=6),D107="Norm"),"C", IF(AND(OR(E107=2,E107=4,E107=6),D107="Red."),"D")))) -> D | G107: 0 | H107: 3568271.1 | I107: 3568271.1 | J107: 0 | K107: =RIGHT(J107,1) -> 0 | L107: =IF(J107=0,0,LEFT(J107,LEN(J107)-1)+0) -> 0
A108: OPERAÇÕES COM A FILIAL - [13280] | B108: [1.1.22.11] | C108: =LEN(B108) -> 11 | D108: =IF(LEFT(TRIM(A108),1)="(","Red.","Norm") -> Norm | E108: =LEFT(SUBSTITUTE(B108,"[","",1),1)+0 -> 1 | F108: =IF(AND(OR(E108=1,E108=3,E108=5),D108="Norm"),"D", IF(AND(OR(E108=1,E108=3,E108=5),D108="Red."),"C", IF(AND(OR(E108=2,E108=4,E108=6),D108="Norm"),"C", IF(AND(OR(E108=2,E108=4,E108=6),D108="Red."),"D")))) -> D | G108: 0 | H108: 7846369.3 | I108: 7846369.3 | J108: 0 | K108: =RIGHT(J108,1) -> 0 | L108: =IF(J108=0,0,LEFT(J108,LEN(J108)-1)+0) -> 0
A109: CRÉDITOS COM FILIAL - [13287] | B109: [1.1.22.11.0001] | C109: =LEN(B109) -> 16 | D109: =IF(LEFT(TRIM(A109),1)="(","Red.","Norm") -> Norm | E109: =LEFT(SUBSTITUTE(B109,"[","",1),1)+0 -> 1 | F109: =IF(AND(OR(E109=1,E109=3,E109=5),D109="Norm"),"D", IF(AND(OR(E109=1,E109=3,E109=5),D109="Red."),"C", IF(AND(OR(E109=2,E109=4,E109=6),D109="Norm"),"C", IF(AND(OR(E109=2,E109=4,E109=6),D109="Red."),"D")))) -> D | G109: 0 | H109: 7846369.3 | I109: 7846369.3 | J109: 0 | K109: =RIGHT(J109,1) -> 0 | L109: =IF(J109=0,0,LEFT(J109,LEN(J109)-1)+0) -> 0
A110: OPERAÇÕES COM PARCEIROS - [15632] | B110: [1.1.22.12] | C110: =LEN(B110) -> 11 | D110: =IF(LEFT(TRIM(A110),1)="(","Red.","Norm") -> Norm | E110: =LEFT(SUBSTITUTE(B110,"[","",1),1)+0 -> 1 | F110: =IF(AND(OR(E110=1,E110=3,E110=5),D110="Norm"),"D", IF(AND(OR(E110=1,E110=3,E110=5),D110="Red."),"C", IF(AND(OR(E110=2,E110=4,E110=6),D110="Norm"),"C", IF(AND(OR(E110=2,E110=4,E110=6),D110="Red."),"D")))) -> D | G110: 426.982,69D | H110: 12457681 | I110: 12884663 | J110: 0,00D | K110: =RIGHT(J110,1) -> D | L110: =IF(J110=0,0,LEFT(J110,LEN(J110)-1)+0) -> 0
A111: ANTECIPAÇÃO A PARCEIROS HMD - [15639] | B111: [1.1.22.12.0001] | C111: =LEN(B111) -> 16 | D111: =IF(LEFT(TRIM(A111),1)="(","Red.","Norm") -> Norm | E111: =LEFT(SUBSTITUTE(B111,"[","",1),1)+0 -> 1 | F111: =IF(AND(OR(E111=1,E111=3,E111=5),D111="Norm"),"D", IF(AND(OR(E111=1,E111=3,E111=5),D111="Red."),"C", IF(AND(OR(E111=2,E111=4,E111=6),D111="Norm"),"C", IF(AND(OR(E111=2,E111=4,E111=6),D111="Red."),"D")))) -> D | G111: 0,00D | H111: 12457681 | I111: 12457681 | J111: 0,00D | K111: =RIGHT(J111,1) -> D | L111: =IF(J111=0,0,LEFT(J111,LEN(J111)-1)+0) -> 0
...

Sheet QUADROS QUE FALTARAM
A2: 21
B3: Reservas | C3: 2022 | E3: 2021
B4: Ajuste de Avaliação Patrim. | C4: 3239421.9 | E4: 15177736
B5: APP - Ajuste de Avaliação Patrim. | C5: -1925126.7 | E5: 0
B6: TOTAL | C6: =SUM(C3:C5) -> 1314295.2 | E6: =SUM(E3:E5) -> 15177736
A11: 22 | B11: CUSTOS DOS PRODUTOS
C12: 2022 | E12: 2021
B13: Salários e Encargos | C13: =-SUMIFS('BALANCETE 2022'!#REF!,'BALANCETE 2022'!M:M,'QUADROS QUE FALTARAM'!F13) -> #REF! | E13: -111175.99 | F13: 22.1
B14: Gastos Gerais de Fabricação e Estoques | C14: =-SUMIFS('BALANCETE 2022'!#REF!,'BALANCETE 2022'!M:M,'QUADROS QUE FALTARAM'!F14) -> #REF! | E14: -20205451 | F14: 22.2 | G14: ='BALANCETE 2022'!#REF! -> #REF! | I14: Depreciação Custos
B15: Despesas com Importação | C15: =-SUMIFS('BALANCETE 2022'!#REF!,'BALANCETE 2022'!M:M,'QUADROS QUE FALTARAM'!F15) -> #REF! | E15: -3267071 | F15: 22.3
B16: Outros | C16: =-SUMIFS('BALANCETE 2022'!#REF!,'BALANCETE 2022'!M:M,'QUADROS QUE FALTARAM'!F16) -> #REF! | E16: -5491.86 | F16: 22.4
B17: TOTAL | C17: =SUM(C13:C16) -> #REF! | E17: -23589190
A20: 23 | B20: DESPESAS OPERACIONAIS E ADMINISTRATIVAS
C21: 2022 | E21: 2021
B22: Com pessoal e encargos | C22: =-SUMIFS('BALANCETE 2022'!#REF!,'BALANCETE 2022'!M:M,'QUADROS QUE FALTARAM'!F22) -> #REF! | E22: -9262204.7 | F22: 23.1
B23: Água, Energia e Telefone. | C23: =-SUMIFS('BALANCETE 2022'!#REF!,'BALANCETE 2022'!M:M,'QUADROS QUE FALTARAM'!F23) -> #REF! | E23: -332375.06 | F23: 23.2
B24: Serviço de Limpeza e Manutenção | C24: =-SUMIFS('BALANCETE 2022'!#REF!,'BALANCETE 2022'!M:M,'QUADROS QUE FALTARAM'!F24) -> #REF! | E24: -712785.1 | F24: 23.3
B25: Fretes | C25: =-SUMIFS('BALANCETE 2022'!#REF!,'BALANCETE 2022'!M:M,'QUADROS QUE FALTARAM'!F25) -> #REF! | E25: -345453.82 | F25: 23.4
B26: Serviços de Terceiros | C26: =-SUMIFS('BALANCETE 2022'!#REF!,'BALANCETE 2022'!M:M,'QUADROS QUE FALTARAM'!F26) -> #REF! | E26: -374575.97 | F26: 23.5
B27: Material em Geral | C27: =-SUMIFS('BALANCETE 2022'!#REF!,'BALANCETE 2022'!M:M,'QUADROS QUE FALTARAM'!F27) -> #REF! | E27: -57000.32 | F27: 23.6
B28: Registros, Licenças, Assinatura e Publicações. | C28: =-SUMIFS('BALANCETE 2022'!#REF!,'BALANCETE 2022'!M:M,'QUADROS QUE FALTARAM'!F28) -> #REF! | E28: -3795.4 | F28: 23.7
B29: Despesas com viagens e veículos | C29: =-SUMIFS('BALANCETE 2022'!#REF!,'BALANCETE 2022'!M:M,'QUADROS QUE FALTARAM'!F29) -> #REF! | E29: -30963.25 | F29: 23.8
B30: Refeições e Lanches | C30: =-SUMIFS('BALANCETE 2022'!#REF!,'BALANCETE 2022'!M:M,'QUADROS QUE FALTARAM'!F30) -> #REF! | E30: -10599.05 | F30: 23.9
B31: Outras | C31: =-SUMIFS('BALANCETE 2022'!#REF!,'BALANCETE 2022'!M:M,'QUADROS QUE FALTARAM'!F31) -> #REF! | E31: -556625 | F31: 23.10
B32: Impairment | C32: =-SUMIFS('BALANCETE 2022'!#REF!,'BALANCETE 2022'!M:M,'QUADROS QUE FALTARAM'!F32) -> #REF! | E32: 0 | F32: 23.12
B33: Depreciação | C33: =-SUMIFS('BALANCETE 2022'!#REF!,'BALANCETE 2022'!M:M,'QUADROS QUE FALTARAM'!F33) -> #REF! | E33: -558901.65 | F33: 23.11
B34: TOTAL | C34: =SUM(C22:C33) -> #REF! | E34: -12245279
A37: 24 | B37: DESPESAS TRIBUTARIAS
C38: 2022 | E38: 2021
B39: Taxas e Tributos Federais | C39: =-SUMIFS('BALANCETE 2022'!#REF!,'BALANCETE 2022'!M:M,'QUADROS QUE FALTARAM'!F39) -> #REF! | E39: -119907.21 | F39: 24.1
B40: Impostos e Taxas Estaduais | C40: =-SUMIFS('BALANCETE 2022'!#REF!,'BALANCETE 2022'!M:M,'QUADROS QUE FALTARAM'!F40) -> #REF! | E40: -14443.91 | F40: 24.2
B41: Outras Despesas Tributarias | C41: =-SUMIFS('BALANCETE 2022'!#REF!,'BALANCETE 2022'!M:M,'QUADROS QUE FALTARAM'!F41) -> #REF! | E41: -192085.78 | F41: 24.3
B42: TOTAL | C42: =SUM(C39:C41) -> #REF! | E42: -326436.9
A47: 25 | B47: Resultado Financeiro
C48: 2022 | E48: 2021
B49: Receita Financeira | C49: =SUMIFS('BALANCETE 2022'!#REF!,'BALANCETE 2022'!M:M,'QUADROS QUE FALTARAM'!F49) -> #REF! | E49: 60749.82 | F49: 25.1
B50: Despesa Financeira | C50: =-SUMIFS('BALANCETE 2022'!#REF!,'BALANCETE 2022'!M:M,'QUADROS QUE FALTARAM'!F50) -> #REF! | E50: -838003.4 | F50: 25.2
B51: TOTAL | C51: =SUM(C49:C50) -> #REF! | E51: =SUM(E49:E50) -> -777253.58

Sheet BP
B7: INDÚSTRIA QUÍMICA DO ESTADO DE GOIÁS S/A - IQUEGO
B8: CNPJ: 01.541.283/00001-41 | J8: DFC
J9: =I15 -> 6903819.1 | K9: Caixa e Equivalentes de Caixa no Início do Período
B10: IQUEGO - INDÚSTRIA QUÍMICA DO ESTADO DE GOIÁS S/A PRODUTOS PARA SAÚDE | J10: =H15 -> 2861198.4 | K10: Caixa e Equivalentes de Caixa no Final do Período
B11: CNPJ: 01.541.283/0001-41 | J11: =J10-J9 -> -4042620.7 | K11: VARIAÇÃO
B13: ATIVO | G13: NOTA | H13: 2022 | I13: 2021
B14: CIRCULANTE | H14: =SUM(H15:H20) -> 22601893 | I14: =SUM(I15:I20) -> 23522891
D15: Caixa e Equivalentes de Caixa | G15: 4 | H15: =SUM('BALANCETE 2022'!F14) -> 2861198.4 | I15: =SUM('BALANCETE 2021'!I12) -> 6903819.1 | J15: =I15-H15 -> 4042620.7
D16: Clientes a Receber | G16: 5 | H16: =SUM('BALANCETE 2022'!F33) -> 1889386.8 | I16: =SUM('BALANCETE 2021'!I30) -> 7597374.4 | J16: =I16-H16 -> 5707987.6 | K16: (-) Aumento em Clientes a Receber
D17: Créditos Diversos | G17: 6 | H17: =SUM('BALANCETE 2022'!F105+'BALANCETE 2022'!F112) -> 2332024.6 | I17: =SUM('BALANCETE 2021'!I168+'BALANCETE 2021'!I176) -> 1269827.9 | J17: =I17-H17 -> -1062196.8 | K17: (+) Redução em Créditos Diversos
D18: Adiantamentos | G18: 7 | H18: =SUM('BALANCETE 2022'!F102+'BALANCETE 2022'!F120) -> 100920.1 | I18: =SUM('BALANCETE 2021'!I165+'BALANCETE 2021'!I184) -> 488421.09 | J18: =I18-H18 -> 387500.99 | K18: (-) Aumento em Adiantamentos
D19: Estoques | G19: 8 | H19: =SUM('BALANCETE 2022'!F123+'BALANCETE 2022'!F138+'BALANCETE 2022'!F142+'BALANCETE 2022'!F146+'BALANCETE 2022'!F155) -> 11843503 | I19: =SUM('BALANCETE 2021'!I187+'BALANCETE 2021'!I201+'BALANCETE 2021'!I204+'BALANCETE 2021'!I208)-0.01 -> 5738080.6 | J19: =I19-H19 -> -6105422.2 | K19: (-) Aumento em Estoques
D20: Outros Créditos | G20: 9 | H20: =SUM('BALANCETE 2022'!F159) -> 3574860.5 | I20: =SUM('BALANCETE 2021'!I212) -> 1525367.9 | J20: =I20-H20 -> -2049492.6 | K20: (+) Redução em Outros Créditos
B22: NÃO CIRCULANTE | H22: =SUM(H23:H25) -> 35886327 | I22: =SUM(I23:I25) -> 67568402
D23: Realizável a Longo Prazo | G23: 10 | H23: =SUM('BALANCETE 2022'!F165) -> 7492499.3 | I23: =SUM('BALANCETE 2021'!I216) -> 6256695.3 | J23: =I23-H23 -> -1235804 | K23: (+)Redução de Realizável Longo Prazo
D24: Investimentos | G24: 10A | H24: =SUM('BALANCETE 2022'!F172) -> 52634.4 | I24: =SUM('BALANCETE 2021'!I223) -> 52634.4 | J24: =I24-H24 -> 0
D25: Imobilizado | G25: 11 | H25: =SUM('BALANCETE 2022'!F184) -> 28341194 | I25: =SUM('BALANCETE 2021'!I235) -> 61259072 | J25: =I25-H25 -> 32917878 | N25: -376090.91 | O25: =J25+N25 -> 32541787
B27: TOTAL DO ATIVO | H27: =H14+H22 -> 58488221 | I27: =I22+I14 -> 91091293 | J27: =SUM(J14:J25) -> 32603072 | K27: =I27-H27 -> 32603072
I28: =SUM(I31:I36)-(I36) -> 34168771
B29: PASSIVO | H29: =SUM(H31:H35) -> 36773048
B30: CIRCULANTE
D31: Fornecedores | G31: 12 | H31: =-SUM('BALANCETE 2022'!F269) -> 22911740 | I31: =SUM('BALANCETE 2021'!I311) -> 22361298 | J31: =H31-I31 -> 550442.22 | K31: (-) Redução em Fornecedores e Outras Contas a Pagar
D32: Obrigações Sociais e Trabalhistas | G32: 13 | H32: =-SUM('BALANCETE 2022'!F383+'BALANCETE 2022'!F435) -> 1088958.9 | I32: =SUM('BALANCETE 2021'!I423+'BALANCETE 2021'!I476) -> 1032217.1 | J32: =H32-I32 -> 56741.8 | K32: (-) Redução em Obrig Socias,Trabalhistas e Provisões
D33: Obrigações Fiscais e Tributárias | G33: 14 | H33: =-SUM('BALANCETE 2022'!F402) -> 1157924.9 | I33: =SUM('BALANCETE 2021'!I441) -> 913935.89 | J33: =H33-I33 -> 243988.96 | K33: (+) Aumento em Obrigações Tributárias
D34: Adto de Clientes e Convênios | G34: 15 | H34: =-SUM('BALANCETE 2022'!F420) -> 8816074.6 | I34: =SUM('BALANCETE 2021'!I460) -> 6020890.9 | J34: =H34-I34 -> 2795183.6 | K34: (+) Aumento em Adto de Clientes e Convênios
D35: Outras Contas a Pagar | G35: 16 | H35: =-SUM('BALANCETE 2022'!F425+'BALANCETE 2022'!F429+'BALANCETE 2022'!F441) -> 2798349.8 | I35: =SUM('BALANCETE 2021'!I466+'BALANCETE 2021'!I470+'BALANCETE 2021'!I482) -> 3840429.4 | J35: =H35-I35 -> -1042079.6 | K35: (-) Redução em Fornecedores e Outras Contas a Pagar
B37: NÃO CIRCULANTE | H37: =SUM(H38:H41) -> 48715221 | I37: =SUM(I38:I41) -> 55060252
D38: Contas a Pagar a Longo Prazo | G38: 17 | H38: =-SUM('BALANCETE 2022'!F447+'BALANCETE 2022'!F458) -> 1807154 | I38: =SUM('BALANCETE 2021'!I489+'BALANCETE 2021'!I500) -> 2008093.7 | J38: =H38-I38 -> -200939.7 | K38: (+) Exigível Longo Prazo
D39: Obrigações Tributárias | G39: 18 | H39: =-SUM('BALANCETE 2022'!F449) -> 2094201.4 | I39: =SUM('BALANCETE 2021'!I492) -> 1855688.2 | J39: =H39-I39 -> 238513.18 | K39: (+) Exigível Longo Prazo
D40: Provisões de Risco | G40: 19 | H40: =-SUM('BALANCETE 2022'!F460) -> 44813866 | I40: =SUM('BALANCETE 2021'!I502) -> 37731110 | J40: =H40-I40 -> 7082755.7 | K40: (+) Exigível Longo Prazo
D41: Tributos Diferidos | G41: 19A | H41: =-SUM('BALANCETE 2022'!F465) -> 0 | I41: =SUM('BALANCETE 2021'!I507) -> 13465361 | J41: =H41-I41 -> -13465361
B43: PATRIMÔNIO LÍQUIDO | H43: =SUM(H45:H48) -> -27000048 | I43: =SUM(I45:I48) -> 1862269.1 | K43: =I43-H43 -> 28862317
D45: Capital Social | G45: 20 | H45: =-SUM('BALANCETE 2022'!F470+'BALANCETE 2022'!F485) -> 2.2348375e+08 | I45: =SUM('BALANCETE 2021'!I515-'BALANCETE 2021'!I535) -> 2.2348375e+08 | J45: =H45-I45 -> 0
D46: Reservas | G46: 21 | H46: =-SUM('BALANCETE 2022'!F475) -> 0 | I46: =SUM('BALANCETE 2021'!I520) -> 15177736 | J46: =H46-I46 -> -15177736 | K46: =SUM(J46:J48) -> -28862317
D47: Lucro (Prejuizos) Acumulados | G47: 22 | H47: =SUM(-'BALANCETE 2022'!F479) -> -2.3316059e+08 | I47: =SUM(-'BALANCETE 2021'!I528) -> -2.3051603e+08 | J47: =H47-I47 -> -2644558.3
D48: Lucro (Prejuizos) do Exercício | G48: 23 | H48: =DRE!D29 -> -17323207 | I48: =DRE!F29 -> -6283183.7 | J48: =-I48+H48 -> -11040023
B49: TOTAL DO PASSIVO | H49: =H29+H37+H43 -> 58488221 | I49: =SUM(I28+I37+I43) -> 91091293 | J49: =SUM(J29:J48) -> -32603072
H51: =H27-H49 -> 0 | I51: =I27-I49 -> -0.0020000041 | K51: =H48 -> -17323207 | L51: resultado
B53: Jose Carlos dos Santos Vera Lucia Nunes dos Santos
B54: Diretor Presidente Contadora CRC-Go 260008/0 | K54: =+K51-K46 -> 11539111
...

Sheet DRE
A1: INDÚSTRIA QUÍMICA DO ESTADO DE GOIÁS S/A - IQUEGO
A2: CNPJ: 01.541.283/0001-41
A6: DEMONSTRAÇÃO DO RESULTADO
J7: CONFERÊNCIA
J8: ORIGINAL
B9: NOTA | D9: 2022 | F9: 2021 | H9: 2020 | J9: 2021 | L9: DIFERENÇA
A10: RECEITAS | D10: =SUM(D11:D13) -> 24055943 | F10: =SUM(F11:F13) -> 30654976 | H10: =SUM(H11:H13) -> 28268715 | J10: 30654976 | L10: =F10-J10 -> 0
A11: RECEITAS OPERACIONAIS | B11: 21.a | D11: =-SUMIF('BALANCETE 2022'!J:J,DRE!B11,'BALANCETE 2022'!F:F) -> 8317112.1 | F11: =SUMIFS('BALANCETE 2021'!L:L,'BALANCETE 2021'!O:O,DRE!B11) -> 21931897 | H11: =SUM(-('[1]BALANCETE DEZEMBRO DE 2020'!Q806)) -> 29381585 | J11: 21931897 | L11: =F11-J11 -> 0
A12: Outras receitas | B12: 21.b | D12: =-SUMIF('BALANCETE 2022'!J:J,DRE!B12,'BALANCETE 2022'!F:F) -> 16557668 | F12: =SUMIFS('BALANCETE 2021'!L:L,'BALANCETE 2021'!O:O,DRE!B12) -> 10872630 | H12: =('[1]BALANCETE DEZEMBRO DE 2020'!Q817+'[1]BALANCETE DEZEMBRO DE 2020'!Q820+'[1]BALANCETE DEZEMBRO DE 2020'!Q824+'[1]BALANCETE DEZEMBRO DE 2020'!Q825+'[1]BALANCETE DEZEMBRO DE 2020'!Q826+'[1]BALANCETE DEZEMBRO DE 2020'!Q827+'[1]BALANCETE DEZEMBRO DE 2020'!Q828+'[1]BALANCETE DEZEMBRO DE 2020'!Q830+'[1]BALANCETE DEZEMBRO DE 2020'!Q843)*-1 -> 1604522.1 | J12: 10872630 | L12: =F12-J12 -> 0
A13: Dedução Receita (-) | B13: 21.c | D13: =-SUMIF('BALANCETE 2022'!J:J,DRE!B13,'BALANCETE 2022'!F:F) -> -818837.26 | F13: =-SUMIFS('BALANCETE 2021'!L:L,'BALANCETE 2021'!O:O,DRE!B13) -> -2149550.9 | H13: ='[1]BALANCETE DEZEMBRO DE 2020'!Q844*-1 -> -2717392.7 | J13: -2149550.9 | L13: =F13-J13 -> 0
L14: =F14-J14 -> 0
A15: CUSTOS | D15: =SUM(D16:D16) -> -10221463 | F15: =SUM(F16:F16) -> -23589190 | H15: =SUM(H16:H16) -> -27477542 | J15: -23589190 | L15: =F15-J15 -> 0
A16: Custos com fabricação de Produtos | B16: 22 | D16: =-SUMIF('BALANCETE 2022'!J:J,DRE!B16,'BALANCETE 2022'!F:F) -> -10221463 | F16: =-SUMIFS('BALANCETE 2021'!L:L,'BALANCETE 2021'!O:O,DRE!B16) -> -23589190 | H16: =('[1]BALANCETE DEZEMBRO DE 2020'!P668+'[1]BALANCETE DEZEMBRO DE 2020'!P675+'[1]BALANCETE DEZEMBRO DE 2020'!P686)*-1 -> -27477542 | J16: -23589190 | L16: =F16-J16 -> 0
L17: =F17-J17 -> 0
A18: DESPESAS | D18: =SUM(D19:D20) -> -30309370 | F18: =SUM(F19:F20) -> -12571716 | H18: =SUM(H19:H20) -> -18899394 | J18: -12571716 | L18: =F18-J18 -> 0
A19: DESPESAS OPERACIONAIS E ADMINISTRATIVAS | B19: 23 | D19: =-SUMIF('BALANCETE 2022'!J:J,DRE!B19,'BALANCETE 2022'!F:F) -> -28534350 | F19: =-SUMIFS('BALANCETE 2021'!L:L,'BALANCETE 2021'!O:O,DRE!B19) -> -12245279 | H19: =('[1]BALANCETE DEZEMBRO DE 2020'!Q701+'[1]BALANCETE DEZEMBRO DE 2020'!Q725+'[1]BALANCETE DEZEMBRO DE 2020'!Q730+'[1]BALANCETE DEZEMBRO DE 2020'!Q739)*-1 -> -18139253 | J19: -12245279 | L19: =F19-J19 -> 0
A20: DESPESAS TRIBUTARIAS | B20: 24 | D20: =-SUMIF('BALANCETE 2022'!J:J,DRE!B20,'BALANCETE 2022'!F:F) -> -1775020.5 | F20: =-SUMIFS('BALANCETE 2021'!L:L,'BALANCETE 2021'!O:O,DRE!B20) -> -326436.9 | H20: ='[1]BALANCETE DEZEMBRO DE 2020'!Q790*-1 -> -760141.36 | J20: -326436.9 | L20: =F20-J20 -> 0
L21: =F21-J21 -> 0
L22: =F22-J22 -> 0
A23: RESULTADO ANTES DAS RECEITAS E DESP.FINANC | B23: 25 | D23: =SUM(D24:D25) -> -848316.53 | F23: =SUM(F24:F25) -> -777253.58 | H23: =SUM(H24:H25) -> -2517285.8 | J23: -777253.58 | L23: =F23-J23 -> 0
A24: Receitas Financeiras | B24: 25.a | D24: =-SUMIF('BALANCETE 2022'!J:J,DRE!B24,'BALANCETE 2022'!F:F) -> 545869.67 | F24: =SUMIFS('BALANCETE 2021'!L:L,'BALANCETE 2021'!O:O,DRE!B24) -> 60749.82 | H24: =SUM(-('[1]BALANCETE DEZEMBRO DE 2020'!Q831)) -> 53305.21 | J24: 60749.82 | L24: =F24-J24 -> 0
A25: (-) Despesas Financeiras | B25: 25.b | D25: =-SUMIF('BALANCETE 2022'!J:J,DRE!B25,'BALANCETE 2022'!F:F) -> -1394186.2 | F25: =-SUMIFS('BALANCETE 2021'!L:L,'BALANCETE 2021'!O:O,DRE!B25) -> -838003.4 | H25: ='[1]BALANCETE DEZEMBRO DE 2020'!Q777*-1 -> -2570591.1 | J25: -838003.4 | L25: =F25-J25 -> 0
L26: =F26-J26 -> 0
A27: RESULTADO ANTES DO IRPJ E CSLL | D27: =SUM(D10+D15+D18+D23) -> -17323207 | F27: =SUM(F10+F15+F18+F23) -> -6283183.7 | H27: =SUM(H10+H15+H18+H23) -> -20625508 | J27: -6283183.7 | L27: =F27-J27 -> 0
A28: (-) PROVISÃO DE IRPJ E CSLL | D28: 0 | F28: 0 | H28: 0 | J28: 0 | L28: =F28-J28 -> 0
A29: RESULTADO LIQUÍDO DO EXERCÍCIO | D29: =D27+D28 -> -17323207 | F29: =F27+F28 -> -6283183.7 | H29: =H27+H28 -> -20625508 | J29: -6283183.7 | L29: =F29-J29 -> 0
A36: Denes Pereira Alves Rondinelly Hélio dos Santos Kid Freire
A37: Diretor Presidente Diretor Adm / Financeiro CRC-Go 013415/0
A38: Contador

Sheet DMPL
B9: INDÚSTRIA QUÍMICA DO ESTADO DE GOIÁS S/A - IQUEGO
B10: CNPJ Nº 01.541.283/0001-41
B12: DEMONSTRAÇÃO DAS MUTAÇÕES DO PATRIMONIO LÍQUIDO
B13: DOS EXERCÍCIOS FINDOS EM 31 DE DEZEMBRO DE 2022 E 2021
B18: Descrição | C18: Capital Social | D18: Reservas | E18: Resultado Acumulados | F18: Outros Resultados Abrangentes | G18: Total
B20: SALDOS EM 01.01.2021 | C20: 2.2348375e+08 | D20: 28897862 | E20: -2.4908448e+08 | F20: 0 | G20: =C20+D20+E20+F20 -> 3297130.6
