Workbook

Sheet APRESENTAÇÃO
A1: . | B1: . | C1: . | D1: . | E1: . | F1: . | G1: . | H1: . | I1: . | J1: . | K1: . | L1: . | M1: . | N1: . | O1: .
P2: ANÁLISE PAR A PAR
P3: TERRA | R3: LIMITAÇÃO | S3: LIMITAÇÃO DE CULTURAS | T3: RISCOS COMPLEMENTARES | U3: ÁREA ATINGIDA | V3: RECUPERAÇÃO
R4: 9 | S4: 7 | T4: 7 | U4: 3 | V4: 1
P5: LIMITAÇÃO | Q5: 9 | R5: =Q5/$R$4 -> 1 | S5: =Q5/$S$4 -> 1.2857143 | T5: =Q5/$T$4 -> 1.2857143 | U5: =Q5/$U$4 -> 3 | V5: =Q5/$V$4 -> 9
P6: LIMITAÇÃO DE CULTURAS | Q6: 7 | R6: =Q6/$R$4 -> 0.77777778 | S6: =Q6/$S$4 -> 1 | T6: =Q6/$T$4 -> 1 | U6: =Q6/$U$4 -> 2.3333333 | V6: =Q6/$V$4 -> 7
P7: RISCOS COMPLEMENTARES | Q7: 7 | R7: =Q7/$R$4 -> 0.77777778 | S7: =Q7/$S$4 -> 1 | T7: =Q7/$T$4 -> 1 | U7: =Q7/$U$4 -> 2.3333333 | V7: =Q7/$V$4 -> 7
P8: ÁREA ATINGIDA | Q8: 3 | R8: =Q8/$R$4 -> 0.33333333 | S8: =Q8/$S$4 -> 0.42857143 | T8: =Q8/$T$4 -> 0.42857143 | U8: =Q8/$U$4 -> 1 | V8: =Q8/$V$4 -> 3
P9: RECUPERAÇÃO | Q9: 1 | R9: =Q9/$R$4 -> 0.11111111 | S9: =Q9/$S$4 -> 0.14285714 | T9: =Q9/$T$4 -> 0.14285714 | U9: =Q9/$U$4 -> 0.33333333 | V9: =Q9/$V$4 -> 1
P10: SOMA | R10: =SUM(R5:R9) -> 3 | S10: =SUM(S5:S9) -> 3.8571429 | T10: =SUM(T5:T9) -> 3.8571429 | U10: =SUM(U5:U9) -> 9 | V10: =SUM(V5:V9) -> 27
P12: Normalização da Matriz | W12: Prioridades | Y12: DIF | Z12: FATOR DE PREÇO
P13: LIMITAÇÃO | R13: =R5/$R$10 -> 0.33333333 | S13: =S5/$S$10 -> 0.33333333 | T13: =T5/$T$10 -> 0.33333333 | U13: =U5/$U$10 -> 0.33333333 | V13: =V5/$V$10 -> 0.33333333 | W13: =AVERAGE(R13:V13) -> 0.33333333 | X13: =W13:W17 -> 0.33333333 | Y13: =1-X13 -> 0.66666667 | Z13: =X13+$I$13 -> 0.33333333
P14: LIMITAÇÃO DE CULTURAS | R14: =R6/$R$10 -> 0.25925926 | S14: =S6/$S$10 -> 0.25925926 | T14: =T6/$T$10 -> 0.25925926 | U14: =U6/$U$10 -> 0.25925926 | V14: =V6/$V$10 -> 0.25925926 | W14: =AVERAGE(R14:V14) -> 0.25925926 | X14: =W14:W17 -> 0.25925926 | Y14: =1-X14 -> 0.74074074 | Z14: =X14+$I$13 -> 0.25925926
P15: RISCOS COMPLEMENTARES | R15: =R7/$R$10 -> 0.25925926 | S15: =S7/$S$10 -> 0.25925926 | T15: =T7/$T$10 -> 0.25925926 | U15: =U7/$U$10 -> 0.25925926 | V15: =V7/$V$10 -> 0.25925926 | W15: =AVERAGE(R15:V15) -> 0.25925926 | X15: =W15:W17 -> 0.25925926 | Y15: =1-X15 -> 0.74074074 | Z15: =X15+$I$13 -> 0.25925926
P16: ÁREA ATINGIDA | R16: =R8/$R$10 -> 0.11111111 | S16: =S8/$S$10 -> 0.11111111 | T16: =T8/$T$10 -> 0.11111111 | U16: =U8/$U$10 -> 0.11111111 | V16: =V8/$V$10 -> 0.11111111 | W16: =AVERAGE(R16:V16) -> 0.11111111 | X16: =W16:W17 -> 0.11111111 | Y16: =1-X16 -> 0.88888889 | Z16: =X16+$I$13 -> 0.11111111
P17: RECUPERAÇÃO | R17: =R9/$R$10 -> 0.037037037 | S17: =S9/$S$10 -> 0.037037037 | T17: =T9/$T$10 -> 0.037037037 | U17: =U9/$U$10 -> 0.037037037 | V17: =V9/$V$10 -> 0.037037037 | W17: =AVERAGE(R17:V17) -> 0.037037037 | X17: =W17:W17 -> 0.037037037 | Y17: =1-X17 -> 0.96296296 | Z17: =X17+$I$13 -> 0.037037037
R19: FATOR DE DEPRECIAÇÃO | T19: ÍNDICE DEPRECIATIVO
R20: LIMITAÇÃO | S20: 33.33 | T20: TOTAL | U20: PARCIAL | V20: MINIMA
T21: =LIMITAÇÃO!H13 -> 0.46666667 | U21: =LIMITAÇÃO!H14 -> 0.33333333 | V21: =LIMITAÇÃO!H15 -> 0.2
R22: LIMITAÇÃO DE CULTURAS | S22: 25.93 | T22: TOTAL | U22: PARCIAL | V22: NULA
T23: ='LIMITAÇÃO DE CULTURAS'!H13 -> 0.69230769 | U23: ='LIMITAÇÃO DE CULTURAS'!H14 -> 0.23076923 | V23: ='LIMITAÇÃO DE CULTURAS'!H15 -> 0.076923077
R24: RISCOS COMPLEMENTARES | S24: 25.93 | T24: 3 DANOS | U24: ATÉ 2 DANOS | V24: NENHUM DANO
T25: ='RISCOS COMPLEMENTARES'!H13 -> 0.6 | U25: ='RISCOS COMPLEMENTARES'!H14 -> 0.33333333 | V25: ='RISCOS COMPLEMENTARES'!H15 -> 0.066666667
R26: ÁREA ATINGIDA | S26: 11.11 | T26: > 50% | U26: 11% ATE 50% | V26: ATE 10%
T27: ='ÁREA ATINGIDA'!H13 -> 0.63636364 | U27: ='ÁREA ATINGIDA'!H14 -> 0.27272727 | V27: ='ÁREA ATINGIDA'!H15 -> 0.090909091
R28: RECUPERAÇÃO | S28: 3.7 | T28: SEM DEVOLUÇÃO DE MATERIAL SEGMENTADO | U28: COM DEVOLUÇÃO DE MATERIAL SEGMENTADO MISTURADO | V28: COM DEVOLUÇÃO DE MATERIAL SEGMENTADO SEPARADO
T29: =RECUPERAÇÃO!H13 -> 0.55555556 | U29: =RECUPERAÇÃO!H14 -> 0.33333333 | V29: =RECUPERAÇÃO!H15 -> 0.11111111
R33: 6.67 | S33: 100 | T33: 71.43 | U33: 14.29
R34: 33.33 | S34: 100 | T34: 55.56 | U34: 33.33
R35: 60 | S35: 100 | T35: 55.56 | U35: 11.11
S37: =(R33*S33)+(R34*S34)+(R35*T35) -> 7333.6
W38: LIMITAÇÃO DO IMÓVEL | Z38: LIMITAÇÃO | AA38: LIMITAÇÃO DE CULTURAS | AB38: RISCOS COMPLEMENTARES | AC38: ÁREA ATINGIDA | AD38: RECUPERAÇÃO | AE38: -
V39: SEM USO | W39: TOTAL | X39: 46.67 | Z39: TOTAL | AA39: TOTAL | AB39: 3 DANOS | AC39: > 50% | AD39: SEM DEVOLUÇÃO DE MATERIAL SEGMENTADO | AE39: =(X13*LIMITAÇÃO!D5)+(APRESENTAÇÃO!X14*'LIMITAÇÃO DE CULTURAS'!D5)+(APRESENTAÇÃO!X15*'RISCOS COMPLEMENTARES'!D5)+(APRESENTAÇÃO!X16*'ÁREA ATINGIDA'!D5)+(APRESENTAÇÃO!X17*RECUPERAÇÃO!D5) -> 1
V40: USO COMPROMETIDO | W40: PARCIAL | X40: 33.33 | Z40: TOTAL | AA40: TOTAL | AB40: 3 DANOS | AC40: > 50% | AD40: COM DEVOLUÇÃO DE MATERIAL SEGMENTADO MISTURADO | AE40: =(X13*LIMITAÇÃO!D5)+(APRESENTAÇÃO!X14*'LIMITAÇÃO DE CULTURAS'!D5)+(APRESENTAÇÃO!X15*'RISCOS COMPLEMENTARES'!D5)+(APRESENTAÇÃO!X16*'ÁREA ATINGIDA'!D5)+(APRESENTAÇÃO!X17*RECUPERAÇÃO!D6) -> 0.98518519
V41: USO ESPECÍFICO | W41: MÍNIMA | X41: 20 | Z41: TOTAL | AA41: TOTAL | AB41: 3 DANOS | AC41: > 50% | AD41: COM DEVOLUÇÃO DE MATERIAL SEGMENTADO SEPARADO | AE41: =(X13*LIMITAÇÃO!D5)+(APRESENTAÇÃO!X14*'LIMITAÇÃO DE CULTURAS'!D5)+(APRESENTAÇÃO!X15*'RISCOS COMPLEMENTARES'!D5)+(APRESENTAÇÃO!X16*'ÁREA ATINGIDA'!D5)+(APRESENTAÇÃO!X17*RECUPERAÇÃO!D7) -> 0.97037037
W42: LIMITAÇÃO DE CULTURAS | Z42: TOTAL | AA42: TOTAL | AB42: 3 DANOS | AC42: 11% até 50% | AD42: SEM DEVOLUÇÃO DE MATERIAL SEGMENTADO | AE42: =(X13*LIMITAÇÃO!D5)+(APRESENTAÇÃO!X14*'LIMITAÇÃO DE CULTURAS'!D5)+(APRESENTAÇÃO!X15*'RISCOS COMPLEMENTARES'!D5)+(APRESENTAÇÃO!X16*'ÁREA ATINGIDA'!D6)+(APRESENTAÇÃO!X17*RECUPERAÇÃO!D5) -> 0.93650794
W43: TOTAL | X43: 69.23 | Z43: TOTAL | AA43: TOTAL | AB43: 3 DANOS | AC43: 11% até 50% | AD43: COM DEVOLUÇÃO DE MATERIAL SEGMENTADO MISTURADO | AE43: =(X13*LIMITAÇÃO!D5)+(APRESENTAÇÃO!X14*'LIMITAÇÃO DE CULTURAS'!D5)+(APRESENTAÇÃO!X15*'RISCOS COMPLEMENTARES'!D5)+(APRESENTAÇÃO!X16*'ÁREA ATINGIDA'!D6)+(APRESENTAÇÃO!X17*RECUPERAÇÃO!D6) -> 0.92169312
W44: PARCIAL | X44: 23.08 | Z44: TOTAL | AA44: TOTAL | AB44: 3 DANOS | AC44: 11% até 50% | AD44: COM DEVOLUÇÃO DE MATERIAL SEGMENTADO SEPARADO | AE44: =(X13*LIMITAÇÃO!D5)+(APRESENTAÇÃO!X14*'LIMITAÇÃO DE CULTURAS'!D5)+(APRESENTAÇÃO!X15*'RISCOS COMPLEMENTARES'!D5)+(APRESENTAÇÃO!X16*'ÁREA ATINGIDA'!D6)+(APRESENTAÇÃO!X17*RECUPERAÇÃO!D7) -> 0.90687831
W45: NULA | X45: 7.69 | Z45: TOTAL | AA45: TOTAL | AB45: 3 DANOS | AC45: ATÉ 10% | AD45: SEM DEVOLUÇÃO DE MATERIAL SEGMENTADO | AE45: =(X13*LIMITAÇÃO!D5)+(APRESENTAÇÃO!X14*'LIMITAÇÃO DE CULTURAS'!D5)+(APRESENTAÇÃO!X15*'RISCOS COMPLEMENTARES'!D5)+(APRESENTAÇÃO!X16*'ÁREA ATINGIDA'!D7)+(APRESENTAÇÃO!X17*RECUPERAÇÃO!D5) -> 0.9047619
W46: RISCOS COMPLEMENTARES | Z46: TOTAL | AA46: TOTAL | AB46: 3 DANOS | AC46: ATÉ 10% | AD46: COM DEVOLUÇÃO DE MATERIAL SEGMENTADO MISTURADO | AE46: =(X13*LIMITAÇÃO!D5)+(APRESENTAÇÃO!X14*'LIMITAÇÃO DE CULTURAS'!D5)+(APRESENTAÇÃO!X15*'RISCOS COMPLEMENTARES'!D5)+(APRESENTAÇÃO!X16*'ÁREA ATINGIDA'!D7)+(APRESENTAÇÃO!X17*RECUPERAÇÃO!D6) -> 0.88994709
V47: CONTAMINAÇÃO | W47: 3 DANOS | X47: 60 | Z47: TOTAL | AA47: TOTAL | AB47: 3 DANOS | AC47: ATÉ 10% | AD47: COM DEVOLUÇÃO DE MATERIAL SEGMENTADO SEPARADO | AE47: =(X13*LIMITAÇÃO!D5)+(APRESENTAÇÃO!X14*'LIMITAÇÃO DE CULTURAS'!D5)+(APRESENTAÇÃO!X15*'RISCOS COMPLEMENTARES'!D5)+(APRESENTAÇÃO!X16*'ÁREA ATINGIDA'!D7)+(APRESENTAÇÃO!X17*RECUPERAÇÃO!D7) -> 0.87513228
V48: DANO MATERIAL | W48: ATÉ 2 DANOS | X48: 33.33 | Z48: TOTAL | AA48: TOTAL | AB48: ATÉ 2 DANOS | AC48: > 50% | AD48: SEM DEVOLUÇÃO DE MATERIAL SEGMENTADO | AE48: =(X13*LIMITAÇÃO!D5)+(APRESENTAÇÃO!X14*'LIMITAÇÃO DE CULTURAS'!D5)+(APRESENTAÇÃO!X15*'RISCOS COMPLEMENTARES'!D6)+(APRESENTAÇÃO!X16*'ÁREA ATINGIDA'!D5)+(APRESENTAÇÃO!X17*RECUPERAÇÃO!D5) -> 0.88477366
V49: DANO AMBIENTAL | W49: NENHUM DANO | X49: 6.67 | Z49: TOTAL | AA49: TOTAL | AB49: ATÉ 2 DANOS | AC49: > 50% | AD49: COM DEVOLUÇÃO DE MATERIAL SEGMENTADO MISTURADO | AE49: =(X13*LIMITAÇÃO!D5)+(APRESENTAÇÃO!X14*'LIMITAÇÃO DE CULTURAS'!D5)+(APRESENTAÇÃO!X15*'RISCOS COMPLEMENTARES'!D6)+(APRESENTAÇÃO!X16*'ÁREA ATINGIDA'!D5)+(APRESENTAÇÃO!X17*RECUPERAÇÃO!D6) -> 0.86995885
W50: ÁREA ATINGIDA | Z50: TOTAL | AA50: TOTAL | AB50: ATÉ 2 DANOS | AC50: > 50% | AD50: COM DEVOLUÇÃO DE MATERIAL SEGMENTADO SEPARADO | AE50: =(X13*LIMITAÇÃO!D5)+(APRESENTAÇÃO!X14*'LIMITAÇÃO DE CULTURAS'!D5)+(APRESENTAÇÃO!X15*'RISCOS COMPLEMENTARES'!D6)+(APRESENTAÇÃO!X16*'ÁREA ATINGIDA'!D5)+(APRESENTAÇÃO!X17*RECUPERAÇÃO!D7) -> 0.85514403
W51: > 50% | X51: 63.64 | Z51: TOTAL | AA51: TOTAL | AB51: ATÉ 2 DANOS | AC51: 11% até 50% | AD51: SEM DEVOLUÇÃO DE MATERIAL SEGMENTADO | AE51: =(X13*LIMITAÇÃO!D5)+(APRESENTAÇÃO!X14*'LIMITAÇÃO DE CULTURAS'!D5)+(APRESENTAÇÃO!X15*'RISCOS COMPLEMENTARES'!D6)+(APRESENTAÇÃO!X16*'ÁREA ATINGIDA'!D6)+(APRESENTAÇÃO!X17*RECUPERAÇÃO!D5) -> 0.8212816
W52: 11% até 50% | X52: 27.27 | Z52: TOTAL | AA52: TOTAL | AB52: ATÉ 2 DANOS | AC52: 11% até 50% | AD52: COM DEVOLUÇÃO DE MATERIAL SEGMENTADO MISTURADO | AE52: =(X13*LIMITAÇÃO!D5)+(APRESENTAÇÃO!X14*'LIMITAÇÃO DE CULTURAS'!D5)+(APRESENTAÇÃO!X15*'RISCOS COMPLEMENTARES'!D6)+(APRESENTAÇÃO!X16*'ÁREA ATINGIDA'!D6)+(APRESENTAÇÃO!X17*RECUPERAÇÃO!D6) -> 0.80646678
W53: ATÉ 10% | X53: 9.09 | Z53: TOTAL | AA53: TOTAL | AB53: ATÉ 2 DANOS | AC53: 11% até 50% | AD53: COM DEVOLUÇÃO DE MATERIAL SEGMENTADO SEPARADO | AE53: =(X13*LIMITAÇÃO!D5)+(APRESENTAÇÃO!X14*'LIMITAÇÃO DE CULTURAS'!D5)+(APRESENTAÇÃO!X15*'RISCOS COMPLEMENTARES'!D6)+(APRESENTAÇÃO!X16*'ÁREA ATINGIDA'!D6)+(APRESENTAÇÃO!X17*RECUPERAÇÃO!D7) -> 0.79165197
W54: RECUPERAÇÃO | Z54: TOTAL | AA54: TOTAL | AB54: ATÉ 2 DANOS | AC54: ATÉ 10% | AD54: SEM DEVOLUÇÃO DE MATERIAL SEGMENTADO | AE54: =(X13*LIMITAÇÃO!D5)+(APRESENTAÇÃO!X14*'LIMITAÇÃO DE CULTURAS'!D5)+(APRESENTAÇÃO!X15*'RISCOS COMPLEMENTARES'!D6)+(APRESENTAÇÃO!X16*'ÁREA ATINGIDA'!D7)+(APRESENTAÇÃO!X17*RECUPERAÇÃO!D5) -> 0.78953557
W55: SEM DEVOLUÇÃO DE MATERIAL SEGMENTADO | X55: 55.56 | Z55: TOTAL | AA55: TOTAL | AB55: ATÉ 2 DANOS | AC55: ATÉ 10% | AD55: COM DEVOLUÇÃO DE MATERIAL SEGMENTADO MISTURADO | AE55: =(X13*LIMITAÇÃO!D5)+(APRESENTAÇÃO!X14*'LIMITAÇÃO DE CULTURAS'!D5)+(APRESENTAÇÃO!X15*'RISCOS COMPLEMENTARES'!D6)+(APRESENTAÇÃO!X16*'ÁREA ATINGIDA'!D7)+(APRESENTAÇÃO!X17*RECUPERAÇÃO!D6) -> 0.77472075
W56: COM DEVOLUÇÃO DE MATERIAL SEGMENTADO MISTURADO | X56: 33.33 | Z56: TOTAL | AA56: TOTAL | AB56: ATÉ 2 DANOS | AC56: ATÉ 10% | AD56: COM DEVOLUÇÃO DE MATERIAL SEGMENTADO SEPARADO | AE56: =(X13*LIMITAÇÃO!D5)+(APRESENTAÇÃO!X14*'LIMITAÇÃO DE CULTURAS'!D5)+(APRESENTAÇÃO!X15*'RISCOS COMPLEMENTARES'!D6)+(APRESENTAÇÃO!X16*'ÁREA ATINGIDA'!D7)+(APRESENTAÇÃO!X17*RECUPERAÇÃO!D7) -> 0.75990594
W57: COM DEVOLUÇÃO DE MATERIAL SEGMENTADO SEPARADO | X57: 11.11 | Z57: TOTAL | AA57: TOTAL | AB57: NENHUM DANO | AC57: > 50% | AD57: SEM DEVOLUÇÃO DE MATERIAL SEGMENTADO | AE57: =(X13*LIMITAÇÃO!D5)+(APRESENTAÇÃO!X14*'LIMITAÇÃO DE CULTURAS'!D5)+(APRESENTAÇÃO!X15*'RISCOS COMPLEMENTARES'!D7)+(APRESENTAÇÃO!X16*'ÁREA ATINGIDA'!D5)+(APRESENTAÇÃO!X17*RECUPERAÇÃO!D5) -> 0.76954733
Z58: TOTAL | AA58: TOTAL | AB58: NENHUM DANO | AC58: > 50% | AD58: COM DEVOLUÇÃO DE MATERIAL SEGMENTADO MISTURADO | AE58: =(X13*LIMITAÇÃO!D5)+(APRESENTAÇÃO!X14*'LIMITAÇÃO DE CULTURAS'!D5)+(APRESENTAÇÃO!X15*'RISCOS COMPLEMENTARES'!D7)+(APRESENTAÇÃO!X16*'ÁREA ATINGIDA'!D5)+(APRESENTAÇÃO!X17*RECUPERAÇÃO!D6) -> 0.75473251
Z59: TOTAL | AA59: TOTAL | AB59: NENHUM DANO | AC59: > 50% | AD59: COM DEVOLUÇÃO DE MATERIAL SEGMENTADO SEPARADO | AE59: =(X13*LIMITAÇÃO!D5)+(APRESENTAÇÃO!X14*'LIMITAÇÃO DE CULTURAS'!D5)+(APRESENTAÇÃO!X15*'RISCOS COMPLEMENTARES'!D7)+(APRESENTAÇÃO!X16*'ÁREA ATINGIDA'!D5)+(APRESENTAÇÃO!X17*RECUPERAÇÃO!D7) -> 0.7399177
Z60: TOTAL | AA60: TOTAL | AB60: NENHUM DANO | AC60: 11% até 50% | AD60: SEM DEVOLUÇÃO DE MATERIAL SEGMENTADO | AE60: =(X13*LIMITAÇÃO!D5)+(APRESENTAÇÃO!X14*'LIMITAÇÃO DE CULTURAS'!D5)+(APRESENTAÇÃO!X15*'RISCOS COMPLEMENTARES'!D7)+(APRESENTAÇÃO!X16*'ÁREA ATINGIDA'!D6)+(APRESENTAÇÃO!X17*RECUPERAÇÃO!D5) -> 0.70605526
Z61: TOTAL | AA61: TOTAL | AB61: NENHUM DANO | AC61: 11% até 50% | AD61: COM DEVOLUÇÃO DE MATERIAL SEGMENTADO MISTURADO | AE61: =(X13*LIMITAÇÃO!D5)+(APRESENTAÇÃO!X14*'LIMITAÇÃO DE CULTURAS'!D5)+(APRESENTAÇÃO!X15*'RISCOS COMPLEMENTARES'!D7)+(APRESENTAÇÃO!X16*'ÁREA ATINGIDA'!D6)+(APRESENTAÇÃO!X17*RECUPERAÇÃO!D6) -> 0.69124045
Z62: TOTAL | AA62: TOTAL | AB62: NENHUM DANO | AC62: 11% até 50% | AD62: COM DEVOLUÇÃO DE MATERIAL SEGMENTADO SEPARADO | AE62: =(X13*LIMITAÇÃO!D5)+(APRESENTAÇÃO!X14*'LIMITAÇÃO DE CULTURAS'!D5)+(APRESENTAÇÃO!X15*'RISCOS COMPLEMENTARES'!D7)+(APRESENTAÇÃO!X16*'ÁREA ATINGIDA'!D6)+(APRESENTAÇÃO!X17*RECUPERAÇÃO!D7) -> 0.67642563
Z63: TOTAL | AA63: TOTAL | AB63: NENHUM DANO | AC63: ATÉ 10% | AD63: SEM DEVOLUÇÃO DE MATERIAL SEGMENTADO | AE63: =(X13*LIMITAÇÃO!D5)+(APRESENTAÇÃO!X14*'LIMITAÇÃO DE CULTURAS'!D5)+(APRESENTAÇÃO!X15*'RISCOS COMPLEMENTARES'!D7)+(APRESENTAÇÃO!X16*'ÁREA ATINGIDA'!D7)+(APRESENTAÇÃO!X17*RECUPERAÇÃO!D5) -> 0.67430923
Z64: TOTAL | AA64: TOTAL | AB64: NENHUM DANO | AC64: ATÉ 10% | AD64: COM DEVOLUÇÃO DE MATERIAL SEGMENTADO MISTURADO | AE64: =(X13*LIMITAÇÃO!D5)+(APRESENTAÇÃO!X14*'LIMITAÇÃO DE CULTURAS'!D5)+(APRESENTAÇÃO!X15*'RISCOS COMPLEMENTARES'!D7)+(APRESENTAÇÃO!X16*'ÁREA ATINGIDA'!D7)+(APRESENTAÇÃO!X17*RECUPERAÇÃO!D6) -> 0.65949442
Z65: TOTAL | AA65: TOTAL | AB65: NENHUM DANO | AC65: ATÉ 10% | AD65: COM DEVOLUÇÃO DE MATERIAL SEGMENTADO SEPARADO | AE65: =(X13*LIMITAÇÃO!D5)+(APRESENTAÇÃO!X14*'LIMITAÇÃO DE CULTURAS'!D5)+(APRESENTAÇÃO!X15*'RISCOS COMPLEMENTARES'!D7)+(APRESENTAÇÃO!X16*'ÁREA ATINGIDA'!D7)+(APRESENTAÇÃO!X17*RECUPERAÇÃO!D7) -> 0.6446796
Z66: TOTAL | AA66: PARCIAL | AB66: 3 DANOS | AC66: > 50% | AD66: SEM DEVOLUÇÃO DE MATERIAL SEGMENTADO | AE66: =(X13*LIMITAÇÃO!D5)+(APRESENTAÇÃO!X14*'LIMITAÇÃO DE CULTURAS'!D6)+(APRESENTAÇÃO!X15*'RISCOS COMPLEMENTARES'!D5)+(APRESENTAÇÃO!X16*'ÁREA ATINGIDA'!D5)+(APRESENTAÇÃO!X17*RECUPERAÇÃO!D5) -> 0.82716049
Z67: TOTAL | AA67: PARCIAL | AB67: 3 DANOS | AC67: > 50% | AD67: COM DEVOLUÇÃO DE MATERIAL SEGMENTADO MISTURADO | AE67: =(X13*LIMITAÇÃO!D5)+(APRESENTAÇÃO!X14*'LIMITAÇÃO DE CULTURAS'!D6)+(APRESENTAÇÃO!X15*'RISCOS COMPLEMENTARES'!D5)+(APRESENTAÇÃO!X16*'ÁREA ATINGIDA'!D5)+(APRESENTAÇÃO!X17*RECUPERAÇÃO!D6) -> 0.81234568
Z68: TOTAL | AA68: PARCIAL | AB68: 3 DANOS | AC68: > 50% | AD68: COM DEVOLUÇÃO DE MATERIAL SEGMENTADO SEPARADO | AE68: =(X13*LIMITAÇÃO!D5)+(APRESENTAÇÃO!X14*'LIMITAÇÃO DE CULTURAS'!D6)+(APRESENTAÇÃO!X15*'RISCOS COMPLEMENTARES'!D5)+(APRESENTAÇÃO!X16*'ÁREA ATINGIDA'!D5)+(APRESENTAÇÃO!X17*RECUPERAÇÃO!D7) -> 0.79753086
Z69: TOTAL | AA69: PARCIAL | AB69: 3 DANOS | AC69: 11% até 50% | AD69: SEM DEVOLUÇÃO DE MATERIAL SEGMENTADO | AE69: =(X13*LIMITAÇÃO!D5)+(APRESENTAÇÃO!X14*'LIMITAÇÃO DE CULTURAS'!D6)+(APRESENTAÇÃO!X15*'RISCOS COMPLEMENTARES'!D5)+(APRESENTAÇÃO!X16*'ÁREA ATINGIDA'!D6)+(APRESENTAÇÃO!X17*RECUPERAÇÃO!D5) -> 0.76366843
Z70: TOTAL | AA70: PARCIAL | AB70: 3 DANOS | AC70: 11% até 50% | AD70: COM DEVOLUÇÃO DE MATERIAL SEGMENTADO MISTURADO | AE70: =(X13*LIMITAÇÃO!D5)+(APRESENTAÇÃO!X14*'LIMITAÇÃO DE CULTURAS'!D6)+(APRESENTAÇÃO!X15*'RISCOS COMPLEMENTARES'!D5)+(APRESENTAÇÃO!X16*'ÁREA ATINGIDA'!D6)+(APRESENTAÇÃO!X17*RECUPERAÇÃO!D6) -> 0.74885362
Z71: TOTAL | AA71: PARCIAL | AB71: 3 DANOS | AC71: 11% até 50% | AD71: COM DEVOLUÇÃO DE MATERIAL SEGMENTADO SEPARADO | AE71: =(X13*LIMITAÇÃO!D5)+(APRESENTAÇÃO!X14*'LIMITAÇÃO DE CULTURAS'!D6)+(APRESENTAÇÃO!X15*'RISCOS COMPLEMENTARES'!D5)+(APRESENTAÇÃO!X16*'ÁREA ATINGIDA'!D6)+(APRESENTAÇÃO!X17*RECUPERAÇÃO!D7) -> 0.7340388
Z72: TOTAL | AA72: PARCIAL | AB72: 3 DANOS | AC72: ATÉ 10% | AD72: SEM DEVOLUÇÃO DE MATERIAL SEGMENTADO | AE72: =(X13*LIMITAÇÃO!D5)+(APRESENTAÇÃO!X14*'LIMITAÇÃO DE CULTURAS'!D6)+(APRESENTAÇÃO!X15*'RISCOS COMPLEMENTARES'!D5)+(APRESENTAÇÃO!X16*'ÁREA ATINGIDA'!D7)+(APRESENTAÇÃO!X17*RECUPERAÇÃO!D5) -> 0.7319224
Z73: TOTAL | AA73: PARCIAL | AB73: 3 DANOS | AC73: ATÉ 10% | AD73: COM DEVOLUÇÃO DE MATERIAL SEGMENTADO MISTURADO | AE73: =(X13*LIMITAÇÃO!D5)+(APRESENTAÇÃO!X14*'LIMITAÇÃO DE CULTURAS'!D6)+(APRESENTAÇÃO!X15*'RISCOS COMPLEMENTARES'!D5)+(APRESENTAÇÃO!X16*'ÁREA ATINGIDA'!D7)+(APRESENTAÇÃO!X17*RECUPERAÇÃO!D6) -> 0.71710758
Z74: TOTAL | AA74: PARCIAL | AB74: 3 DANOS | AC74: ATÉ 10% | AD74: COM DEVOLUÇÃO DE MATERIAL SEGMENTADO SEPARADO | AE74: =(X13*LIMITAÇÃO!D5)+(APRESENTAÇÃO!X14*'LIMITAÇÃO DE CULTURAS'!D6)+(APRESENTAÇÃO!X15*'RISCOS COMPLEMENTARES'!D5)+(APRESENTAÇÃO!X16*'ÁREA ATINGIDA'!D7)+(APRESENTAÇÃO!X17*RECUPERAÇÃO!D7) -> 0.70229277
Z75: TOTAL | AA75: PARCIAL | AB75: ATÉ 2 DANOS | AC75: > 50% | AD75: SEM DEVOLUÇÃO DE MATERIAL SEGMENTADO | AE75: =(X13*LIMITAÇÃO!D5)+(APRESENTAÇÃO!X14*'LIMITAÇÃO DE CULTURAS'!D6)+(APRESENTAÇÃO!X15*'RISCOS COMPLEMENTARES'!D6)+(APRESENTAÇÃO!X16*'ÁREA ATINGIDA'!D5)+(APRESENTAÇÃO!X17*RECUPERAÇÃO!D5) -> 0.71193416
Z76: TOTAL | AA76: PARCIAL | AB76: ATÉ 2 DANOS | AC76: > 50% | AD76: COM DEVOLUÇÃO DE MATERIAL SEGMENTADO MISTURADO | AE76: =(X13*LIMITAÇÃO!D5)+(APRESENTAÇÃO!X14*'LIMITAÇÃO DE CULTURAS'!D6)+(APRESENTAÇÃO!X15*'RISCOS COMPLEMENTARES'!D6)+(APRESENTAÇÃO!X16*'ÁREA ATINGIDA'!D5)+(APRESENTAÇÃO!X17*RECUPERAÇÃO!D6) -> 0.69711934
Z77: TOTAL | AA77: PARCIAL | AB77: ATÉ 2 DANOS | AC77: > 50% | AD77: COM DEVOLUÇÃO DE MATERIAL SEGMENTADO SEPARADO | AE77: =(X13*LIMITAÇÃO!D5)+(APRESENTAÇÃO!X14*'LIMITAÇÃO DE CULTURAS'!D6)+(APRESENTAÇÃO!X15*'RISCOS COMPLEMENTARES'!D6)+(APRESENTAÇÃO!X16*'ÁREA ATINGIDA'!D5)+(APRESENTAÇÃO!X17*RECUPERAÇÃO!D7) -> 0.68230453
Z78: TOTAL | AA78: PARCIAL | AB78: ATÉ 2 DANOS | AC78: 11% até 50% | AD78: SEM DEVOLUÇÃO DE MATERIAL SEGMENTADO | AE78: =(X13*LIMITAÇÃO!D5)+(APRESENTAÇÃO!X14*'LIMITAÇÃO DE CULTURAS'!D6)+(APRESENTAÇÃO!X15*'RISCOS COMPLEMENTARES'!D6)+(APRESENTAÇÃO!X16*'ÁREA ATINGIDA'!D6)+(APRESENTAÇÃO!X17*RECUPERAÇÃO!D5) -> 0.64844209
Z79: TOTAL | AA79: PARCIAL | AB79: ATÉ 2 DANOS | AC79: 11% até 50% | AD79: COM DEVOLUÇÃO DE MATERIAL SEGMENTADO MISTURADO | AE79: =(X13*LIMITAÇÃO!D5)+(APRESENTAÇÃO!X14*'LIMITAÇÃO DE CULTURAS'!D6)+(APRESENTAÇÃO!X15*'RISCOS COMPLEMENTARES'!D6)+(APRESENTAÇÃO!X16*'ÁREA ATINGIDA'!D6)+(APRESENTAÇÃO!X17*RECUPERAÇÃO!D6) -> 0.63362728
Z80: TOTAL | AA80: PARCIAL | AB80: ATÉ 2 DANOS | AC80: 11% até 50% | AD80: COM DEVOLUÇÃO DE MATERIAL SEGMENTADO SEPARADO | AE80: =(X13*LIMITAÇÃO!D5)+(APRESENTAÇÃO!X14*'LIMITAÇÃO DE CULTURAS'!D6)+(APRESENTAÇÃO!X15*'RISCOS COMPLEMENTARES'!D6)+(APRESENTAÇÃO!X16*'ÁREA ATINGIDA'!D6)+(APRESENTAÇÃO!X17*RECUPERAÇÃO!D7) -> 0.61881246
Z81: TOTAL | AA81: PARCIAL | AB81: ATÉ 2 DANOS | AC81: ATÉ 10% | AD81: SEM DEVOLUÇÃO DE MATERIAL SEGMENTADO | AE81: =(X13*LIMITAÇÃO!D5)+(APRESENTAÇÃO!X14*'LIMITAÇÃO DE CULTURAS'!D6)+(APRESENTAÇÃO!X15*'RISCOS COMPLEMENTARES'!D6)+(APRESENTAÇÃO!X16*'ÁREA ATINGIDA'!D7)+(APRESENTAÇÃO!X17*RECUPERAÇÃO!D5) -> 0.61669606
Z82: TOTAL | AA82: PARCIAL | AB82: ATÉ 2 DANOS | AC82: ATÉ 10% | AD82: COM DEVOLUÇÃO DE MATERIAL SEGMENTADO MISTURADO | AE82: =(X13*LIMITAÇÃO!D5)+(APRESENTAÇÃO!X14*'LIMITAÇÃO DE CULTURAS'!D6)+(APRESENTAÇÃO!X15*'RISCOS COMPLEMENTARES'!D6)+(APRESENTAÇÃO!X16*'ÁREA ATINGIDA'!D7)+(APRESENTAÇÃO!X17*RECUPERAÇÃO!D6) -> 0.60188125
Z83: TOTAL | AA83: PARCIAL | AB83: ATÉ 2 DANOS | AC83: ATÉ 10% | AD83: COM DEVOLUÇÃO DE MATERIAL SEGMENTADO SEPARADO | AE83: =(X13*LIMITAÇÃO!D5)+(APRESENTAÇÃO!X14*'LIMITAÇÃO DE CULTURAS'!D6)+(APRESENTAÇÃO!X15*'RISCOS COMPLEMENTARES'!D6)+(APRESENTAÇÃO!X16*'ÁREA ATINGIDA'!D7)+(APRESENTAÇÃO!X17*RECUPERAÇÃO!D7) -> 0.58706643
Z84: TOTAL | AA84: PARCIAL | AB84: NENHUM DANO | AC84: > 50% | AD84: SEM DEVOLUÇÃO DE MATERIAL SEGMENTADO | AE84: =(X13*LIMITAÇÃO!D5)+(APRESENTAÇÃO!X14*'LIMITAÇÃO DE CULTURAS'!D6)+(APRESENTAÇÃO!X15*'RISCOS COMPLEMENTARES'!D7)+(APRESENTAÇÃO!X16*'ÁREA ATINGIDA'!D5)+(APRESENTAÇÃO!X17*RECUPERAÇÃO!D5) -> 0.59670782
Z85: TOTAL | AA85: PARCIAL | AB85: NENHUM DANO | AC85: > 50% | AD85: COM DEVOLUÇÃO DE MATERIAL SEGMENTADO MISTURADO | AE85: =(X13*LIMITAÇÃO!D5)+(APRESENTAÇÃO!X14*'LIMITAÇÃO DE CULTURAS'!D6)+(APRESENTAÇÃO!X15*'RISCOS COMPLEMENTARES'!D7)+(APRESENTAÇÃO!X16*'ÁREA ATINGIDA'!D5)+(APRESENTAÇÃO!X17*RECUPERAÇÃO!D6) -> 0.581893
Z86: TOTAL | AA86: PARCIAL | AB86: NENHUM DANO | AC86: > 50% | AD86: COM DEVOLUÇÃO DE MATERIAL SEGMENTADO SEPARADO | AE86: =(X13*LIMITAÇÃO!D5)+(APRESENTAÇÃO!X14*'LIMITAÇÃO DE CULTURAS'!D6)+(APRESENTAÇÃO!X15*'RISCOS COMPLEMENTARES'!D7)+(APRESENTAÇÃO!X16*'ÁREA ATINGIDA'!D5)+(APRESENTAÇÃO!X17*RECUPERAÇÃO!D7) -> 0.56707819
Z87: TOTAL | AA87: PARCIAL | AB87: NENHUM DANO | AC87: 11% até 50% | AD87: SEM DEVOLUÇÃO DE MATERIAL SEGMENTADO | AE87: =(X13*LIMITAÇÃO!D5)+(APRESENTAÇÃO!X14*'LIMITAÇÃO DE CULTURAS'!D6)+(APRESENTAÇÃO!X15*'RISCOS COMPLEMENTARES'!D7)+(APRESENTAÇÃO!X16*'ÁREA ATINGIDA'!D6)+(APRESENTAÇÃO!X17*RECUPERAÇÃO!D5) -> 0.53321576
Z88: TOTAL | AA88: PARCIAL | AB88: NENHUM DANO | AC88: 11% até 50% | AD88: COM DEVOLUÇÃO DE MATERIAL SEGMENTADO MISTURADO | AE88: =(X13*LIMITAÇÃO!D5)+(APRESENTAÇÃO!X14*'LIMITAÇÃO DE CULTURAS'!D6)+(APRESENTAÇÃO!X15*'RISCOS COMPLEMENTARES'!D7)+(APRESENTAÇÃO!X16*'ÁREA ATINGIDA'!D6)+(APRESENTAÇÃO!X17*RECUPERAÇÃO!D6) -> 0.51840094
Z89: TOTAL | AA89: PARCIAL | AB89: NENHUM DANO | AC89: 11% até 50% | AD89: COM DEVOLUÇÃO DE MATERIAL SEGMENTADO SEPARADO | AE89: =(X13*LIMITAÇÃO!D5)+(APRESENTAÇÃO!X14*'LIMITAÇÃO DE CULTURAS'!D6)+(APRESENTAÇÃO!X15*'RISCOS COMPLEMENTARES'!D7)+(APRESENTAÇÃO!X16*'ÁREA ATINGIDA'!D6)+(APRESENTAÇÃO!X17*RECUPERAÇÃO!D7) -> 0.50358613
Z90: TOTAL | AA90: PARCIAL | AB90: NENHUM DANO | AC90: ATÉ 10% | AD90: SEM DEVOLUÇÃO DE MATERIAL SEGMENTADO | AE90: =(X13*LIMITAÇÃO!D5)+(APRESENTAÇÃO!X14*'LIMITAÇÃO DE CULTURAS'!D6)+(APRESENTAÇÃO!X15*'RISCOS COMPLEMENTARES'!D7)+(APRESENTAÇÃO!X16*'ÁREA ATINGIDA'!D7)+(APRESENTAÇÃO!X17*RECUPERAÇÃO!D5) -> 0.50146972
Z91: TOTAL | AA91: PARCIAL | AB91: NENHUM DANO | AC91: ATÉ 10% | AD91: COM DEVOLUÇÃO DE MATERIAL SEGMENTADO MISTURADO | AE91: =(X13*LIMITAÇÃO!D5)+(APRESENTAÇÃO!X14*'LIMITAÇÃO DE CULTURAS'!D6)+(APRESENTAÇÃO!X15*'RISCOS COMPLEMENTARES'!D7)+(APRESENTAÇÃO!X16*'ÁREA ATINGIDA'!D7)+(APRESENTAÇÃO!X17*RECUPERAÇÃO!D6) -> 0.48665491
Z92: TOTAL | AA92: PARCIAL | AB92: NENHUM DANO | AC92: ATÉ 10% | AD92: COM DEVOLUÇÃO DE MATERIAL SEGMENTADO SEPARADO | AE92: =(X13*LIMITAÇÃO!D5)+(APRESENTAÇÃO!X14*'LIMITAÇÃO DE CULTURAS'!D6)+(APRESENTAÇÃO!X15*'RISCOS COMPLEMENTARES'!D7)+(APRESENTAÇÃO!X16*'ÁREA ATINGIDA'!D7)+(APRESENTAÇÃO!X17*RECUPERAÇÃO!D7) -> 0.47184009
Z93: TOTAL | AA93: NULA | AB93: 3 DANOS | AC93: > 50% | AD93: SEM DEVOLUÇÃO DE MATERIAL SEGMENTADO | AE93: =(X13*LIMITAÇÃO!D5)+(APRESENTAÇÃO!X14*'LIMITAÇÃO DE CULTURAS'!D7)+(APRESENTAÇÃO!X15*'RISCOS COMPLEMENTARES'!D5)+(APRESENTAÇÃO!X16*'ÁREA ATINGIDA'!D5)+(APRESENTAÇÃO!X17*RECUPERAÇÃO!D5) -> 0.76954733
Z94: TOTAL | AA94: NULA | AB94: 3 DANOS | AC94: > 50% | AD94: COM DEVOLUÇÃO DE MATERIAL SEGMENTADO MISTURADO | AE94: =(X13*LIMITAÇÃO!D5)+(APRESENTAÇÃO!X14*'LIMITAÇÃO DE CULTURAS'!D7)+(APRESENTAÇÃO!X15*'RISCOS COMPLEMENTARES'!D5)+(APRESENTAÇÃO!X16*'ÁREA ATINGIDA'!D5)+(APRESENTAÇÃO!X17*RECUPERAÇÃO!D6) -> 0.75473251
Z95: TOTAL | AA95: NULA | AB95: 3 DANOS | AC95: > 50% | AD95: COM DEVOLUÇÃO DE MATERIAL SEGMENTADO SEPARADO | AE95: =(X13*LIMITAÇÃO!D5)+(APRESENTAÇÃO!X14*'LIMITAÇÃO DE CULTURAS'!D7)+(APRESENTAÇÃO!X15*'RISCOS COMPLEMENTARES'!D5)+(APRESENTAÇÃO!X16*'ÁREA ATINGIDA'!D5)+(APRESENTAÇÃO!X17*RECUPERAÇÃO!D7) -> 0.7399177
Z96: TOTAL | AA96: NULA | AB96: 3 DANOS | AC96: 11% até 50% | AD96: SEM DEVOLUÇÃO DE MATERIAL SEGMENTADO | AE96: =(X13*LIMITAÇÃO!D5)+(APRESENTAÇÃO!X14*'LIMITAÇÃO DE CULTURAS'!D7)+(APRESENTAÇÃO!X15*'RISCOS COMPLEMENTARES'!D5)+(APRESENTAÇÃO!X16*'ÁREA ATINGIDA'!D6)+(APRESENTAÇÃO!X17*RECUPERAÇÃO!D5) -> 0.70605526
Z97: TOTAL | AA97: NULA | AB97: 3 DANOS | AC97: 11% até 50% | AD97: COM DEVOLUÇÃO DE MATERIAL SEGMENTADO MISTURADO | AE97: =(X13*LIMITAÇÃO!D5)+(APRESENTAÇÃO!X14*'LIMITAÇÃO DE CULTURAS'!D7)+(APRESENTAÇÃO!X15*'RISCOS COMPLEMENTARES'!D5)+(APRESENTAÇÃO!X16*'ÁREA ATINGIDA'!D6)+(APRESENTAÇÃO!X17*RECUPERAÇÃO!D6) -> 0.69124045
Z98: TOTAL | AA98: NULA | AB98: 3 DANOS | AC98: 11% até 50% | AD98: COM DEVOLUÇÃO DE MATERIAL SEGMENTADO SEPARADO | AE98: =(X13*LIMITAÇÃO!D5)+(APRESENTAÇÃO!X14*'LIMITAÇÃO DE CULTURAS'!D7)+(APRESENTAÇÃO!X15*'RISCOS COMPLEMENTARES'!D5)+(APRESENTAÇÃO!X16*'ÁREA ATINGIDA'!D6)+(APRESENTAÇÃO!X17*RECUPERAÇÃO!D7) -> 0.67642563
Z99: TOTAL | AA99: NULA | AB99: 3 DANOS | AC99: ATÉ 10% | AD99: SEM DEVOLUÇÃO DE MATERIAL SEGMENTADO | AE99: =(X13*LIMITAÇÃO!D5)+(APRESENTAÇÃO!X14*'LIMITAÇÃO DE CULTURAS'!D7)+(APRESENTAÇÃO!X15*'RISCOS COMPLEMENTARES'!D5)+(APRESENTAÇÃO!X16*'ÁREA ATINGIDA'!D7)+(APRESENTAÇÃO!X17*RECUPERAÇÃO!D5) -> 0.67430923
Z100: TOTAL | AA100: NULA | AB100: 3 DANOS | AC100: ATÉ 10% | AD100: COM DEVOLUÇÃO DE MATERIAL SEGMENTADO MISTURADO | AE100: =(X13*LIMITAÇÃO!D5)+(APRESENTAÇÃO!X14*'LIMITAÇÃO DE CULTURAS'!D7)+(APRESENTAÇÃO!X15*'RISCOS COMPLEMENTARES'!D5)+(APRESENTAÇÃO!X16*'ÁREA ATINGIDA'!D7)+(APRESENTAÇÃO!X17*RECUPERAÇÃO!D6) -> 0.65949442
Z101: TOTAL | AA101: NULA | AB101: 3 DANOS | AC101: ATÉ 10% | AD101: COM DEVOLUÇÃO DE MATERIAL SEGMENTADO SEPARADO | AE101: =(X13*LIMITAÇÃO!D5)+(APRESENTAÇÃO!X14*'LIMITAÇÃO DE CULTURAS'!D7)+(APRESENTAÇÃO!X15*'RISCOS COMPLEMENTARES'!D5)+(APRESENTAÇÃO!X16*'ÁREA ATINGIDA'!D7)+(APRESENTAÇÃO!X17*RECUPERAÇÃO!D7) -> 0.6446796
Z102: TOTAL | AA102: NULA | AB102: ATÉ 2 DANOS | AC102: > 50% | AD102: SEM DEVOLUÇÃO DE MATERIAL SEGMENTADO | AE102: =(X13*LIMITAÇÃO!D5)+(APRESENTAÇÃO!X14*'LIMITAÇÃO DE CULTURAS'!D7)+(APRESENTAÇÃO!X15*'RISCOS COMPLEMENTARES'!D6)+(APRESENTAÇÃO!X16*'ÁREA ATINGIDA'!D5)+(APRESENTAÇÃO!X17*RECUPERAÇÃO!D5) -> 0.65432099
Z103: TOTAL | AA103: NULA | AB103: ATÉ 2 DANOS | AC103: > 50% | AD103: COM DEVOLUÇÃO DE MATERIAL SEGMENTADO MISTURADO | AE103: =(X13*LIMITAÇÃO!D5)+(APRESENTAÇÃO!X14*'LIMITAÇÃO DE CULTURAS'!D7)+(APRESENTAÇÃO!X15*'RISCOS COMPLEMENTARES'!D6)+(APRESENTAÇÃO!X16*'ÁREA ATINGIDA'!D5)+(APRESENTAÇÃO!X17*RECUPERAÇÃO!D6) -> 0.63950617
Z104: TOTAL | AA104: NULA | AB104: ATÉ 2 DANOS | AC104: > 50% | AD104: COM DEVOLUÇÃO DE MATERIAL SEGMENTADO SEPARADO | AE104: =(X13*LIMITAÇÃO!D5)+(APRESENTAÇÃO!X14*'LIMITAÇÃO DE CULTURAS'!D7)+(APRESENTAÇÃO!X15*'RISCOS COMPLEMENTARES'!D6)+(APRESENTAÇÃO!X16*'ÁREA ATINGIDA'!D5)+(APRESENTAÇÃO!X17*RECUPERAÇÃO!D7) -> 0.62469136
Z105: TOTAL | AA105: NULA | AB105: ATÉ 2 DANOS | AC105: 11% até 50% | AD105: SEM DEVOLUÇÃO DE MATERIAL SEGMENTADO | AE105: =(X13*LIMITAÇÃO!D5)+(APRESENTAÇÃO!X14*'LIMITAÇÃO DE CULTURAS'!D7)+(APRESENTAÇÃO!X15*'RISCOS COMPLEMENTARES'!D6)+(APRESENTAÇÃO!X16*'ÁREA ATINGIDA'!D6)+(APRESENTAÇÃO!X17*RECUPERAÇÃO!D5) -> 0.59082892
Z106: TOTAL | AA106: NULA | AB106: ATÉ 2 DANOS | AC106: 11% até 50% | AD106: COM DEVOLUÇÃO DE MATERIAL SEGMENTADO MISTURADO | AE106: =(X13*LIMITAÇÃO!D5)+(APRESENTAÇÃO!X14*'LIMITAÇÃO DE CULTURAS'!D7)+(APRESENTAÇÃO!X15*'RISCOS COMPLEMENTARES'!D6)+(APRESENTAÇÃO!X16*'ÁREA ATINGIDA'!D6)+(APRESENTAÇÃO!X17*RECUPERAÇÃO!D6) -> 0.57601411
...

Sheet LIMITAÇÃO
D2: ANÁLISE PAR A PAR
B3: LIMITAÇÃO DO IMÓVEL | D3: TOTAL | E3: PARCIAL | F3: MINÍMA
D4: 7 | E4: 5 | F4: 3
B5: TOTAL | C5: 7 | D5: =C5/$D$4 -> 1 | E5: =C5/$E$4 -> 1.4 | F5: =C5/$F$4 -> 2.3333333
B6: PARCIAL | C6: 5 | D6: =C6/$D$4 -> 0.71428571 | E6: =C6/$E$4 -> 1 | F6: =C6/$F$4 -> 1.6666667
B7: MINÍMA | C7: 3 | D7: =C7/$D$4 -> 0.42857143 | E7: =C7/$E$4 -> 0.6 | F7: =C7/$F$4 -> 1
B8: SOMA | D8: =SUM(D5:D7) -> 2.1428571 | E8: =SUM(E5:E7) -> 3 | F8: =SUM(F5:F7) -> 5
B12: Normalização da Matriz | G12: Prioridades | I12: DIF | J12: FATOR DE PREÇO
B13: TOTAL | D13: =D5/$D$8 -> 0.46666667 | E13: =E5/$E$8 -> 0.46666667 | F13: =F5/$F$8 -> 0.46666667 | G13: =AVERAGE(D13:F13) -> 0.46666667 | H13: =G13:G15 -> 0.46666667 | I13: =1-H13 -> 0.53333333 | J13: =H13+$I$13 -> 1
B14: PARCIAL | D14: =D6/$D$8 -> 0.33333333 | E14: =E6/$E$8 -> 0.33333333 | F14: =F6/$F$8 -> 0.33333333 | G14: =AVERAGE(D14:F14) -> 0.33333333 | H14: =G14:G15 -> 0.33333333 | I14: =1-H14 -> 0.66666667 | J14: =H14+$I$13 -> 0.86666667
B15: MINÍMA | D15: =D7/$D$8 -> 0.2 | E15: =E7/$E$8 -> 0.2 | F15: =F7/$F$8 -> 0.2 | G15: =AVERAGE(D15:F15) -> 0.2 | H15: =G15:G15 -> 0.2 | I15: =1-H15 -> 0.8 | J15: =H15+$I$13 -> 0.73333333
B20: Análise de Consistência
B21: TOTAL | D21: =D5*$H$13 -> 0.46666667 | E21: =E5*$H$14 -> 0.46666667 | F21: =F5*$H$15 -> 0.46666667 | G21: =SUM(C21:F21) -> 1.4 | H21: =G21/H13 -> 3
B22: PARCIAL | D22: =D6*$H$13 -> 0.33333333 | E22: =E6*$H$14 -> 0.33333333 | F22: =F6*$H$15 -> 0.33333333 | G22: =SUM(C22:F22) -> 1 | H22: =G22/H14 -> 3
B23: MINÍMA | D23: =D7*$H$13 -> 0.2 | E23: =E7*$H$14 -> 0.2 | F23: =F7*$H$15 -> 0.2 | G23: =SUM(C23:F23) -> 0.6 | H23: =G23/H15 -> 3
B24: ʎMax | H24: =SUM(H21:H23)/3 -> 3
B25: CI | H25: =(H24-3)/(3-1) -> 0
B26: IR | H26: 0.58
B27: CR | H27: =H25/H26 -> 0

Sheet LIMITAÇÃO DE CULTURAS
D2: ANÁLISE PAR A PAR
B3: LIMITAÇÃO DE CULTURAS | D3: TOTAL | E3: PARCIAL | F3: NULA
D4: 9 | E4: 3 | F4: 1
B5: TOTAL | C5: 9 | D5: =C5/$D$4 -> 1 | E5: =C5/$E$4 -> 3 | F5: =C5/$F$4 -> 9
B6: PARCIAL | C6: 3 | D6: =C6/$D$4 -> 0.33333333 | E6: =C6/$E$4 -> 1 | F6: =C6/$F$4 -> 3
B7: NULA | C7: 1 | D7: =C7/$D$4 -> 0.11111111 | E7: =C7/$E$4 -> 0.33333333 | F7: =C7/$F$4 -> 1
B8: SOMA | D8: =SUM(D5:D7) -> 1.4444444 | E8: =SUM(E5:E7) -> 4.3333333 | F8: =SUM(F5:F7) -> 13
B12: Normalização da Matriz | G12: Prioridades | I12: DIF | J12: FATOR DE PREÇO
B13: TOTAL | D13: =D5/$D$8 -> 0.69230769 | E13: =E5/$E$8 -> 0.69230769 | F13: =F5/$F$8 -> 0.69230769 | G13: =AVERAGE(D13:F13) -> 0.69230769 | H13: =G13:G15 -> 0.69230769 | I13: =1-H13 -> 0.30769231 | J13: =H13+$I$13 -> 1
B14: PARCIAL | D14: =D6/$D$8 -> 0.23076923 | E14: =E6/$E$8 -> 0.23076923 | F14: =F6/$F$8 -> 0.23076923 | G14: =AVERAGE(D14:F14) -> 0.23076923 | H14: =G14:G15 -> 0.23076923 | I14: =1-H14 -> 0.76923077 | J14: =H14+$I$13 -> 0.53846154
B15: NULA | D15: =D7/$D$8 -> 0.076923077 | E15: =E7/$E$8 -> 0.076923077 | F15: =F7/$F$8 -> 0.076923077 | G15: =AVERAGE(D15:F15) -> 0.076923077 | H15: =G15:G15 -> 0.076923077 | I15: =1-H15 -> 0.92307692 | J15: =H15+$I$13 -> 0.38461538
B20: Análise de Consistência
B21: TOTAL | D21: =D5*$H$13 -> 0.69230769 | E21: =E5*$H$14 -> 0.69230769 | F21: =F5*$H$15 -> 0.69230769 | G21: =SUM(C21:F21) -> 2.0769231 | H21: =G21/H13 -> 3
B22: PARCIAL | D22: =D6*$H$13 -> 0.23076923 | E22: =E6*$H$14 -> 0.23076923 | F22: =F6*$H$15 -> 0.23076923 | G22: =SUM(C22:F22) -> 0.69230769 | H22: =G22/H14 -> 3
B23: NULA | D23: =D7*$H$13 -> 0.076923077 | E23: =E7*$H$14 -> 0.076923077 | F23: =F7*$H$15 -> 0.076923077 | G23: =SUM(C23:F23) -> 0.23076923 | H23: =G23/H15 -> 3
G24: ʎMax | H24: =SUM(H21:H23)/3 -> 3
G25: CI | H25: =(H24-3)/(3-1) -> 0
G26: IR | H26: 0.58
G27: CR | H27: =H25/H26 -> 0

Sheet RISCOS COMPLEMENTARES
D2: ANÁLISE PAR A PAR
B3: RISCOS COMPLEMENTARES | D3: 3 DANOS | E3: ATÉ 2 DANOS | F3: NENHUM DANO
D4: 9 | E4: 5 | F4: 1
B5: 3 DANOS | C5: 9 | D5: =C5/$D$4 -> 1 | E5: =C5/$E$4 -> 1.8 | F5: =C5/$F$4 -> 9
B6: ATÉ 2 DANOS | C6: 5 | D6: =C6/$D$4 -> 0.55555556 | E6: =C6/$E$4 -> 1 | F6: =C6/$F$4 -> 5
B7: NENHUM DANO | C7: 1 | D7: =C7/$D$4 -> 0.11111111 | E7: =C7/$E$4 -> 0.2 | F7: =C7/$F$4 -> 1
B8: SOMA | D8: =SUM(D5:D7) -> 1.6666667 | E8: =SUM(E5:E7) -> 3 | F8: =SUM(F5:F7) -> 15
B12: Normalização da Matriz | G12: Prioridades | I12: DIF | J12: FATOR DE PREÇO
B13: 3 DANOS | D13: =D5/$D$8 -> 0.6 | E13: =E5/$E$8 -> 0.6 | F13: =F5/$F$8 -> 0.6 | G13: =AVERAGE(D13:F13) -> 0.6 | H13: =G13:G15 -> 0.6 | I13: =1-H13 -> 0.4 | J13: =H13+$I$13 -> 1
B14: ATÉ 2 DANOS | D14: =D6/$D$8 -> 0.33333333 | E14: =E6/$E$8 -> 0.33333333 | F14: =F6/$F$8 -> 0.33333333 | G14: =AVERAGE(D14:F14) -> 0.33333333 | H14: =G14:G15 -> 0.33333333 | I14: =1-H14 -> 0.66666667 | J14: =H14+$I$13 -> 0.73333333
B15: NENHUM DANO | D15: =D7/$D$8 -> 0.066666667 | E15: =E7/$E$8 -> 0.066666667 | F15: =F7/$F$8 -> 0.066666667 | G15: =AVERAGE(D15:F15) -> 0.066666667 | H15: =G15:G15 -> 0.066666667 | I15: =1-H15 -> 0.93333333 | J15: =H15+$I$13 -> 0.46666667
B20: Análise de Consistência
B21: 3 DANOS | D21: =D5*$H$13 -> 0.6 | E21: =E5*$H$14 -> 0.6 | F21: =F5*$H$15 -> 0.6 | G21: =SUM(C21:F21) -> 1.8 | H21: =G21/H13 -> 3
B22: ATÉ 2 DANOS | D22: =D6*$H$13 -> 0.33333333 | E22: =E6*$H$14 -> 0.33333333 | F22: =F6*$H$15 -> 0.33333333 | G22: =SUM(C22:F22) -> 1 | H22: =G22/H14 -> 3
B23: NENHUM DANO | D23: =D7*$H$13 -> 0.066666667 | E23: =E7*$H$14 -> 0.066666667 | F23: =F7*$H$15 -> 0.066666667 | G23: =SUM(C23:F23) -> 0.2 | H23: =G23/H15 -> 3
G24: ʎMax | H24: =SUM(H21:H23)/3 -> 3
G25: CI | H25: =(H24-3)/(3-1) -> 0
G26: IR | H26: 0.58
G27: CR | H27: =H25/H26 -> 0

Sheet ÁREA ATINGIDA
D2: ANÁLISE PAR A PAR
B3: ÁREA ATINGIDA | D3: > 50% | E3: 11% ATÉ 50% | F3: ATÉ 10%
D4: 7 | E4: 3 | F4: 1
B5: > 50% | C5: 7 | D5: =C5/$D$4 -> 1 | E5: =C5/$E$4 -> 2.3333333 | F5: =C5/$F$4 -> 7
B6: 11% ATÉ 50% | C6: 3 | D6: =C6/$D$4 -> 0.42857143 | E6: =C6/$E$4 -> 1 | F6: =C6/$F$4 -> 3
B7: ATÉ 10% | C7: 1 | D7: =C7/$D$4 -> 0.14285714 | E7: =C7/$E$4 -> 0.33333333 | F7: =C7/$F$4 -> 1
B8: SOMA | D8: =SUM(D5:D7) -> 1.5714286 | E8: =SUM(E5:E7) -> 3.6666667 | F8: =SUM(F5:F7) -> 11
B12: Normalização da Matriz | G12: Prioridades | I12: DIF | J12: FATOR DE PREÇO
B13: > 50% | D13: =D5/$D$8 -> 0.63636364 | E13: =E5/$E$8 -> 0.63636364 | F13: =F5/$F$8 -> 0.63636364 | G13: =AVERAGE(D13:F13) -> 0.63636364 | H13: =G13:G15 -> 0.63636364 | I13: =1-H13 -> 0.36363636 | J13: =H13+$I$13 -> 1
B14: 11% ATÉ 50% | D14: =D6/$D$8 -> 0.27272727 | E14: =E6/$E$8 -> 0.27272727 | F14: =F6/$F$8 -> 0.27272727 | G14: =AVERAGE(D14:F14) -> 0.27272727 | H14: =G14:G15 -> 0.27272727 | I14: =1-H14 -> 0.72727273 | J14: =H14+$I$13 -> 0.63636364
B15: ATÉ 10% | D15: =D7/$D$8 -> 0.090909091 | E15: =E7/$E$8 -> 0.090909091 | F15: =F7/$F$8 -> 0.090909091 | G15: =AVERAGE(D15:F15) -> 0.090909091 | H15: =G15:G15 -> 0.090909091 | I15: =1-H15 -> 0.90909091 | J15: =H15+$I$13 -> 0.45454545
B20: Análise de Consistência
B21: > 50% | D21: =D5*$H$13 -> 0.63636364 | E21: =E5*$H$14 -> 0.63636364 | F21: =F5*$H$15 -> 0.63636364 | G21: =SUM(C21:F21) -> 1.9090909 | H21: =G21/H13 -> 3
B22: 11% ATÉ 50% | D22: =D6*$H$13 -> 0.27272727 | E22: =E6*$H$14 -> 0.27272727 | F22: =F6*$H$15 -> 0.27272727 | G22: =SUM(C22:F22) -> 0.81818182 | H22: =G22/H14 -> 3
B23: ATÉ 10% | D23: =D7*$H$13 -> 0.090909091 | E23: =E7*$H$14 -> 0.090909091 | F23: =F7*$H$15 -> 0.090909091 | G23: =SUM(C23:F23) -> 0.27272727 | H23: =G23/H15 -> 3
G24: ʎMax | H24: =SUM(H21:H23)/3 -> 3
G25: CI | H25: =(H24-3)/(3-1) -> 0
G26: IR | H26: 0.58
G27: CR | H27: =H25/H26 -> 0

Sheet RECUPERAÇÃO
D2: ANÁLISE PAR A PAR
B3: RECUPERAÇÃO | D3: SEM DEVOLUÇÃO DE MATERIAL SEGMENTADO | E3: COM DEVOLUÇÃO DE MATERIAL SEGMENTADO MISTURADO | F3: COM DEVOLUÇÃO DE MATERIAL SEGMENTADO SEPARADO
D4: 5 | E4: 3 | F4: 1
B5: SEM DEVOLUÇÃO DE MATERIAL SEGMENTADO | C5: 5 | D5: =C5/$D$4 -> 1 | E5: =C5/$E$4 -> 1.6666667 | F5: =C5/$F$4 -> 5
B6: COM DEVOLUÇÃO DE MATERIAL SEGMENTADO MISTURADO | C6: 3 | D6: =C6/$D$4 -> 0.6 | E6: =C6/$E$4 -> 1 | F6: =C6/$F$4 -> 3
B7: COM DEVOLUÇÃO DE MATERIAL SEGMENTADO SEPARADO | C7: 1 | D7: =C7/$D$4 -> 0.2 | E7: =C7/$E$4 -> 0.33333333 | F7: =C7/$F$4 -> 1
B8: SOMA | D8: =SUM(D5:D7) -> 1.8 | E8: =SUM(E5:E7) -> 3 | F8: =SUM(F5:F7) -> 9
B12: Normalização da Matriz | G12: Prioridades | I12: DIF | J12: FATOR DE PREÇO
B13: SEM DEVOLUÇÃO DE MATERIAL SEGMENTADO | D13: =D5/$D$8 -> 0.55555556 | E13: =E5/$E$8 -> 0.55555556 | F13: =F5/$F$8 -> 0.55555556 | G13: =AVERAGE(D13:F13) -> 0.55555556 | H13: =G13:G15 -> 0.55555556 | I13: =1-H13 -> 0.44444444 | J13: =H13+$I$13 -> 1
B14: COM DEVOLUÇÃO DE MATERIAL SEGMENTADO MISTURADO | D14: =D6/$D$8 -> 0.33333333 | E14: =E6/$E$8 -> 0.33333333 | F14: =F6/$F$8 -> 0.33333333 | G14: =AVERAGE(D14:F14) -> 0.33333333 | H14: =G14:G15 -> 0.33333333 | I14: =1-H14 -> 0.66666667 | J14: =H14+$I$13 -> 0.77777778
B15: COM DEVOLUÇÃO DE MATERIAL SEGMENTADO SEPARADO | D15: =D7/$D$8 -> 0.11111111 | E15: =E7/$E$8 -> 0.11111111 | F15: =F7/$F$8 -> 0.11111111 | G15: =AVERAGE(D15:F15) -> 0.11111111 | H15: =G15:G15 -> 0.11111111 | I15: =1-H15 -> 0.88888889 | J15: =H15+$I$13 -> 0.55555556
B20: Análise de Consistência
B21: SEM DEVOLUÇÃO DE MATERIAL SEGMENTADO | D21: =D5*$H$13 -> 0.55555556 | E21: =E5*$H$14 -> 0.55555556 | F21: =F5*$H$15 -> 0.55555556 | G21: =SUM(C21:F21) -> 1.6666667 | H21: =G21/H13 -> 3
B22: COM DEVOLUÇÃO DE MATERIAL SEGMENTADO MISTURADO | D22: =D6*$H$13 -> 0.33333333 | E22: =E6*$H$14 -> 0.33333333 | F22: =F6*$H$15 -> 0.33333333 | G22: =SUM(C22:F22) -> 1 | H22: =G22/H14 -> 3
B23: COM DEVOLUÇÃO DE MATERIAL SEGMENTADO SEPARADO | D23: =D7*$H$13 -> 0.11111111 | E23: =E7*$H$14 -> 0.11111111 | F23: =F7*$H$15 -> 0.11111111 | G23: =SUM(C23:F23) -> 0.33333333 | H23: =G23/H15 -> 3
G24: ʎMax | H24: =SUM(H21:H23)/3 -> 3
G25: CI | H25: =(H24-3)/(3-1) -> 0
G26: IR | H26: 0.58
G27: CR | H27: =H25/H26 -> 0
