Workbook

Sheet APRESENTAÇÃO
A1: . | B1: . | C1: . | D1: . | E1: . | F1: . | G1: . | H1: . | I1: . | J1: . | K1: . | L1: . | M1: . | N1: . | O1: .
P2: ANÁLISE PAR A PAR
P3: TERRA | R3: LIMITAÇÃO | S3: LIMITAÇÃO DE CULTURAS | T3: RISCOS COMPLEMENTARES | U3: ÁREA ATINGIDA | V3: RECUPERAÇÃO
R4: 9 | S4: 7 | T4: 7 | U4: 3 | V4: 1
P5: LIMITAÇÃO | Q5: 9 | R5: =Q5/$R$4 -> 1 | S5: =Q5/$S$4 -> 1.2857143 | T5: =Q5/$T$4 -> 1.2857143 | U5: =Q5/$U$4 -> 3 | V5: =Q5/$V$4 -> 9
P6: LIMITAÇÃO DE CULTURAS | Q6: 7 | R6: =Q6/$R$4 -> 0.77777778 | S6: =Q6/$S$4 -> 1 | T6: =Q6/$T$4 -> 1 | U6: =Q6/$U$4 -> 2.3333333 | V6: =Q6/$V$4 -> 7
P7: RISCOS COMPLEMENTARES | Q7: 7 | R7: =Q7/$R$4 -> 0.77777778 | S7: =Q7/$S$4 -> 1 | T7: =Q7/$T$4 -> 1 | U7: =Q7/$U$4 -> 2.3333333 | V7: =Q7/$V$4 -> 7
P8: ÁREA ATINGIDA | Q8: 3 | R8: =Q8/$R$4 -> 0.33333333 | S8: =Q8/$S$4 -> 0.42857143 | T8: =Q8/$T$4 -> 0.42857143 | U8: =Q8/$U$4 -> 1 | V8: =Q8/$V$4 -> 3
P9: RECUPERAÇÃO | Q9: 1 | R9: =Q9/$R$4 -> 0.11111111 | S9: =Q9/$S$4 -> 0.14285714 | T9: =Q9/$T$4 -> 0.14285714 | U9: =Q9/$U$4 -> 0.33333333 | V9: =Q9/$V$4 -> 1
P10: SOMA | R10: =SUM(R5:R9) -> 3 | S10: =SUM(S5:S9) -> 3.8571429 | T10: =SUM(T5:T9) -> 3.8571429 | U10: =SUM(U5:U9) -> 9 | V10: =SUM(V5:V9) -> 27
P12: Normalização da Matriz | W12: Prioridades | Y12: DIF | Z12: FATOR DE PREÇO
P13: LIMITAÇÃO | R13: =R5/$R$10 -> 0.33333333 | S13: =S5/$S$10 -> 0.33333333 | T13: =T5/$T$10 -> 0.33333333 | U13: =U5/$U$10 -> 0.33333333 | V13: =V5/$V$10 -> 0.33333333 | W13: =AVERAGE(R13:V13) -> 0.33333333 | X13: =W13:W17 -> 0.33333333 | Y13: =1-X13 -> 0.66666667 | Z13: =X13+$I$13 -> 0.33333333
P14: LIMITAÇÃO DE CULTURAS | R14: =R6/$R$10 -> 0.25925926 | S14: =S6/$S$10 -> 0.25925926 | T14: =T6/$T$10 -> 0.25925926 | U14: =U6/$U$10 -> 0.25925926 | V14: =V6/$V$10 -> 0.25925926 | W14: =AVERAGE(R14:V14) -> 0.25925926 | X14: =W14:W17 -> 0.25925926 | Y14: =1-X14 -> 0.74074074 | Z14: =X14+$I$13 -> 0.25925926
P15: RISCOS COMPLEMENTARES | R15: =R7/$R$10 -> 0.25925926 | S15: =S7/$S$10 -> 0.25925926 | T15: =T7/$T$10 -> 0.25925926 | U15: =U7/$U$10 -> 0.25925926 | V15: =V7/$V$10 -> 0.25925926 | W15: =AVERAGE(R15:V15) -> 0.25925926 | X15: =W15:W17 -> 0.25925926 | Y15: =1-X15 -> 0.74074074 | Z15: =X15+$I$13 -> 0.25925926
P16: ÁREA ATINGIDA | R16: =R8/$R$10 -> 0.11111111 | S16: =S8/$S$10 -> 0.11111111 | T16: =T8/$T$10 -> 0.11111111 | U16: =U8/$U$10 -> 0.11111111 | V16: =V8/$V$10 -> 0.11111111 | W16: =AVERAGE(R16:V16) -> 0.11111111 | X16: =W16:W17 -> 0.11111111 | Y16: =1-X16 -> 0.88888889 | Z16: =X16+$I$13 -> 0.11111111
P17: RECUPERAÇÃO | R17: =R9/$R$10 -> 0.037037037 | S17: =S9/$S$10 -> 0.037037037 | T17: =T9/$T$10 -> 0.037037037 | U17: =U9/$U$10 -> 0.037037037 | V17: =V9/$V$10 -> 0.037037037 | W17: =AVERAGE(R17:V17) -> 0.037037037 | X17: =W17:W17 -> 0.037037037 | Y17: =1-X17 -> 0.96296296 | Z17: =X17+$I$13 -> 0.037037037
R19: FATOR DE DEPRECIAÇÃO | T19: ÍNDICE DEPRECIATIVO
R20: LIMITAÇÃO | S20: 33.33 | T20: TOTAL | U20: PARCIAL | V20: MINIMA
T21: =LIMITAÇÃO!H13 -> 0.46666667 | U21: =LIMITAÇÃO!H14 -> 0.33333333 | V21: =LIMITAÇÃO!H15 -> 0.2
R22: LIMITAÇÃO DE CULTURAS | S22: 25.93 | T22: TOTAL | U22: PARCIAL | V22: NULA
T23: ='LIMITAÇÃO DE CULTURAS'!H13 -> 0.69230769 | U23: ='LIMITAÇÃO DE CULTURAS'!H14 -> 0.23076923 | V23: ='LIMITAÇÃO DE CULTURAS'!H15 -> 0.076923077
R24: RISCOS COMPLEMENTARES | S24: 25.93 | T24: 3 DANOS | U24: ATÉ 2 DANOS | V24: NENHUM DANO
T25: ='RISCOS COMPLEMENTARES'!H13 -> 0.6 | U25: ='RISCOS COMPLEMENTARES'!H14 -> 0.33333333 | V25: ='RISCOS COMPLEMENTARES'!H15 -> 0.066666667
R26: ÁREA ATINGIDA | S26: 11.11 | T26: > 50% | U26: 11% ATE 50% | V26: ATE 10%
T27: ='ÁREA ATINGIDA'!H13 -> 0.63636364 | U27: ='ÁREA ATINGIDA'!H14 -> 0.27272727 | V27: ='ÁREA ATINGIDA'!H15 -> 0.090909091
R28: RECUPERAÇÃO | S28: 3.7 | T28: SEM DEVOLUÇÃO DE MATERIAL SEGMENTADO | U28: COM DEVOLUÇÃO DE MATERIAL SEGMENTADO MISTURADO | V28: COM DEVOLUÇÃO DE MATERIAL SEGMENTADO SEPARADO
T29: =RECUPERAÇÃO!H13 -> 0.55555556 | U29: =RECUPERAÇÃO!H14 -> 0.33333333 | V29: =RECUPERAÇÃO!H15 -> 0.11111111
R33: 6.67 | S33: 100 | T33: 71.43 | U33: 14.29
R34: 33.33 | S34: 100 | T34: 55.56 | U34: 33.33
R35: 60 | S35: 100 | T35: 55.56 | U35: 11.11
S37: =(R33*S33)+(R34*S34)+(R35*T35) -> 7333.6
W38: LIMITAÇÃO DO IMÓVEL | Z38: LIMITAÇÃO | AA38: LIMITAÇÃO DE CULTURAS | AB38: RISCOS COMPLEMENTARES | AC38: ÁREA ATINGIDA | AD38: RECUPERAÇÃO | AE38: -
V39: SEM USO | W39: TOTAL | X39: 46.67 | Z39: TOTAL | AA39: TOTAL | AB39: 3 DANOS | AC39: > 50% | AD39: SEM DEVOLUÇÃO DE MATERIAL SEGMENTADO | AE39: =(X13*LIMITAÇÃO!D5)+(APRESENTAÇÃO!X14*'LIMITAÇÃO DE CULTURAS'!D5)+(APRESENTAÇÃO!X15*'RISCOS COMPLEMENTARES'!D5)+(APRESENTAÇÃO!X16*'ÁREA ATINGIDA'!D5)+(APRESENTAÇÃO!X17*RECUPERAÇÃO!D5) -> 1
V40: USO COMPROMETIDO | W40: PARCIAL | X40: 33.33 | Z40: TOTAL | AA40: TOTAL | AB40: 3 DANOS | AC40: > 50% | AD40: COM DEVOLUÇÃO DE MATERIAL SEGMENTADO MISTURADO | AE40: =(X13*LIMITAÇÃO!D5)+(APRESENTAÇÃO!X14*'LIMITAÇÃO DE CULTURAS'!D5)+(APRESENTAÇÃO!X15*'RISCOS COMPLEMENTARES'!D5)+(APRESENTAÇÃO!X16*'ÁREA ATINGIDA'!D5)+(APRESENTAÇÃO!X17*RECUPERAÇÃO!D6) -> 0.98518519
V41: USO ESPECÍFICO | W41: MÍNIMA | X41: 20 | Z41: TOTAL | AA41: TOTAL | AB41: 3 DANOS | AC41: > 50% | AD41: COM DEVOLUÇÃO DE MATERIAL SEGMENTADO SEPARADO | AE41: =(X13*LIMITAÇÃO!D5)+(APRESENTAÇÃO!X14*'LIMITAÇÃO DE CULTURAS'!D5)+(APRESENTAÇÃO!X15*'RISCOS COMPLEMENTARES'!D5)+(APRESENTAÇÃO!X16*'ÁREA ATINGIDA'!D5)+(APRESENTAÇÃO!X17*RECUPERAÇÃO!D7) -> 0.97037037
W42: LIMITAÇÃO DE CULTURAS | Z42: TOTAL | AA42: TOTAL | AB42: 3 DANOS | AC42: 11% até 50% | AD42: SEM DEVOLUÇÃO DE MATERIAL SEGMENTADO | AE42: =(X13*LIMITAÇÃO!D5)+(APRESENTAÇÃO!X14*'LIMITAÇÃO DE CULTURAS'!D5)+(APRESENTAÇÃO!X15*'RISCOS COMPLEMENTARES'!D5)+(APRESENTAÇÃO!X16*'ÁREA ATINGIDA'!D6)+(APRESENTAÇÃO!X17*RECUPERAÇÃO!D5) -> 0.93650794
W43: TOTAL | X43: 69.23 | Z43: TOTAL | AA43: TOTAL | AB43: 3 DANOS | AC43: 11% até 50% | AD43: COM DEVOLUÇÃO DE MATERIAL SEGMENTADO MISTURADO | AE43: =(X13*LIMITAÇÃO!D5)+(APRESENTAÇÃO!X14*'LIMITAÇÃO DE CULTURAS'!D5)+(APRESENTAÇÃO!X15*'RISCOS COMPLEMENTARES'!D5)+(APRESENTAÇÃO!X16*'ÁREA ATINGIDA'!D6)+(APRESENTAÇÃO!X17*RECUPERAÇÃO!D6) -> 0.92169312
W44: PARCIAL | X44: 23.08 | Z44: TOTAL | AA44: TOTAL | AB44: 3 DANOS | AC44: 11% até 50% | AD44: COM DEVOLUÇÃO DE MATERIAL SEGMENTADO SEPARADO | AE44: =(X13*LIMITAÇÃO!D5)+(APRESENTAÇÃO!X14*'LIMITAÇÃO DE CULTURAS'!D5)+(APRESENTAÇÃO!X15*'RISCOS COMPLEMENTARES'!D5)+(APRESENTAÇÃO!X16*'ÁREA ATINGIDA'!D6)+(APRESENTAÇÃO!X17*RECUPERAÇÃO!D7) -> 0.90687831
W45: NULA | X45: 7.69 | Z45: TOTAL | AA45: TOTAL | AB45: 3 DANOS | AC45: ATÉ 10% | AD45: SEM DEVOLUÇÃO DE MATERIAL SEGMENTADO | AE45: =(X13*LIMITAÇÃO!D5)+(APRESENTAÇÃO!X14*'LIMITAÇÃO DE CULTURAS'!D5)+(APRESENTAÇÃO!X15*'RISCOS COMPLEMENTARES'!D5)+(APRESENTAÇÃO!X16*'ÁREA ATINGIDA'!D7)+(APRESENTAÇÃO!X17*RECUPERAÇÃO!D5) -> 0.9047619
W46: RISCOS COMPLEMENTARES | Z46: TOTAL | AA46: TOTAL | AB46: 3 DANOS | AC46: ATÉ 10% | AD46: COM DEVOLUÇÃO DE MATERIAL SEGMENTADO MISTURADO | AE46: =(X13*LIMITAÇÃO!D5)+(APRESENTAÇÃO!X14*'LIMITAÇÃO DE CULTURAS'!D5)+(APRESENTAÇÃO!X15*'RISCOS COMPLEMENTARES'!D5)+(APRESENTAÇÃO!X16*'ÁREA ATINGIDA'!D7)+(APRESENTAÇÃO!X17*RECUPERAÇÃO!D6) -> 0.88994709
...

Sheet LIMITAÇÃO
D2: ANÁLISE PAR A PAR
B3: LIMITAÇÃO DO IMÓVEL | D3: TOTAL | E3: PARCIAL | F3: MINÍMA
D4: 7 | E4: 5 | F4: 3
B5: TOTAL | C5: 7 | D5: =C5/$D$4 -> 1 | E5: =C5/$E$4 -> 1.4 | F5: =C5/$F$4 -> 2.3333333
B6: PARCIAL | C6: 5 | D6: =C6/$D$4 -> 0.71428571 | E6: =C6/$E$4 -> 1 | F6: =C6/$F$4 -> 1.6666667
B7: MINÍMA | C7: 3 | D7: =C7/$D$4 -> 0.42857143 | E7: =C7/$E$4 -> 0.6 | F7: =C7/$F$4 -> 1
B8: SOMA | D8: =SUM(D5:D7) -> 2.1428571 | E8: =SUM(E5:E7) -> 3 | F8: =SUM(F5:F7) -> 5
B12: Normalização da Matriz | G12: Prioridades | I12: DIF | J12: FATOR DE PREÇO
B13: TOTAL | D13: =D5/$D$8 -> 0.46666667 | E13: =E5/$E$8 -> 0.46666667 | F13: =F5/$F$8 -> 0.46666667 | G13: =AVERAGE(D13:F13) -> 0.46666667 | H13: =G13:G15 -> 0.46666667 | I13: =1-H13 -> 0.53333333 | J13: =H13+$I$13 -> 1
B14: PARCIAL | D14: =D6/$D$8 -> 0.33333333 | E14: =E6/$E$8 -> 0.33333333 | F14: =F6/$F$8 -> 0.33333333 | G14: =AVERAGE(D14:F14) -> 0.33333333 | H14: =G14:G15 -> 0.33333333 | I14: =1-H14 -> 0.66666667 | J14: =H14+$I$13 -> 0.86666667
B15: MINÍMA | D15: =D7/$D$8 -> 0.2 | E15: =E7/$E$8 -> 0.2 | F15: =F7/$F$8 -> 0.2 | G15: =AVERAGE(D15:F15) -> 0.2 | H15: =G15:G15 -> 0.2 | I15: =1-H15 -> 0.8 | J15: =H15+$I$13 -> 0.73333333
B20: Análise de Consistência
B21: TOTAL | D21: =D5*$H$13 -> 0.46666667 | E21: =E5*$H$14 -> 0.46666667 | F21: =F5*$H$15 -> 0.46666667 | G21: =SUM(C21:F21) -> 1.4 | H21: =G21/H13 -> 3
B22: PARCIAL | D22: =D6*$H$13 -> 0.33333333 | E22: =E6*$H$14 -> 0.33333333 | F22: =F6*$H$15 -> 0.33333333 | G22: =SUM(C22:F22) -> 1 | H22: =G22/H14 -> 3
B23: MINÍMA | D23: =D7*$H$13 -> 0.2 | E23: =E7*$H$14 -> 0.2 | F23: =F7*$H$15 -> 0.2 | G23: =SUM(C23:F23) -> 0.6 | H23: =G23/H15 -> 3
B24: ʎMax | H24: =SUM(H21:H23)/3 -> 3
B25: CI | H25: =(H24-3)/(3-1) -> 0
B26: IR | H26: 0.58
B27: CR | H27: =H25/H26 -> 0

Sheet LIMITAÇÃO DE CULTURAS
D2: ANÁLISE PAR A PAR
B3: LIMITAÇÃO DE CULTURAS | D3: TOTAL | E3: PARCIAL | F3: NULA
D4: 9 | E4: 3 | F4: 1
B5: TOTAL | C5: 9 | D5: =C5/$D$4 -> 1 | E5: =C5/$E$4 -> 3 | F5: =C5/$F$4 -> 9
B6: PARCIAL | C6: 3 | D6: =C6/$D$4 -> 0.33333333 | E6: =C6/$E$4 -> 1 | F6: =C6/$F$4 -> 3
B7: NULA | C7: 1 | D7: =C7/$D$4 -> 0.11111111 | E7: =C7/$E$4 -> 0.33333333 | F7: =C7/$F$4 -> 1
B8: SOMA | D8: =SUM(D5:D7) -> 1.4444444 | E8: =SUM(E5:E7) -> 4.3333333 | F8: =SUM(F5:F7) -> 13
B12: Normalização da Matriz | G12: Prioridades | I12: DIF | J12: FATOR DE PREÇO
B13: TOTAL | D13: =D5/$D$8 -> 0.69230769 | E13: =E5/$E$8 -> 0.69230769 | F13: =F5/$F$8 -> 0.69230769 | G13: =AVERAGE(D13:F13) -> 0.69230769 | H13: =G13:G15 -> 0.69230769 | I13: =1-H13 -> 0.30769231 | J13: =H13+$I$13 -> 1
B14: PARCIAL | D14: =D6/$D$8 -> 0.23076923 | E14: =E6/$E$8 -> 0.23076923 | F14: =F6/$F$8 -> 0.23076923 | G14: =AVERAGE(D14:F14) -> 0.23076923 | H14: =G14:G15 -> 0.23076923 | I14: =1-H14 -> 0.76923077 | J14: =H14+$I$13 -> 0.53846154
B15: NULA | D15: =D7/$D$8 -> 0.076923077 | E15: =E7/$E$8 -> 0.076923077 | F15: =F7/$F$8 -> 0.076923077 | G15: =AVERAGE(D15:F15) -> 0.076923077 | H15: =G15:G15 -> 0.076923077 | I15: =1-H15 -> 0.92307692 | J15: =H15+$I$13 -> 0.38461538
B20: Análise de Consistência
B21: TOTAL | D21: =D5*$H$13 -> 0.69230769 | E21: =E5*$H$14 -> 0.69230769 | F21: =F5*$H$15 -> 0.69230769 | G21: =SUM(C21:F21) -> 2.0769231 | H21: =G21/H13 -> 3
B22: PARCIAL | D22: =D6*$H$13 -> 0.23076923 | E22: =E6*$H$14 -> 0.23076923 | F22: =F6*$H$15 -> 0.23076923 | G22: =SUM(C22:F22) -> 0.69230769 | H22: =G22/H14 -> 3
B23: NULA | D23: =D7*$H$13 -> 0.076923077 | E23: =E7*$H$14 -> 0.076923077 | F23: =F7*$H$15 -> 0.076923077 | G23: =SUM(C23:F23) -> 0.23076923 | H23: =G23/H15 -> 3
G24: ʎMax | H24: =SUM(H21:H23)/3 -> 3
G25: CI | H25: =(H24-3)/(3-1) -> 0
G26: IR | H26: 0.58
G27: CR | H27: =H25/H26 -> 0

Sheet RISCOS COMPLEMENTARES
D2: ANÁLISE PAR A PAR
B3: RISCOS COMPLEMENTARES | D3: 3 DANOS | E3: ATÉ 2 DANOS | F3: NENHUM DANO
D4: 9 | E4: 5 | F4: 1
B5: 3 DANOS | C5: 9 | D5: =C5/$D$4 -> 1 | E5: =C5/$E$4 -> 1.8 | F5: =C5/$F$4 -> 9
B6: ATÉ 2 DANOS | C6: 5 | D6: =C6/$D$4 -> 0.55555556 | E6: =C6/$E$4 -> 1 | F6: =C6/$F$4 -> 5
B7: NENHUM DANO | C7: 1 | D7: =C7/$D$4 -> 0.11111111 | E7: =C7/$E$4 -> 0.2 | F7: =C7/$F$4 -> 1
B8: SOMA | D8: =SUM(D5:D7) -> 1.6666667 | E8: =SUM(E5:E7) -> 3 | F8: =SUM(F5:F7) -> 15
B12: Normalização da Matriz | G12: Prioridades | I12: DIF | J12: FATOR DE PREÇO
B13: 3 DANOS | D13: =D5/$D$8 -> 0.6 | E13: =E5/$E$8 -> 0.6 | F13: =F5/$F$8 -> 0.6 | G13: =AVERAGE(D13:F13) -> 0.6 | H13: =G13:G15 -> 0.6 | I13: =1-H13 -> 0.4 | J13: =H13+$I$13 -> 1
B14: ATÉ 2 DANOS | D14: =D6/$D$8 -> 0.33333333 | E14: =E6/$E$8 -> 0.33333333 | F14: =F6/$F$8 -> 0.33333333 | G14: =AVERAGE(D14:F14) -> 0.33333333 | H14: =G14:G15 -> 0.33333333 | I14: =1-H14 -> 0.66666667 | J14: =H14+$I$13 -> 0.73333333
B15: NENHUM DANO | D15: =D7/$D$8 -> 0.066666667 | E15: =E7/$E$8 -> 0.066666667 | F15: =F7/$F$8 -> 0.066666667 | G15: =AVERAGE(D15:F15) -> 0.066666667 | H15: =G15:G15 -> 0.066666667 | I15: =1-H15 -> 0.93333333 | J15: =H15+$I$13 -> 0.46666667
B20: Análise de Consistência
B21: 3 DANOS | D21: =D5*$H$13 -> 0.6 | E21: =E5*$H$14 -> 0.6 | F21: =F5*$H$15 -> 0.6 | G21: =SUM(C21:F21) -> 1.8 | H21: =G21/H13 -> 3
B22: ATÉ 2 DANOS | D22: =D6*$H$13 -> 0.33333333 | E22: =E6*$H$14 -> 0.33333333 | F22: =F6*$H$15 -> 0.33333333 | G22: =SUM(C22:F22) -> 1 | H22: =G22/H14 -> 3
B23: NENHUM DANO | D23: =D7*$H$13 -> 0.066666667 | E23: =E7*$H$14 -> 0.066666667 | F23: =F7*$H$15 -> 0.066666667 | G23: =SUM(C23:F23) -> 0.2 | H23: =G23/H15 -> 3
G24: ʎMax | H24: =SUM(H21:H23)/3 -> 3
G25: CI | H25: =(H24-3)/(3-1) -> 0
G26: IR | H26: 0.58
G27: CR | H27: =H25/H26 -> 0

Sheet ÁREA ATINGIDA
D2: ANÁLISE PAR A PAR
B3: ÁREA ATINGIDA | D3: > 50% | E3: 11% ATÉ 50% | F3: ATÉ 10%
D4: 7 | E4: 3 | F4: 1
B5: > 50% | C5: 7 | D5: =C5/$D$4 -> 1 | E5: =C5/$E$4 -> 2.3333333 | F5: =C5/$F$4 -> 7
B6: 11% ATÉ 50% | C6: 3 | D6: =C6/$D$4 -> 0.42857143 | E6: =C6/$E$4 -> 1 | F6: =C6/$F$4 -> 3
B7: ATÉ 10% | C7: 1 | D7: =C7/$D$4 -> 0.14285714 | E7: =C7/$E$4 -> 0.33333333 | F7: =C7/$F$4 -> 1
B8: SOMA | D8: =SUM(D5:D7) -> 1.5714286 | E8: =SUM(E5:E7) -> 3.6666667 | F8: =SUM(F5:F7) -> 11
B12: Normalização da Matriz | G12: Prioridades | I12: DIF | J12: FATOR DE PREÇO
B13: > 50% | D13: =D5/$D$8 -> 0.63636364 | E13: =E5/$E$8 -> 0.63636364 | F13: =F5/$F$8 -> 0.63636364 | G13: =AVERAGE(D13:F13) -> 0.63636364 | H13: =G13:G15 -> 0.63636364 | I13: =1-H13 -> 0.36363636 | J13: =H13+$I$13 -> 1
B14: 11% ATÉ 50% | D14: =D6/$D$8 -> 0.27272727 | E14: =E6/$E$8 -> 0.27272727 | F14: =F6/$F$8 -> 0.27272727 | G14: =AVERAGE(D14:F14) -> 0.27272727 | H14: =G14:G15 -> 0.27272727 | I14: =1-H14 -> 0.72727273 | J14: =H14+$I$13 -> 0.63636364
B15: ATÉ 10% | D15: =D7/$D$8 -> 0.090909091 | E15: =E7/$E$8 -> 0.090909091 | F15: =F7/$F$8 -> 0.090909091 | G15: =AVERAGE(D15:F15) -> 0.090909091 | H15: =G15:G15 -> 0.090909091 | I15: =1-H15 -> 0.90909091 | J15: =H15+$I$13 -> 0.45454545
B20: Análise de Consistência
B21: > 50% | D21: =D5*$H$13 -> 0.63636364 | E21: =E5*$H$14 -> 0.63636364 | F21: =F5*$H$15 -> 0.63636364 | G21: =SUM(C21:F21) -> 1.9090909 | H21: =G21/H13 -> 3
B22: 11% ATÉ 50% | D22: =D6*$H$13 -> 0.27272727 | E22: =E6*$H$14 -> 0.27272727 | F22: =F6*$H$15 -> 0.27272727 | G22: =SUM(C22:F22) -> 0.81818182 | H22: =G22/H14 -> 3
B23: ATÉ 10% | D23: =D7*$H$13 -> 0.090909091 | E23: =E7*$H$14 -> 0.090909091 | F23: =F7*$H$15 -> 0.090909091 | G23: =SUM(C23:F23) -> 0.27272727 | H23: =G23/H15 -> 3
G24: ʎMax | H24: =SUM(H21:H23)/3 -> 3
G25: CI | H25: =(H24-3)/(3-1) -> 0
G26: IR | H26: 0.58
G27: CR | H27: =H25/H26 -> 0

Sheet RECUPERAÇÃO
D2: ANÁLISE PAR A PAR
B3: RECUPERAÇÃO | D3: SEM DEVOLUÇÃO DE MATERIAL SEGMENTADO | E3: COM DEVOLUÇÃO DE MATERIAL SEGMENTADO MISTURADO | F3: COM DEVOLUÇÃO DE MATERIAL SEGMENTADO SEPARADO
D4: 5 | E4: 3 | F4: 1
B5: SEM DEVOLUÇÃO DE MATERIAL SEGMENTADO | C5: 5 | D5: =C5/$D$4 -> 1 | E5: =C5/$E$4 -> 1.6666667 | F5: =C5/$F$4 -> 5
B6: COM DEVOLUÇÃO DE MATERIAL SEGMENTADO MISTURADO | C6: 3 | D6: =C6/$D$4 -> 0.6 | E6: =C6/$E$4 -> 1 | F6: =C6/$F$4 -> 3
B7: COM DEVOLUÇÃO DE MATERIAL SEGMENTADO SEPARADO | C7: 1 | D7: =C7/$D$4 -> 0.2 | E7: =C7/$E$4 -> 0.33333333 | F7: =C7/$F$4 -> 1
B8: SOMA | D8: =SUM(D5:D7) -> 1.8 | E8: =SUM(E5:E7) -> 3 | F8: =SUM(F5:F7) -> 9
B12: Normalização da Matriz | G12: Prioridades | I12: DIF | J12: FATOR DE PREÇO
B13: SEM DEVOLUÇÃO DE MATERIAL SEGMENTADO | D13: =D5/$D$8 -> 0.55555556 | E13: =E5/$E$8 -> 0.55555556 | F13: =F5/$F$8 -> 0.55555556 | G13: =AVERAGE(D13:F13) -> 0.55555556 | H13: =G13:G15 -> 0.55555556 | I13: =1-H13 -> 0.44444444 | J13: =H13+$I$13 -> 1
B14: COM DEVOLUÇÃO DE MATERIAL SEGMENTADO MISTURADO | D14: =D6/$D$8 -> 0.33333333 | E14: =E6/$E$8 -> 0.33333333 | F14: =F6/$F$8 -> 0.33333333 | G14: =AVERAGE(D14:F14) -> 0.33333333 | H14: =G14:G15 -> 0.33333333 | I14: =1-H14 -> 0.66666667 | J14: =H14+$I$13 -> 0.77777778
B15: COM DEVOLUÇÃO DE MATERIAL SEGMENTADO SEPARADO | D15: =D7/$D$8 -> 0.11111111 | E15: =E7/$E$8 -> 0.11111111 | F15: =F7/$F$8 -> 0.11111111 | G15: =AVERAGE(D15:F15) -> 0.11111111 | H15: =G15:G15 -> 0.11111111 | I15: =1-H15 -> 0.88888889 | J15: =H15+$I$13 -> 0.55555556
B20: Análise de Consistência
B21: SEM DEVOLUÇÃO DE MATERIAL SEGMENTADO | D21: =D5*$H$13 -> 0.55555556 | E21: =E5*$H$14 -> 0.55555556 | F21: =F5*$H$15 -> 0.55555556 | G21: =SUM(C21:F21) -> 1.6666667 | H21: =G21/H13 -> 3
B22: COM DEVOLUÇÃO DE MATERIAL SEGMENTADO MISTURADO | D22: =D6*$H$13 -> 0.33333333 | E22: =E6*$H$14 -> 0.33333333 | F22: =F6*$H$15 -> 0.33333333 | G22: =SUM(C22:F22) -> 1 | H22: =G22/H14 -> 3
B23: COM DEVOLUÇÃO DE MATERIAL SEGMENTADO SEPARADO | D23: =D7*$H$13 -> 0.11111111 | E23: =E7*$H$14 -> 0.11111111 | F23: =F7*$H$15 -> 0.11111111 | G23: =SUM(C23:F23) -> 0.33333333 | H23: =G23/H15 -> 3
G24: ʎMax | H24: =SUM(H21:H23)/3 -> 3
G25: CI | H25: =(H24-3)/(3-1) -> 0
G26: IR | H26: 0.58
G27: CR | H27: =H25/H26 -> 0
