Workbook
Name Excel_BuiltIn_Print_Area_1: #REF!
Name Excel_BuiltIn_Print_Area_1: #REF!
Name Excel_BuiltIn_Print_Area_1_1: #REF!
Name Excel_BuiltIn_Print_Area_1_1: #REF!

Sheet PESQUISA PREÇOS modelo
A1: PLANILHA ORÇAMENTÁRIA - COMPARATIVO DE PREÇO DE LICITANTES
A2: CONTRATAÇÃO DE SERVIÇOS TÉCNICOS ESPECIALIZADOS DE ARQUITETURA E ENGENHARIA PARA A ELABORAÇÃO DE PROJETO ARQUITETÔNICO E PROJETOS COMPLEMENTARES EXECUTIVOS DE RESTAURAÇÃO DO MUSEU GOIANO ZOROASTRO ARTIAGA | E2: Dados gerais: Acervo em exposição de longa duração: 1.333 objetos; Estimativa de acervo na reserva técnica: entre 2.000 a 2.500 objetos; Caixas poliondas de material arqueológico: 153 caixas
A3: FONTE DE PESQUISA: Inc. VI - PESQUISA DIRETA COM FORNECEDORES | E3: PREÇO 1 - GRUPO OFICINA DE RESTAURO LTDA | G3: PREÇO 2 - STEPHAN SCHAFER CONSERVACAO E RESTAURACAO UNIPESSOAL LTDA | I3: MÉDIA Inc.VI (R$)
A4: ITEM | B4: DESCRIÇÃO DOS SERVIÇOS | C4: UNID. | D4: QTDE. | E4: VALOR UNIT | F4: VALOR TOTAL | G4: VALOR UNIT | H4: VALOR TOTAL | L4: QUANT | M4: PREÇO MATERIAL | N4: PREÇO MÃO DE OBRA | O4: R$ TOTAL | P4: QUANT | Q4: PREÇO MATERIAL | R4: PREÇO MÃO DE OBRA | S4: R$ TOTAL | T4: QUANT | U4: PREÇO MATERIAL | V4: PREÇO MÃO DE OBRA | W4: R$ TOTAL | X4: QUANT | Y4: PREÇO MATERIAL | Z4: PREÇO MÃO DE OBRA | AA4: R$ TOTAL | AB4: QUANT | AC4: PREÇO MATERIAL | AD4: PREÇO MÃO DE OBRA | AE4: R$ TOTAL | AF4: QUANT | AG4: PREÇO MATERIAL | AH4: PREÇO MÃO DE OBRA | AI4: R$ TOTAL | AJ4: QUANT | AK4: PREÇO MATERIAL | AL4: PREÇO MÃO DE OBRA | AM4: R$ TOTAL | AN4: QUANT | AO4: PREÇO MATERIAL | AP4: PREÇO MÃO DE OBRA | AQ4: R$ TOTAL
A5: 1.0 | B5: EMBALAGENS E MATERIAIS | C5: und | D5: 1 | E5: 140000 | F5: =E5*D5 -> 140000 | G5: 50000 | H5: =G5*D5 -> 50000 | I5: =(F5+H5)/2 -> 95000
A6: 2.0 | B6: ACONDICIONAMENTO DE ACERVO | C6: und | D6: 1 | E6: 420000 | F6: =E6*D6 -> 420000 | G6: 100000 | H6: =G6*D6 -> 100000 | I6: =(F6+H6)/2 -> 260000
A7: 3.0 | B7: MANUSEIO, CARREGAMENTO E TRANSPORTE | C7: und | D7: 1 | E7: 119000 | F7: =E7*D7 -> 119000 | G7: 240000 | H7: =G7*D7 -> 240000 | I7: =(F7+H7)/2 -> 179500 | L7: 220 | M7: =ROUND($L7*#REF!,2) -> #REF! | N7: =ROUND($L7*#REF!,2) -> #REF! | O7: =N7+M7 -> #REF! | P7: 220 | Q7: =ROUND(P7*#REF!,2) -> #REF! | R7: =ROUND(P7*#REF!,2) -> #REF! | S7: =R7+Q7 -> #REF! | T7: 198 | U7: =ROUND(T7*#REF!,2) -> #REF! | V7: =ROUND(T7*#REF!,2) -> #REF! | W7: =V7+U7 -> #REF! | X7: 198 | Y7: =ROUND(X7*#REF!,2) -> #REF! | Z7: =ROUND(X7*#REF!,2) -> #REF! | AA7: =Z7+Y7 -> #REF! | AB7: 198 | AC7: =ROUND(AB7*#REF!,2) -> #REF! | AD7: =ROUND(AB7*#REF!,2) -> #REF! | AE7: =AD7+AC7 -> #REF! | AF7: 264 | AG7: =ROUND(AF7*#REF!,2) -> #REF! | AH7: =ROUND(AF7*#REF!,2) -> #REF! | AI7: =AH7+AG7 -> #REF! | AJ7: 264 | AK7: =ROUND(AJ7*#REF!,2) -> #REF! | AL7: =ROUND(AJ7*#REF!,2) -> #REF! | AM7: =AL7+AK7 -> #REF! | AN7: 264 | AO7: =ROUND(AN7*#REF!,2) -> #REF! | AP7: =ROUND(AN7*#REF!,2) -> #REF! | AQ7: =AP7+AO7 -> #REF! | AS7: =#REF! -> #REF! | AT7: =AF7+AB7+X7+T7+P7+L7+#REF! -> #REF! | AU7: =AS7-AT7 -> #REF! | AV7: =AU7-#REF! -> #REF!
A8: 4.0 | B8: DESINFESTAÇÃO EM ATMOSFERA ANÓXIA | C8: und | D8: 1 | E8: 198000 | F8: =E8*D8 -> 198000 | G8: 265000 | H8: =G8*D8 -> 265000 | I8: =(F8+H8)/2 -> 231500
A9: 5.0 | B9: HIGIENIZAÇÃO DE ACERVO | C9: und | D9: 1 | E9: 455000 | F9: =E9*D9 -> 455000 | G9: 245000 | H9: =G9*D9 -> 245000 | I9: =(F9+H9)/2 -> 350000
A10: 6.0 | B10: CATALOGAÇÃO DE ACERVO | C10: und | D10: 1 | E10: 409000 | F10: =E10*D10 -> 409000 | G10: 195000 | H10: =G10*D10 -> 195000 | I10: =(F10+H10)/2 -> 302000
A11: 7.0 | B11: LAUDO DE CONSERVAÇÃO | C11: und | D11: 1 | E11: 175000 | F11: =E11*D11 -> 175000 | G11: 200000 | H11: =G11*D11 -> 200000 | I11: =(F11+H11)/2 -> 187500
A12: 8.0 | B12: VIGIA DE OBRAS E ACERVO- (NOTURNO E NO SÁBADO/DOMINGO DIURNO) | C12: h | D12: 2880 | E12: =15.45*1.2726 -> 19.66167 | F12: =E12*D12 -> 56625.61 | G12: =15.45*1.2726 -> 19.66167 | H12: =G12*D12 -> 56625.61 | I12: =(F12+H12)/2 -> 56625.61
A13: 9.0 | B13: VIGIA DE OBRAS E ACERVO (DIURNO) | C13: h | D13: 2880 | E13: =11.27*1.2726 -> 14.342202 | F13: =E13*D13 -> 41305.542 | G13: =11.27*1.2726 -> 14.342202 | H13: =G13*D13 -> 41305.542 | I13: =(F13+H13)/2 -> 41305.542
A14: TOTAL DA PROPOSTA | F14: =SUM(F5:F13) -> 2013931.2 | H14: =SUM(H5:H13) -> 1392931.2 | I14: =(F14+H14)/2 -> 1703431.2 | M14: =ROUND($L14*#REF!,2) -> #REF! | N14: =ROUND($L14*#REF!,2) -> #REF! | O14: =N14+M14 -> #REF! | Q14: =ROUND(P14*#REF!,2) -> #REF! | R14: =ROUND(P14*#REF!,2) -> #REF! | S14: =R14+Q14 -> #REF! | U14: =ROUND(T14*#REF!,2) -> #REF! | V14: =ROUND(T14*#REF!,2) -> #REF! | W14: =V14+U14 -> #REF! | Y14: =ROUND(X14*#REF!,2) -> #REF! | Z14: =ROUND(X14*#REF!,2) -> #REF! | AA14: =Z14+Y14 -> #REF! | AC14: =ROUND(AB14*#REF!,2) -> #REF! | AD14: =ROUND(AB14*#REF!,2) -> #REF! | AE14: =AD14+AC14 -> #REF! | AG14: =ROUND(AF14*#REF!,2) -> #REF! | AH14: =ROUND(AF14*#REF!,2) -> #REF! | AI14: =AH14+AG14 -> #REF! | AK14: =ROUND(AJ14*#REF!,2) -> #REF! | AL14: =ROUND(AJ14*#REF!,2) -> #REF! | AM14: =AL14+AK14 -> #REF! | AO14: =ROUND(AN14*#REF!,2) -> #REF! | AP14: =ROUND(AN14*#REF!,2) -> #REF! | AQ14: =AP14+AO14 -> #REF! | AS14: =#REF! -> #REF! | AT14: =AF14+AB14+X14+T14+P14+L14+#REF! -> #REF! | AU14: =AS14-AT14 -> #REF! | AV14: =AU14-#REF! -> #REF!
A15: Eng. Civil responsável pela elaboração de cálculo: Cecília Guimarães Cândido | L15: =ROUND(#REF!*#REF!,2) -> #REF! | M15: =L15+#REF! -> #REF! | O15: =ROUND($N15*#REF!,2) -> #REF! | P15: =ROUND($N15*#REF!,2) -> #REF! | Q15: =P15+O15 -> #REF! | S15: =ROUND(R15*#REF!,2) -> #REF! | T15: =ROUND(R15*#REF!,2) -> #REF! | U15: =T15+S15 -> #REF! | W15: =ROUND(V15*#REF!,2) -> #REF! | X15: =ROUND(V15*#REF!,2) -> #REF! | Y15: =X15+W15 -> #REF! | AA15: =ROUND(Z15*#REF!,2) -> #REF! | AB15: =ROUND(Z15*#REF!,2) -> #REF! | AC15: =AB15+AA15 -> #REF! | AE15: =ROUND(AD15*#REF!,2) -> #REF! | AF15: =ROUND(AD15*#REF!,2) -> #REF! | AG15: =AF15+AE15 -> #REF! | AI15: =ROUND(AH15*#REF!,2) -> #REF! | AJ15: =ROUND(AH15*#REF!,2) -> #REF! | AK15: =AJ15+AI15 -> #REF! | AM15: =ROUND(AL15*#REF!,2) -> #REF! | AN15: =ROUND(AL15*#REF!,2) -> #REF! | AO15: =AN15+AM15 -> #REF! | AQ15: =ROUND(AP15*#REF!,2) -> #REF! | AR15: =ROUND(AP15*#REF!,2) -> #REF! | AS15: =AR15+AQ15 -> #REF! | AU15: =#REF! -> #REF! | AV15: =AH15+AD15+Z15+V15+R15+N15+#REF! -> #REF! | AW15: =AU15-AV15 -> #REF! | AX15: =AW15-#REF! -> #REF!
A16: Equipe de apoio: Arquiteta Melissa Martins Alves | L16: =ROUND(#REF!*#REF!,2) -> #REF! | M16: =L16+#REF! -> #REF! | O16: =ROUND($N16*#REF!,2) -> #REF! | P16: =ROUND($N16*#REF!,2) -> #REF! | Q16: =P16+O16 -> #REF! | S16: =ROUND(R16*#REF!,2) -> #REF! | T16: =ROUND(R16*#REF!,2) -> #REF! | U16: =T16+S16 -> #REF! | W16: =ROUND(V16*#REF!,2) -> #REF! | X16: =ROUND(V16*#REF!,2) -> #REF! | Y16: =X16+W16 -> #REF! | AA16: =ROUND(Z16*#REF!,2) -> #REF! | AB16: =ROUND(Z16*#REF!,2) -> #REF! | AC16: =AB16+AA16 -> #REF! | AE16: =ROUND(AD16*#REF!,2) -> #REF! | AF16: =ROUND(AD16*#REF!,2) -> #REF! | AG16: =AF16+AE16 -> #REF! | AI16: =ROUND(AH16*#REF!,2) -> #REF! | AJ16: =ROUND(AH16*#REF!,2) -> #REF! | AK16: =AJ16+AI16 -> #REF! | AM16: =ROUND(AL16*#REF!,2) -> #REF! | AN16: =ROUND(AL16*#REF!,2) -> #REF! | AO16: =AN16+AM16 -> #REF! | AQ16: =ROUND(AP16*#REF!,2) -> #REF! | AR16: =ROUND(AP16*#REF!,2) -> #REF! | AS16: =AR16+AQ16 -> #REF! | AU16: =#REF! -> #REF! | AV16: =AH16+AD16+Z16+V16+R16+N16+#REF! -> #REF! | AW16: =AU16-AV16 -> #REF! | AX16: =AW16-#REF! -> #REF!
L17: =ROUND(#REF!*#REF!,2) -> #REF! | M17: =L17+#REF! -> #REF! | O17: =ROUND($N17*#REF!,2) -> #REF! | P17: =ROUND($N17*#REF!,2) -> #REF! | Q17: =P17+O17 -> #REF! | S17: =ROUND(R17*#REF!,2) -> #REF! | T17: =ROUND(R17*#REF!,2) -> #REF! | U17: =T17+S17 -> #REF! | W17: =ROUND(V17*#REF!,2) -> #REF! | X17: =ROUND(V17*#REF!,2) -> #REF! | Y17: =X17+W17 -> #REF! | AA17: =ROUND(Z17*#REF!,2) -> #REF! | AB17: =ROUND(Z17*#REF!,2) -> #REF! | AC17: =AB17+AA17 -> #REF! | AE17: =ROUND(AD17*#REF!,2) -> #REF! | AF17: =ROUND(AD17*#REF!,2) -> #REF! | AG17: =AF17+AE17 -> #REF! | AI17: =ROUND(AH17*#REF!,2) -> #REF! | AJ17: =ROUND(AH17*#REF!,2) -> #REF! | AK17: =AJ17+AI17 -> #REF! | AM17: =ROUND(AL17*#REF!,2) -> #REF! | AN17: =ROUND(AL17*#REF!,2) -> #REF! | AO17: =AN17+AM17 -> #REF! | AQ17: =ROUND(AP17*#REF!,2) -> #REF! | AR17: =ROUND(AP17*#REF!,2) -> #REF! | AS17: =AR17+AQ17 -> #REF! | AU17: =#REF! -> #REF! | AV17: =AH17+AD17+Z17+V17+R17+N17+#REF! -> #REF! | AW17: =AU17-AV17 -> #REF! | AX17: =AW17-#REF! -> #REF!
L18: =ROUND(#REF!*#REF!,2) -> #REF! | M18: =L18+#REF! -> #REF! | O18: =ROUND($N18*#REF!,2) -> #REF! | P18: =ROUND($N18*#REF!,2) -> #REF! | Q18: =P18+O18 -> #REF! | S18: =ROUND(R18*#REF!,2) -> #REF! | T18: =ROUND(R18*#REF!,2) -> #REF! | U18: =T18+S18 -> #REF! | W18: =ROUND(V18*#REF!,2) -> #REF! | X18: =ROUND(V18*#REF!,2) -> #REF! | Y18: =X18+W18 -> #REF! | AA18: =ROUND(Z18*#REF!,2) -> #REF! | AB18: =ROUND(Z18*#REF!,2) -> #REF! | AC18: =AB18+AA18 -> #REF! | AE18: =ROUND(AD18*#REF!,2) -> #REF! | AF18: =ROUND(AD18*#REF!,2) -> #REF! | AG18: =AF18+AE18 -> #REF! | AI18: =ROUND(AH18*#REF!,2) -> #REF! | AJ18: =ROUND(AH18*#REF!,2) -> #REF! | AK18: =AJ18+AI18 -> #REF! | AM18: =ROUND(AL18*#REF!,2) -> #REF! | AN18: =ROUND(AL18*#REF!,2) -> #REF! | AO18: =AN18+AM18 -> #REF! | AQ18: =ROUND(AP18*#REF!,2) -> #REF! | AR18: =ROUND(AP18*#REF!,2) -> #REF! | AS18: =AR18+AQ18 -> #REF! | AU18: =#REF! -> #REF! | AV18: =AH18+AD18+Z18+V18+R18+N18+#REF! -> #REF! | AW18: =AU18-AV18 -> #REF! | AX18: =AW18-#REF! -> #REF!
L20: =ROUND(#REF!*#REF!,2) -> #REF! | M20: =L20+#REF! -> #REF! | O20: =ROUND($N20*#REF!,2) -> #REF! | P20: =ROUND($N20*#REF!,2) -> #REF! | Q20: =P20+O20 -> #REF! | S20: =ROUND(R20*#REF!,2) -> #REF! | T20: =ROUND(R20*#REF!,2) -> #REF! | U20: =T20+S20 -> #REF! | W20: =ROUND(V20*#REF!,2) -> #REF! | X20: =ROUND(V20*#REF!,2) -> #REF! | Y20: =X20+W20 -> #REF! | AA20: =ROUND(Z20*#REF!,2) -> #REF! | AB20: =ROUND(Z20*#REF!,2) -> #REF! | AC20: =AB20+AA20 -> #REF! | AE20: =ROUND(AD20*#REF!,2) -> #REF! | AF20: =ROUND(AD20*#REF!,2) -> #REF! | AG20: =AF20+AE20 -> #REF! | AI20: =ROUND(AH20*#REF!,2) -> #REF! | AJ20: =ROUND(AH20*#REF!,2) -> #REF! | AK20: =AJ20+AI20 -> #REF! | AM20: =ROUND(AL20*#REF!,2) -> #REF! | AN20: =ROUND(AL20*#REF!,2) -> #REF! | AO20: =AN20+AM20 -> #REF! | AQ20: =ROUND(AP20*#REF!,2) -> #REF! | AR20: =ROUND(AP20*#REF!,2) -> #REF! | AS20: =AR20+AQ20 -> #REF! | AU20: =#REF! -> #REF! | AV20: =AH20+AD20+Z20+V20+R20+N20+#REF! -> #REF! | AW20: =AU20-AV20 -> #REF! | AX20: =AW20-#REF! -> #REF!
L21: =ROUND(#REF!*#REF!,2) -> #REF! | M21: =L21+#REF! -> #REF! | O21: =ROUND($N21*#REF!,2) -> #REF! | P21: =ROUND($N21*#REF!,2) -> #REF! | Q21: =P21+O21 -> #REF! | S21: =ROUND(R21*#REF!,2) -> #REF! | T21: =ROUND(R21*#REF!,2) -> #REF! | U21: =T21+S21 -> #REF! | W21: =ROUND(V21*#REF!,2) -> #REF! | X21: =ROUND(V21*#REF!,2) -> #REF! | Y21: =X21+W21 -> #REF! | AA21: =ROUND(Z21*#REF!,2) -> #REF! | AB21: =ROUND(Z21*#REF!,2) -> #REF! | AC21: =AB21+AA21 -> #REF! | AE21: =ROUND(AD21*#REF!,2) -> #REF! | AF21: =ROUND(AD21*#REF!,2) -> #REF! | AG21: =AF21+AE21 -> #REF! | AI21: =ROUND(AH21*#REF!,2) -> #REF! | AJ21: =ROUND(AH21*#REF!,2) -> #REF! | AK21: =AJ21+AI21 -> #REF! | AM21: =ROUND(AL21*#REF!,2) -> #REF! | AN21: =ROUND(AL21*#REF!,2) -> #REF! | AO21: =AN21+AM21 -> #REF! | AQ21: =ROUND(AP21*#REF!,2) -> #REF! | AR21: =ROUND(AP21*#REF!,2) -> #REF! | AS21: =AR21+AQ21 -> #REF! | AU21: =#REF! -> #REF! | AV21: =AH21+AD21+Z21+V21+R21+N21+#REF! -> #REF! | AW21: =AU21-AV21 -> #REF! | AX21: =AW21-#REF! -> #REF!
L22: 0 | M22: =ROUND($L22*#REF!,2) -> #REF! | N22: =ROUND($L22*#REF!,2) -> #REF! | O22: =N22+M22 -> #REF! | Q22: =ROUND($P22*#REF!,2) -> #REF! | R22: =ROUND($P22*#REF!,2) -> #REF! | S22: =R22+Q22 -> #REF! | U22: =ROUND(T22*#REF!,2) -> #REF! | V22: =ROUND(T22*#REF!,2) -> #REF! | W22: =V22+U22 -> #REF! | Y22: =ROUND(X22*#REF!,2) -> #REF! | Z22: =ROUND(X22*#REF!,2) -> #REF! | AA22: =Z22+Y22 -> #REF! | AC22: =ROUND(AB22*#REF!,2) -> #REF! | AD22: =ROUND(AB22*#REF!,2) -> #REF! | AE22: =AD22+AC22 -> #REF! | AG22: =ROUND(AF22*#REF!,2) -> #REF! | AH22: =ROUND(AF22*#REF!,2) -> #REF! | AI22: =AH22+AG22 -> #REF! | AK22: =ROUND(AJ22*#REF!,2) -> #REF! | AL22: =ROUND(AJ22*#REF!,2) -> #REF! | AM22: =AL22+AK22 -> #REF! | AO22: =ROUND(AN22*#REF!,2) -> #REF! | AP22: =ROUND(AN22*#REF!,2) -> #REF! | AQ22: =AP22+AO22 -> #REF! | AS22: =ROUND(AR22*#REF!,2) -> #REF! | AT22: =ROUND(AR22*#REF!,2) -> #REF! | AU22: =AT22+AS22 -> #REF! | AW22: =#REF! -> #REF! | AX22: =AJ22+AF22+AB22+X22+T22+P22+L22 -> 0 | AY22: =AW22-AX22 -> #REF! | AZ22: =AY22-#REF! -> #REF!
L23: 0 | M23: =ROUND($L23*#REF!,2) -> #REF! | N23: =ROUND($L23*#REF!,2) -> #REF! | O23: =N23+M23 -> #REF! | Q23: =ROUND($P23*#REF!,2) -> #REF! | R23: =ROUND($P23*#REF!,2) -> #REF! | S23: =R23+Q23 -> #REF! | U23: =ROUND(T23*#REF!,2) -> #REF! | V23: =ROUND(T23*#REF!,2) -> #REF! | W23: =V23+U23 -> #REF! | Y23: =ROUND(X23*#REF!,2) -> #REF! | Z23: =ROUND(X23*#REF!,2) -> #REF! | AA23: =Z23+Y23 -> #REF! | AC23: =ROUND(AB23*#REF!,2) -> #REF! | AD23: =ROUND(AB23*#REF!,2) -> #REF! | AE23: =AD23+AC23 -> #REF! | AG23: =ROUND(AF23*#REF!,2) -> #REF! | AH23: =ROUND(AF23*#REF!,2) -> #REF! | AI23: =AH23+AG23 -> #REF! | AK23: =ROUND(AJ23*#REF!,2) -> #REF! | AL23: =ROUND(AJ23*#REF!,2) -> #REF! | AM23: =AL23+AK23 -> #REF! | AO23: =ROUND(AN23*#REF!,2) -> #REF! | AP23: =ROUND(AN23*#REF!,2) -> #REF! | AQ23: =AP23+AO23 -> #REF! | AS23: =ROUND(AR23*#REF!,2) -> #REF! | AT23: =ROUND(AR23*#REF!,2) -> #REF! | AU23: =AT23+AS23 -> #REF! | AW23: =#REF! -> #REF! | AX23: =AJ23+AF23+AB23+X23+T23+P23+L23 -> 0 | AY23: =AW23-AX23 -> #REF! | AZ23: =AY23-#REF! -> #REF!
L24: 0 | M24: =ROUND($L24*#REF!,2) -> #REF! | N24: =ROUND($L24*#REF!,2) -> #REF! | O24: =N24+M24 -> #REF! | Q24: =ROUND($P24*#REF!,2) -> #REF! | R24: =ROUND($P24*#REF!,2) -> #REF! | S24: =R24+Q24 -> #REF! | U24: =ROUND(T24*#REF!,2) -> #REF! | V24: =ROUND(T24*#REF!,2) -> #REF! | W24: =V24+U24 -> #REF! | Y24: =ROUND(X24*#REF!,2) -> #REF! | Z24: =ROUND(X24*#REF!,2) -> #REF! | AA24: =Z24+Y24 -> #REF! | AC24: =ROUND(AB24*#REF!,2) -> #REF! | AD24: =ROUND(AB24*#REF!,2) -> #REF! | AE24: =AD24+AC24 -> #REF! | AG24: =ROUND(AF24*#REF!,2) -> #REF! | AH24: =ROUND(AF24*#REF!,2) -> #REF! | AI24: =AH24+AG24 -> #REF! | AK24: =ROUND(AJ24*#REF!,2) -> #REF! | AL24: =ROUND(AJ24*#REF!,2) -> #REF! | AM24: =AL24+AK24 -> #REF! | AO24: =ROUND(AN24*#REF!,2) -> #REF! | AP24: =ROUND(AN24*#REF!,2) -> #REF! | AQ24: =AP24+AO24 -> #REF! | AS24: =ROUND(AR24*#REF!,2) -> #REF! | AT24: =ROUND(AR24*#REF!,2) -> #REF! | AU24: =AT24+AS24 -> #REF! | AW24: =#REF! -> #REF! | AX24: =AJ24+AF24+AB24+X24+T24+P24+L24 -> 0 | AY24: =AW24-AX24 -> #REF! | AZ24: =AY24-#REF! -> #REF!
L25: 0 | M25: =ROUND($L25*#REF!,2) -> #REF! | N25: =ROUND($L25*#REF!,2) -> #REF! | O25: =N25+M25 -> #REF! | Q25: =ROUND($P25*#REF!,2) -> #REF! | R25: =ROUND($P25*#REF!,2) -> #REF! | S25: =R25+Q25 -> #REF! | U25: =ROUND(T25*#REF!,2) -> #REF! | V25: =ROUND(T25*#REF!,2) -> #REF! | W25: =V25+U25 -> #REF! | Y25: =ROUND(X25*#REF!,2) -> #REF! | Z25: =ROUND(X25*#REF!,2) -> #REF! | AA25: =Z25+Y25 -> #REF! | AC25: =ROUND(AB25*#REF!,2) -> #REF! | AD25: =ROUND(AB25*#REF!,2) -> #REF! | AE25: =AD25+AC25 -> #REF! | AG25: =ROUND(AF25*#REF!,2) -> #REF! | AH25: =ROUND(AF25*#REF!,2) -> #REF! | AI25: =AH25+AG25 -> #REF! | AK25: =ROUND(AJ25*#REF!,2) -> #REF! | AL25: =ROUND(AJ25*#REF!,2) -> #REF! | AM25: =AL25+AK25 -> #REF! | AO25: =ROUND(AN25*#REF!,2) -> #REF! | AP25: =ROUND(AN25*#REF!,2) -> #REF! | AQ25: =AP25+AO25 -> #REF! | AS25: =ROUND(AR25*#REF!,2) -> #REF! | AT25: =ROUND(AR25*#REF!,2) -> #REF! | AU25: =AT25+AS25 -> #REF! | AW25: =#REF! -> #REF! | AX25: =AJ25+AF25+AB25+X25+T25+P25+L25 -> 0 | AY25: =AW25-AX25 -> #REF! | AZ25: =AY25-#REF! -> #REF!
L26: 0 | M26: =ROUND($L26*#REF!,2) -> #REF! | N26: =ROUND($L26*#REF!,2) -> #REF! | O26: =N26+M26 -> #REF! | Q26: =ROUND($P26*#REF!,2) -> #REF! | R26: =ROUND($P26*#REF!,2) -> #REF! | S26: =R26+Q26 -> #REF! | U26: =ROUND(T26*#REF!,2) -> #REF! | V26: =ROUND(T26*#REF!,2) -> #REF! | W26: =V26+U26 -> #REF! | Y26: =ROUND(X26*#REF!,2) -> #REF! | Z26: =ROUND(X26*#REF!,2) -> #REF! | AA26: =Z26+Y26 -> #REF! | AC26: =ROUND(AB26*#REF!,2) -> #REF! | AD26: =ROUND(AB26*#REF!,2) -> #REF! | AE26: =AD26+AC26 -> #REF! | AG26: =ROUND(AF26*#REF!,2) -> #REF! | AH26: =ROUND(AF26*#REF!,2) -> #REF! | AI26: =AH26+AG26 -> #REF! | AK26: =ROUND(AJ26*#REF!,2) -> #REF! | AL26: =ROUND(AJ26*#REF!,2) -> #REF! | AM26: =AL26+AK26 -> #REF! | AO26: =ROUND(AN26*#REF!,2) -> #REF! | AP26: =ROUND(AN26*#REF!,2) -> #REF! | AQ26: =AP26+AO26 -> #REF! | AS26: =ROUND(AR26*#REF!,2) -> #REF! | AT26: =ROUND(AR26*#REF!,2) -> #REF! | AU26: =AT26+AS26 -> #REF! | AW26: =#REF! -> #REF! | AX26: =AJ26+AF26+AB26+X26+T26+P26+L26 -> 0 | AY26: =AW26-AX26 -> #REF! | AZ26: =AY26-#REF! -> #REF!
L28: 0 | M28: =ROUND($L28*#REF!,2) -> #REF! | N28: =ROUND($L28*#REF!,2) -> #REF! | O28: =N28+M28 -> #REF! | Q28: =ROUND($P28*#REF!,2) -> #REF! | R28: =ROUND($P28*#REF!,2) -> #REF! | S28: =R28+Q28 -> #REF! | U28: =ROUND(T28*#REF!,2) -> #REF! | V28: =ROUND(T28*#REF!,2) -> #REF! | W28: =V28+U28 -> #REF! | Y28: =ROUND(X28*#REF!,2) -> #REF! | Z28: =ROUND(X28*#REF!,2) -> #REF! | AA28: =Z28+Y28 -> #REF! | AC28: =ROUND(AB28*#REF!,2) -> #REF! | AD28: =ROUND(AB28*#REF!,2) -> #REF! | AE28: =AD28+AC28 -> #REF! | AG28: =ROUND(AF28*#REF!,2) -> #REF! | AH28: =ROUND(AF28*#REF!,2) -> #REF! | AI28: =AH28+AG28 -> #REF! | AK28: =ROUND(AJ28*#REF!,2) -> #REF! | AL28: =ROUND(AJ28*#REF!,2) -> #REF! | AM28: =AL28+AK28 -> #REF! | AO28: =ROUND(AN28*#REF!,2) -> #REF! | AP28: =ROUND(AN28*#REF!,2) -> #REF! | AQ28: =AP28+AO28 -> #REF! | AS28: =ROUND(AR28*#REF!,2) -> #REF! | AT28: =ROUND(AR28*#REF!,2) -> #REF! | AU28: =AT28+AS28 -> #REF! | AW28: =#REF! -> #REF! | AX28: =AJ28+AF28+AB28+X28+T28+P28+L28 -> 0 | AY28: =AW28-AX28 -> #REF! | AZ28: =AY28-#REF! -> #REF!
L30: 0 | M30: =ROUND($L30*#REF!,2) -> #REF! | N30: =ROUND($L30*#REF!,2) -> #REF! | O30: =N30+M30 -> #REF! | Q30: =ROUND($P30*#REF!,2) -> #REF! | R30: =ROUND($P30*#REF!,2) -> #REF! | S30: =R30+Q30 -> #REF! | U30: =ROUND(T30*#REF!,2) -> #REF! | V30: =ROUND(T30*#REF!,2) -> #REF! | W30: =V30+U30 -> #REF! | Y30: =ROUND(X30*#REF!,2) -> #REF! | Z30: =ROUND(X30*#REF!,2) -> #REF! | AA30: =Z30+Y30 -> #REF! | AC30: =ROUND(AB30*#REF!,2) -> #REF! | AD30: =ROUND(AB30*#REF!,2) -> #REF! | AE30: =AD30+AC30 -> #REF! | AG30: =ROUND(AF30*#REF!,2) -> #REF! | AH30: =ROUND(AF30*#REF!,2) -> #REF! | AI30: =AH30+AG30 -> #REF! | AK30: =ROUND(AJ30*#REF!,2) -> #REF! | AL30: =ROUND(AJ30*#REF!,2) -> #REF! | AM30: =AL30+AK30 -> #REF! | AO30: =ROUND(AN30*#REF!,2) -> #REF! | AP30: =ROUND(AN30*#REF!,2) -> #REF! | AQ30: =AP30+AO30 -> #REF! | AS30: =ROUND(AR30*#REF!,2) -> #REF! | AT30: =ROUND(AR30*#REF!,2) -> #REF! | AU30: =AT30+AS30 -> #REF! | AW30: =#REF! -> #REF! | AX30: =AJ30+AF30+AB30+X30+T30+P30+L30 -> 0 | AY30: =AW30-AX30 -> #REF! | AZ30: =AY30-#REF! -> #REF!
L31: 0 | M31: =ROUND($L31*#REF!,2) -> #REF! | N31: =ROUND($L31*#REF!,2) -> #REF! | O31: =N31+M31 -> #REF! | Q31: =ROUND($P31*#REF!,2) -> #REF! | R31: =ROUND($P31*#REF!,2) -> #REF! | S31: =R31+Q31 -> #REF! | U31: =ROUND(T31*#REF!,2) -> #REF! | V31: =ROUND(T31*#REF!,2) -> #REF! | W31: =V31+U31 -> #REF! | Y31: =ROUND(X31*#REF!,2) -> #REF! | Z31: =ROUND(X31*#REF!,2) -> #REF! | AA31: =Z31+Y31 -> #REF! | AC31: =ROUND(AB31*#REF!,2) -> #REF! | AD31: =ROUND(AB31*#REF!,2) -> #REF! | AE31: =AD31+AC31 -> #REF! | AG31: =ROUND(AF31*#REF!,2) -> #REF! | AH31: =ROUND(AF31*#REF!,2) -> #REF! | AI31: =AH31+AG31 -> #REF! | AK31: =ROUND(AJ31*#REF!,2) -> #REF! | AL31: =ROUND(AJ31*#REF!,2) -> #REF! | AM31: =AL31+AK31 -> #REF! | AO31: =ROUND(AN31*#REF!,2) -> #REF! | AP31: =ROUND(AN31*#REF!,2) -> #REF! | AQ31: =AP31+AO31 -> #REF! | AS31: =ROUND(AR31*#REF!,2) -> #REF! | AT31: =ROUND(AR31*#REF!,2) -> #REF! | AU31: =AT31+AS31 -> #REF! | AW31: =#REF! -> #REF! | AX31: =AJ31+AF31+AB31+X31+T31+P31+L31 -> 0 | AY31: =AW31-AX31 -> #REF! | AZ31: =AY31-#REF! -> #REF!
L32: 0 | M32: =ROUND($L32*#REF!,2) -> #REF! | N32: =ROUND($L32*#REF!,2) -> #REF! | O32: =N32+M32 -> #REF! | Q32: =ROUND($P32*#REF!,2) -> #REF! | R32: =ROUND($P32*#REF!,2) -> #REF! | S32: =R32+Q32 -> #REF! | U32: =ROUND(T32*#REF!,2) -> #REF! | V32: =ROUND(T32*#REF!,2) -> #REF! | W32: =V32+U32 -> #REF! | Y32: =ROUND(X32*#REF!,2) -> #REF! | Z32: =ROUND(X32*#REF!,2) -> #REF! | AA32: =Z32+Y32 -> #REF! | AC32: =ROUND(AB32*#REF!,2) -> #REF! | AD32: =ROUND(AB32*#REF!,2) -> #REF! | AE32: =AD32+AC32 -> #REF! | AG32: =ROUND(AF32*#REF!,2) -> #REF! | AH32: =ROUND(AF32*#REF!,2) -> #REF! | AI32: =AH32+AG32 -> #REF! | AK32: =ROUND(AJ32*#REF!,2) -> #REF! | AL32: =ROUND(AJ32*#REF!,2) -> #REF! | AM32: =AL32+AK32 -> #REF! | AO32: =ROUND(AN32*#REF!,2) -> #REF! | AP32: =ROUND(AN32*#REF!,2) -> #REF! | AQ32: =AP32+AO32 -> #REF! | AS32: =ROUND(AR32*#REF!,2) -> #REF! | AT32: =ROUND(AR32*#REF!,2) -> #REF! | AU32: =AT32+AS32 -> #REF! | AW32: =#REF! -> #REF! | AX32: =AJ32+AF32+AB32+X32+T32+P32+L32 -> 0 | AY32: =AW32-AX32 -> #REF! | AZ32: =AY32-#REF! -> #REF!
L33: 0 | M33: =ROUND($L33*#REF!,2) -> #REF! | N33: =ROUND($L33*#REF!,2) -> #REF! | O33: =N33+M33 -> #REF! | Q33: =ROUND($P33*#REF!,2) -> #REF! | R33: =ROUND($P33*#REF!,2) -> #REF! | S33: =R33+Q33 -> #REF! | U33: =ROUND(T33*#REF!,2) -> #REF! | V33: =ROUND(T33*#REF!,2) -> #REF! | W33: =V33+U33 -> #REF! | Y33: =ROUND(X33*#REF!,2) -> #REF! | Z33: =ROUND(X33*#REF!,2) -> #REF! | AA33: =Z33+Y33 -> #REF! | AC33: =ROUND(AB33*#REF!,2) -> #REF! | AD33: =ROUND(AB33*#REF!,2) -> #REF! | AE33: =AD33+AC33 -> #REF! | AG33: =ROUND(AF33*#REF!,2) -> #REF! | AH33: =ROUND(AF33*#REF!,2) -> #REF! | AI33: =AH33+AG33 -> #REF! | AK33: =ROUND(AJ33*#REF!,2) -> #REF! | AL33: =ROUND(AJ33*#REF!,2) -> #REF! | AM33: =AL33+AK33 -> #REF! | AO33: =ROUND(AN33*#REF!,2) -> #REF! | AP33: =ROUND(AN33*#REF!,2) -> #REF! | AQ33: =AP33+AO33 -> #REF! | AS33: =ROUND(AR33*#REF!,2) -> #REF! | AT33: =ROUND(AR33*#REF!,2) -> #REF! | AU33: =AT33+AS33 -> #REF! | AW33: =#REF! -> #REF! | AX33: =AJ33+AF33+AB33+X33+T33+P33+L33 -> 0 | AY33: =AW33-AX33 -> #REF! | AZ33: =AY33-#REF! -> #REF!
L34: 0 | M34: =ROUND($L34*#REF!,2) -> #REF! | N34: =ROUND($L34*#REF!,2) -> #REF! | O34: =N34+M34 -> #REF! | Q34: =ROUND($P34*#REF!,2) -> #REF! | R34: =ROUND($P34*#REF!,2) -> #REF! | S34: =R34+Q34 -> #REF! | U34: =ROUND(T34*#REF!,2) -> #REF! | V34: =ROUND(T34*#REF!,2) -> #REF! | W34: =V34+U34 -> #REF! | Y34: =ROUND(X34*#REF!,2) -> #REF! | Z34: =ROUND(X34*#REF!,2) -> #REF! | AA34: =Z34+Y34 -> #REF! | AC34: =ROUND(AB34*#REF!,2) -> #REF! | AD34: =ROUND(AB34*#REF!,2) -> #REF! | AE34: =AD34+AC34 -> #REF! | AG34: =ROUND(AF34*#REF!,2) -> #REF! | AH34: =ROUND(AF34*#REF!,2) -> #REF! | AI34: =AH34+AG34 -> #REF! | AK34: =ROUND(AJ34*#REF!,2) -> #REF! | AL34: =ROUND(AJ34*#REF!,2) -> #REF! | AM34: =AL34+AK34 -> #REF! | AO34: =ROUND(AN34*#REF!,2) -> #REF! | AP34: =ROUND(AN34*#REF!,2) -> #REF! | AQ34: =AP34+AO34 -> #REF! | AS34: =ROUND(AR34*#REF!,2) -> #REF! | AT34: =ROUND(AR34*#REF!,2) -> #REF! | AU34: =AT34+AS34 -> #REF! | AW34: =#REF! -> #REF! | AX34: =AJ34+AF34+AB34+X34+T34+P34+L34 -> 0 | AY34: =AW34-AX34 -> #REF! | AZ34: =AY34-#REF! -> #REF!
L35: 0 | M35: =ROUND($L35*#REF!,2) -> #REF! | N35: =ROUND($L35*#REF!,2) -> #REF! | O35: =N35+M35 -> #REF! | Q35: =ROUND($P35*#REF!,2) -> #REF! | R35: =ROUND($P35*#REF!,2) -> #REF! | S35: =R35+Q35 -> #REF! | U35: =ROUND(T35*#REF!,2) -> #REF! | V35: =ROUND(T35*#REF!,2) -> #REF! | W35: =V35+U35 -> #REF! | Y35: =ROUND(X35*#REF!,2) -> #REF! | Z35: =ROUND(X35*#REF!,2) -> #REF! | AA35: =Z35+Y35 -> #REF! | AC35: =ROUND(AB35*#REF!,2) -> #REF! | AD35: =ROUND(AB35*#REF!,2) -> #REF! | AE35: =AD35+AC35 -> #REF! | AG35: =ROUND(AF35*#REF!,2) -> #REF! | AH35: =ROUND(AF35*#REF!,2) -> #REF! | AI35: =AH35+AG35 -> #REF! | AK35: =ROUND(AJ35*#REF!,2) -> #REF! | AL35: =ROUND(AJ35*#REF!,2) -> #REF! | AM35: =AL35+AK35 -> #REF! | AO35: =ROUND(AN35*#REF!,2) -> #REF! | AP35: =ROUND(AN35*#REF!,2) -> #REF! | AQ35: =AP35+AO35 -> #REF! | AS35: =ROUND(AR35*#REF!,2) -> #REF! | AT35: =ROUND(AR35*#REF!,2) -> #REF! | AU35: =AT35+AS35 -> #REF! | AW35: =#REF! -> #REF! | AX35: =AJ35+AF35+AB35+X35+T35+P35+L35 -> 0 | AY35: =AW35-AX35 -> #REF! | AZ35: =AY35-#REF! -> #REF!
... L45: 0 | M45: =ROUND($L45*#REF!,2) -> #REF! | N45: =ROUND($L45*#REF!,2) -> #REF! | O45: =N45+M45 -> #REF! | Q45: =ROUND($P45*#REF!,2) -> #REF! | R45: =ROUND($P45*#REF!,2) -> #REF! | S45: =R45+Q45 -> #REF! | U45: =ROUND(T45*#REF!,2) -> #REF! | V45: =ROUND(T45*#REF!,2) -> #REF! | W45: =V45+U45 -> #REF! | Y45: =ROUND(X45*#REF!,2) -> #REF! | Z45: =ROUND(X45*#REF!,2) -> #REF! | AA45: =Z45+Y45 -> #REF! | AC45: =ROUND(AB45*#REF!,2) -> #REF! | AD45: =ROUND(AB45*#REF!,2) -> #REF! | AE45: =AD45+AC45 -> #REF! | AG45: =ROUND(AF45*#REF!,2) -> #REF! | AH45: =ROUND(AF45*#REF!,2) -> #REF! | AI45: =AH45+AG45 -> #REF! | AK45: =ROUND(AJ45*#REF!,2) -> #REF! | AL45: =ROUND(AJ45*#REF!,2) -> #REF! | AM45: =AL45+AK45 -> #REF! | AO45: =ROUND(AN45*#REF!,2) -> #REF! | AP45: =ROUND(AN45*#REF!,2) -> #REF! | AQ45: =AP45+AO45 -> #REF! | AS45: =ROUND(AR45*#REF!,2) -> #REF! | AT45: =ROUND(AR45*#REF!,2) -> #REF! | AU45: =AT45+AS45 -> #REF! | AW45: =#REF! -> #REF! | AX45: =AJ45+AF45+AB45+X45+T45+P45+L45 -> 0 | AY45: =AW45-AX45 -> #REF! | AZ45: =AY45-#REF! -> #REF!
O46: =SUM(O15:O45) -> #REF! | S46: =SUM(S15:S45) -> #REF! | W46: =SUM(W15:W45) -> #REF! | AA46: =SUM(AA15:AA45) -> #REF! | AE46: =SUM(AE15:AE45) -> #REF! | AI46: =SUM(AI15:AI45) -> #REF! | AM46: =SUM(AM15:AM45) -> #REF! | AQ46: =SUM(AQ15:AQ45) -> #REF! | AU46: =SUM(AU15:AU45) -> #REF! | AW46: =#REF! -> #REF! | AX46: =AJ46+AF46+AB46+X46+T46+P46+L46 -> 0 | AY46: =AW46-AX46 -> #REF! | AZ46: =AY46-#REF! -> #REF!
AW47: =#REF! -> #REF! | AX47: =AJ47+AF47+AB47+X47+T47+P47+L47 -> 0 | AY47: =AW47-AX47 -> #REF! | AZ47: =AY47-#REF! -> #REF!
U48: =ROUND(T48*#REF!,2) -> #REF! | V48: =ROUND(T48*#REF!,2) -> #REF! | Y48: =ROUND(X48*#REF!,2) -> #REF! | Z48: =ROUND(X48*#REF!,2) -> #REF! | AC48: =ROUND(AB48*#REF!,2) -> #REF! | AD48: =ROUND(AB48*#REF!,2) -> #REF! | AG48: =ROUND(AF48*#REF!,2) -> #REF! | AH48: =ROUND(AF48*#REF!,2) -> #REF! | AK48: =ROUND(AJ48*#REF!,2) -> #REF! | AL48: =ROUND(AJ48*#REF!,2) -> #REF! | AO48: =ROUND(AN48*#REF!,2) -> #REF! | AP48: =ROUND(AN48*#REF!,2) -> #REF! | AS48: =ROUND(AR48*#REF!,2) -> #REF! | AT48: =ROUND(AR48*#REF!,2) -> #REF! | AW48: =#REF! -> #REF! | AX48: =AJ48+AF48+AB48+X48+T48+P48+L48 -> 0 | AY48: =AW48-AX48 -> #REF! | AZ48: =AY48-#REF! -> #REF!
L49: 0 | M49: =ROUND($L49*#REF!,2) -> #REF! | N49: =ROUND($L49*#REF!,2) -> #REF! | O49: =N49+M49 -> #REF! | Q49: =ROUND($P49*#REF!,2) -> #REF! | R49: =ROUND($P49*#REF!,2) -> #REF! | S49: =R49+Q49 -> #REF! | U49: =ROUND(T49*#REF!,2) -> #REF! | V49: =ROUND(T49*#REF!,2) -> #REF! | W49: =V49+U49 -> #REF! | Y49: =ROUND(X49*#REF!,2) -> #REF! | Z49: =ROUND(X49*#REF!,2) -> #REF! | AA49: =Z49+Y49 -> #REF! | AC49: =ROUND(AB49*#REF!,2) -> #REF! | AD49: =ROUND(AB49*#REF!,2) -> #REF! | AE49: =AD49+AC49 -> #REF! | AG49: =ROUND(AF49*#REF!,2) -> #REF! | AH49: =ROUND(AF49*#REF!,2) -> #REF! | AI49: =AH49+AG49 -> #REF! | AK49: =ROUND(AJ49*#REF!,2) -> #REF! | AL49: =ROUND(AJ49*#REF!,2) -> #REF! | AM49: =AL49+AK49 -> #REF! | AO49: =ROUND(AN49*#REF!,2) -> #REF! | AP49: =ROUND(AN49*#REF!,2) -> #REF! | AQ49: =AP49+AO49 -> #REF! | AS49: =ROUND(AR49*#REF!,2) -> #REF! | AT49: =ROUND(AR49*#REF!,2) -> #REF! | AU49: =AT49+AS49 -> #REF! | AW49: =#REF! -> #REF! | AX49: =AJ49+AF49+AB49+X49+T49+P49+L49 -> 0 | AY49: =AW49-AX49 -> #REF! | AZ49: =AY49-#REF! -> #REF!
L50: 0 | M50: =ROUND($L50*#REF!,2) -> #REF! | N50: =ROUND($L50*#REF!,2) -> #REF! | O50: =N50+M50 -> #REF! | Q50: =ROUND($P50*#REF!,2) -> #REF! | R50: =ROUND($P50*#REF!,2) -> #REF! | S50: =R50+Q50 -> #REF! | U50: =ROUND(T50*#REF!,2) -> #REF! | V50: =ROUND(T50*#REF!,2) -> #REF! | W50: =V50+U50 -> #REF! | Y50: =ROUND(X50*#REF!,2) -> #REF! | Z50: =ROUND(X50*#REF!,2) -> #REF! | AA50: =Z50+Y50 -> #REF! | AC50: =ROUND(AB50*#REF!,2) -> #REF! | AD50: =ROUND(AB50*#REF!,2) -> #REF! | AE50: =AD50+AC50 -> #REF! | AG50: =ROUND(AF50*#REF!,2) -> #REF! | AH50: =ROUND(AF50*#REF!,2) -> #REF! | AI50: =AH50+AG50 -> #REF! | AK50: =ROUND(AJ50*#REF!,2) -> #REF! | AL50: =ROUND(AJ50*#REF!,2) -> #REF! | AM50: =AL50+AK50 -> #REF! | AO50: =ROUND(AN50*#REF!,2) -> #REF! | AP50: =ROUND(AN50*#REF!,2) -> #REF! | AQ50: =AP50+AO50 -> #REF! | AS50: =ROUND(AR50*#REF!,2) -> #REF! | AT50: =ROUND(AR50*#REF!,2) -> #REF! | AU50: =AT50+AS50 -> #REF! | AW50: =#REF! -> #REF! | AX50: =AJ50+AF50+AB50+X50+T50+P50+L50 -> 0 | AY50: =AW50-AX50 -> #REF! | AZ50: =AY50-#REF! -> #REF!
L51: 0 | M51: =ROUND($L51*#REF!,2) -> #REF! | N51: =ROUND($L51*#REF!,2) -> #REF! | O51: =N51+M51 -> #REF! | Q51: =ROUND($P51*#REF!,2) -> #REF! | R51: =ROUND($P51*#REF!,2) -> #REF! | S51: =R51+Q51 -> #REF! | U51: =ROUND(T51*#REF!,2) -> #REF! | V51: =ROUND(T51*#REF!,2) -> #REF! | W51: =V51+U51 -> #REF! | Y51: =ROUND(X51*#REF!,2) -> #REF! | Z51: =ROUND(X51*#REF!,2) -> #REF! | AA51: =Z51+Y51 -> #REF! | AC51: =ROUND(AB51*#REF!,2) -> #REF! | AD51: =ROUND(AB51*#REF!,2) -> #REF! | AE51: =AD51+AC51 -> #REF! | AG51: =ROUND(AF51*#REF!,2) -> #REF! | AH51: =ROUND(AF51*#REF!,2) -> #REF! | AI51: =AH51+AG51 -> #REF! | AK51: =ROUND(AJ51*#REF!,2) -> #REF! | AL51: =ROUND(AJ51*#REF!,2) -> #REF! | AM51: =AL51+AK51 -> #REF! | AO51: =ROUND(AN51*#REF!,2) -> #REF! | AP51: =ROUND(AN51*#REF!,2) -> #REF! | AQ51: =AP51+AO51 -> #REF! | AS51: =ROUND(AR51*#REF!,2) -> #REF! | AT51: =ROUND(AR51*#REF!,2) -> #REF! | AU51: =AT51+AS51 -> #REF! | AW51: =#REF! -> #REF! | AX51: =AJ51+AF51+AB51+X51+T51+P51+L51 -> 0 | AY51: =AW51-AX51 -> #REF! | AZ51: =AY51-#REF! -> #REF!
L52: 0 | M52: =ROUND($L52*#REF!,2) -> #REF! | N52: =ROUND($L52*#REF!,2) -> #REF! | O52: =N52+M52 -> #REF! | Q52: =ROUND($P52*#REF!,2) -> #REF! | R52: =ROUND($P52*#REF!,2) -> #REF! | S52: =R52+Q52 -> #REF! | U52: =ROUND(T52*#REF!,2) -> #REF! | V52: =ROUND(T52*#REF!,2) -> #REF! | W52: =V52+U52 -> #REF! | Y52: =ROUND(X52*#REF!,2) -> #REF! | Z52: =ROUND(X52*#REF!,2) -> #REF! | AA52: =Z52+Y52 -> #REF! | AC52: =ROUND(AB52*#REF!,2) -> #REF! | AD52: =ROUND(AB52*#REF!,2) -> #REF! | AE52: =AD52+AC52 -> #REF! | AG52: =ROUND(AF52*#REF!,2) -> #REF! | AH52: =ROUND(AF52*#REF!,2) -> #REF! | AI52: =AH52+AG52 -> #REF! | AK52: =ROUND(AJ52*#REF!,2) -> #REF! | AL52: =ROUND(AJ52*#REF!,2) -> #REF! | AM52: =AL52+AK52 -> #REF! | AO52: =ROUND(AN52*#REF!,2) -> #REF! | AP52: =ROUND(AN52*#REF!,2) -> #REF! | AQ52: =AP52+AO52 -> #REF! | AS52: =ROUND(AR52*#REF!,2) -> #REF! | AT52: =ROUND(AR52*#REF!,2) -> #REF! | AU52: =AT52+AS52 -> #REF! | AW52: =#REF! -> #REF! | AX52: =AJ52+AF52+AB52+X52+T52+P52+L52 -> 0 | AY52: =AW52-AX52 -> #REF! | AZ52: =AY52-#REF! -> #REF!
L53: 0 | M53: =ROUND($L53*#REF!,2) -> #REF! | N53: =ROUND($L53*#REF!,2) -> #REF! | O53: =N53+M53 -> #REF! | Q53: =ROUND($P53*#REF!,2) -> #REF! | R53: =ROUND($P53*#REF!,2) -> #REF! | S53: =R53+Q53 -> #REF! | U53: =ROUND(T53*#REF!,2) -> #REF! | V53: =ROUND(T53*#REF!,2) -> #REF! | W53: =V53+U53 -> #REF! | Y53: =ROUND(X53*#REF!,2) -> #REF! | Z53: =ROUND(X53*#REF!,2) -> #REF! | AA53: =Z53+Y53 -> #REF! | AC53: =ROUND(AB53*#REF!,2) -> #REF! | AD53: =ROUND(AB53*#REF!,2) -> #REF! | AE53: =AD53+AC53 -> #REF! | AG53: =ROUND(AF53*#REF!,2) -> #REF! | AH53: =ROUND(AF53*#REF!,2) -> #REF! | AI53: =AH53+AG53 -> #REF! | AK53: =ROUND(AJ53*#REF!,2) -> #REF! | AL53: =ROUND(AJ53*#REF!,2) -> #REF! | AM53: =AL53+AK53 -> #REF! | AO53: =ROUND(AN53*#REF!,2) -> #REF! | AP53: =ROUND(AN53*#REF!,2) -> #REF! | AQ53: =AP53+AO53 -> #REF! | AS53: =ROUND(AR53*#REF!,2) -> #REF! | AT53: =ROUND(AR53*#REF!,2) -> #REF! | AU53: =AT53+AS53 -> #REF! | AW53: =#REF! -> #REF! | AX53: =AJ53+AF53+AB53+X53+T53+P53+L53 -> 0 | AY53: =AW53-AX53 -> #REF! | AZ53: =AY53-#REF! -> #REF!
L54: 0 | M54: =ROUND($L54*#REF!,2) -> #REF! | N54: =ROUND($L54*#REF!,2) -> #REF! | O54: =N54+M54 -> #REF! | Q54: =ROUND($P54*#REF!,2) -> #REF! | R54: =ROUND($P54*#REF!,2) -> #REF! | S54: =R54+Q54 -> #REF! | U54: =ROUND(T54*#REF!,2) -> #REF! | V54: =ROUND(T54*#REF!,2) -> #REF! | W54: =V54+U54 -> #REF! | Y54: =ROUND(X54*#REF!,2) -> #REF! | Z54: =ROUND(X54*#REF!,2) -> #REF! | AA54: =Z54+Y54 -> #REF! | AC54: =ROUND(AB54*#REF!,2) -> #REF! | AD54: =ROUND(AB54*#REF!,2) -> #REF! | AE54: =AD54+AC54 -> #REF! | AG54: =ROUND(AF54*#REF!,2) -> #REF! | AH54: =ROUND(AF54*#REF!,2) -> #REF! | AI54: =AH54+AG54 -> #REF! | AK54: =ROUND(AJ54*#REF!,2) -> #REF! | AL54: =ROUND(AJ54*#REF!,2) -> #REF! | AM54: =AL54+AK54 -> #REF! | AO54: =ROUND(AN54*#REF!,2) -> #REF! | AP54: =ROUND(AN54*#REF!,2) -> #REF! | AQ54: =AP54+AO54 -> #REF! | AS54: =ROUND(AR54*#REF!,2) -> #REF! | AT54: =ROUND(AR54*#REF!,2) -> #REF! | AU54: =AT54+AS54 -> #REF! | AW54: =#REF! -> #REF! | AX54: =AJ54+AF54+AB54+X54+T54+P54+L54 -> 0 | AY54: =AW54-AX54 -> #REF! | AZ54: =AY54-#REF! -> #REF!
L55: 0 | M55: =ROUND($L55*#REF!,2) -> #REF! | N55: =ROUND($L55*#REF!,2) -> #REF! | O55: =N55+M55 -> #REF! | Q55: =ROUND($P55*#REF!,2) -> #REF! | R55: =ROUND($P55*#REF!,2) -> #REF! | S55: =R55+Q55 -> #REF! | U55: =ROUND(T55*#REF!,2) -> #REF! | V55: =ROUND(T55*#REF!,2) -> #REF! | W55: =V55+U55 -> #REF! | Y55: =ROUND(X55*#REF!,2) -> #REF! | Z55: =ROUND(X55*#REF!,2) -> #REF! | AA55: =Z55+Y55 -> #REF! | AC55: =ROUND(AB55*#REF!,2) -> #REF! | AD55: =ROUND(AB55*#REF!,2) -> #REF! | AE55: =AD55+AC55 -> #REF! | AG55: =ROUND(AF55*#REF!,2) -> #REF! | AH55: =ROUND(AF55*#REF!,2) -> #REF! | AI55: =AH55+AG55 -> #REF! | AK55: =ROUND(AJ55*#REF!,2) -> #REF! | AL55: =ROUND(AJ55*#REF!,2) -> #REF! | AM55: =AL55+AK55 -> #REF! | AO55: =ROUND(AN55*#REF!,2) -> #REF! | AP55: =ROUND(AN55*#REF!,2) -> #REF! | AQ55: =AP55+AO55 -> #REF! | AS55: =ROUND(AR55*#REF!,2) -> #REF! | AT55: =ROUND(AR55*#REF!,2) -> #REF! | AU55: =AT55+AS55 -> #REF! | AW55: =#REF! -> #REF! | AX55: =AJ55+AF55+AB55+X55+T55+P55+L55 -> 0 | AY55: =AW55-AX55 -> #REF! | AZ55: =AY55-#REF! -> #REF!
L56: 0 | M56: =ROUND($L56*#REF!,2) -> #REF! | N56: =ROUND($L56*#REF!,2) -> #REF! | O56: =N56+M56 -> #REF! | Q56: =ROUND($P56*#REF!,2) -> #REF! | R56: =ROUND($P56*#REF!,2) -> #REF! | S56: =R56+Q56 -> #REF! | U56: =ROUND(T56*#REF!,2) -> #REF! | V56: =ROUND(T56*#REF!,2) -> #REF! | W56: =V56+U56 -> #REF! | Y56: =ROUND(X56*#REF!,2) -> #REF! | Z56: =ROUND(X56*#REF!,2) -> #REF! | AA56: =Z56+Y56 -> #REF! | AC56: =ROUND(AB56*#REF!,2) -> #REF! | AD56: =ROUND(AB56*#REF!,2) -> #REF! | AE56: =AD56+AC56 -> #REF! | AG56: =ROUND(AF56*#REF!,2) -> #REF! | AH56: =ROUND(AF56*#REF!,2) -> #REF! | AI56: =AH56+AG56 -> #REF! | AK56: =ROUND(AJ56*#REF!,2) -> #REF! | AL56: =ROUND(AJ56*#REF!,2) -> #REF! | AM56: =AL56+AK56 -> #REF! | AO56: =ROUND(AN56*#REF!,2) -> #REF! | AP56: =ROUND(AN56*#REF!,2) -> #REF! | AQ56: =AP56+AO56 -> #REF! | AS56: =ROUND(AR56*#REF!,2) -> #REF! | AT56: =ROUND(AR56*#REF!,2) -> #REF! | AU56: =AT56+AS56 -> #REF! | AW56: =#REF! -> #REF! | AX56: =AJ56+AF56+AB56+X56+T56+P56+L56 -> 0 | AY56: =AW56-AX56 -> #REF! | AZ56: =AY56-#REF! -> #REF!
L57: 0 | M57: =ROUND($L57*#REF!,2) -> #REF! | N57: =ROUND($L57*#REF!,2) -> #REF! | O57: =N57+M57 -> #REF! | Q57: =ROUND($P57*#REF!,2) -> #REF! | R57: =ROUND($P57*#REF!,2) -> #REF! | S57: =R57+Q57 -> #REF! | U57: =ROUND(T57*#REF!,2) -> #REF! | V57: =ROUND(T57*#REF!,2) -> #REF! | W57: =V57+U57 -> #REF! | Y57: =ROUND(X57*#REF!,2) -> #REF! | Z57: =ROUND(X57*#REF!,2) -> #REF! | AA57: =Z57+Y57 -> #REF! | AC57: =ROUND(AB57*#REF!,2) -> #REF! | AD57: =ROUND(AB57*#REF!,2) -> #REF! | AE57: =AD57+AC57 -> #REF! | AG57: =ROUND(AF57*#REF!,2) -> #REF! | AH57: =ROUND(AF57*#REF!,2) -> #REF! | AI57: =AH57+AG57 -> #REF! | AK57: =ROUND(AJ57*#REF!,2) -> #REF! | AL57: =ROUND(AJ57*#REF!,2) -> #REF! | AM57: =AL57+AK57 -> #REF! | AO57: =ROUND(AN57*#REF!,2) -> #REF! | AP57: =ROUND(AN57*#REF!,2) -> #REF! | AQ57: =AP57+AO57 -> #REF! | AS57: =ROUND(AR57*#REF!,2) -> #REF! | AT57: =ROUND(AR57*#REF!,2) -> #REF! | AU57: =AT57+AS57 -> #REF! | AW57: =#REF! -> #REF! | AX57: =AJ57+AF57+AB57+X57+T57+P57+L57 -> 0 | AY57: =AW57-AX57 -> #REF! | AZ57: =AY57-#REF! -> #REF!
L58: 0 | M58: =ROUND($L58*#REF!,2) -> #REF! | N58: =ROUND($L58*#REF!,2) -> #REF! | O58: =N58+M58 -> #REF! | Q58: =ROUND($P58*#REF!,2) -> #REF! | R58: =ROUND($P58*#REF!,2) -> #REF! | S58: =R58+Q58 -> #REF! | U58: =ROUND(T58*#REF!,2) -> #REF! | V58: =ROUND(T58*#REF!,2) -> #REF! | W58: =V58+U58 -> #REF! | Y58: =ROUND(X58*#REF!,2) -> #REF! | Z58: =ROUND(X58*#REF!,2) -> #REF! | AA58: =Z58+Y58 -> #REF! | AC58: =ROUND(AB58*#REF!,2) -> #REF! | AD58: =ROUND(AB58*#REF!,2) -> #REF! | AE58: =AD58+AC58 -> #REF! | AG58: =ROUND(AF58*#REF!,2) -> #REF! | AH58: =ROUND(AF58*#REF!,2) -> #REF! | AI58: =AH58+AG58 -> #REF! | AK58: =ROUND(AJ58*#REF!,2) -> #REF! | AL58: =ROUND(AJ58*#REF!,2) -> #REF! | AM58: =AL58+AK58 -> #REF! | AO58: =ROUND(AN58*#REF!,2) -> #REF! | AP58: =ROUND(AN58*#REF!,2) -> #REF! | AQ58: =AP58+AO58 -> #REF! | AS58: =ROUND(AR58*#REF!,2) -> #REF! | AT58: =ROUND(AR58*#REF!,2) -> #REF! | AU58: =AT58+AS58 -> #REF! | AW58: =#REF! -> #REF! | AX58: =AJ58+AF58+AB58+X58+T58+P58+L58 -> 0 | AY58: =AW58-AX58 -> #REF! | AZ58: =AY58-#REF! -> #REF!
L59: 0 | M59: =ROUND($L59*#REF!,2) -> #REF! | N59: =ROUND($L59*#REF!,2) -> #REF! | O59: =N59+M59 -> #REF! | Q59: =ROUND($P59*#REF!,2) -> #REF! | R59: =ROUND($P59*#REF!,2) -> #REF! | S59: =R59+Q59 -> #REF! | U59: =ROUND(T59*#REF!,2) -> #REF! | V59: =ROUND(T59*#REF!,2) -> #REF! | W59: =V59+U59 -> #REF! | Y59: =ROUND(X59*#REF!,2) -> #REF! | Z59: =ROUND(X59*#REF!,2) -> #REF! | AA59: =Z59+Y59 -> #REF! | AC59: =ROUND(AB59*#REF!,2) -> #REF! | AD59: =ROUND(AB59*#REF!,2) -> #REF! | AE59: =AD59+AC59 -> #REF! | AG59: =ROUND(AF59*#REF!,2) -> #REF! | AH59: =ROUND(AF59*#REF!,2) -> #REF! | AI59: =AH59+AG59 -> #REF! | AK59: =ROUND(AJ59*#REF!,2) -> #REF! | AL59: =ROUND(AJ59*#REF!,2) -> #REF! | AM59: =AL59+AK59 -> #REF! | AO59: =ROUND(AN59*#REF!,2) -> #REF! | AP59: =ROUND(AN59*#REF!,2) -> #REF! | AQ59: =AP59+AO59 -> #REF! | AS59: =ROUND(AR59*#REF!,2) -> #REF! | AT59: =ROUND(AR59*#REF!,2) -> #REF! | AU59: =AT59+AS59 -> #REF! | AW59: =#REF! -> #REF! | AX59: =AJ59+AF59+AB59+X59+T59+P59+L59 -> 0 | AY59: =AW59-AX59 -> #REF! | AZ59: =AY59-#REF! -> #REF!
L60: 0 | M60: =ROUND($L60*#REF!,2) -> #REF! | N60: =ROUND($L60*#REF!,2) -> #REF! | O60: =N60+M60 -> #REF! | Q60: =ROUND($P60*#REF!,2) -> #REF! | R60: =ROUND($P60*#REF!,2) -> #REF! | S60: =R60+Q60 -> #REF! | U60: =ROUND(T60*#REF!,2) -> #REF! | V60: =ROUND(T60*#REF!,2) -> #REF! | W60: =V60+U60 -> #REF! | Y60: =ROUND(X60*#REF!,2) -> #REF! | Z60: =ROUND(X60*#REF!,2) -> #REF! | AA60: =Z60+Y60 -> #REF! | AC60: =ROUND(AB60*#REF!,2) -> #REF! | AD60: =ROUND(AB60*#REF!,2) -> #REF! | AE60: =AD60+AC60 -> #REF! | AG60: =ROUND(AF60*#REF!,2) -> #REF! | AH60: =ROUND(AF60*#REF!,2) -> #REF! | AI60: =AH60+AG60 -> #REF! | AK60: =ROUND(AJ60*#REF!,2) -> #REF! | AL60: =ROUND(AJ60*#REF!,2) -> #REF! | AM60: =AL60+AK60 -> #REF! | AO60: =ROUND(AN60*#REF!,2) -> #REF! | AP60: =ROUND(AN60*#REF!,2) -> #REF! | AQ60: =AP60+AO60 -> #REF! | AS60: =ROUND(AR60*#REF!,2) -> #REF! | AT60: =ROUND(AR60*#REF!,2) -> #REF! | AU60: =AT60+AS60 -> #REF! | AW60: =#REF! -> #REF! | AX60: =AJ60+AF60+AB60+X60+T60+P60+L60 -> 0 | AY60: =AW60-AX60 -> #REF! | AZ60: =AY60-#REF! -> #REF!
... L66: 0 | M66: =ROUND($L66*#REF!,2) -> #REF! | N66: =ROUND($L66*#REF!,2) -> #REF! | O66: =N66+M66 -> #REF! | Q66: =ROUND($P66*#REF!,2) -> #REF! | R66: =ROUND($P66*#REF!,2) -> #REF! | S66: =R66+Q66 -> #REF! | U66: =ROUND(T66*#REF!,2) -> #REF! | V66: =ROUND(T66*#REF!,2) -> #REF! | W66: =V66+U66 -> #REF! | Y66: =ROUND(X66*#REF!,2) -> #REF! | Z66: =ROUND(X66*#REF!,2) -> #REF! | AA66: =Z66+Y66 -> #REF! | AC66: =ROUND(AB66*#REF!,2) -> #REF! | AD66: =ROUND(AB66*#REF!,2) -> #REF! | AE66: =AD66+AC66 -> #REF! | AG66: =ROUND(AF66*#REF!,2) -> #REF! | AH66: =ROUND(AF66*#REF!,2) -> #REF! | AI66: =AH66+AG66 -> #REF! | AK66: =ROUND(AJ66*#REF!,2) -> #REF! | AL66: =ROUND(AJ66*#REF!,2) -> #REF! | AM66: =AL66+AK66 -> #REF! | AO66: =ROUND(AN66*#REF!,2) -> #REF! | AP66: =ROUND(AN66*#REF!,2) -> #REF! | AQ66: =AP66+AO66 -> #REF! | AS66: =ROUND(AR66*#REF!,2) -> #REF! | AT66: =ROUND(AR66*#REF!,2) -> #REF! | AU66: =AT66+AS66 -> #REF! | AW66: =#REF! -> #REF! | AX66: =AJ66+AF66+AB66+X66+T66+P66+L66 -> 0 | AY66: =AW66-AX66 -> #REF! | AZ66: =AY66-#REF! -> #REF!
O67: =SUM(O49:O66) -> #REF! | Q67: =ROUND($P67*#REF!,2) -> #REF! | R67: =ROUND($P67*#REF!,2) -> #REF! | S67: =SUM(S49:S66) -> #REF! | U67: =ROUND(T67*#REF!,2) -> #REF! | V67: =ROUND(T67*#REF!,2) -> #REF! | W67: =SUM(W49:W66) -> #REF! | Y67: =ROUND(X67*#REF!,2) -> #REF! | Z67: =ROUND(X67*#REF!,2) -> #REF! | AA67: =SUM(AA49:AA66) -> #REF! | AC67: =ROUND(AB67*#REF!,2) -> #REF! | AD67: =ROUND(AB67*#REF!,2) -> #REF! | AE67: =SUM(AE49:AE66) -> #REF! | AG67: =ROUND(AF67*#REF!,2) -> #REF! | AH67: =ROUND(AF67*#REF!,2) -> #REF! | AI67: =SUM(AI49:AI66) -> #REF! | AK67: =ROUND(AJ67*#REF!,2) -> #REF! | AM67: =SUM(AM49:AM66) -> #REF! | AO67: =ROUND(AN67*#REF!,2) -> #REF! | AP67: =ROUND(AN67*#REF!,2) -> #REF! | AQ67: =SUM(AQ49:AQ66) -> #REF! | AS67: =ROUND(AR67*#REF!,2) -> #REF! | AT67: =ROUND(AR67*#REF!,2) -> #REF! | AU67: =SUM(AU49:AU66) -> #REF! | AW67: =#REF! -> #REF! | AX67: =AJ67+AF67+AB67+X67+T67+P67+L67 -> 0 | AY67: =AW67-AX67 -> #REF! | AZ67: =AY67-#REF! -> #REF!
AW68: =#REF! -> #REF! | AX68: =AJ68+AF68+AB68+X68+T68+P68+L68 -> 0 | AY68: =AW68-AX68 -> #REF! | AZ68: =AY68-#REF! -> #REF!
AW69: =#REF! -> #REF! | AX69: =AJ69+AF69+AB69+X69+T69+P69+L69 -> 0 | AY69: =AW69-AX69 -> #REF! | AZ69: =AY69-#REF! -> #REF!
L70: 0 | M70: =ROUND($L70*#REF!,2) -> #REF! | N70: =ROUND($L70*#REF!,2) -> #REF! | O70: =N70+M70 -> #REF! | P70: 16 | Q70: =ROUND($P70*#REF!,2) -> #REF! | R70: =ROUND($P70*#REF!,2) -> #REF! | S70: =R70+Q70 -> #REF! | T70: 16 | U70: =ROUND(T70*#REF!,2) -> #REF! | V70: =ROUND(T70*#REF!,2) -> #REF! | W70: =V70+U70 -> #REF! | X70: 16 | Y70: =ROUND(X70*#REF!,2) -> #REF! | Z70: =ROUND(X70*#REF!,2) -> #REF! | AA70: =Z70+Y70 -> #REF! | AC70: =ROUND(AB70*#REF!,2) -> #REF! | AD70: =ROUND(AB70*#REF!,2) -> #REF! | AE70: =AD70+AC70 -> #REF! | AF70: 7 | AG70: =ROUND(AF70*#REF!,2) -> #REF! | AH70: =ROUND(AF70*#REF!,2) -> #REF! | AI70: =AH70+AG70 -> #REF! | AJ70: 4 | AK70: =ROUND(AJ70*#REF!,2) -> #REF! | AL70: =ROUND(AJ70*#REF!,2) -> #REF! | AM70: =AL70+AK70 -> #REF! | AN70: 2 | AO70: =ROUND(AN70*#REF!,2) -> #REF! | AP70: =ROUND(AN70*#REF!,2) -> #REF! | AQ70: =AP70+AO70 -> #REF! | AR70: 2 | AS70: =ROUND(AR70*#REF!,2) -> #REF! | AT70: =ROUND(AR70*#REF!,2) -> #REF! | AU70: =AT70+AS70 -> #REF! | AW70: =#REF! -> #REF! | AX70: =AJ70+AF70+AB70+X70+T70+P70+L70 -> 59 | AY70: =AW70-AX70 -> #REF! | AZ70: =AY70-#REF! -> #REF!
L71: 0 | M71: =ROUND($L71*#REF!,2) -> #REF! | N71: =ROUND($L71*#REF!,2) -> #REF! | O71: =N71+M71 -> #REF! | Q71: =ROUND($P71*#REF!,2) -> #REF! | R71: =ROUND($P71*#REF!,2) -> #REF! | S71: =R71+Q71 -> #REF! | U71: =ROUND(T71*#REF!,2) -> #REF! | V71: =ROUND(T71*#REF!,2) -> #REF! | W71: =V71+U71 -> #REF! | Y71: =ROUND(X71*#REF!,2) -> #REF! | Z71: =ROUND(X71*#REF!,2) -> #REF! | AA71: =Z71+Y71 -> #REF! | AC71: =ROUND(AB71*#REF!,2) -> #REF! | AD71: =ROUND(AB71*#REF!,2) -> #REF! | AE71: =AD71+AC71 -> #REF! | AG71: =ROUND(AF71*#REF!,2) -> #REF! | AH71: =ROUND(AF71*#REF!,2) -> #REF! | AI71: =AH71+AG71 -> #REF! | AK71: =ROUND(AJ71*#REF!,2) -> #REF! | AL71: =ROUND(AJ71*#REF!,2) -> #REF! | AM71: =AL71+AK71 -> #REF! | AO71: =ROUND(AN71*#REF!,2) -> #REF! | AP71: =ROUND(AN71*#REF!,2) -> #REF! | AQ71: =AP71+AO71 -> #REF! | AS71: =ROUND(AR71*#REF!,2) -> #REF! | AT71: =ROUND(AR71*#REF!,2) -> #REF! | AU71: =AT71+AS71 -> #REF! | AW71: =#REF! -> #REF! | AX71: =AJ71+AF71+AB71+X71+T71+P71+L71 -> 0 | AY71: =AW71-AX71 -> #REF! | AZ71: =AY71-#REF! -> #REF!
O72: =SUM(O70:O71) -> #REF! | Q72: =ROUND($P72*#REF!,2) -> #REF! | R72: =ROUND($P72*#REF!,2) -> #REF! | S72: =SUM(S70:S71) -> #REF! | U72: =ROUND(T72*#REF!,2) -> #REF! | V72: =ROUND(T72*#REF!,2) -> #REF! | W72: =SUM(W70:W71) -> #REF! | Y72: =ROUND(X72*#REF!,2) -> #REF! | Z72: =ROUND(X72*#REF!,2) -> #REF! | AA72: =SUM(AA70:AA71) -> #REF! | AC72: =ROUND(AB72*#REF!,2) -> #REF! | AD72: =ROUND(AB72*#REF!,2) -> #REF! | AE72: =SUM(AE70:AE71) -> #REF! | AG72: =ROUND(AF72*#REF!,2) -> #REF! | AH72: =ROUND(AF72*#REF!,2) -> #REF! | AI72: =SUM(AI70:AI71) -> #REF! | AK72: =ROUND(AJ72*#REF!,2) -> #REF! | AM72: =SUM(AM70:AM71) -> #REF! | AO72: =ROUND(AN72*#REF!,2) -> #REF! | AP72: =ROUND(AN72*#REF!,2) -> #REF! | AQ72: =SUM(AQ70:AQ71) -> #REF! | AS72: =ROUND(AR72*#REF!,2) -> #REF! | AT72: =ROUND(AR72*#REF!,2) -> #REF! | AU72: =SUM(AU70:AU71) -> #REF! | AW72: =#REF! -> #REF! | AX72: =AJ72+AF72+AB72+X72+T72+P72+L72 -> 0 | AY72: =AW72-AX72 -> #REF! | AZ72: =AY72-#REF! -> #REF!
AW73: =#REF! -> #REF! | AX73: =AJ73+AF73+AB73+X73+T73+P73+L73 -> 0 | AY73: =AW73-AX73 -> #REF! | AZ73: =AY73-#REF! -> #REF!
AW74: =#REF! -> #REF! | AX74: =AJ74+AF74+AB74+X74+T74+P74+L74 -> 0 | AY74: =AW74-AX74 -> #REF! | AZ74: =AY74-#REF! -> #REF!
O75: =SUM(O72,O67,O46,#REF!,#REF!,#REF!,#REF!,#REF!,#REF!,#REF!,#REF!,#REF!,#REF!,#REF!,#REF!,#REF!,#REF!) -> #REF! | S75: =SUM(S72,S67,S46,#REF!,#REF!,#REF!,#REF!,#REF!,#REF!,#REF!,#REF!,#REF!,#REF!,#REF!,#REF!,#REF!,#REF!) -> #REF! | W75: =SUM(W72,W67,W46,#REF!,#REF!,#REF!,#REF!,#REF!,#REF!,#REF!,#REF!,#REF!,#REF!,#REF!,#REF!,#REF!,#REF!) -> #REF! | AA75: =SUM(AA72,AA67,AA46,#REF!,#REF!,#REF!,#REF!,#REF!,#REF!,#REF!,#REF!,#REF!,#REF!,#REF!,#REF!,#REF!,#REF!) -> #REF! | AE75: =SUM(AE72,AE67,AE46,#REF!,#REF!,#REF!,#REF!,#REF!,#REF!,#REF!,#REF!,#REF!,#REF!,#REF!,#REF!,#REF!,#REF!) -> #REF! | AI75: =SUM(AI72,AI67,AI46,#REF!,#REF!,#REF!,#REF!,#REF!,#REF!,#REF!,#REF!,#REF!,#REF!,#REF!,#REF!,#REF!,#REF!) -> #REF! | AM75: =SUM(AM72,AM67,AM46,#REF!,#REF!,#REF!,#REF!,#REF!,#REF!,#REF!,#REF!,#REF!,#REF!,#REF!,#REF!,#REF!,#REF!) -> #REF! | AQ75: =SUM(AQ72,AQ67,AQ46,#REF!,#REF!,#REF!,#REF!,#REF!,#REF!,#REF!,#REF!,#REF!,#REF!,#REF!,#REF!,#REF!,#REF!) -> #REF! | AU75: =SUM(AU72,AU67,AU46,#REF!,#REF!,#REF!,#REF!,#REF!,#REF!,#REF!,#REF!,#REF!,#REF!,#REF!,#REF!,#REF!,#REF!) -> #REF! | AW75: =#REF! -> #REF! | AX75: =AJ75+AF75+AB75+X75+T75+P75+L75 -> 0 | AY75: =AW75-AX75 -> #REF! | AZ75: =AY75-#REF! -> #REF!
U76: =ROUND(T76*#REF!,2) -> #REF! | V76: =ROUND(T76*#REF!,2) -> #REF! | Y76: =ROUND(X76*#REF!,2) -> #REF! | Z76: =ROUND(X76*#REF!,2) -> #REF! | AC76: =ROUND(AB76*#REF!,2) -> #REF! | AD76: =ROUND(AB76*#REF!,2) -> #REF! | AG76: =ROUND(AF76*#REF!,2) -> #REF! | AH76: =ROUND(AF76*#REF!,2) -> #REF! | AK76: =ROUND(AJ76*#REF!,2) -> #REF! | AL76: =ROUND(AJ76*#REF!,2) -> #REF! | AO76: =ROUND(AN76*#REF!,2) -> #REF! | AW76: =#REF! -> #REF! | AX76: =AJ76+AF76+AB76+X76+T76+P76+L76 -> 0 | AY76: =AW76-AX76 -> #REF! | AZ76: =AY76-#REF! -> #REF!
L77: 0 | M77: =ROUND($L77*#REF!,2) -> #REF! | N77: =ROUND($L77*#REF!,2) -> #REF! | O77: =N77+M77 -> #REF! | Q77: =ROUND($P77*#REF!,2) -> #REF! | R77: =ROUND($P77*#REF!,2) -> #REF! | S77: =R77+Q77 -> #REF! | U77: =ROUND(T77*#REF!,2) -> #REF! | V77: =ROUND(T77*#REF!,2) -> #REF! | W77: =V77+U77 -> #REF! | Y77: =ROUND(X77*#REF!,2) -> #REF! | Z77: =ROUND(X77*#REF!,2) -> #REF! | AA77: =Z77+Y77 -> #REF! | AC77: =ROUND(AB77*#REF!,2) -> #REF! | AD77: =ROUND(AB77*#REF!,2) -> #REF! | AE77: =AD77+AC77 -> #REF! | AG77: =ROUND(AF77*#REF!,2) -> #REF! | AH77: =ROUND(AF77*#REF!,2) -> #REF! | AI77: =AH77+AG77 -> #REF! | AK77: =ROUND(AJ77*#REF!,2) -> #REF! | AL77: =ROUND(AJ77*#REF!,2) -> #REF! | AM77: =AL77+AK77 -> #REF! | AO77: =ROUND(AN77*#REF!,2) -> #REF! | AP77: =ROUND(AN77*#REF!,2) -> #REF! | AQ77: =AP77+AO77 -> #REF! | AS77: =ROUND(AR77*#REF!,2) -> #REF! | AT77: =ROUND(AR77*#REF!,2) -> #REF! | AU77: =AT77+AS77 -> #REF! | AW77: =#REF! -> #REF! | AX77: =AJ77+AF77+AB77+X77+T77+P77+L77 -> 0 | AY77: =AW77-AX77 -> #REF! | AZ77: =AY77-#REF! -> #REF!
L79: 0 | M79: =ROUND($L79*#REF!,2) -> #REF! | N79: =ROUND($L79*#REF!,2) -> #REF! | O79: =N79+M79 -> #REF! | Q79: =ROUND($P79*#REF!,2) -> #REF! | R79: =ROUND($P79*#REF!,2) -> #REF! | S79: =R79+Q79 -> #REF! | U79: =ROUND(T79*#REF!,2) -> #REF! | V79: =ROUND(T79*#REF!,2) -> #REF! | W79: =V79+U79 -> #REF! | Y79: =ROUND(X79*#REF!,2) -> #REF! | Z79: =ROUND(X79*#REF!,2) -> #REF! | AA79: =Z79+Y79 -> #REF! | AC79: =ROUND(AB79*#REF!,2) -> #REF! | AD79: =ROUND(AB79*#REF!,2) -> #REF! | AE79: =AD79+AC79 -> #REF! | AG79: =ROUND(AF79*#REF!,2) -> #REF! | AH79: =ROUND(AF79*#REF!,2) -> #REF! | AI79: =AH79+AG79 -> #REF! | AK79: =ROUND(AJ79*#REF!,2) -> #REF! | AL79: =ROUND(AJ79*#REF!,2) -> #REF! | AM79: =AL79+AK79 -> #REF! | AO79: =ROUND(AN79*#REF!,2) -> #REF! | AP79: =ROUND(AN79*#REF!,2) -> #REF! | AQ79: =AP79+AO79 -> #REF! | AS79: =ROUND(AR79*#REF!,2) -> #REF! | AT79: =ROUND(AR79*#REF!,2) -> #REF! | AU79: =AT79+AS79 -> #REF! | AW79: =#REF! -> #REF! | AX79: =AJ79+AF79+AB79+X79+T79+P79+L79 -> 0 | AY79: =AW79-AX79 -> #REF! | AZ79: =AY79-#REF! -> #REF!
L80: 0 | M80: =ROUND($L80*#REF!,2) -> #REF! | N80: =ROUND($L80*#REF!,2) -> #REF! | O80: =N80+M80 -> #REF! | Q80: =ROUND($P80*#REF!,2) -> #REF! | R80: =ROUND($P80*#REF!,2) -> #REF! | S80: =R80+Q80 -> #REF! | U80: =ROUND(T80*#REF!,2) -> #REF! | V80: =ROUND(T80*#REF!,2) -> #REF! | W80: =V80+U80 -> #REF! | Y80: =ROUND(X80*#REF!,2) -> #REF! | Z80: =ROUND(X80*#REF!,2) -> #REF! | AA80: =Z80+Y80 -> #REF! | AC80: =ROUND(AB80*#REF!,2) -> #REF! | AD80: =ROUND(AB80*#REF!,2) -> #REF! | AE80: =AD80+AC80 -> #REF! | AG80: =ROUND(AF80*#REF!,2) -> #REF! | AH80: =ROUND(AF80*#REF!,2) -> #REF! | AI80: =AH80+AG80 -> #REF! | AK80: =ROUND(AJ80*#REF!,2) -> #REF! | AL80: =ROUND(AJ80*#REF!,2) -> #REF! | AM80: =AL80+AK80 -> #REF! | AO80: =ROUND(AN80*#REF!,2) -> #REF! | AP80: =ROUND(AN80*#REF!,2) -> #REF! | AQ80: =AP80+AO80 -> #REF! | AS80: =ROUND(AR80*#REF!,2) -> #REF! | AT80: =ROUND(AR80*#REF!,2) -> #REF! | AU80: =AT80+AS80 -> #REF! | AW80: =#REF! -> #REF! | AX80: =AJ80+AF80+AB80+X80+T80+P80+L80 -> 0 | AY80: =AW80-AX80 -> #REF! | AZ80: =AY80-#REF! -> #REF!
L81: 0 | M81: =ROUND($L81*#REF!,2) -> #REF! | N81: =ROUND($L81*#REF!,2) -> #REF! | O81: =N81+M81 -> #REF! | Q81: =ROUND($P81*#REF!,2) -> #REF! | R81: =ROUND($P81*#REF!,2) -> #REF! | S81: =R81+Q81 -> #REF! | U81: =ROUND(T81*#REF!,2) -> #REF! | V81: =ROUND(T81*#REF!,2) -> #REF! | W81: =V81+U81 -> #REF! | Y81: =ROUND(X81*#REF!,2) -> #REF! | Z81: =ROUND(X81*#REF!,2) -> #REF! | AA81: =Z81+Y81 -> #REF! | AC81: =ROUND(AB81*#REF!,2) -> #REF! | AD81: =ROUND(AB81*#REF!,2) -> #REF! | AE81: =AD81+AC81 -> #REF! | AG81: =ROUND(AF81*#REF!,2) -> #REF! | AH81: =ROUND(AF81*#REF!,2) -> #REF! | AI81: =AH81+AG81 -> #REF! | AK81: =ROUND(AJ81*#REF!,2) -> #REF! | AL81: =ROUND(AJ81*#REF!,2) -> #REF! | AM81: =AL81+AK81 -> #REF! | AO81: =ROUND(AN81*#REF!,2) -> #REF! | AP81: =ROUND(AN81*#REF!,2) -> #REF! | AQ81: =AP81+AO81 -> #REF! | AS81: =ROUND(AR81*#REF!,2) -> #REF! | AT81: =ROUND(AR81*#REF!,2) -> #REF! | AU81: =AT81+AS81 -> #REF! | AW81: =#REF! -> #REF! | AX81: =AJ81+AF81+AB81+X81+T81+P81+L81 -> 0 | AY81: =AW81-AX81 -> #REF! | AZ81: =AY81-#REF! -> #REF!
L82: 0 | M82: =ROUND($L82*#REF!,2) -> #REF! | N82: =ROUND($L82*#REF!,2) -> #REF! | O82: =N82+M82 -> #REF! | Q82: =ROUND($P82*#REF!,2) -> #REF! | R82: =ROUND($P82*#REF!,2) -> #REF! | S82: =R82+Q82 -> #REF! | U82: =ROUND(T82*#REF!,2) -> #REF! | V82: =ROUND(T82*#REF!,2) -> #REF! | W82: =V82+U82 -> #REF! | Y82: =ROUND(X82*#REF!,2) -> #REF! | Z82: =ROUND(X82*#REF!,2) -> #REF! | AA82: =Z82+Y82 -> #REF! | AC82: =ROUND(AB82*#REF!,2) -> #REF! | AD82: =ROUND(AB82*#REF!,2) -> #REF! | AE82: =AD82+AC82 -> #REF! | AG82: =ROUND(AF82*#REF!,2) -> #REF! | AH82: =ROUND(AF82*#REF!,2) -> #REF! | AI82: =AH82+AG82 -> #REF! | AK82: =ROUND(AJ82*#REF!,2) -> #REF! | AL82: =ROUND(AJ82*#REF!,2) -> #REF! | AM82: =AL82+AK82 -> #REF! | AO82: =ROUND(AN82*#REF!,2) -> #REF! | AP82: =ROUND(AN82*#REF!,2) -> #REF! | AQ82: =AP82+AO82 -> #REF! | AS82: =ROUND(AR82*#REF!,2) -> #REF! | AT82: =ROUND(AR82*#REF!,2) -> #REF! | AU82: =AT82+AS82 -> #REF! | AW82: =#REF! -> #REF! | AX82: =AJ82+AF82+AB82+X82+T82+P82+L82 -> 0 | AY82: =AW82-AX82 -> #REF! | AZ82: =AY82-#REF! -> #REF!
L83: 0 | M83: =ROUND($L83*#REF!,2) -> #REF! | N83: =ROUND($L83*#REF!,2) -> #REF! | O83: =N83+M83 -> #REF! | Q83: =ROUND($P83*#REF!,2) -> #REF! | R83: =ROUND($P83*#REF!,2) -> #REF! | S83: =R83+Q83 -> #REF! | U83: =ROUND(T83*#REF!,2) -> #REF! | V83: =ROUND(T83*#REF!,2) -> #REF! | W83: =V83+U83 -> #REF! | Y83: =ROUND(X83*#REF!,2) -> #REF! | Z83: =ROUND(X83*#REF!,2) -> #REF! | AA83: =Z83+Y83 -> #REF! | AC83: =ROUND(AB83*#REF!,2) -> #REF! | AD83: =ROUND(AB83*#REF!,2) -> #REF! | AE83: =AD83+AC83 -> #REF! | AG83: =ROUND(AF83*#REF!,2) -> #REF! | AH83: =ROUND(AF83*#REF!,2) -> #REF! | AI83: =AH83+AG83 -> #REF! | AK83: =ROUND(AJ83*#REF!,2) -> #REF! | AL83: =ROUND(AJ83*#REF!,2) -> #REF! | AM83: =AL83+AK83 -> #REF! | AO83: =ROUND(AN83*#REF!,2) -> #REF! | AP83: =ROUND(AN83*#REF!,2) -> #REF! | AQ83: =AP83+AO83 -> #REF! | AS83: =ROUND(AR83*#REF!,2) -> #REF! | AT83: =ROUND(AR83*#REF!,2) -> #REF! | AU83: =AT83+AS83 -> #REF! | AW83: =#REF! -> #REF! | AX83: =AJ83+AF83+AB83+X83+T83+P83+L83 -> 0 | AY83: =AW83-AX83 -> #REF! | AZ83: =AY83-#REF! -> #REF!
L84: 0 | M84: =ROUND($L84*#REF!,2) -> #REF! | N84: =ROUND($L84*#REF!,2) -> #REF! | O84: =N84+M84 -> #REF! | Q84: =ROUND($P84*#REF!,2) -> #REF! | R84: =ROUND($P84*#REF!,2) -> #REF! | S84: =R84+Q84 -> #REF! | U84: =ROUND(T84*#REF!,2) -> #REF! | V84: =ROUND(T84*#REF!,2) -> #REF! | W84: =V84+U84 -> #REF! | Y84: =ROUND(X84*#REF!,2) -> #REF! | Z84: =ROUND(X84*#REF!,2) -> #REF! | AA84: =Z84+Y84 -> #REF! | AC84: =ROUND(AB84*#REF!,2) -> #REF! | AD84: =ROUND(AB84*#REF!,2) -> #REF! | AE84: =AD84+AC84 -> #REF! | AG84: =ROUND(AF84*#REF!,2) -> #REF! | AH84: =ROUND(AF84*#REF!,2) -> #REF! | AI84: =AH84+AG84 -> #REF! | AK84: =ROUND(AJ84*#REF!,2) -> #REF! | AL84: =ROUND(AJ84*#REF!,2) -> #REF! | AM84: =AL84+AK84 -> #REF! | AO84: =ROUND(AN84*#REF!,2) -> #REF! | AP84: =ROUND(AN84*#REF!,2) -> #REF! | AQ84: =AP84+AO84 -> #REF! | AS84: =ROUND(AR84*#REF!,2) -> #REF! | AT84: =ROUND(AR84*#REF!,2) -> #REF! | AU84: =AT84+AS84 -> #REF! | AW84: =#REF! -> #REF! | AX84: =AJ84+AF84+AB84+X84+T84+P84+L84 -> 0 | AY84: =AW84-AX84 -> #REF! | AZ84: =AY84-#REF! -> #REF!
L85: 0 | M85: =ROUND($L85*#REF!,2) -> #REF! | N85: =ROUND($L85*#REF!,2) -> #REF! | O85: =N85+M85 -> #REF! | Q85: =ROUND($P85*#REF!,2) -> #REF! | R85: =ROUND($P85*#REF!,2) -> #REF! | S85: =R85+Q85 -> #REF! | U85: =ROUND(T85*#REF!,2) -> #REF! | V85: =ROUND(T85*#REF!,2) -> #REF! | W85: =V85+U85 -> #REF! | Y85: =ROUND(X85*#REF!,2) -> #REF! | Z85: =ROUND(X85*#REF!,2) -> #REF! | AA85: =Z85+Y85 -> #REF! | AC85: =ROUND(AB85*#REF!,2) -> #REF! | AD85: =ROUND(AB85*#REF!,2) -> #REF! | AE85: =AD85+AC85 -> #REF! | AG85: =ROUND(AF85*#REF!,2) -> #REF! | AH85: =ROUND(AF85*#REF!,2) -> #REF! | AI85: =AH85+AG85 -> #REF! | AK85: =ROUND(AJ85*#REF!,2) -> #REF! | AL85: =ROUND(AJ85*#REF!,2) -> #REF! | AM85: =AL85+AK85 -> #REF! | AO85: =ROUND(AN85*#REF!,2) -> #REF! | AP85: =ROUND(AN85*#REF!,2) -> #REF! | AQ85: =AP85+AO85 -> #REF! | AS85: =ROUND(AR85*#REF!,2) -> #REF! | AT85: =ROUND(AR85*#REF!,2) -> #REF! | AU85: =AT85+AS85 -> #REF! | AW85: =#REF! -> #REF! | AX85: =AJ85+AF85+AB85+X85+T85+P85+L85 -> 0 | AY85: =AW85-AX85 -> #REF! | AZ85: =AY85-#REF! -> #REF!
L86: 0 | M86: =ROUND($L86*#REF!,2) -> #REF! | N86: =ROUND($L86*#REF!,2) -> #REF! | O86: =N86+M86 -> #REF! | Q86: =ROUND($P86*#REF!,2) -> #REF! | R86: =ROUND($P86*#REF!,2) -> #REF! | S86: =R86+Q86 -> #REF! | U86: =ROUND(T86*#REF!,2) -> #REF! | V86: =ROUND(T86*#REF!,2) -> #REF! | W86: =V86+U86 -> #REF! | Y86: =ROUND(X86*#REF!,2) -> #REF! | Z86: =ROUND(X86*#REF!,2) -> #REF! | AA86: =Z86+Y86 -> #REF! | AC86: =ROUND(AB86*#REF!,2) -> #REF! | AD86: =ROUND(AB86*#REF!,2) -> #REF! | AE86: =AD86+AC86 -> #REF! | AG86: =ROUND(AF86*#REF!,2) -> #REF! | AH86: =ROUND(AF86*#REF!,2) -> #REF! | AI86: =AH86+AG86 -> #REF! | AK86: =ROUND(AJ86*#REF!,2) -> #REF! | AL86: =ROUND(AJ86*#REF!,2) -> #REF! | AM86: =AL86+AK86 -> #REF! | AO86: =ROUND(AN86*#REF!,2) -> #REF! | AP86: =ROUND(AN86*#REF!,2) -> #REF! | AQ86: =AP86+AO86 -> #REF! | AS86: =ROUND(AR86*#REF!,2) -> #REF! | AT86: =ROUND(AR86*#REF!,2) -> #REF! | AU86: =AT86+AS86 -> #REF! | AW86: =#REF! -> #REF! | AX86: =AJ86+AF86+AB86+X86+T86+P86+L86 -> 0 | AY86: =AW86-AX86 -> #REF! | AZ86: =AY86-#REF! -> #REF!
L87: 0 | M87: =ROUND($L87*#REF!,2) -> #REF! | N87: =ROUND($L87*#REF!,2) -> #REF! | O87: =N87+M87 -> #REF! | Q87: =ROUND($P87*#REF!,2) -> #REF! | R87: =ROUND($P87*#REF!,2) -> #REF! | S87: =R87+Q87 -> #REF! | U87: =ROUND(T87*#REF!,2) -> #REF! | V87: =ROUND(T87*#REF!,2) -> #REF! | W87: =V87+U87 -> #REF! | Y87: =ROUND(X87*#REF!,2) -> #REF! | Z87: =ROUND(X87*#REF!,2) -> #REF! | AA87: =Z87+Y87 -> #REF! | AC87: =ROUND(AB87*#REF!,2) -> #REF! | AD87: =ROUND(AB87*#REF!,2) -> #REF! | AE87: =AD87+AC87 -> #REF! | AG87: =ROUND(AF87*#REF!,2) -> #REF! | AH87: =ROUND(AF87*#REF!,2) -> #REF! | AI87: =AH87+AG87 -> #REF! | AK87: =ROUND(AJ87*#REF!,2) -> #REF! | AL87: =ROUND(AJ87*#REF!,2) -> #REF! | AM87: =AL87+AK87 -> #REF! | AO87: =ROUND(AN87*#REF!,2) -> #REF! | AP87: =ROUND(AN87*#REF!,2) -> #REF! | AQ87: =AP87+AO87 -> #REF! | AS87: =ROUND(AR87*#REF!,2) -> #REF! | AT87: =ROUND(AR87*#REF!,2) -> #REF! | AU87: =AT87+AS87 -> #REF! | AW87: =#REF! -> #REF! | AX87: =AJ87+AF87+AB87+X87+T87+P87+L87 -> 0 | AY87: =AW87-AX87 -> #REF! | AZ87: =AY87-#REF! -> #REF!
L88: 0 | M88: =ROUND($L88*#REF!,2) -> #REF! | N88: =ROUND($L88*#REF!,2) -> #REF! | O88: =N88+M88 -> #REF! | Q88: =ROUND($P88*#REF!,2) -> #REF! | R88: =ROUND($P88*#REF!,2) -> #REF! | S88: =R88+Q88 -> #REF! | U88: =ROUND(T88*#REF!,2) -> #REF! | V88: =ROUND(T88*#REF!,2) -> #REF! | W88: =V88+U88 -> #REF! | Y88: =ROUND(X88*#REF!,2) -> #REF! | Z88: =ROUND(X88*#REF!,2) -> #REF! | AA88: =Z88+Y88 -> #REF! | AC88: =ROUND(AB88*#REF!,2) -> #REF! | AD88: =ROUND(AB88*#REF!,2) -> #REF! | AE88: =AD88+AC88 -> #REF! | AG88: =ROUND(AF88*#REF!,2) -> #REF! | AH88: =ROUND(AF88*#REF!,2) -> #REF! | AI88: =AH88+AG88 -> #REF! | AK88: =ROUND(AJ88*#REF!,2) -> #REF! | AL88: =ROUND(AJ88*#REF!,2) -> #REF! | AM88: =AL88+AK88 -> #REF! | AO88: =ROUND(AN88*#REF!,2) -> #REF! | AP88: =ROUND(AN88*#REF!,2) -> #REF! | AQ88: =AP88+AO88 -> #REF! | AS88: =ROUND(AR88*#REF!,2) -> #REF! | AT88: =ROUND(AR88*#REF!,2) -> #REF! | AU88: =AT88+AS88 -> #REF! | AW88: =#REF! -> #REF! | AX88: =AJ88+AF88+AB88+X88+T88+P88+L88 -> 0 | AY88: =AW88-AX88 -> #REF! | AZ88: =AY88-#REF! -> #REF!
L89: 0 | M89: =ROUND($L89*#REF!,2) -> #REF! | N89: =ROUND($L89*#REF!,2) -> #REF! | O89: =N89+M89 -> #REF! | Q89: =ROUND($P89*#REF!,2) -> #REF! | R89: =ROUND($P89*#REF!,2) -> #REF! | S89: =R89+Q89 -> #REF! | U89: =ROUND(T89*#REF!,2) -> #REF! | V89: =ROUND(T89*#REF!,2) -> #REF! | W89: =V89+U89 -> #REF! | Y89: =ROUND(X89*#REF!,2) -> #REF! | Z89: =ROUND(X89*#REF!,2) -> #REF! | AA89: =Z89+Y89 -> #REF! | AC89: =ROUND(AB89*#REF!,2) -> #REF! | AD89: =ROUND(AB89*#REF!,2) -> #REF! | AE89: =AD89+AC89 -> #REF! | AG89: =ROUND(AF89*#REF!,2) -> #REF! | AH89: =ROUND(AF89*#REF!,2) -> #REF! | AI89: =AH89+AG89 -> #REF! | AK89: =ROUND(AJ89*#REF!,2) -> #REF! | AL89: =ROUND(AJ89*#REF!,2) -> #REF! | AM89: =AL89+AK89 -> #REF! | AO89: =ROUND(AN89*#REF!,2) -> #REF! | AP89: =ROUND(AN89*#REF!,2) -> #REF! | AQ89: =AP89+AO89 -> #REF! | AS89: =ROUND(AR89*#REF!,2) -> #REF! | AT89: =ROUND(AR89*#REF!,2) -> #REF! | AU89: =AT89+AS89 -> #REF! | AW89: =#REF! -> #REF! | AX89: =AJ89+AF89+AB89+X89+T89+P89+L89 -> 0 | AY89: =AW89-AX89 -> #REF! | AZ89: =AY89-#REF! -> #REF!
... L93: 0 | M93: =ROUND($L93*#REF!,2) -> #REF! | N93: =ROUND($L93*#REF!,2) -> #REF! | O93: =N93+M93 -> #REF! | Q93: =ROUND($P93*#REF!,2) -> #REF! | R93: =ROUND($P93*#REF!,2) -> #REF! | S93: =R93+Q93 -> #REF! | U93: =ROUND(T93*#REF!,2) -> #REF! | V93: =ROUND(T93*#REF!,2) -> #REF! | W93: =V93+U93 -> #REF! | Y93: =ROUND(X93*#REF!,2) -> #REF! | Z93: =ROUND(X93*#REF!,2) -> #REF! | AA93: =Z93+Y93 -> #REF! | AC93: =ROUND(AB93*#REF!,2) -> #REF! | AD93: =ROUND(AB93*#REF!,2) -> #REF! | AE93: =AD93+AC93 -> #REF! | AG93: =ROUND(AF93*#REF!,2) -> #REF! | AH93: =ROUND(AF93*#REF!,2) -> #REF! | AI93: =AH93+AG93 -> #REF! | AK93: =ROUND(AJ93*#REF!,2) -> #REF! | AL93: =ROUND(AJ93*#REF!,2) -> #REF! | AM93: =AL93+AK93 -> #REF! | AO93: =ROUND(AN93*#REF!,2) -> #REF! | AP93: =ROUND(AN93*#REF!,2) -> #REF! | AQ93: =AP93+AO93 -> #REF! | AS93: =ROUND(AR93*#REF!,2) -> #REF! | AT93: =ROUND(AR93*#REF!,2) -> #REF! | AU93: =AT93+AS93 -> #REF! | AW93: =#REF! -> #REF! | AX93: =AJ93+AF93+AB93+X93+T93+P93+L93 -> 0 | AY93: =AW93-AX93 -> #REF! | AZ93: =AY93-#REF! -> #REF!
O94: =SUM(O77:O93) -> #REF! | S94: =SUM(S77:S93) -> #REF! | W94: =SUM(W77:W93) -> #REF! | AA94: =SUM(AA77:AA93) -> #REF! | AE94: =SUM(AE77:AE93) -> #REF! | AI94: =SUM(AI77:AI93) -> #REF! | AM94: =SUM(AM77:AM93) -> #REF! | AQ94: =SUM(AQ77:AQ93) -> #REF! | AU94: =SUM(AU77:AU93) -> #REF! | AW94: =#REF! -> #REF! | AX94: =AJ94+AF94+AB94+X94+T94+P94+L94 -> 0 | AY94: =AW94-AX94 -> #REF! | AZ94: =AY94-#REF! -> #REF!
AW95: =#REF! -> #REF! | AX95: =AJ95+AF95+AB95+X95+T95+P95+L95 -> 0 | AY95: =AW95-AX95 -> #REF! | AZ95: =AY95-#REF! -> #REF!
O96: =SUM(O75,#REF!,O94) -> #REF! | S96: =SUM(S75,#REF!,S94) -> #REF! | W96: =SUM(W75,#REF!,W94) -> #REF! | AA96: =SUM(AA75,#REF!,AA94) -> #REF! | AE96: =SUM(AE75,#REF!,AE94) -> #REF! | AI96: =SUM(AI75,#REF!,AI94) -> #REF! | AM96: =SUM(AM75,#REF!,AM94) -> #REF! | AQ96: =SUM(AQ75,#REF!,AQ94) -> #REF! | AU96: =SUM(AU75,#REF!,AU94) -> #REF!
O97: =ROUND(O96*0.2199,2) -> #REF! | S97: =ROUND(S96*0.2199,2) -> #REF! | W97: =ROUND(W96*0.2199,2) -> #REF! | AA97: =ROUND(AA96*0.2199,2) -> #REF! | AE97: =ROUND(AE96*0.2199,2) -> #REF! | AI97: =ROUND(AI96*0.2199,2) -> #REF! | AM97: =ROUND(AM96*0.2199,2) -> #REF! | AQ97: =ROUND(AQ96*0.2199,2) -> #REF! | AU97: =ROUND(AU96*0.2199,2) -> #REF!
O98: =O96+O97 -> #REF! | S98: =S96+S97 -> #REF! | W98: =W96+W97 -> #REF! | AA98: =AA96+AA97 -> #REF! | AE98: =AE96+AE97 -> #REF! | AI98: =AI96+AI97 -> #REF! | AM98: =AM96+AM97 -> #REF! | AQ98: =AQ96+AQ97 -> #REF! | AU98: =AU96+AU97 -> #REF!
O101: 44827.76 | S101: 60258.17 | W101: 58231.02 | AA101: 87159.38 | AE101: 116284.19 | AI101: 52501.8 | AM101: 79069.14
O103: =O98-O101 -> #REF!

Sheet PLAN. ACERVO
A1: PLANILHA ORÇAMENTÁRIA - Lote 02 - CONTRATAÇÃO DE SERVIÇOS TÉCNICOS ESPECIALIZADOS DE ARQUITETURA E ENGENHARIA PARA A ELABORAÇÃO DE PROJETO ARQUITETÔNICO E PROJETOS COMPLEMENTARES EXECUTIVOS DE RESTAURAÇÃO DO MUSEU GOIANO ZOROASTRO ARTIAGA
A2: Monumento: Museu Goiano Professor Zoroastro Artiaga - Acervo
A3: Referência: Inc. VI - PESQUISA DIRETA COM FORNECEDORES
A4: Dados gerais: Acervo em exposição de longa duração: 1.333 objetos; Estimativa de acervo na reserva técnica: entre 2.000 a 2.500 objetos; Caixas poliondas de material arqueológico: 153 caixas
A5: Data:12/08/2024
A8: PLANILHA ORÇAMENTÁRIA SINTÉTICA - ACERVO DO MUSEU PROFESSOR ZOROASTRO ARTIAGA
A10: ITEM | B10: CÓDIGO | C10: FONTE | D10: DESCRIÇÃO DOS SERVIÇOS | E10: UNID. | F10: QUANT | G10: PREÇO UNITÁRIO DO MATERIAL | H10: PREÇO UNITÁRIO DA MÃO DE OBRA | I10: VALOR TOTAL
A11: 1.0 | D11: SERVIÇOS ESPECIALIZADOS
A12: 1.1 | B12: CP-1 | C12: COMPOSIÇÃO | D12: EMBALAGENS E MATERIAIS | E12: UND | F12: 1 | G12: 0 | H12: =COMPOSIÇÃO!I13 -> 95000 | I12: =ROUND((H12+G12)*F12,2) -> 95000
A13: 1.2 | B13: CP-2 | C13: COMPOSIÇÃO | D13: ACONDICIONAMENTO DE ACERVO | E13: UND | F13: 1 | G13: 0 | H13: =COMPOSIÇÃO!I20 -> 260000 | I13: =ROUND((H13+G13)*F13,2) -> 260000
A14: 1.3 | B14: CP-3 | C14: COMPOSIÇÃO | D14: MANUSEIO, CARREGAMENTO E TRANSPORTE | E14: UND | F14: 1 | G14: 0 | H14: =COMPOSIÇÃO!I27 -> 179500 | I14: =ROUND((H14+G14)*F14,2) -> 179500
A15: 1.4 | B15: CP-4 | C15: COMPOSIÇÃO | D15: DESINFESTAÇÃO EM ATMOSFERA ANÓXIA | E15: UND | F15: 1 | G15: 0 | H15: =COMPOSIÇÃO!I34 -> 231500 | I15: =ROUND((H15+G15)*F15,2) -> 231500
A16: 1.5 | B16: CP-5 | C16: COMPOSIÇÃO | D16: HIGIENIZAÇÃO DE ACERVO | E16: UND | F16: 1 | G16: 0 | H16: =COMPOSIÇÃO!I41 -> 350000 | I16: =ROUND((H16+G16)*F16,2) -> 350000
A17: 1.6 | B17: CP-6 | C17: COMPOSIÇÃO | D17: CATALOGAÇÃO DE ACERVO | E17: UND | F17: 1 | G17: 0 | H17: =COMPOSIÇÃO!I48 -> 302000 | I17: =ROUND((H17+G17)*F17,2) -> 302000
A18: 1.7 | B18: CP-7 | C18: COMPOSIÇÃO | D18: LAUDO DE CONSERVAÇÃO | E18: UND | F18: 1 | G18: 0 | H18: =COMPOSIÇÃO!I55 -> 187500 | I18: =ROUND((H18+G18)*F18,2) -> 187500
A19: 1.8 | B19: CP-8 | C19: COMPOSIÇÃO | D19: VIGIA DE ACERVO - (NOTURNO E SÁBADO/DOMINGO DIURNO) | E19: UND | F19: 1 | G19: 0 | H19: =COMPOSIÇÃO!I62 -> 56625.61 | I19: =ROUND((H19+G19)*F19,2) -> 56625.61
A20: 1.9 | B20: CP-9 | C20: COMPOSIÇÃO | D20: VIGIA DE ACERVO - (DIURNO) | E20: UND | F20: 1 | G20: 0 | H20: =COMPOSIÇÃO!I69 -> 41305.542 | I20: =ROUND((H20+G20)*F20,2) -> 41305.54
D21: TOTAL ITEM 1.0 | I21: =SUM(I12:I20) -> 1703431.2
D24: TOTAL GERAL DA PROPOSTA | I24: =I21 -> 1703431.2
A26: Eng. Civil responsável pela elaboração de cálculo: Cecília Guimarães Cândido
A27: Equipe de apoio: Arquiteta Melissa Martins Alves

Sheet COMPOSIÇÃO
B2: PLANILHA ORÇAMENTÁRIA - COMPOSIÇÃO DE PREÇOS
B5: PLANILHA DE COMPOSIÇÃO DE PREÇOS - PESQUISA DIRETA COM FORNECEDORES
B6: MONUMENTO: Museu Goiano Professor Zoroastro Artiaga - Acervo | H6: DATA: 14/08/2024
B8: ITEM | C8: CP-1 | D8: SERVIÇO | I8: UNIDADE
B9: 1.1 | D9: EMBALAGENS E MATERIAIS | I9: UND
B10: CÓD. | C10: CÓD. REF. | D10: EMPRESA | E10: TIPO INSUMO | F10: UNID. | G10: QUANT. | H10: VALOR UNIT. | I10: VALOR TOTAL
B11: Pesquisa direta com Fornecedores | D11: GRUPO OFICINA DE RESTAURO LTDA | E11: SERVIÇO | F11: UND | G11: 1 | H11: 140000 | I11: =H11*G11 -> 140000
B12: Pesquisa direta com Fornecedores | D12: STEPHAN SCHAFER CONSERVACAO E RESTAURACAO UNIPESSOAL LTDA | E12: SERVIÇO | F12: UND | G12: 1 | H12: 50000 | I12: =H12*G12 -> 50000
B13: TOTAL MEDIA | I13: =SUM(I11:I12)/2 -> 95000
B15: ITEM | C15: CP-2 | D15: SERVIÇO | I15: UNIDADE
B16: 1.2 | D16: ACONDICIONAMENTO DE ACERVO | I16: UND
B17: CÓD. | C17: CÓD. REF. | D17: EMPRESA | E17: TIPO INSUMO | F17: UNID. | G17: QUANT. | H17: VALOR UNIT. | I17: VALOR TOTAL
B18: Pesquisa direta com Fornecedores | D18: GRUPO OFICINA DE RESTAURO LTDA | E18: SERVIÇO | F18: UND | G18: 1 | H18: 420000 | I18: =H18*G18 -> 420000
B19: Pesquisa direta com Fornecedores | D19: STEPHAN SCHAFER CONSERVACAO E RESTAURACAO UNIPESSOAL LTDA | E19: SERVIÇO | F19: UND | G19: 1 | H19: 100000 | I19: =H19*G19 -> 100000
B20: TOTAL MEDIA | I20: =SUM(I18:I19)/2 -> 260000
B22: ITEM | C22: CP-3 | D22: SERVIÇO | I22: UNIDADE
B23: 1.3 | D23: MANUSEIO, CARREGAMENTO E TRANSPORTE | I23: UND
B24: CÓD. | C24: CÓD. REF. | D24: EMPRESA | E24: TIPO INSUMO | F24: UNID. | G24: QUANT. | H24: VALOR UNIT. | I24: VALOR TOTAL
B25: Pesquisa direta com Fornecedores | D25: GRUPO OFICINA DE RESTAURO LTDA | E25: SERVIÇO | F25: UND | G25: 1 | H25: 119000 | I25: =H25*G25 -> 119000
B26: Pesquisa direta com Fornecedores | D26: STEPHAN SCHAFER CONSERVACAO E RESTAURACAO UNIPESSOAL LTDA | E26: SERVIÇO | F26: UND | G26: 1 | H26: 240000 | I26: =H26*G26 -> 240000
B27: TOTAL MEDIA | I27: =SUM(I25:I26)/2 -> 179500
B29: ITEM | C29: CP-4 | D29: SERVIÇO | I29: UNIDADE
B30: 1.4 | D30: DESINFESTAÇÃO EM ATMOSFERA ANÓXIA | I30: UND
B31: CÓD. | C31: CÓD. REF. | D31: EMPRESA | E31: TIPO INSUMO | F31: UNID. | G31: QUANT. | H31: VALOR UNIT. | I31: VALOR TOTAL
B32: Pesquisa direta com Fornecedores | D32: GRUPO OFICINA DE RESTAURO LTDA | E32: SERVIÇO | F32: UND | G32: 1 | H32: 198000 | I32: =H32*G32 -> 198000
B33: Pesquisa direta com Fornecedores | D33: STEPHAN SCHAFER CONSERVACAO E RESTAURACAO UNIPESSOAL LTDA | E33: SERVIÇO | F33: UND | G33: 1 | H33: 265000 | I33: =H33*G33 -> 265000
B34: TOTAL MEDIA | I34: =SUM(I32:I33)/2 -> 231500
B36: ITEM | C36: CP-5 | D36: SERVIÇO | I36: UNIDADE
B37: 1.5 | D37: HIGIENIZAÇÃO DE ACERVO | I37: UND
B38: CÓD. | C38: CÓD. REF. | D38: EMPRESA | E38: TIPO INSUMO | F38: UNID. | G38: QUANT. | H38: VALOR UNIT. | I38: VALOR TOTAL
B39: Pesquisa direta com Fornecedores | D39: GRUPO OFICINA DE RESTAURO LTDA | E39: SERVIÇO | F39: UND | G39: 1 | H39: 455000 | I39: =H39*G39 -> 455000
B40: Pesquisa direta com Fornecedores | D40: STEPHAN SCHAFER CONSERVACAO E RESTAURACAO UNIPESSOAL LTDA | E40: SERVIÇO | F40: UND | G40: 1 | H40: 245000 | I40: =H40*G40 -> 245000
B41: TOTAL MEDIA | I41: =SUM(I39:I40)/2 -> 350000
B43: ITEM | C43: CP-6 | D43: SERVIÇO | I43: UNIDADE
B44: 1.6 | D44: CATALOGAÇÃO DE ACERVO | I44: UND
B45: CÓD. | C45: CÓD. REF. | D45: EMPRESA | E45: TIPO INSUMO | F45: UNID. | G45: QUANT. | H45: VALOR UNIT. | I45: VALOR TOTAL
B46: Pesquisa direta com Fornecedores | D46: GRUPO OFICINA DE RESTAURO LTDA | E46: SERVIÇO | F46: UND | G46: 1 | H46: 409000 | I46: =H46*G46 -> 409000
B47: Pesquisa direta com Fornecedores | D47: STEPHAN SCHAFER CONSERVACAO E RESTAURACAO UNIPESSOAL LTDA | E47: SERVIÇO | F47: UND | G47: 1 | H47: 195000 | I47: =H47*G47 -> 195000
B48: TOTAL MEDIA | I48: =SUM(I46:I47)/2 -> 302000
B50: ITEM | C50: CP-7 | D50: SERVIÇO | I50: UNIDADE
B51: 1.7 | D51: LAUDO DE CONSERVAÇÃO | I51: UND
B52: CÓD. | C52: CÓD. REF. | D52: EMPRESA | E52: TIPO INSUMO | F52: UNID. | G52: QUANT. | H52: VALOR UNIT. | I52: VALOR TOTAL
B53: Pesquisa direta com Fornecedores | D53: GRUPO OFICINA DE RESTAURO LTDA | E53: SERVIÇO | F53: UND | G53: 1 | H53: 175000 | I53: =H53*G53 -> 175000
B54: Pesquisa direta com Fornecedores | D54: STEPHAN SCHAFER CONSERVACAO E RESTAURACAO UNIPESSOAL LTDA | E54: SERVIÇO | F54: UND | G54: 1 | H54: 200000 | I54: =H54*G54 -> 200000
B55: TOTAL MEDIA | I55: =SUM(I53:I54)/2 -> 187500
B57: ITEM | C57: CP-8 | D57: SERVIÇO | I57: UNIDADE
B58: 1.8 | D58: VIGIA DE ACERVO - (NOTURNO E NO SÁBADO/DOMINGO DIURNO) | I58: UND
B59: CÓD. | C59: CÓD. REF. | D59: EMPRESA | E59: TIPO INSUMO | F59: UNID. | G59: QUANT. | H59: VALOR UNIT. | I59: VALOR TOTAL
B60: Pesquisa direta com Fornecedores | D60: GRUPO OFICINA DE RESTAURO LTDA | E60: SERVIÇO | F60: H | G60: 2880 | H60: =15.45*1.2726 -> 19.66167 | I60: =H60*G60 -> 56625.61
B61: Pesquisa direta com Fornecedores | D61: STEPHAN SCHAFER CONSERVACAO E RESTAURACAO UNIPESSOAL LTDA | E61: SERVIÇO | F61: H | G61: 2880 | H61: =15.45*1.2726 -> 19.66167 | I61: =H61*G61 -> 56625.61
B62: TOTAL MEDIA | I62: =SUM(I60:I61)/2 -> 56625.61
B64: ITEM | C64: CP-9 | D64: SERVIÇO | I64: UNIDADE
B65: 1.9 | D65: VIGIA DE ACERVO - (DIURNO) | I65: UND
B66: CÓD. | C66: CÓD. REF. | D66: EMPRESA | E66: TIPO INSUMO | F66: UNID. | G66: QUANT. | H66: VALOR UNIT. | I66: VALOR TOTAL
B67: Pesquisa direta com Fornecedores | D67: GRUPO OFICINA DE RESTAURO LTDA | E67: SERVIÇO | F67: H | G67: 2880 | H67: =11.27*1.2726 -> 14.342202 | I67: =H67*G67 -> 41305.542
B68: Pesquisa direta com Fornecedores | D68: STEPHAN SCHAFER CONSERVACAO E RESTAURACAO UNIPESSOAL LTDA | E68: SERVIÇO | F68: H | G68: 2880 | H68: =11.27*1.2726 -> 14.342202 | I68: =H68*G68 -> 41305.542
B69: TOTAL MEDIA | I69: =SUM(I67:I68)/2 -> 41305.542

Sheet CRONOGRAMA
A1: PLANILHA ORÇAMENTÁRIA - CRONOGRAMA FÍSICO-FINANCEIRO
A3: Obra: | B3: CONTRATAÇÃO DE SERVIÇOS TÉCNICOS ESPECIALIZADOS DE ARQUITETURA E ENGENHARIA PARA A ELABORAÇÃO DE PROJETO ARQUITETÔNICO E PROJETOS COMPLEMENTARES EXECUTIVOS DE RESTAURAÇÃO DO PALÁCIO CONDE DOS ARCOS NA CIDADE DE GOIÁS-GO
A6: Local: | B6: Praça Tasso Camargo 1, Centro - Goiás/GO
A7: Data: | B7: 27/09/2023
A10: Item | B10: Descrição | C10: Valor | D10: % | E10: 1º mês | F10: 2º mês | G10: 3º mês | H10: 4º mês | I10: 5º mês | J10: 6º mês | K10: 7º mês | L10: 8º mês | M10: 9º mês | N10: 10º mês | O10: 11º mês | P10: 12º mês | Q10: Total
A12: 1 | B12: EMBALAGENS E MATERIAIS | C12: ='PESQUISA PREÇOS modelo'!I5 -> 95000 | D12: =(C12/$C$42)*100 -> 5.5769791 | E12: =C12/2 -> 47500 | F12: =C12/2 -> 47500 | Q12: =SUM(E12:P12) -> 95000
E14: =E12/C12 -> 0.5 | F14: =F12/C12 -> 0.5
A15: 2 | B15: ACONDICIONAMENTO DE ACERVO | C15: ='PESQUISA PREÇOS modelo'!I6 -> 260000 | D15: =(C15/$C$42)*100 -> 15.263311 | E15: =C15/2 -> 130000 | F15: =C15/2 -> 130000 | Q15: =SUM(E15:P15) -> 260000
E17: =E15/C15 -> 0.5 | F17: =F15/C15 -> 0.5
A18: 3 | B18: MANUSEIO, CARREGAMENTO E TRANSPORTE | C18: ='PESQUISA PREÇOS modelo'!I7 -> 179500 | D18: =(C18/$C$42)*100 -> 10.537555 | E18: =C18/4 -> 44875 | F18: =C18/4 -> 44875 | O18: =C18/4 -> 44875 | P18: =C18/4 -> 44875 | Q18: =SUM(E18:P18) -> 179500
E20: =E18/C18 -> 0.25 | F20: =F18/C18 -> 0.25 | O20: =F18/C18 -> 0.25 | P20: =F18/C18 -> 0.25
A21: 4 | B21: DESINFESTAÇÃO EM ATMOSFERA ANÓXIA | C21: ='PESQUISA PREÇOS modelo'!I8 -> 231500 | D21: =(C21/$C$42)*100 -> 13.590218 | G21: =C21*0.15 -> 34725 | H21: =C21*0.15 -> 34725 | I21: =C21*0.15 -> 34725 | J21: =C21*0.15 -> 34725 | K21: =C21*0.15 -> 34725 | L21: =C21*0.25 -> 57875 | Q21: =SUM(E21:P21) -> 231500
G23: =G21/C21 -> 0.15 | H23: =G21/C21 -> 0.15 | I23: =G21/C21 -> 0.15 | J23: =G21/C21 -> 0.15 | K23: =G21/C21 -> 0.15 | L23: =L21/C21 -> 0.25
A24: 5 | B24: HIGIENIZAÇÃO DE ACERVO | C24: ='PESQUISA PREÇOS modelo'!I9 -> 350000 | D24: =(C24/$C$42)*100 -> 20.546765 | L24: =C24/4 -> 87500 | M24: =C24/4 -> 87500 | N24: =C24/4 -> 87500 | O24: =C24/4 -> 87500 | Q24: =SUM(E24:O24) -> 350000
L26: 0.25 | M26: 0.25 | N26: 0.25 | O26: 0.25
A27: 6 | B27: CATALOGAÇÃO DE ACERVO | C27: ='PESQUISA PREÇOS modelo'!I10 -> 302000 | D27: =(C27/$C$42)*100 -> 17.728923 | N27: =C27*0.3 -> 90600 | O27: 90600 | P27: =C27*0.4 -> 120800 | Q27: =SUM(E27:P27) -> 302000
N29: 0.3 | O29: 0.3 | P29: 0.4
A30: 7 | B30: LAUDO DE CONSERVAÇÃO | C30: ='PESQUISA PREÇOS modelo'!I11 -> 187500 | D30: =(C30/$C$42)*100 -> 11.007196 | O30: =C30/2 -> 93750 | P30: =C30/2 -> 93750 | Q30: =SUM(E30:P30) -> 187500
O32: 0.5 | P32: 0.5
A33: 8 | B33: VIGIA DE OBRAS E ACERVO- (NOTURNO E NO SÁBADO/DOMINGO DIURNO) | C33: ='PESQUISA PREÇOS modelo'!I12 -> 56625.61 | D33: =(C33/$C$42)*100 -> 3.3242089 | E33: =C33/12 -> 4718.8008 | F33: =C33/12 -> 4718.8008 | G33: =C33/12 -> 4718.8008 | H33: =C33/12 -> 4718.8008 | I33: 4718.8 | J33: 4718.8 | K33: 4718.8 | L33: 4718.8 | M33: 4718.8 | N33: 4718.8 | O33: 4718.8 | P33: 4718.8 | Q33: =SUM(E33:P33) -> 56625.603
E35: =E33/C33 -> 0.083333333 | F35: =F33/C33 -> 0.083333333 | G35: 0.0833 | H35: 0.0833 | I35: 0.0833 | J35: 0.0833 | K35: 0.0833 | L35: 0.0833 | M35: 0.0833 | N35: 0.0833 | O35: 0.0833 | P35: 0.0833
A36: 9 | B36: VIGIA DE OBRAS E ACERVO (DIURNO) | C36: ='PESQUISA PREÇOS modelo'!I13 -> 41305.542 | D36: =(C36/$C$42)*100 -> 2.4248436 | E36: =C36/12 -> 3442.1285 | F36: 3442.13 | G36: 3442.13 | H36: 3442.13 | I36: 3442.13 | J36: 3442.13 | K36: 3442.13 | L36: 3442.13 | M36: 3442.13 | N36: 3442.13 | O36: 3442.13 | P36: 3442.13 | Q36: =SUM(E36:P36) -> 41305.558
E38: =E36/C36 -> 0.083333333 | F38: 0.0833 | G38: 0.0833 | H38: 0.0833 | I38: 0.0833 | J38: 0.0833 | K38: 0.0833 | L38: 0.0833 | M38: 0.0833 | N38: 0.0833 | O38: 0.0833 | P38: 0.0833
A39: Percentual do período | E39: =((E12+E15+E18+E21+E24+E27+E30+E33+E36)/Q39) -> 0.13533622 | F39: =((F12+F15+F18+F21+F24+F27+F30+F33+F36)/Q39) -> 0.13533622 | G39: =((G12+G15+G18+G21+G24+G27+G30+G33+G36)/Q39) -> 0.025176204 | H39: =((H12+H15+H18+H21+H24+H27+H30+H33+H36)/Q39) -> 0.025176204 | I39: =((I12+I15+I18+I21+I24+I27+I30+I33+I36)/Q39) -> 0.025176204 | J39: =((J12+J15+J18+J21+J24+J27+J30+J33+J36)/Q39) -> 0.025176204 | K39: =((K12+K15+K18+K21+K24+K27+K30+K33+K36)/Q39) -> 0.025176204 | L39: =((L12+L15+L18+L21+L24+L27+L30+L33+L36)/Q39) -> 0.090133334 | M39: =((M12+M15+M18+M21+M24+M27+M30+M33+M36)/Q39) -> 0.05615779 | N39: =((N12+N15+N18+N21+N24+N27+N30+N33+N36)/Q39) -> 0.10934456 | O39: =((O12+O15+O18+O21+O24+O27+O30+O33+O36)/Q39) -> 0.19072443 | P39: =((P12+P15+P18+P21+P24+P27+P30+P33+P36)/Q39) -> 0.15708644 | Q39: =SUM(Q12:Q38) -> 1703431.2
A40: Percentual acumulado | E40: 0.1353 | F40: =SUM(E40+F39) -> 0.27063622 | G40: =SUM(F40+G39) -> 0.29581242 | H40: =SUM(G40+H39) -> 0.32098863 | I40: =SUM(H40+I39) -> 0.34616483 | J40: =SUM(I40+J39) -> 0.37134103 | K40: =SUM(J40+K39) -> 0.39651724 | L40: =SUM(K40+L39) -> 0.48665057 | M40: =SUM(L40+M39) -> 0.54280836 | ... P40: =SUM(O40+P39) -> 0.99996378
A41: Valor período | E41: =SUM(E12,E15,E18,E21,E24,E27,E30,E33,E36) -> 230535.93 | F41: =SUM(F12,F15,F18,F21,F24,F27,F30,F33,F36) -> 230535.93 | G41: =SUM(G12,G15,G18,G21,G24,G27,G30,G33,G36) -> 42885.931 | H41: =SUM(H12,H15,H18,H21,H24,H27,H30,H33,H36) -> 42885.931 | I41: =SUM(I12,I15,I18,I21,I24,I27,I30,I33,I36) -> 42885.93 | J41: =SUM(J12,J15,J18,J21,J24,J27,J30,J33,J36) -> 42885.93 | K41: =SUM(K12,K15,K18,K21,K24,K27,K30,K33,K36) -> 42885.93 | L41: =SUM(L12,L15,L18,L21,L24,L27,L30,L33,L36) -> 153535.93 | ... P41: =SUM(P12,P15,P18,P21,P24,P27,P30,P33,P36) -> 267585.93
A42: Valor Total | C42: =SUM(C12:C38) -> 1703431.2 | D42: 1 | E42: =E41 -> 230535.93 | F42: =F41+E42 -> 461071.86 | G42: =G41+F42 -> 503957.79 | H42: =H41+G42 -> 546843.72 | I42: =I41+H42 -> 589729.65 | J42: =J41+I42 -> 632615.58 | K42: =K41+J42 -> 675501.51 | L42: =L41+K42 -> 829037.44 | M42: =M41+L42 -> 924698.37 | ... P42: =P41+O42 -> 1703431.2
A44: Eng. Civil responsável pela elaboração de cáculo: Cecília Guimarães Cândido
A45: Equipe de apoio: Arquiteta Melissa Martins Alves
