Workbook

Sheet Índice
R1: Agência Goiana de Regulação, Controle e Fiscalização - AGR
A2: Projeto: Cálculo da Taxa de Remuneração Regulatória | R2: Agência Goiana de Regulação – AR
A3: Interessados: Saneago e BRK Ambiental | R3: Agência Reguladora do Município de Anápolis - ARM
R4: Agência de Regulação dos Serviços Públicos de Saneamento Básico - AMAE
F17: Definição da Taxa de Remuneração Regulatória das Prestadoras de Serviço de Saneamento Básico - SANEAGO e BRK Ambiental
F19: ÍNDICE PLANILHA
F21: 1 | G21: WACC
F22: 2 | G22: Estrutura de Capital
F23: 3 | G23: Variáveis
F24: 4 | G24: Custo de capital próprio - Ke e Custos de capital de terceiros - Kd
F25: 5 | G25: Custo da dívida
F26: 6 | G26: Beta
F27: 7 | G27: Teste de Normalidade
F28: 8 | G28: Análise das Contribuições

Sheet 1. WACC
R1: Agência Goiana de Regulação, Controle e Fiscalização - AGR
A2: Projeto: Cálculo da Taxa de Remuneração Regulatória | R2: Agência Goiana de Regulação – AR
A3: Interessados: Saneago e BRK Ambiental | R3: Agência Reguladora do Município de Anápolis - ARM
R4: Agência de Regulação dos Serviços Públicos de Saneamento Básico - AMAE
B7: Cálculo do Custo Médio Ponderado de Capital - WACC
B9: Parâmetro | C9: Valor (% a.a.)
B10: Custo do capital próprio (Re) real | C10: ='4. Ke e Kd'!E17 -> 0.097306568
B11: Custo do capital de terceiros (Rd) real antes dos impostos | C11: ='4. Ke e Kd'!E27 -> 0.11957171
B12: Custo do capital de terceiros (Rd) real pós impostos | C12: ='4. Ke e Kd'!E29 -> 0.078917332
B13: Parcela de capital próprio (We) | C13: =1-C14 -> 0.69335473
B14: Parcela de capital de terceiros (Wd) | C14: ='2. Estrutura de Capital'!G12 -> 0.30664527
B15: Tributos | C15: 0.34
B16: Resultado | C16: Valor (% a.a.)
B17: WACC real antes -impostos | C17: =C10*C13+C11*C14 -> 0.10413407
B18: WACC real pós-impostos | C18: =C10*C13+C11*C14*(1-C15) -> 0.091667596

Sheet 2. Estrutura de Capital
R1: Agência Goiana de Regulação, Controle e Fiscalização - AGR
A2: Projeto: Cálculo da Taxa de Remuneração Regulatória | R2: Agência Goiana de Regulação – AR
A3: Interessados: Saneago e BRK Ambiental | R3: Agência Reguladora do Município de Anápolis - ARM
R4: Agência de Regulação dos Serviços Públicos de Saneamento Básico - AMAE
A6: Estrutura de Capital
A7: Alavancagem do setor - Opção A (SNIS, regional, não autarquias, água e esgoto, PL não negativo)
A8: (1) Disponível nas Demonstrações Financeiras das empresas. Links na tabela
A11: Dados Anuais | B11: 2025 | C11: 2024 | D11: 2023 | E11: 2022 | F11: 2021 | G11: 2025-2021
A12: Média | B12: =R56 -> 0.32501034 | C12: =AB56 -> 0.31796369 | D12: =AK56 -> 0.31014535 | E12: =AU56 -> 0.29154698 | F12: =BE56 -> 0.28855999 | G12: =AVERAGE(B12:F12) -> 0.30664527
Z13: =SUM(Z20:Z32) -> 60703116 | AA13: =SUM(AA20:AA32) -> 95317223 | AB13: =Z13/AA13 -> 0.6368536
A16: D/E | B16: 2025 | C16: 2024 | D16: 2023 | E16: 2022 | F16: 2021 | G16: 2025-2021
A17: Média | B17: =S56 -> 0.47027928 | C17: =AC56 -> 0.43614991 | D17: =AL56 -> 0.43319558 | E17: =AV56 -> 0.40041309 | F17: =BF56 -> 0.40503332 | G17: =AVERAGE(B17:F17) -> 0.42901424
K18: Estrutura de Capital - Principais Companhias de Saneamento do Brasil, 2025 | R18: Grau de alavancagem | U18: Estrutura de Capital - Principais Companhias de Saneamento do Brasil, 2024 | AB18: Grau de alavancagem | AE18: Estrutura de Capital - Principais Companhias de Saneamento do Brasil, 2023 | AK18: Grau de alavancagem | AN18: Estrutura de Capital - Principais Companhias de Saneamento do Brasil, 2022 | AU18: Grau de alavancagem | AX18: Estrutura de Capital - Principais Companhias de Saneamento do Brasil, 2021 | BE18: Grau de alavancagem
K19: Nº | L19: Companhias | M19: Fonte | N19: Ano | O19: Estado | P19: Passivo Oneroso (valor em milhares de reais) | Q19: Patrimônio Líquido (valor em milhares de reais) | R19: Wd | S19: D/E | U19: Nº | V19: Companhias | W19: Fonte | X19: Ano | Y19: Estado | Z19: Passivo Oneroso (valor em milhares de reais) | AA19: Patrimônio Líquido (valor em milhares de reais) | AB19: Wd | AC19: D/E | AE19: Companhias | AF19: Fonte | AG19: Ano | AH19: Estado | AI19: Passivo Oneroso (valor em milhares de reais) | AJ19: Patrimônio Líquido (valor em milhares de reais) | AK19: Wd | AL19: D/E | AN19: Nº | AO19: Companhias | AP19: Fonte | AQ19: Ano | AR19: Estado | AS19: Passivo Oneroso (valor em milhares de reais) | AT19: Patrimônio Líquido (valor em milhares de reais) | AU19: Wd | AV19: D/E | AX19: Nº | AY19: Companhias | AZ19: Fonte | BA19: Ano | BB19: Estado | BC19: Passivo Oneroso (valor em milhares de reais) | BD19: Patrimônio Líquido (valor em milhares de reais) | BE19: Wd | BF19: D/E
K20: 1 | L20: CAESB | M20: https://s3.caesb.df.gov.br/www/prod/site1/demonstracoes-anuais2025.pdf | N20: 2025 | O20: DF | P20: 663653 | Q20: 2549056 | R20: =IFERROR(P20/(P20+Q20),"") -> 0.20657115 | S20: =P20/Q20 -> 0.26035246 | U20: 1 | V20: CAESB | W20: https://s3.caesb.df.gov.br/www/prod/site1/demonstracoes-financeiras2024.pdf | X20: 2024 | Y20: DF | Z20: 876670 | AA20: 2248241 | AB20: =IFERROR(Z20/(Z20+AA20),"") -> 0.28054239 | AC20: =Z20/AA20 -> 0.38993595 | AE20: CAESB | AF20: https://www.caesb.df.gov.br/demonstracoes-financeiras-2023/ | AG20: 2023 | AH20: DF | AI20: =683452+95397 -> 778849 | AJ20: 2127333 | AK20: =AI20/(AI20+AJ20) -> 0.26799732 | AL20: =AI20/AJ20 -> 0.36611523 | AN20: 1 | AO20: CAESB | AP20: Resultados da pesquisa por “financeira” – Caesb | AQ20: 2022 | AR20: DF | AS20: =146500+816815 -> 963315 | AT20: 1943955 | AU20: =AS20/(AS20+AT20) -> 0.33134693 | AV20: =AS20/AT20 -> 0.49554388 | AX20: 1 | AY20: CAESB | AZ20: Resultados da pesquisa por “financeira” – Caesb | BA20: 2021 | BB20: DF | BC20: =188726+827105 -> 1015831 | BD20: =1641307 -> 1641307 | BE20: =BC20/(BC20+BD20) -> 0.38230269 | BF20: =BC20/BD20 -> 0.6189159 | BG20: ='[1]2. Estrutura de Capital'!BB20=BE20 -> TRUE
K21: 2 | L21: CAGECE | M21: https://api.mziq.com/mzfilemanager/v2/d/453f613e-0973-43e7-8d2a-680a86a2d55d/41c0ad15-b99b-2540-795c-a92a1ac5870a?origin=2 | N21: 2025 | O21: CE | P21: =96812 + 29705+ 1451448+ 1105086 -> 2683051 | Q21: 3681182 | R21: =IFERROR(P21/(P21+Q21),"") -> 0.42158277 | S21: =P21/Q21 -> 0.72885584 | U21: 2 | V21: CAGECE | W21: https://api.mziq.com/mzfilemanager/v2/d/453f613e-0973-43e7-8d2a-680a86a2d55d/79f7b4b7-7b0a-2118-cfab-67794878c067?origin=2 | X21: 2024 | Y21: CE | Z21: =327806+150407+1398036+15228 -> 1891477 | AA21: 3317678 | AB21: =IFERROR(Z21/(Z21+AA21),"") -> 0.3631063 | AC21: =Z21/AA21 -> 0.57012073 | AE21: CAGECE | AF21: api.mziq.com/mzfilemanager/v2/d/453f613e-0973-43e7-8d2a-680a86a2d55d/abb7c3ed-4315-a329-15a0-2ccc9d5d516a?origin=1 | AG21: 2023 | AH21: CE | AI21: =472656+84440+529783+802311 -> 1889190 | AJ21: 2919836 | AK21: =AI21/(AI21+AJ21) -> 0.39284254 | AL21: =AI21/AJ21 -> 0.64701922 | AN21: 2 | AO21: CAGECE | AP21: Central de Resultados - Cagece | AQ21: 2022 | AR21: CE | AS21: =62122+20480+344763+837522 -> 1264887 | AT21: 2787894 | AU21: =AS21/(AS21+AT21) -> 0.31210347 | AV21: =AS21/AT21 -> 0.45370699 | AX21: 2 | AY21: CAGECE | AZ21: Central de Resultados - Cagece | BA21: 2021 | BB21: CE | BC21: =63844+15701+362184+803244 -> 1244973 | BD21: 2639893 | BE21: =BC21/(BC21+BD21) -> 0.32046742 | BF21: =BC21/BD21 -> 0.4715998 | BG21: ='[1]2. Estrutura de Capital'!BB21=BE21 -> TRUE
K22: 3 | L22: CASAN | M22: https://ri.casan.com.br/wp-content/uploads/2026/03/Relatorio-Anual-da-Administracao-e-Demonstracoes-Financeiras-2025-Casan-2.pdf | N22: 2025 | O22: SC | P22: =445831+2343451 -> 2789282 | Q22: 2600843 | R22: =IFERROR(P22/(P22+Q22),"") -> 0.51748002 | S22: =P22/Q22 -> 1.072453 | U22: 3 | V22: CASAN | W22: https://ri.casan.com.br/documentos-divulgados/demonstracoes-financeiras/ | X22: 2024 | Y22: SC | Z22: =167549+203433+1170592+836614 -> 2378188 | AA22: 2258409 | AB22: =IFERROR(Z22/(Z22+AA22),"") -> 0.51291669 | AC22: =Z22/AA22 -> 1.0530369 | AE22: CASAN | AF22: https://ri.casan.com.br/wp-content/uploads/2024/03/DFP-2023.pdf | AG22: 2023 | AH22: SC | AI22: =163064+175686+787114+1016905 -> 2142769 | AJ22: 2003578 | AK22: =AI22/(AI22+AJ22) -> 0.51678477 | AL22: =AI22/AJ22 -> 1.0694712 | AN22: 3 | AO22: CASAN | AP22: Demonstrações Financeiras Anuais – Portal de RI da CASAN | AQ22: 2022 | AR22: SC | AS22: =914420+438955+160223+145696 -> 1659294 | AT22: 1860911 | AU22: =AS22/(AS22+AT22) -> 0.47136289 | AV22: =AS22/AT22 -> 0.89165683 | AX22: 3 | AY22: CASAN | AZ22: Demonstrações Financeiras Anuais – Portal de RI da CASAN | BA22: 2021 | BB22: SC | BC22: =156683+4457+683466+570321 -> 1414927 | BD22: 1671985 | BE22: =BC22/(BC22+BD22) -> 0.45836324 | BF22: =BC22/BD22 -> 0.8462558 | BG22: ='[1]2. Estrutura de Capital'!BB22=BE22 -> TRUE
K23: 4 | L23: CESAN | M23: https://www.cesan.com.br/wp-content/uploads/2026/04/Relatorio_da_Administracao_e_demonstracoes_contabeis_2025_aprovado_AGO.pdf | N23: 2025 | O23: ES | P23: =69249+780384 -> 849633 | Q23: 4575030 | R23: =IFERROR(P23/(P23+Q23),"") -> 0.15662411 | S23: =P23/Q23 -> 0.18571091 | U23: 4 | V23: CESAN | W23: https://www.cesan.com.br/wp-content/uploads/2025/04/Cesan_RI2024_D4.7.pdf | X23: 2024 | Y23: ES | Z23: =802428+54300 -> 856728 | AA23: 4218159 | AB23: =IFERROR(Z23/(Z23+AA23),"") -> 0.16881716 | AC23: =Z23/AA23 -> 0.20310472 | AE23: CESAN | AF23: https://publicidadelegal.tribunaonline.com.br/Certificados/Jornal%20A%20Tribuna/24-04-2024/2401%20CESAN%20-%20BALANCO.pdf | AG23: 2023 | AH23: ES | AI23: =27359+465994 -> 493353 | AJ23: =3756601 -> 3756601 | AK23: =AI23/(AI23+AJ23) -> 0.11608432 | AL23: =AI23/AJ23 -> 0.13132962 | AN23: 4 | AO23: CESAN | AP23: https://www.cesan.com.br/wp-content/uploads/2024/04/Relatorio-da-Administracao-e-demonstracoes-contabeis-2023.pdf | AQ23: 2022 | AR23: ES | AS23: =21557+307343 -> 328900 | AT23: 3275465 | AU23: =AS23/(AS23+AT23) -> 0.09125047 | AV23: =AS23/AT23 -> 0.10041322 | AX23: 4 | AY23: CESAN | AZ23: Cesan_Balanço_2021-20.pdf | BA23: 2021 | BB23: ES | BC23: =13192+205105 -> 218297 | BD23: 3098340 | BE23: =BC23/(BC23+BD23) -> 0.06581878 | BF23: =BC23/BD23 -> 0.070456115 | BG23: ='[1]2. Estrutura de Capital'!BB23=BE23 -> TRUE
K24: 5 | L24: COMPESA | M24: https://servicos.compesa.com.br/wp-content/uploads/2026/04/EXERCICIO-2025.pdf | N24: 2025 | O24: PE | P24: 656938 | Q24: 8744165 | R24: =IFERROR(P24/(P24+Q24),"") -> 0.069878822 | S24: =P24/Q24 -> 0.075128729 | U24: 5 | V24: COMPESA | W24: https://servicos.compesa.com.br/wp-content/uploads/2025/04/EXERCICIO-2024.pdf | X24: 2024 | Y24: PE | Z24: =435083+377043 -> 812126 | AA24: 8115054 | AB24: =IFERROR(Z24/(Z24+AA24),"") -> 0.090972289 | AC24: =Z24/AA24 -> 0.10007648 | AE24: COMPESA | AF24: https://servicos.compesa.com.br/demonstracoes-contabeis/ | AG24: 2023 | AH24: PE | AI24: =545081+168455 -> 713536 | AJ24: 7903894 | AK24: =AI24/(AI24+AJ24) -> 0.082801485 | AL24: =AI24/AJ24 -> 0.090276514 | AN24: 5 | AO24: COMPESA | AP24: Demonstrações Contábeis – COMPESA | AQ24: 2022 | AR24: PE | AS24: =115411+512818 -> 628229 | AT24: =7638533 -> 7638533 | AU24: =AS24/(AS24+AT24) -> 0.075994567 | AV24: =AS24/AT24 -> 0.082244719 | AX24: 5 | AY24: COMPESA | AZ24: Demonstrações Contábeis – COMPESA | BA24: 2021 | BB24: PE | BC24: =64177+18035+336373 -> 418585 | BD24: =7145236 -> 7145236 | BE24: =BC24/(BC24+BD24) -> 0.055340416 | BF24: =BC24/BD24 -> 0.05858239 | BG24: ='[1]2. Estrutura de Capital'!BB24=BE24 -> TRUE
K25: 6 | L25: COPASA | M25: https://api.mziq.com/mzfilemanager/v2/d/8bdb3906-0618-4e78-bbe3-a0be9f02d8cc/2e256af6-5fa2-2038-eb45-e1982c9734da?origin=2 | N25: 2025 | O25: MG | P25: 7582036 | Q25: 8578303 | R25: =IFERROR(P25/(P25+Q25),"") -> 0.46917555 | S25: =P25/Q25 -> 0.88386199 | U25: 6 | V25: COPASA | W25: https://api.mziq.com/mzfilemanager/v2/d/8bdb3906-0618-4e78-bbe3-a0be9f02d8cc/bdeacbd3-d04d-a563-1aaa-3a0f0118acc9?origin=2 | X25: 2024 | Y25: MG | Z25: 6113169 | AA25: 8048229 | AB25: =IFERROR(Z25/(Z25+AA25),"") -> 0.43167836 | AC25: =Z25/AA25 -> 0.75956698 | AE25: COPASA | AF25: https://api.mziq.com/mzfilemanager/v2/d/8bdb3906-0618-4e78-bbe3-a0be9f02d8cc/b8a1aeaf-02bb-1f53-dd31-75245fb0d796?origin=1 | AG25: 2023 | AH25: MG | AI25: =1315102+113975+2746756+567681 -> 4743514 | AJ25: 7573825 | AK25: =AI25/(AI25+AJ25) -> 0.38510867 | AL25: =AI25/AJ25 -> 0.62630362 | AN25: 6 | AO25: COPASA | AP25: https://api.mziq.com/mzfilemanager/v2/d/8bdb3906-0618-4e78-bbe3-a0be9f02d8cc/585dbb2b-bd11-c8f0-6f05-31a76a1c2e95?origin=1 | AQ25: 2022 | AR25: MG | AS25: =150328+790543+826609+2372440 -> 4139920 | AT25: 7254514 | AU25: =AS25/(AS25+AT25) -> 0.36332827 | AV25: =AS25/AT25 -> 0.57066814 | AX25: 6 | AY25: COPASA | AZ25: Central de Resultados - COPASA RI | BA25: 2021 | BB25: MG | BC25: =190315+609822+878079+2307128 -> 3985344 | BD25: 6759358 | BE25: =BC25/(BC25+BD25) -> 0.37091247 | BF25: =BC25/BD25 -> 0.58960392 | BG25: ='[1]2. Estrutura de Capital'!BB25=BE25 -> TRUE
K26: 7 | L26: DESO | M26: https://transparencia.deso-se.com.br/Categorias/index/1 | N26: 2025 | O26: SE | P26: =(81065000+163744904)/1000 -> 244809.9 | Q26: =1581361348/1000 -> 1581361.3 | R26: =IFERROR(P26/(P26+Q26),"") -> 0.13405638 | S26: =P26/Q26 -> 0.15480959 | U26: 7 | V26: DESO | W26: https://www.deso-se.com.br/menu/demonstracoes-financeiras | X26: 2024 | Y26: SE | Z26: =(71592910+213039335)/1000 -> 284632.24 | AA26: =1999011680/1000 -> 1999011.7 | AB26: =IFERROR(Z26/(Z26+AA26),"") -> 0.1246395 | AC26: =Z26/AA26 -> 0.14238648 | AE26: DESO | AF26: https://www.deso-se.com.br/menu/demonstracoes-financeiras | AG26: 2023 | AH26: SE | AI26: =(7223339+107267111)/1000 -> 114490.45 | AJ26: =1930266171/1000 -> 1930266.2 | AK26: =AI26/(AI26+AJ26) -> 0.055992214 | AL26: =AI26/AJ26 -> 0.059313297 | AN26: 7 | AO26: DESO | AP26: https://www.deso-se.com.br/menu/demonstracoes-financeiras | AQ26: 2022 | AR26: SE | AS26: =(15027953+61827354)/1000 -> 76855.307 | AT26: =1865226376/1000 -> 1865226.4 | AU26: =AS26/(AS26+AT26) -> 0.039573674 | AV26: =AS26/AT26 -> 0.041204278 | AX26: 7 | AY26: DESO | AZ26: https://www.deso-se.com.br/menu/demonstracoes-financeiras | BA26: 2021 | BB26: SE | BC26: =(33319757+7106197)/1000 -> 40425.954 | BD26: =1755783019/1000 -> 1755783 | BE26: =BC26/(BC26+BD26) -> 0.022506264 | BF26: =BC26/BD26 -> 0.023024459 | BG26: ='[1]2. Estrutura de Capital'!BB26=BE26 -> FALSE
K27: 8 | L27: EMBASA | M27: https://www.embasa.ba.gov.br/documents/d/guest/demonstracoes-financeiras-2025 | N27: 2025 | O27: BA | P27: 1039277 | Q27: 9106711 | R27: =IFERROR(P27/(P27+Q27),"") -> 0.10243231 | S27: =P27/Q27 -> 0.1141221 | U27: 8 | V27: EMBASA | W27: https://www.embasa.ba.gov.br/documents/d/guest/demonstracoes-financeiras-2025 | X27: 2024 | Y27: BA | Z27: 1028858 | AA27: 8179249 | AB27: =IFERROR(Z27/(Z27+AA27),"") -> 0.11173393 | AC27: =Z27/AA27 -> 0.12578881 | AE27: EMBASA | AF27: https://www.embasa.ba.gov.br/documents/d/guest/rel-dem-financeiras-balanco-2023-diario-oficial-28mar2024-aprovado | AG27: 2023 | AH27: BA | AI27: =382719+61398+503414+2080+19794 -> 969405 | AJ27: 7035275 | AK27: =AI27/(AI27+AJ27) -> 0.12110478 | AL27: =AI27/AJ27 -> 0.13779206 | AN27: 8 | AO27: EMBASA | AP27: Central de Resultados - Institucional | AQ27: 2022 | AR27: BA | AS27: =56478+367251+22916+38116 -> 484761 | AT27: 6622135 | AU27: =AS27/(AS27+AT27) -> 0.068209947 | AV27: =AS27/AT27 -> 0.073203129 | AX27: 8 | AY27: EMBASA | AZ27: Central de Resultados - Institucional | BA27: 2021 | BB27: BA | BC27: =60774+398957+55083+23366 -> 538180 | BD27: 6612501 | BE27: =BC27/(BC27+BD27) -> 0.075262762 | BF27: =BC27/BD27 -> 0.081388267
K28: 9 | L28: SABESP | M28: https://api.mziq.com/mzfilemanager/v2/d/9e47ee51-f833-4a23-af98-2bac9e54e0b3/5a24d677-d014-12a2-c708-6d7c8eabd23a?origin=2 | N28: 2025 | O28: SP | P28: 40142347 | Q28: 42401124 | R28: =IFERROR(P28/(P28+Q28),"") -> 0.48631765 | S28: =P28/Q28 -> 0.94672837 | U28: 9 | V28: SABESP | W28: https://api.mziq.com/mzfilemanager/v2/d/9e47ee51-f833-4a23-af98-2bac9e54e0b3/fc6cf714-818d-db43-d403-ec3aa19dab08?origin=2 | X28: 2024 | Y28: SP | Z28: 25258297 | AA28: 36928054 | AB28: =IFERROR(Z28/(Z28+AA28),"") -> 0.40617107 | AC28: =Z28/AA28 -> 0.68398668 | AE28: SABESP | AF28: https://api.mziq.com/mzfilemanager/v2/d/9e47ee51-f833-4a23-af98-2bac9e54e0b3/02bacf08-9c3c-89d7-851e-3cad602148ba?origin=1 | AG28: 2023 | AH28: SP | AI28: =16919944+2616406+ 1206894+ 6137902 -> 26881146 | AJ28: 29857376 | AK28: =AI28/(AI28+AJ28) -> 0.4737724 | AL28: =AI28/AJ28 -> 0.90031843 | AN28: 9 | AO28: SABESP | AP28: Central de Resultados - Sabesp | AQ28: 2022 | AR28: SP | AS28: =2245960+16712711+ 739534+ 7202296 -> 26900501 | AT28: 27333533 | AU28: =AS28/(AS28+AT28) -> 0.49600775 | AV28: =AS28/AT28 -> 0.98415748 | AX28: 9 | AY28: SABESP | AZ28: Central de Resultados - Sabesp | BA28: 2021 | BB28: SP | BC28: =1830617+15893219+ 596418+ 6736111 -> 25056365 | BD28: 24931859 | BE28: =BC28/(BC28+BD28) -> 0.50124535 | BF28: =BC28/BD28 -> 1.0049939 | BG28: ='[1]2. Estrutura de Capital'!BB28=BE28 -> FALSE
K29: 10 | L29: SANEAGO | M29: https://ri.saneago.com.br/Download.aspx?Arquivo=yAATneVARvLIbeERXZ7iOw==&linguagem=pt | N29: 2025 | O29: GO | P29: =25698+199540+266921+852892 -> 1345051 | Q29: 5107065 | R29: =IFERROR(P29/(P29+Q29),"") -> 0.20846665 | S29: =P29/Q29 -> 0.26337064 | U29: 10 | V29: SANEAGO | W29: https://ri.saneago.com.br/Download.aspx?Arquivo=xKl6AGp5+AmPFEK4fCbtYQ==&linguagem=pt | X29: 2024 | Y29: GO | Z29: =26488+181294+252414+717945 -> 1178141 | AA29: 4596364 | AB29: =IFERROR(Z29/(Z29+AA29),"") -> 0.20402459 | AC29: =Z29/AA29 -> 0.25632021 | AE29: SANEAGO | AF29: https://ri.saneago.com.br/Download.aspx?Arquivo=NzUdK9bu1XmIZR2mXFcZZQ== | AG29: 2023 | AH29: GO | AI29: =23280+152617+225490+669345 -> 1070732 | AJ29: 4084944 | AK29: =AI29/(AI29+AJ29) -> 0.20768023 | AL29: =AI29/AJ29 -> 0.26211669 | AN29: 10 | AO29: SANEAGO | AP29: Central de Resultados - Saneago - Relações com Investidores | AQ29: 2022 | AR29: GO | AS29: =184516+808480 -> 992996 | AT29: 3677183 | AU29: =AS29/(AS29+AT29) -> 0.21262483 | AV29: =AS29/AT29 -> 0.27004258 | AX29: 10 | AY29: SANEAGO | AZ29: Central de Resultados - Saneago - Relações com Investidores | BA29: 2021 | BB29: GO | BC29: =227878+727131 -> 955009 | BD29: 3356818 | BE29: =BC29/(BC29+BD29) -> 0.22148593 | BF29: =BC29/BD29 -> 0.2844983
K30: 11 | L30: BRK | M30: https://api.mziq.com/mzfilemanager/v2/d/9ffe3afc-e8e3-4e62-9f49-04166095f065/88b655b6-aa3d-f152-025f-aa2449875f2c?origin=2 | N30: 2025 | O30: BR | P30: =14044809-273429 -> 13771380 | Q30: 3267255 | R30: =IFERROR(P30/(P30+Q30),"") -> 0.80824432 | S30: =P30/Q30 -> 4.2149694 | U30: 11 | V30: BRK | W30: https://www.rad.cvm.gov.br/ENET/frmDownloadDocumento.aspx?Tela=ext&numSequencia=876224&numVersao=1&numProtocolo=1351498&descTipo=IPE&CodigoInstituicao=1 | X30: 2024 | Y30: BR | Z30: =13673888-263192 -> 13410696 | AA30: 3343387 | AB30: =IFERROR(Z30/(Z30+AA30),"") -> 0.80044345 | AC30: =Z30/AA30 -> 4.0111109 | AE30: BRK | AF30: https://api.mziq.com/mzfilemanager/v2/d/9ffe3afc-e8e3-4e62-9f49-04166095f065/ec5ef1da-46b3-2dbd-5c3b-a1d36c7c88cf?origin=1 | AG30: 2023 | AH30: BR | AI30: =12625684-212470 -> 12413214 | AJ30: 3260067 | AK30: =AI30/(AI30+AJ30) -> 0.79199843 | AL30: =AI30/AJ30 -> 3.8076561 | AN30: 11 | AO30: BRK | AP30: Central de Resultados BRK - BRK RI (brkambiental.com.br) | AQ30: 2022 | AR30: BR | AS30: =10132954-230102 -> 9902852 | AT30: 3429058 | AU30: =AS30/(AS30+AT30) -> 0.74279319 | AV30: =AS30/AT30 -> 2.887922 | AX30: 11 | AY30: BRK | AZ30: https://api.mziq.com/mzfilemanager/v2/d/9ffe3afc-e8e3-4e62-9f49-04166095f065/bc0afe5b-db13-1ef7-e2e8-5a5770ed6bd9?origin=2 | BA30: 2021 | BB30: BR | BC30: =8316451-157299 -> 8159152 | BD30: 3430994 | BE30: =BC30/(BC30+BD30) -> 0.70397319 | BF30: =BC30/BD30 -> 2.3780724
K31: 12 | L31: SANEPAR | M31: https://ri.sanepar.com.br/docs/Outros-Sanepar-2025-12-31-7kqzbLCH.pdf | N31: 2025 | O31: PR | P31: =3643015+3187335 -> 6830350 | Q31: 12347781 | R31: =IFERROR(P31/(P31+Q31),"") -> 0.35615306 | S31: =P31/Q31 -> 0.55316417 | U31: 12 | V31: SANEPAR | W31: https://ri.sanepar.com.br/docs/Sanepar-2024-12-31-MbmJzk6f.pdf | X31: 2024 | Y31: PR | Z31: =2919264+3222033 -> 6141297 | AA31: 10828707 | AB31: =IFERROR(Z31/(Z31+AA31),"") -> 0.36189131 | AC31: =Z31/AA31 -> 0.56713115 | AE31: SANEPAR | AF31: https://ri.sanepar.com.br/docs/Demonstracoes-Financeiras-Anuais-Completas-Sanepar-2023-12-31-pg8MKJFq.pdf | AG31: 2023 | AH31: PR | AI31: =2468975+2800509 -> 5269484 | AJ31: 9744200 | AK31: =AI31/(AI31+AJ31) -> 0.35097875 | AL31: =AI31/AJ31 -> 0.54078159 | AN31: 12 | AO31: SANEPAR | AP31: https://ri.sanepar.com.br/docs/Demonstracoes-Financeiras-Anuais-Completas-Sanepar-2023-12-31-pg8MKJFq.pdf | AQ31: 2022 | AR31: PR | AS31: =2013035+2570358 -> 4583393 | AT31: 8786887 | AU31: =AS31/(AS31+AT31) -> 0.34280456 | AV31: =AS31/AT31 -> 0.52161738 | AX31: 12 | AY31: SANEPAR | AZ31: ri.sanepar.com.br/docs/Sanepar-2021-12-31-brm8g6kb.pdf | BA31: 2021 | BB31: PR | BC31: =1739490+1976064 -> 3715554 | BD31: 7826342 | BE31: =BC31/(BC31+BD31) -> 0.32191886 | BF31: =BC31/BD31 -> 0.47474976
K32: 13 | L32: SANESUL | M32: https://www.sanesul.ms.gov.br/Content/upload/DesmonstracoesContabeisDezembro2025.pdf | N32: 2025 | O32: MS | P32: 520192 | Q32: 1285080 | R32: =IFERROR(P32/(P32+Q32),"") -> 0.28815159 | S32: =P32/Q32 -> 0.40479348 | T32: ='[1]2. Estrutura de Capital'!R32=R32 -> FALSE | U32: 13 | V32: SANESUL | W32: https://www.sanesul.ms.gov.br/Content/upload/DesmonstracoesContabeisDezembro2024.pdf | X32: 2024 | Y32: MS | Z32: =472837 -> 472837 | AA32: 1236680 | AB32: =IFERROR(Z32/(Z32+AA32),"") -> 0.27659099 | AC32: =Z32/AA32 -> 0.38234386 | AE32: SANESUL | AF32: https://www.sanesul.ms.gov.br/Content/upload/Desmonstra%C3%A7%C3%A3o%20Cont%C3%A1beis%202023.pdf | AG32: 2023 | AH32: MS | AI32: =387799+33401 -> 421200 | AJ32: 1146093 | AK32: =AI32/(AI32+AJ32) -> 0.26874362 | AL32: =AI32/AJ32 -> 0.36750944 | AN32: 13 | AO32: SANESUL | AP32: https://www.sanesul.ms.gov.br/Content/upload/Desmonstra%C3%A7%C3%A3o%20Cont%C3%A1beis%202023.pdf | AQ32: 2022 | AR32: MS | AS32: =26662+318503 -> 345165 | AT32: 1076963 | AU32: =AS32/(AS32+AT32) -> 0.24271022 | AV32: =AS32/AT32 -> 0.32049848 | AW32: ='[1]2. Estrutura de Capital'!AS32=AU32 -> FALSE | AX32: 13 | AY32: SANESUL | AZ32: SANESUL - Empresa de Saneamento de Mato Grosso do Sul | BA32: 2021 | BB32: MS | BC32: =20230+232045 -> 252275 | BD32: 750079 | BE32: =BC32/(BC32+BD32) -> 0.25168254 | BF32: =BC32/BD32 -> 0.33633124
Q34: Desv. P | R34: =_xlfn.STDEV.P(R20:R32) -> 0.20306851 | S34: =_xlfn.STDEV.P(S20:S32) -> 1.0500218 | AA34: Desv. P | AB34: =_xlfn.STDEV.P(AB20:AB32) -> 0.18917663 | AC34: =_xlfn.STDEV.P(AC20:AC32) -> 0.99096549 | AJ34: Desv. P | AK34: =_xlfn.STDEV.P(AK20:AK32) -> 0.19989353 | AL34: =_xlfn.STDEV.P(AL20:AL32) -> 0.94878662 | AT34: Desv. P | AU34: =_xlfn.STDEV.P(AU20:AU32) -> 0.19535232 | AV34: =_xlfn.STDEV.P(AV20:AV32) -> 0.72324483 | BD34: Desv. P | BE34: =_xlfn.STDEV.P(BE20:BE32) -> 0.19424034 | BF34: =_xlfn.STDEV.P(BF20:BF32) -> 0.60377401
Q35: Média | R35: =AVERAGE(R20:R32) -> 0.32501034 | S35: =AVERAGE(S20:S32) -> 0.75833237 | AA35: Média | AB35: =AVERAGE(AB20:AB32) -> 0.31796369 | AC35: =AVERAGE(AC20:AC32) -> 0.71114691 | AJ35: Média | AK35: =AVERAGE(AK20:AK32) -> 0.31014535 | AL35: =AVERAGE(AL20:AL32) -> 0.69276946 | AT35: Média | AU35: =AVERAGE(AU20:AU32) -> 0.29154698 | AV35: =AVERAGE(AV20:AV32) -> 0.59175993 | BD35: Média | BE35: =AVERAGE(BE20:BE32) -> 0.28855999 | BF35: =AVERAGE(BF20:BF32) -> 0.55680555
Q36: n° de desvios | R36: 2.576 | S36: 2.576 | AA36: n° de desvios | AB36: 2.576 | AC36: 2.576 | AJ36: n° de desvios | AK36: 2.576 | AL36: 2.576 | AT36: n° de desvios | AU36: 2.576 | AV36: 2.576 | BD36: n° de desvios | BE36: 2.576 | BF36: 2.576
Q37: Excluídos | R37: =COUNTIF(R40:R52,"") -> 0 | S37: =COUNTIF(S40:S52,"") -> 1 | AA37: Excluídos | AB37: =COUNTIF(AB40:AB52,"") -> 0 | AC37: =COUNTIF(AC40:AC52,"") -> 1 | AJ37: Excluídos | AK37: =COUNTIF(AK40:AK52,"") -> 0 | AL37: =COUNTIF(AL40:AL52,"") -> 1 | AT37: Excluídos | AU37: =COUNTIF(AU40:AU52,"") -> 0 | AV37: =COUNTIF(AV40:AV52,"") -> 1 | BD37: Excluídos | BE37: =COUNTIF(BE40:BE52,"") -> 0 | BF37: =COUNTIF(BF40:BF52,"") -> 1
R39: Wd | S39: D/E | AB39: Wd | AC39: D/E | AK39: Wd | AL39: D/E | AU39: Wd | AV39: D/E | BE39: Wd | BF39: D/E
Q40: =L20 -> CAESB | R40: =IF(OR(R20>($R$35+$R$36*$R$34),R20<($R$35-$R$36*$R$34)),"",R20) -> 0.20657115 | S40: =IF(OR(S20>($S$35+$S$36*$S$34),S20<($S$35-$S$36*$S$34)),"",S20) -> 0.26035246 | Z40: =IF(OR(Z20>($Z$35+$Z$36*$Z$34),Z20<($Z$35-$Z$36*$Z$34)),"",Z20) | AA40: =V20 -> CAESB | AB40: =IF(OR(AB20>($AB$35+$AB$36*$AB$34),AB20<($AB$35-$AB$36*$AB$34)),"",AB20) -> 0.28054239 | AC40: =IF(OR(AC20>($AC$35+$AC$36*$AC$34),AC20<($AC$35-$AC$36*$AC$34)),"",AC20) -> 0.38993595 | AJ40: =AE20 -> CAESB | AK40: =IF(OR(AK20>($AK$35+$AK$36*$AK$34),AK20<($AK$35-$AK$36*$AK$34)),"",AK20) -> 0.26799732 | AL40: =IF(OR(AL20>($AL$35+$AL$36*$AL$34),AL20<($AL$35-$AL$36*$AL$34)),"",AL20) -> 0.36611523 | AT40: =AO20 -> CAESB | AU40: =IF(OR(AU20>($AU$35+$AU$36*$AU$34),AU20<($AU$35-$AU$36*$AU$34)),"",AU20) -> 0.33134693 | AV40: =IF(OR(AV20>($AV$35+$AV$36*$AV$34),AV20<($AV$35-$AV$36*$AV$34)),"",AV20) -> 0.49554388 | BD40: =AY20 -> CAESB | BE40: =IF(OR(BE20>($BE$35+$BE$36*$BE$34),BE20<($BE$35-$BE$36*$BE$34)),"",BE20) -> 0.38230269 | BF40: =IF(OR(BF20>($BF$35+$BF$36*$BF$34),BF20<($BF$35-$BF$36*$BF$34)),"",BF20) -> 0.6189159
Q41: =L21 -> CAGECE | R41: =IF(OR(R21>($R$35+$R$36*$R$34),R21<($R$35-$R$36*$R$34)),"",R21) -> 0.42158277 | S41: =IF(OR(S21>($S$35+$S$36*$S$34),S21<($S$35-$S$36*$S$34)),"",S21) -> 0.72885584 | Z41: =IF(OR(Z21>($Z$35+$Z$36*$Z$34),Z21<($Z$35-$Z$36*$Z$34)),"",Z21) | AA41: =V21 -> CAGECE | AB41: =IF(OR(AB21>($AB$35+$AB$36*$AB$34),AB21<($AB$35-$AB$36*$AB$34)),"",AB21) -> 0.3631063 | AC41: =IF(OR(AC21>($AC$35+$AC$36*$AC$34),AC21<($AC$35-$AC$36*$AC$34)),"",AC21) -> 0.57012073 | AJ41: =AE21 -> CAGECE | AK41: =IF(OR(AK21>($AK$35+$AK$36*$AK$34),AK21<($AK$35-$AK$36*$AK$34)),"",AK21) -> 0.39284254 | AL41: =IF(OR(AL21>($AL$35+$AL$36*$AL$34),AL21<($AL$35-$AL$36*$AL$34)),"",AL21) -> 0.64701922 | AT41: =AO21 -> CAGECE | AU41: =IF(OR(AU21>($AU$35+$AU$36*$AU$34),AU21<($AU$35-$AU$36*$AU$34)),"",AU21) -> 0.31210347 | AV41: =IF(OR(AV21>($AV$35+$AV$36*$AV$34),AV21<($AV$35-$AV$36*$AV$34)),"",AV21) -> 0.45370699 | BD41: =AY21 -> CAGECE | BE41: =IF(OR(BE21>($BE$35+$BE$36*$BE$34),BE21<($BE$35-$BE$36*$BE$34)),"",BE21) -> 0.32046742 | BF41: =IF(OR(BF21>($BF$35+$BF$36*$BF$34),BF21<($BF$35-$BF$36*$BF$34)),"",BF21) -> 0.4715998
Q42: =L22 -> CASAN | R42: =IF(OR(R22>($R$35+$R$36*$R$34),R22<($R$35-$R$36*$R$34)),"",R22) -> 0.51748002 | S42: =IF(OR(S22>($S$35+$S$36*$S$34),S22<($S$35-$S$36*$S$34)),"",S22) -> 1.072453 | Z42: =IF(OR(Z22>($Z$35+$Z$36*$Z$34),Z22<($Z$35-$Z$36*$Z$34)),"",Z22) | AA42: =V22 -> CASAN | AB42: =IF(OR(AB22>($AB$35+$AB$36*$AB$34),AB22<($AB$35-$AB$36*$AB$34)),"",AB22) -> 0.51291669 | AC42: =IF(OR(AC22>($AC$35+$AC$36*$AC$34),AC22<($AC$35-$AC$36*$AC$34)),"",AC22) -> 1.0530369 | AJ42: =AE22 -> CASAN | AK42: =IF(OR(AK22>($AK$35+$AK$36*$AK$34),AK22<($AK$35-$AK$36*$AK$34)),"",AK22) -> 0.51678477 | AL42: =IF(OR(AL22>($AL$35+$AL$36*$AL$34),AL22<($AL$35-$AL$36*$AL$34)),"",AL22) -> 1.0694712 | AT42: =AO22 -> CASAN | AU42: =IF(OR(AU22>($AU$35+$AU$36*$AU$34),AU22<($AU$35-$AU$36*$AU$34)),"",AU22) -> 0.47136289 | AV42: =IF(OR(AV22>($AV$35+$AV$36*$AV$34),AV22<($AV$35-$AV$36*$AV$34)),"",AV22) -> 0.89165683 | BD42: =AY22 -> CASAN | BE42: =IF(OR(BE22>($BE$35+$BE$36*$BE$34),BE22<($BE$35-$BE$36*$BE$34)),"",BE22) -> 0.45836324 | BF42: =IF(OR(BF22>($BF$35+$BF$36*$BF$34),BF22<($BF$35-$BF$36*$BF$34)),"",BF22) -> 0.8462558
Q43: =L23 -> CESAN | R43: =IF(OR(R23>($R$35+$R$36*$R$34),R23<($R$35-$R$36*$R$34)),"",R23) -> 0.15662411 | S43: =IF(OR(S23>($S$35+$S$36*$S$34),S23<($S$35-$S$36*$S$34)),"",S23) -> 0.18571091 | Z43: =IF(OR(Z23>($Z$35+$Z$36*$Z$34),Z23<($Z$35-$Z$36*$Z$34)),"",Z23) | AA43: =V23 -> CESAN | AB43: =IF(OR(AB23>($AB$35+$AB$36*$AB$34),AB23<($AB$35-$AB$36*$AB$34)),"",AB23) -> 0.16881716 | AC43: =IF(OR(AC23>($AC$35+$AC$36*$AC$34),AC23<($AC$35-$AC$36*$AC$34)),"",AC23) -> 0.20310472 | AJ43: =AE23 -> CESAN | AK43: =IF(OR(AK23>($AK$35+$AK$36*$AK$34),AK23<($AK$35-$AK$36*$AK$34)),"",AK23) -> 0.11608432 | AL43: =IF(OR(AL23>($AL$35+$AL$36*$AL$34),AL23<($AL$35-$AL$36*$AL$34)),"",AL23) -> 0.13132962 | AT43: =AO23 -> CESAN | AU43: =IF(OR(AU23>($AU$35+$AU$36*$AU$34),AU23<($AU$35-$AU$36*$AU$34)),"",AU23) -> 0.09125047 | AV43: =IF(OR(AV23>($AV$35+$AV$36*$AV$34),AV23<($AV$35-$AV$36*$AV$34)),"",AV23) -> 0.10041322 | BD43: =AY23 -> CESAN | BE43: =IF(OR(BE23>($BE$35+$BE$36*$BE$34),BE23<($BE$35-$BE$36*$BE$34)),"",BE23) -> 0.06581878 | BF43: =IF(OR(BF23>($BF$35+$BF$36*$BF$34),BF23<($BF$35-$BF$36*$BF$34)),"",BF23) -> 0.070456115
Q44: =L24 -> COMPESA | R44: =IF(OR(R24>($R$35+$R$36*$R$34),R24<($R$35-$R$36*$R$34)),"",R24) -> 0.069878822 | S44: =IF(OR(S24>($S$35+$S$36*$S$34),S24<($S$35-$S$36*$S$34)),"",S24) -> 0.075128729 | Z44: =IF(OR(Z24>($Z$35+$Z$36*$Z$34),Z24<($Z$35-$Z$36*$Z$34)),"",Z24) | AA44: =V24 -> COMPESA | AB44: =IF(OR(AB24>($AB$35+$AB$36*$AB$34),AB24<($AB$35-$AB$36*$AB$34)),"",AB24) -> 0.090972289 | AC44: =IF(OR(AC24>($AC$35+$AC$36*$AC$34),AC24<($AC$35-$AC$36*$AC$34)),"",AC24) -> 0.10007648 | AJ44: =AE24 -> COMPESA | AK44: =IF(OR(AK24>($AK$35+$AK$36*$AK$34),AK24<($AK$35-$AK$36*$AK$34)),"",AK24) -> 0.082801485 | AL44: =IF(OR(AL24>($AL$35+$AL$36*$AL$34),AL24<($AL$35-$AL$36*$AL$34)),"",AL24) -> 0.090276514 | AT44: =AO24 -> COMPESA | AU44: =IF(OR(AU24>($AU$35+$AU$36*$AU$34),AU24<($AU$35-$AU$36*$AU$34)),"",AU24) -> 0.075994567 | AV44: =IF(OR(AV24>($AV$35+$AV$36*$AV$34),AV24<($AV$35-$AV$36*$AV$34)),"",AV24) -> 0.082244719 | BD44: =AY24 -> COMPESA | BE44: =IF(OR(BE24>($BE$35+$BE$36*$BE$34),BE24<($BE$35-$BE$36*$BE$34)),"",BE24) -> 0.055340416 | BF44: =IF(OR(BF24>($BF$35+$BF$36*$BF$34),BF24<($BF$35-$BF$36*$BF$34)),"",BF24) -> 0.05858239
Q45: =L25 -> COPASA | R45: =IF(OR(R25>($R$35+$R$36*$R$34),R25<($R$35-$R$36*$R$34)),"",R25) -> 0.46917555 | S45: =IF(OR(S25>($S$35+$S$36*$S$34),S25<($S$35-$S$36*$S$34)),"",S25) -> 0.88386199 | Z45: =IF(OR(Z25>($Z$35+$Z$36*$Z$34),Z25<($Z$35-$Z$36*$Z$34)),"",Z25) | AA45: =V25 -> COPASA | AB45: =IF(OR(AB25>($AB$35+$AB$36*$AB$34),AB25<($AB$35-$AB$36*$AB$34)),"",AB25) -> 0.43167836 | AC45: =IF(OR(AC25>($AC$35+$AC$36*$AC$34),AC25<($AC$35-$AC$36*$AC$34)),"",AC25) -> 0.75956698 | AJ45: =AE25 -> COPASA | AK45: =IF(OR(AK25>($AK$35+$AK$36*$AK$34),AK25<($AK$35-$AK$36*$AK$34)),"",AK25) -> 0.38510867 | AL45: =IF(OR(AL25>($AL$35+$AL$36*$AL$34),AL25<($AL$35-$AL$36*$AL$34)),"",AL25) -> 0.62630362 | AT45: =AO25 -> COPASA | AU45: =IF(OR(AU25>($AU$35+$AU$36*$AU$34),AU25<($AU$35-$AU$36*$AU$34)),"",AU25) -> 0.36332827 | AV45: =IF(OR(AV25>($AV$35+$AV$36*$AV$34),AV25<($AV$35-$AV$36*$AV$34)),"",AV25) -> 0.57066814 | BD45: =AY25 -> COPASA | BE45: =IF(OR(BE25>($BE$35+$BE$36*$BE$34),BE25<($BE$35-$BE$36*$BE$34)),"",BE25) -> 0.37091247 | BF45: =IF(OR(BF25>($BF$35+$BF$36*$BF$34),BF25<($BF$35-$BF$36*$BF$34)),"",BF25) -> 0.58960392
Q46: =L26 -> DESO | R46: =IF(OR(R26>($R$35+$R$36*$R$34),R26<($R$35-$R$36*$R$34)),"",R26) -> 0.13405638 | S46: =IF(OR(S26>($S$35+$S$36*$S$34),S26<($S$35-$S$36*$S$34)),"",S26) -> 0.15480959 | Z46: =IF(OR(Z26>($Z$35+$Z$36*$Z$34),Z26<($Z$35-$Z$36*$Z$34)),"",Z26) | AA46: =V26 -> DESO | AB46: =IF(OR(AB26>($AB$35+$AB$36*$AB$34),AB26<($AB$35-$AB$36*$AB$34)),"",AB26) -> 0.1246395 | AC46: =IF(OR(AC26>($AC$35+$AC$36*$AC$34),AC26<($AC$35-$AC$36*$AC$34)),"",AC26) -> 0.14238648 | AJ46: =AE26 -> DESO | AK46: =IF(OR(AK26>($AK$35+$AK$36*$AK$34),AK26<($AK$35-$AK$36*$AK$34)),"",AK26) -> 0.055992214 | AL46: =IF(OR(AL26>($AL$35+$AL$36*$AL$34),AL26<($AL$35-$AL$36*$AL$34)),"",AL26) -> 0.059313297 | AT46: =AO26 -> DESO | AU46: =IF(OR(AU26>($AU$35+$AU$36*$AU$34),AU26<($AU$35-$AU$36*$AU$34)),"",AU26) -> 0.039573674 | AV46: =IF(OR(AV26>($AV$35+$AV$36*$AV$34),AV26<($AV$35-$AV$36*$AV$34)),"",AV26) -> 0.041204278 | BD46: =AY26 -> DESO | BE46: =IF(OR(BE26>($BE$35+$BE$36*$BE$34),BE26<($BE$35-$BE$36*$BE$34)),"",BE26) -> 0.022506264 | BF46: =IF(OR(BF26>($BF$35+$BF$36*$BF$34),BF26<($BF$35-$BF$36*$BF$34)),"",BF26) -> 0.023024459
Q47: =L27 -> EMBASA | R47: =IF(OR(R27>($R$35+$R$36*$R$34),R27<($R$35-$R$36*$R$34)),"",R27) -> 0.10243231 | S47: =IF(OR(S27>($S$35+$S$36*$S$34),S27<($S$35-$S$36*$S$34)),"",S27) -> 0.1141221 | Z47: =IF(OR(Z27>($Z$35+$Z$36*$Z$34),Z27<($Z$35-$Z$36*$Z$34)),"",Z27) | AA47: =V27 -> EMBASA | AB47: =IF(OR(AB27>($AB$35+$AB$36*$AB$34),AB27<($AB$35-$AB$36*$AB$34)),"",AB27) -> 0.11173393 | AC47: =IF(OR(AC27>($AC$35+$AC$36*$AC$34),AC27<($AC$35-$AC$36*$AC$34)),"",AC27) -> 0.12578881 | AJ47: =AE27 -> EMBASA | AK47: =IF(OR(AK27>($AK$35+$AK$36*$AK$34),AK27<($AK$35-$AK$36*$AK$34)),"",AK27) -> 0.12110478 | AL47: =IF(OR(AL27>($AL$35+$AL$36*$AL$34),AL27<($AL$35-$AL$36*$AL$34)),"",AL27) -> 0.13779206 | AT47: =AO27 -> EMBASA | AU47: =IF(OR(AU27>($AU$35+$AU$36*$AU$34),AU27<($AU$35-$AU$36*$AU$34)),"",AU27) -> 0.068209947 | AV47: =IF(OR(AV27>($AV$35+$AV$36*$AV$34),AV27<($AV$35-$AV$36*$AV$34)),"",AV27) -> 0.073203129 | BD47: =AY27 -> EMBASA | BE47: =IF(OR(BE27>($BE$35+$BE$36*$BE$34),BE27<($BE$35-$BE$36*$BE$34)),"",BE27) -> 0.075262762 | BF47: =IF(OR(BF27>($BF$35+$BF$36*$BF$34),BF27<($BF$35-$BF$36*$BF$34)),"",BF27) -> 0.081388267
...

Sheet 3. Variáveis
U1: Agência Goiana de Regulação, Controle e Fiscalização - AGR
A2: Projeto: Cálculo da Taxa de Remuneração Regulatória | U2: Agência Goiana de Regulação – AR
A3: Interessados: Saneago e BRK Ambiental | U3: Agência Reguladora do Município de Anápolis - ARM
U4: Agência de Regulação dos Serviços Públicos de Saneamento Básico - AMAE
B6: Dados utilizados nos modelos
C8: Rentabilidade da carteira de mercado (Rm)
B9: Data | C9: S&P-500 TR | D9: Retornos anuais a cada mês | E9: Retornos com exclusão de outliers | I9: Data | J9: 20-Year Treasury Constant Maturity Rate | K9: Data | L9: Risco-país CDS 20 anos | N9: Risco-país CDS 20 anos | O9: Exclusação de outliers | P9: Data | Q9: Consumer Price Index for All Urban Consumers | R9: % CPI | S9: Data | T9: % IPCA | U9: Taxa_BNDES_TLP Série 20765 BC - PJ | V9: Taxa Preferencial Brasileira (TPB) | X9: Data | Y9: Bank Prime Loan Rate
D10: =AVERAGE(D24:D155) -> 0.13997156 | E10: =AVERAGE(E24:E155) -> 0.1367384 | I10: Média | J10: =AVERAGE(J12:J2880)/100 -> 0.029987745 | L10: =AVERAGE(L12:L2879)/10000 -> 0.029830034 | N10: =AVERAGE(N12:N2879) -> 0.032686661 | O10: =AVERAGE(O12:O2879) -> 0.032039575 | R10: =(1+AVERAGE(R13:R144))^12-1 -> 0.029982933 | T10: =(1+AVERAGE(T13:T144)/100)^12-1 -> 0.056235795 | U10: =AVERAGE(U13:U144)/100 -> 0.10829015 | V10: =AVERAGE(V13:V144)/100 -> 0.13974924 | Y10: =AVERAGE(Y13:Y144)/100 -> 0.0325
F11: S&P-500 TR
B12: 41641 | C12: 3200.95 | F12: 10 anos - 120 retornos mensais | I12: 42006 | J12: 2.41 | K12: 42005 | L12: 274.58 | M12: 274.58 | N12: 0.027458 | O12: =IF(OR(N12>($G$25+$G$26*$G$24),N12<($G$25-$G$26*$G$24)),"",N12) -> 0.027458 | P12: 41974 | Q12: 236.252
B13: 41673 | C13: 3347.3799 | F13: Desv. P | G13: =_xlfn.STDEV.P(D24:D156) -> 0.13001875 | I13: 42009 | J13: 2.32 | K13: 42006 | L13: 281.43 | M13: 281.43 | N13: 0.028143 | O13: =IF(OR(N13>($G$25+$G$26*$G$24),N13<($G$25-$G$26*$G$24)),"",N13) -> 0.028143 | P13: 42005 | Q13: 234.747 | R13: =ROUND(Q13/Q12-1,4) -> -0.0064 | S13: 42005 | T13: 1.24 | U13: 8.14 | V13: 16.36 | X13: 42006 | Y13: 3.25
B14: 41701 | C14: 3375.51 | F14: Média | G14: =AVERAGE(D24:D156) -> 0.14012113 | I14: 42010 | J14: 2.25 | K14: 42009 | L14: 29.46 | M14: 294.6 | N14: 0.02946 | O14: =IF(OR(N14>($G$25+$G$26*$G$24),N14<($G$25-$G$26*$G$24)),"",N14) -> 0.02946 | P14: 42036 | Q14: 235.342 | R14: =ROUND(Q14/Q13-1,4) -> 0.0025 | S14: 42036 | T14: 1.22 | U14: 8.61 | V14: 16.46 | X14: 42009 | Y14: 3.25
B15: 41730 | C15: 3400.46 | F15: n° de desvios | G15: 2.576 | I15: 42011 | J15: 2.25 | K15: 42010 | L15: 289.41 | M15: 289.41 | N15: 0.028941 | O15: =IF(OR(N15>($G$25+$G$26*$G$24),N15<($G$25-$G$26*$G$24)),"",N15) -> 0.028941 | P15: 42064 | Q15: 235.976 | R15: =ROUND(Q15/Q14-1,4) -> 0.0027 | S15: 42064 | T15: 1.32 | U15: 8.04 | V15: 16.99 | X15: 42010 | Y15: 3.25
B16: 41760 | C16: 3480.29 | F16: Excluídos | G16: =COUNTIF(E24:E143,"") -> 1 | I16: 42012 | J16: 2.33 | K16: 42011 | L16: 278.74 | M16: 278.74 | N16: 0.027874 | O16: =IF(OR(N16>($G$25+$G$26*$G$24),N16<($G$25-$G$26*$G$24)),"",N16) -> 0.027874 | P16: 42095 | Q16: 236.222 | R16: =ROUND(Q16/Q15-1,4) -> 0.001 | S16: 42095 | T16: 0.71 | U16: 8.81 | V16: 17.08 | X16: 42011 | Y16: 3.25
B17: 41792 | C17: 3552.1799 | I17: 42013 | J17: 2.29 | K17: 42012 | L17: 275.69 | M17: 275.69 | N17: 0.027569 | O17: =IF(OR(N17>($G$25+$G$26*$G$24),N17<($G$25-$G$26*$G$24)),"",N17) -> 0.027569 | P17: 42125 | Q17: 237.001 | R17: =ROUND(Q17/Q16-1,4) -> 0.0033 | S17: 42125 | T17: 0.74 | U17: 8.94 | V17: 17.26 | X17: 42012 | Y17: 3.25
B18: 41821 | C18: 3503.1899 | I18: 42016 | J18: 2.23 | K18: 42013 | L18: 270.04 | M18: 270.04 | N18: 0.027004 | O18: =IF(OR(N18>($G$25+$G$26*$G$24),N18<($G$25-$G$26*$G$24)),"",N18) -> 0.027004 | P18: 42156 | Q18: 237.657 | R18: =ROUND(Q18/Q17-1,4) -> 0.0028 | S18: 42156 | T18: 0.79 | U18: 9.02 | V18: 17.41 | X18: 42013 | Y18: 3.25
B19: 41852 | C19: 3643.3301 | F19: 20-Year Treasury Constant Maturity Rate | I19: 42017 | J19: 2.24 | K19: 42016 | L19: 276.94 | M19: 276.94 | N19: 0.027694 | O19: =IF(OR(N19>($G$25+$G$26*$G$24),N19<($G$25-$G$26*$G$24)),"",N19) -> 0.027694 | P19: 42186 | Q19: 238.034 | R19: =ROUND(Q19/Q18-1,4) -> 0.0016 | S19: 42186 | T19: 0.62 | U19: 9.53 | V19: 17.68 | X19: 42016 | Y19: 3.25
B20: 41884 | C20: 3592.25 | I20: 42018 | J20: 2.2 | K20: 42017 | L20: 272.64 | M20: 272.64 | N20: 0.027264 | O20: =IF(OR(N20>($G$25+$G$26*$G$24),N20<($G$25-$G$26*$G$24)),"",N20) -> 0.027264 | P20: 42217 | Q20: 238.033 | R20: =ROUND(Q20/Q19-1,4) -> 0 | S20: 42217 | T20: 0.22 | U20: 9.73 | V20: 18 | X20: 42017 | Y20: 3.25
B21: 41913 | C21: 3679.99 | F21: Detecção de valores | G21: =COUNTIF($L$12:$L$2879,"<100") -> 280 | I21: 42019 | J21: 2.12 | K21: 42018 | L21: 267.68 | M21: 267.68 | N21: 0.026768 | O21: =IF(OR(N21>($G$25+$G$26*$G$24),N21<($G$25-$G$26*$G$24)),"",N21) -> 0.026768 | P21: 42248 | Q21: 237.498 | R21: =ROUND(Q21/Q20-1,4) -> -0.0022 | S21: 42248 | T21: 0.54 | U21: 9.36 | V21: 18.27 | X21: 42018 | Y21: 3.25
B22: 41946 | C22: 3778.96 | I22: 42020 | J22: 2.17 | K22: 42019 | L22: 273.14 | M22: 273.14 | N22: 0.027314 | O22: =IF(OR(N22>($G$25+$G$26*$G$24),N22<($G$25-$G$26*$G$24)),"",N22) -> 0.027314 | P22: 42278 | Q22: 237.733 | R22: =ROUND(Q22/Q21-1,4) -> 0.001 | S22: 42278 | T22: 0.82 | U22: 9.99 | V22: 18.49 | X22: 42019 | Y22: 3.25
B23: 41974 | C23: 3769.4399 | F23: 10 anos - 120 retornos mensais | I23: 42023 | K23: 42020 | L23: 273.32 | M23: 273.32 | N23: 0.027332 | O23: =IF(OR(N23>($G$25+$G$26*$G$24),N23<($G$25-$G$26*$G$24)),"",N23) -> 0.027332 | P23: 42309 | Q23: 238.017 | R23: =ROUND(Q23/Q22-1,4) -> 0.0012 | S23: 42309 | T23: 1.01 | U23: 9.9 | V23: 18.68 | X23: 42020 | Y23: 3.25
B24: 42006 | C24: 3656.28 | D24: =C24/C12-1 -> 0.14224842 | E24: =IF(OR(D24>($G$14+$G$15*$G$13),D24<($G$14-$G$15*$G$13)),"",D24) -> 0.14224842 | F24: Desv. P | G24: =_xlfn.STDEV.P(M12:M2879)/10000 -> 0.0064014922 | I24: 42024 | J24: 2.15 | K24: 42023 | L24: 27.25 | M24: 272.5 | N24: 0.02725 | O24: =IF(OR(N24>($G$25+$G$26*$G$24),N24<($G$25-$G$26*$G$24)),"",N24) -> 0.02725 | P24: 42339 | Q24: 237.761 | R24: =ROUND(Q24/Q23-1,4) -> -0.0011 | S24: 42339 | T24: 0.96 | U24: 9.34 | V24: 18.97 | X24: 42023
B25: 42037 | C25: 3866.4199 | D25: =C25/C13-1 -> 0.1550586 | E25: =IF(OR(D25>($G$14+$G$15*$G$13),D25<($G$14-$G$15*$G$13)),"",D25) -> 0.1550586 | F25: Média | G25: =AVERAGE(M12:M2879)/10000 -> 0.032686661 | I25: 42025 | J25: 2.2 | K25: 42024 | L25: 267.72 | M25: 267.72 | N25: 0.026772 | O25: =IF(OR(N25>($G$25+$G$26*$G$24),N25<($G$25-$G$26*$G$24)),"",N25) -> 0.026772 | P25: 42370 | Q25: 237.652 | R25: =ROUND(Q25/Q24-1,4) -> -0.0005 | S25: 42370 | T25: 1.27 | U25: 11.76 | V25: 19.25 | X25: 42024 | Y25: 3.25
B26: 42065 | C26: 3805.27 | D26: =C26/C14-1 -> 0.12731706 | E26: =IF(OR(D26>($G$14+$G$15*$G$13),D26<($G$14-$G$15*$G$13)),"",D26) -> 0.12731706 | F26: n° de desvios | G26: 2.576 | I26: 42026 | J26: 2.21 | K26: 42025 | L26: 272.01 | M26: 272.01 | N26: 0.027201 | O26: =IF(OR(N26>($G$25+$G$26*$G$24),N26<($G$25-$G$26*$G$24)),"",N26) -> 0.027201 | P26: 42401 | Q26: 237.336 | R26: =ROUND(Q26/Q25-1,4) -> -0.0013 | S26: 42401 | T26: 0.9 | U26: 11.9 | V26: 19.46 | X26: 42025 | Y26: 3.25
B27: 42095 | C27: 3841.78 | D27: =C27/C15-1 -> 0.12978246 | E27: =IF(OR(D27>($G$14+$G$15*$G$13),D27<($G$14-$G$15*$G$13)),"",D27) -> 0.12978246 | F27: Excluídos | G27: =COUNTIF(O12:O2879,"") -> 85 | I27: 42027 | J27: 2.12 | K27: 42026 | L27: 263.34 | M27: 263.34 | N27: 0.026334 | O27: =IF(OR(N27>($G$25+$G$26*$G$24),N27<($G$25-$G$26*$G$24)),"",N27) -> 0.026334 | P27: 42430 | Q27: 238.08 | R27: =ROUND(Q27/Q26-1,4) -> 0.0031 | S27: 42430 | T27: 0.43 | U27: 12.05 | V27: 19.31 | X27: 42026 | Y27: 3.25
B28: 42125 | C28: 3891.1799 | D28: =C28/C16-1 -> 0.11806197 | E28: =IF(OR(D28>($G$14+$G$15*$G$13),D28<($G$14-$G$15*$G$13)),"",D28) -> 0.11806197 | I28: 42030 | J28: 2.14 | K28: 42027 | L28: 260.25 | M28: 260.25 | N28: 0.026025 | O28: =IF(OR(N28>($G$25+$G$26*$G$24),N28<($G$25-$G$26*$G$24)),"",N28) -> 0.026025 | P28: 42461 | Q28: 238.992 | R28: =ROUND(Q28/Q27-1,4) -> 0.0038 | S28: 42461 | T28: 0.61 | U28: 11.61 | V28: 19.28 | X28: 42027 | Y28: 3.25
B29: 42156 | C29: 3815.8501 | D29: =C29/C17-1 -> 0.074227706 | E29: =IF(OR(D29>($G$14+$G$15*$G$13),D29<($G$14-$G$15*$G$13)),"",D29) -> 0.074227706 | I29: 42031 | J29: 2.15 | K29: 42030 | L29: 264.21 | M29: 264.21 | N29: 0.026421 | O29: =IF(OR(N29>($G$25+$G$26*$G$24),N29<($G$25-$G$26*$G$24)),"",N29) -> 0.026421 | P29: 42491 | Q29: 239.557 | R29: =ROUND(Q29/Q28-1,4) -> 0.0024 | S29: 42491 | T29: 0.78 | U29: 12.02 | V29: 18.87 | X29: 42030 | Y29: 3.25
B30: 42186 | C30: 3895.8 | D30: =C30/C18-1 -> 0.11207217 | E30: =IF(OR(D30>($G$14+$G$15*$G$13),D30<($G$14-$G$15*$G$13)),"",D30) -> 0.11207217 | I30: 42032 | J30: 2.05 | K30: 42031 | L30: 26.52 | M30: 265.2 | N30: 0.02652 | O30: =IF(OR(N30>($G$25+$G$26*$G$24),N30<($G$25-$G$26*$G$24)),"",N30) -> 0.02652 | P30: 42522 | Q30: 240.222 | R30: =ROUND(Q30/Q29-1,4) -> 0.0028 | S30: 42522 | T30: 0.35 | U30: 11.59 | V30: 18.47 | X30: 42031 | Y30: 3.25
B31: 42219 | C31: 3660.75 | D31: =C31/C19-1 -> 0.0047813186 | E31: =IF(OR(D31>($G$14+$G$15*$G$13),D31<($G$14-$G$15*$G$13)),"",D31) -> 0.0047813186 | I31: 42033 | J31: 2.11 | K31: 42032 | L31: 275.53 | M31: 275.53 | N31: 0.027553 | O31: =IF(OR(N31>($G$25+$G$26*$G$24),N31<($G$25-$G$26*$G$24)),"",N31) -> 0.027553 | P31: 42552 | Q31: 240.101 | R31: =ROUND(Q31/Q30-1,4) -> -0.0005 | S31: 42552 | T31: 0.52 | U31: 12.91 | V31: 18.34 | X31: 42032 | Y31: 3.25
B32: 42248 | C32: 3570.1699 | D32: =C32/C20-1 -> -0.0061465873 | E32: =IF(OR(D32>($G$14+$G$15*$G$13),D32<($G$14-$G$15*$G$13)),"",D32) -> -0.0061465873 | I32: 42034 | J32: 2.04 | K32: 42033 | L32: 276.42 | M32: 276.42 | N32: 0.027642 | O32: =IF(OR(N32>($G$25+$G$26*$G$24),N32<($G$25-$G$26*$G$24)),"",N32) -> 0.027642 | P32: 42583 | Q32: 240.545 | R32: =ROUND(Q32/Q31-1,4) -> 0.0018 | S32: 42583 | T32: 0.44 | U32: 13 | V32: 18.46 | X32: 42033 | Y32: 3.25
B33: 42278 | C33: 3871.3301 | D33: =C33/C21-1 -> 0.051994731 | E33: =IF(OR(D33>($G$14+$G$15*$G$13),D33<($G$14-$G$15*$G$13)),"",D33) -> 0.051994731 | I33: 42037 | J33: 2.07 | K33: 42034 | L33: 27.91 | M33: 279.1 | N33: 0.02791 | O33: =IF(OR(N33>($G$25+$G$26*$G$24),N33<($G$25-$G$26*$G$24)),"",N33) -> 0.02791 | P33: 42614 | Q33: 241.176 | R33: =ROUND(Q33/Q32-1,4) -> 0.0026 | S33: 42614 | T33: 0.08 | U33: 12.2 | V33: 18.5 | X33: 42034 | Y33: 3.25
B34: 42310 | C34: 3882.8401 | D34: =C34/C22-1 -> 0.027489078 | E34: =IF(OR(D34>($G$14+$G$15*$G$13),D34<($G$14-$G$15*$G$13)),"",D34) -> 0.027489078 | I34: 42038 | J34: 2.16 | K34: 42037 | L34: 299.64 | M34: 299.64 | N34: 0.029964 | O34: =IF(OR(N34>($G$25+$G$26*$G$24),N34<($G$25-$G$26*$G$24)),"",N34) -> 0.029964 | P34: 42644 | Q34: 241.741 | R34: =ROUND(Q34/Q33-1,4) -> 0.0023 | S34: 42644 | T34: 0.26 | U34: 12.1 | V34: 18.61 | X34: 42037 | Y34: 3.25
B35: 42339 | C35: 3821.6001 | D35: =C35/C23-1 -> 0.013837641 | E35: =IF(OR(D35>($G$14+$G$15*$G$13),D35<($G$14-$G$15*$G$13)),"",D35) -> 0.013837641 | I35: 42039 | J35: 2.17 | K35: 42038 | L35: 288.82 | M35: 288.82 | N35: 0.028882 | O35: =IF(OR(N35>($G$25+$G$26*$G$24),N35<($G$25-$G$26*$G$24)),"",N35) -> 0.028882 | P35: 42675 | Q35: 242.026 | R35: =ROUND(Q35/Q34-1,4) -> 0.0012 | S35: 42675 | T35: 0.18 | U35: 11.14 | V35: 18.48 | X35: 42038 | Y35: 3.25
B36: 42373 | C36: 3631.96 | D36: =C36/C24-1 -> -0.006651588 | E36: =IF(OR(D36>($G$14+$G$15*$G$13),D36<($G$14-$G$15*$G$13)),"",D36) -> -0.006651588 | I36: 42040 | J36: 2.2 | K36: 42039 | L36: 294.23 | M36: 294.23 | N36: 0.029423 | O36: =IF(OR(N36>($G$25+$G$26*$G$24),N36<($G$25-$G$26*$G$24)),"",N36) -> 0.029423 | P36: 42705 | Q36: 242.637 | R36: =ROUND(Q36/Q35-1,4) -> 0.0025 | S36: 42705 | T36: 0.3 | U36: 10.86 | V36: 18.13 | X36: 42039 | Y36: 3.25
B37: 42401 | C37: 3627.0601 | D37: =C37/C25-1 -> -0.061907363 | E37: =IF(OR(D37>($G$14+$G$15*$G$13),D37<($G$14-$G$15*$G$13)),"",D37) -> -0.061907363 | I37: 42041 | J37: 2.28 | K37: 42040 | L37: 293.31 | M37: 293.31 | N37: 0.029331 | O37: =IF(OR(N37>($G$25+$G$26*$G$24),N37<($G$25-$G$26*$G$24)),"",N37) -> 0.029331 | P37: 42736 | Q37: 243.618 | R37: =ROUND(Q37/Q36-1,4) -> 0.004 | S37: 42736 | T37: 0.38 | U37: 13.24 | V37: 17.39 | X37: 42040 | Y37: 3.25
B38: 42430 | C38: 3873.1101 | D38: =C38/C26-1 -> 0.01782793 | E38: =IF(OR(D38>($G$14+$G$15*$G$13),D38<($G$14-$G$15*$G$13)),"",D38) -> 0.01782793 | I38: 42044 | J38: 2.28 | K38: 42041 | L38: 301.15 | M38: 301.15 | N38: 0.030115 | O38: =IF(OR(N38>($G$25+$G$26*$G$24),N38<($G$25-$G$26*$G$24)),"",N38) -> 0.030115 | P38: 42767 | Q38: 244.006 | R38: =ROUND(Q38/Q37-1,4) -> 0.0016 | S38: 42767 | T38: 0.33 | U38: 10.93 | V38: 16.77 | X38: 42041 | Y38: 3.25
B39: 42461 | C39: 3888.1299 | D39: =C39/C27-1 -> 0.012064682 | E39: =IF(OR(D39>($G$14+$G$15*$G$13),D39<($G$14-$G$15*$G$13)),"",D39) -> 0.012064682 | I39: 42045 | J39: 2.33 | K39: 42044 | L39: 300.25 | M39: 300.25 | N39: 0.030025 | O39: =IF(OR(N39>($G$25+$G$26*$G$24),N39<($G$25-$G$26*$G$24)),"",N39) -> 0.030025 | P39: 42795 | Q39: 243.892 | R39: =ROUND(Q39/Q38-1,4) -> -0.0005 | S39: 42795 | T39: 0.25 | U39: 12.45 | V39: 16 | X39: 42044 | Y39: 3.25
... B42: 42552 | C42: 4114.5098 | D42: =C42/C30-1 -> 0.056139872 | E42: =IF(OR(D42>($G$14+$G$15*$G$13),D42<($G$14-$G$15*$G$13)),"",D42) -> 0.056139872 | I42: 42048 | J42: 2.39 | K42: 42047 | L42: 308.65 | M42: 308.65 | N42: 0.030865 | O42: =IF(OR(N42>($G$25+$G$26*$G$24),N42<($G$25-$G$26*$G$24)),"",N42) -> 0.030865 | P42: 42887 | Q42: 244.163 | R42: =ROUND(Q42/Q41-1,4) -> 0.0007 | S42: 42887 | T42: -0.23 | U42: 12.21 | V42: 15.6 | X42: 42047 | Y42: 3.25
B43: 42583 | C43: 4120.29 | D43: =C43/C31-1 -> 0.12553166 | E43: =IF(OR(D43>($G$14+$G$15*$G$13),D43<($G$14-$G$15*$G$13)),"",D43) -> 0.12553166 | I43: 42051 | K43: 42048 | L43: 306.41 | M43: 306.41 | N43: 0.030641 | O43: =IF(OR(N43>($G$25+$G$26*$G$24),N43<($G$25-$G$26*$G$24)),"",N43) -> 0.030641 | P43: 42917 | Q43: 244.243 | R43: =ROUND(Q43/Q42-1,4) -> 0.0003 | S43: 42917 | T43: 0.24 | U43: 12.06 | V43: 15.28 | X43: 42048 | Y43: 3.25
B44: 42614 | C44: 4121.0601 | D44: =C44/C32-1 -> 0.15430362 | E44: =IF(OR(D44>($G$14+$G$15*$G$13),D44<($G$14-$G$15*$G$13)),"",D44) -> 0.15430362 | I44: 42052 | J44: 2.49 | K44: 42051 | L44: 306.21 | M44: 306.21 | N44: 0.030621 | O44: =IF(OR(N44>($G$25+$G$26*$G$24),N44<($G$25-$G$26*$G$24)),"",N44) -> 0.030621 | P44: 42948 | Q44: 245.183 | R44: =ROUND(Q44/Q43-1,4) -> 0.0038 | S44: 42948 | T44: 0.19 | U44: 12.98 | V44: 14.81 | X44: 42051
...

Sheet 4. Ke e Kd
R1: Agência Goiana de Regulação, Controle e Fiscalização - AGR
A2: Projeto: Cálculo da Taxa de Remuneração Regulatória | R2: Agência Goiana de Regulação – AR
A3: Interessados: Saneago e BRK Ambiental | R3: Agência Reguladora do Município de Anápolis - ARM
R4: Agência de Regulação dos Serviços Públicos de Saneamento Básico - AMAE
B5: Cálculo dos custos regulatórios de Capital Próprio e Capital de Terceiros
B8: Parâmetros - Custo do Capital Próprio | E8: Valor
B9: Beta (β) do setor | E9: ='6. Beta'!J7 -> 0.61990679 | G9: Em US$ | H9: Em R$* | L9: Check variáveis reais
B10: Rentabilidade do ativo livre de risco (Rf) | E10: =(1+'3. Variáveis'!J10)/(1+E14)*(1+E15)-1 -> 0.056240731 | G10: ='3. Variáveis'!J10 -> 0.029987745 | H10: =(1+G10)/(1+E14)*(1+E15)-1 -> 0.056240731 | K10: Rf | L10: =(1+G10)/(1+E14)-1 -> 4.6727809e-06 | M10: =(1+E10)/(1+E15)-1 -> 4.6727809e-06
B11: Rentabilidade da carteira de mercado (Rm) | E11: =(1+'3. Variáveis'!D10)/(1+E14)*(1+E15)-1 -> 0.16902789 | G11: ='3. Variáveis'!D10 -> 0.13997156 | H11: =(1+G11)/(1+E14)*(1+E15)-1 -> 0.16902789 | K11: rbr | L11: =E13/(1+E15) -> 0.031106899
B12: Prêmio de risco de mercado (Rm - Rf) | E12: =E11-E10 -> 0.11278716 | G12: =G11-G10 -> 0.10998382 | H12: =H11-H10 -> 0.11278716 | I12: =G12/(1+E14)*(1+E15) -> 0.11278716 | K12: Rm-Rf | L12: =G12/(1+E14) -> 0.10678218
B13: Prêmio de risco país (rbr) | E13: =H13 -> 0.03285622 | G13: ='3. Variáveis'!O10 -> 0.032039575 | H13: =G13/(1+E14)*(1+E15) -> 0.03285622 | K13: Re real | L13: =L10+L12*E9+L11 -> 0.097306568
B14: Inflação EUA (CPI) | E14: ='3. Variáveis'!R10 -> 0.029982933 | K14: Check | L14: =L13-E17 -> 0
B15: Inflação Brasil (IPCA) | E15: ='3. Variáveis'!T10 -> 0.056235795
B16: Custo do Capital Próprio (Re) nominal | E16: =E10+E9*E12+E13 -> 0.15901448
B17: Custo do Capital Próprio (Re) real | E17: =(1+E16)/(1+E15)-1 -> 0.097306568
G18: =G17=E17 -> FALSE
B21: Parâmetros - Custo do Capital de Terceiros | E21: Valor | K21: CAPM da dívida considerando o Prime Rate norte-americado, para comparação
B22: Taxa Preferencial Brasileira (TPB) | E22: ='3. Variáveis'!V10 -> 0.13974924
B23: ='3. Variáveis'!U9 -> Taxa_BNDES_TLP Série 20765 BC - PJ | E23: ='3. Variáveis'!U10 -> 0.10829015 | K23: Prime Rate em US$ | N23: ='3. Variáveis'!Y10 -> 0.0325
B24: Inflação (IPCA) | E24: =E15 -> 0.056235795 | K24: Prime Rate em R$ | N24: =(1+N23)/(1+E14)*(1+E15)-1 -> 0.058817019
B25: Taxa média referencial da dívida - nominal | E25: =AVERAGE(E22:E23) -> 0.1240197 | K25: Prêmio de risco país | N25: =E13 -> 0.03285622
B26: Taxa média referencial da dívida - real | E26: =(1+E25)/(1+E24)-1 -> 0.064174971 | K26: Custo do capital de terceiros nominal | N26: =N24+N25 -> 0.09167324
B27: Custo do capital de terceiros (Rd) real antes dos impostos | E27: ='5. Custo da dívida'!G18 -> 0.11957171 | K27: Custo do capital de terceiros real | N27: =(1+N26)/(1+E15)-1 -> 0.033550694
B28: Impostos | E28: 0.34
B29: Custo do capital de terceiros (Rd) real depois dos impostos | E29: =E27*(1-E28) -> 0.078917332

Sheet 5. Custo da dívida
R1: Agência Goiana de Regulação, Controle e Fiscalização - AGR
A2: Projeto: Cálculo da Taxa de Remuneração Regulatória | R2: Agência Goiana de Regulação – AR
A3: Interessados: Saneago e BRK Ambiental | R3: Agência Reguladora do Município de Anápolis - ARM
R4: Agência de Regulação dos Serviços Públicos de Saneamento Básico - AMAE
D6: RELATÓRIO DO AUDITOR INDEPENDENTE SOBRE AS DEMONSTRAÇÕES CONTÁBEIS
B8: BRK Ambiental Goiás | L8: Saneago | V8: Total do Ativo | Y8: %Peso
C9: Trimestre | D9: Saldo Devedor | E9: Juros | F9: % Anual | G9: % Ponderado | H9: Endereço | I9: Item | L9: Trimestre | M9: Saldo Devedor | N9: Juros | O9: % Trimestral | P9: % Ponderado | Q9: Endereço | R9: Item | V9: BRK | W9: Saneago | Y9: BRK | Z9: Saneago
C11: 4 T 2022 | D11: 572721 | E11: -46532 | F11: =-E11/D11 -> 0.081247239 | G11: =F11*Y11 -> 0.015899014 | H11: https://api.mziq.com/mzfilemanager/v2/d/9ffe3afc-e8e3-4e62-9f49-04166095f065/ee125905-afed-5c44-9b89-dcac0c250850?origin=2 | I11: 12.1 | L11: 4 T 2022 | M11: =27868+213499+156648+594981 -> 992996 | N11: =-131719 -> -131719 | O11: =-N11/M11 -> 0.13264807 | P11: =O11*Z11 -> 0.10669059 | Q11: https://ri.saneago.com.br/Download.aspx?Arquivo=weZg90qpzGam4fpMlwRowg==&linguagem=pt | R11: 21.a, 21.b e 21.c | V11: 1745982 | W11: 7176346 | Y11: =V11/(SUM($V11:$W11)) -> 0.19568682 | Z11: =W11/(SUM($V11:$W11)) -> 0.80431318
C12: 4 T 2023 | D12: 1130004 | E12: -72393 | F12: =-E12/D12 -> 0.064064375 | G12: =F12*Y12 -> 0.013163482 | H12: https://api.mziq.com/mzfilemanager/v2/d/9ffe3afc-e8e3-4e62-9f49-04166095f065/621d978c-bd37-55d3-3667-c546908ab526?origin=2 | I12: 12.1 | L12: 4 T 2023 | M12: =23280+152617+225490+669345 -> 1070732 | N12: -136183 | O12: =-N12/M12 -> 0.12718682 | P12: =O12*Z12 -> 0.1010534 | Q12: https://ri.saneago.com.br/Download.aspx?Arquivo=NzUdK9bu1XmIZR2mXFcZZQ==&linguagem=pt | R12: 20.a, 20.b e 20.c | V12: 2078444 | W12: 8036981 | Y12: =V12/(SUM($V12:$W12)) -> 0.20547273 | Z12: =W12/(SUM($V12:$W12)) -> 0.79452727
C13: 4 T 2024 | D13: 1113361 | E13: -96985 | F13: =-E13/D13 -> 0.087110111 | G13: =F13*Y13 -> 0.017818037 | H13: https://api.mziq.com/mzfilemanager/v2/d/9ffe3afc-e8e3-4e62-9f49-04166095f065/1e9cd064-4ecf-fe62-d813-cc104f09f533?origin=2 | I13: 12.1 | L13: 4 T 2024 | M13: =26488+181294+252414+717945 -> 1178141 | N13: -134266 | O13: =-N13/M13 -> 0.11396429 | P13: =O13*Z13 -> 0.090653333 | Q13: https://ri.saneago.com.br/Download.aspx?Arquivo=dTeB8aAbBUilXSWE8SbY1g==&linguagem=pt | R13: 20.a, 20.b e 20.c | V13: 2204792 | W13: 8574155 | Y13: =V13/(SUM($V13:$W13)) -> 0.20454614 | Z13: =W13/(SUM($V13:$W13)) -> 0.79545386
C14: 4 T 2025 | D14: 1163038 | E14: -97067 | F14: =-E14/D14 -> 0.08345987 | G14: =F14*Y14 -> 0.015546251 | H14: https://api.mziq.com/mzfilemanager/v2/d/9ffe3afc-e8e3-4e62-9f49-04166095f065/95aba61b-18d8-9958-20a2-3c73af61779d?origin=2 | I14: 12.1 | L14: 4 T 2025 | M14: =25698+199540+266921+852892 -> 1345051 | N14: -194160 | O14: =(-N14/M14) -> 0.1443514 | P14: =O14*Z14 -> 0.11746275 | Q14: https://ri.saneago.com.br/Download.aspx?Arquivo=BnX8J85dRA5WMMWgb1z79g==&linguagem=pt | R14: 22.a, 22.b e 22.c | V14: 2158407 | W14: 9428976 | Y14: =V14/(SUM($V14:$W14)) -> 0.18627217 | Z14: =W14/(SUM($V14:$W14)) -> 0.81372783
F16: Média | G16: =AVERAGE(G11:G14) -> 0.015606696 | O16: Média | P16: =AVERAGE(P11:P14) -> 0.10396502
F18: Custo anual | G18: =G16+P16 -> 0.11957171

Sheet 6. Beta
R1: Agência Goiana de Regulação, Controle e Fiscalização - AGR
A2: Projeto: Cálculo da Taxa de Remuneração Regulatória | R2: Agência Goiana de Regulação – AR
A3: Interessados: Saneago e BRK Ambiental | R3: Agência Reguladora do Município de Anápolis - ARM
R4: Agência de Regulação dos Serviços Públicos de Saneamento Básico - AMAE
B6: Beta (β) | C6: Alavancado | E6: Desalavancado | G6: Estrutura de Capital (D/E) | J6: Beta Realavancado
B7: Média de mercado | C7: =BS17 -> 0.71875398 | E7: =BU17 -> 0.4831135 | G7: ='2. Estrutura de Capital'!G17 -> 0.42901424 | J7: =(E7*(1+(1-34%)*G7)) -> 0.61990679
BG8: Assimetria amostral | BH8: =SKEW(BH15:BH552) -> 0.0028886684 | BJ8: =SKEW(BJ15:BJ552) -> 0.18684845 | BK8: =SKEW(BK15:BK552) -> -0.064863417 | BL8: =SKEW(BL15:BL552) -> -0.035918241
AI9: Remoção de outliers distantes 2,576 desvios-padrão da média (99% de confiança) | BG9: Assimetria pop. | BH9: =_xlfn.SKEW.P(BH15:BH552) -> 0.0028806083 | BJ9: =_xlfn.SKEW.P(BJ15:BJ552) -> 0.1863271 | BK9: =_xlfn.SKEW.P(BK15:BK552) -> -0.06468243 | BL9: =_xlfn.SKEW.P(BL15:BL552) -> -0.03581802
B10: Observação: Média semanal a partir de dados diários | BG10: Curtose | BH10: =3+KURT(BH15:BH552) -> 3.3310246 | BJ10: =3+KURT(BJ15:BJ552) -> 3.3700582 | BK10: =3+KURT(BK15:BK552) -> 3.2009318 | BL10: =3+KURT(BL15:BL552) -> 2.9924838 | CC10: https://finance.yahoo.com/quote/CSMG3.SA/ | CH10: (sítio visitado em 08/01/2026) | CN10: https://finance.yahoo.com/quote/SAPR4.SA/
K12: Retornos Semanais | S12: Log-retornos | AR12: Remoção de outliers | AY12: Data | AZ12: Log-retornos, removidos os outliers | BH12: =(_xlfn.COVARIANCE.P($BL$15:$BL$552,BH15:BH552))/VARP($BL$15:$BL$552) -> 0.78383553 | BJ12: =(_xlfn.COVARIANCE.P($BL$15:$BL$552,BJ15:BJ552))/VARP($BL$15:$BL$552) -> 0.5996421 | BK12: =(_xlfn.COVARIANCE.P($BL$15:$BL$552,BK15:BK552))/VARP($BL$15:$BL$552) -> 0.77278431
B13: Semanas | C13: CASN3 | D13: CSMG3 | E13: SAPR3 | F13: SAPR4 | G13: SBSP3 | H13: IBOVESPA | K13: CASN3 | L13: CSMG3 | M13: SAPR3 | N13: SAPR4 | O13: SBSP3 | P13: IBOVESPA | S13: CASN3 | T13: CSMG3 | U13: SAPR3 | V13: SAPR4 | W13: SBSP3 | X13: IBOVESPA | AR13: CASN3 | AS13: CSMG3 | AT13: SAPR3 | AU13: SAPR4 | AV13: SBSP3 | AW13: IBOVESPA | AZ13: CASN3 | BA13: CSMG3 | BB13: SAPR3 | BC13: SAPR4 | BD13: SBSP3 | BE13: IBOVESPA | BG13: CASN3 | BH13: CSMG3 | BI13: SAPR3 | BJ13: SAPR4 | BK13: SBSP3 | BL13: IBOVESPA | BO13: EMPRESAS | BP13: Peso de atuação no setor | BQ13: TICKER | BR13: Normalidade dos resíduos | BS13: Beta alavancado | BT13: Estrutura de capital (D/E) | BU13: Beta desalavancado
B14: 42002 | C14: 2.7240117 | D14: 3.4872248 | E14: 1.3578496 | F14: 0.88468069 | G14: 12.30997 | H14: 48512 | BH14: Y1 | BJ14: Y3 | BK14: Y4 | BL14: X | BO14: Companhia de Saneamento de Minas Gerais | BP14: 1 | BQ14: CSMG3 | BR14: ='7. Teste de Normalidade'!I8 -> rejeita-se a normalidade dos resíduos | BS14: =BH12 -> 0.78383553 | BT14: 0.7752 | BU14: =BS14/(1+((1-34%)*(BT14))) -> 0.51853595
B15: 42009 | C15: 2.7240117 | D15: 3.7130504 | E15: 1.3578496 | F15: 0.84621651 | G15: 12.393504 | H15: 48752.8 | K15: =C15/C14-1 -> 0 | L15: =D15/D14-1 -> 0.064757969 | M15: =E15/E14-1 -> 0 | N15: =F15/F14-1 -> -0.043478034 | O15: =G15/G14-1 -> 0.0067858703 | P15: =H15/H14-1 -> 0.0049637203 | S15: =LN(1+K15) -> 0 | T15: =LN(1+L15) -> 0.062747514 | U15: =LN(1+M15) -> 0 | V15: =LN(1+N15) -> -0.044451525 | W15: =LN(1+O15) -> 0.0067629499 | X15: =LN(1+P15) -> 0.0049514417 | AJ15: CASN3 | AK15: CSMG3 | AL15: SAPR3 | AM15: SAPR4 | AN15: SBSP3 | AO15: IBOVESPA | AR15: =IF(OR(S15>(AJ$17+AJ$16*AI$21),S15<(AJ$17-AJ$16*AI$21)),"",S15) -> 0 | AS15: =IF(OR(T15>(AK$17+AK$16*AI$21),T15<(AK$17-AK$16*AI$21)),"",T15) -> 0.062747514 | AT15: =IF(OR(U15>(AL$17+AL$16*AI$21),U15<(AL$17-AL$16*AI$21)),"",U15) -> 0 | AU15: =IF(OR(V15>(AM$17+AM$16*AI$21),V15<(AM$17-AM$16*AI$21)),"",V15) -> -0.044451525 | AV15: =IF(OR(W15>(AN$17+AN$16*AI$21),W15<(AN$17-AN$16*AI$21)),"",W15) -> 0.0067629499 | AW15: =IF(OR(X15>(AO$17+AO$16*AI$21),X15<(AO$17-AO$16*AI$21)),"",X15) -> 0.0049514417 | AY15: 42009 | AZ15: =_xlfn.XLOOKUP($AY15,$B:$B,AR:AR,0) -> 0 | BA15: =_xlfn.XLOOKUP($AY15,$B:$B,AS:AS,0) -> 0.062747514 | BB15: =_xlfn.XLOOKUP($AY15,$B:$B,AT:AT,0) -> 0 | BC15: =_xlfn.XLOOKUP($AY15,$B:$B,AU:AU,0) -> -0.044451525 | BD15: =_xlfn.XLOOKUP($AY15,$B:$B,AV:AV,0) -> 0.0067629499 | BE15: =_xlfn.XLOOKUP($AY15,$B:$B,AW:AW,0) -> 0.0049514417 | BH15: =BA15 -> 0.062747514 | BJ15: =BC15 -> -0.044451525 | BK15: =BD15 -> 0.0067629499 | BL15: =BE15 -> 0.0049514417 | BO15: Companhia de Saneamento Paraná | BP15: 1 | BQ15: SAPR4 | BR15: ='7. Teste de Normalidade'!I9 -> rejeita-se a normalidade dos resíduos | BS15: =BJ12 -> 0.5996421 | BT15: 0.6031 | BU15: =BS15/(1+((1-34%)*(BT15))) -> 0.42891442
