Workbook
Name ativo: #REF!
Name ativo: #REF!
Name ativo: #REF!
Name Balancete_Abr: #REF!
Name Balancete_Abr: '[1]04_ABR'!$A$1:$F$2500
Name Balancete_Ago: #REF!
Name Balancete_Ago: '[1]04_AGO'!$A$1:$F$2500
Name Balancete_BCO_DADOS: #REF!
Name Balancete_BCO_DADOS: '[1]Balancete_BCO DADOS'!$A$1:$N$2501
Name Balancete_Dez: #REF!
Name Balancete_Dez: '[1]04_DEZ'!$A$1:$F$50000
Name Balancete_Fev: #REF!
Name Balancete_Fev: '[1]04_FEV'!$A$1:$F$2500
Name Balancete_Jan: #REF!
Name Balancete_Jan: '[1]04_JAN'!$A$1:$F$2500
Name Balancete_Jul: #REF!
Name Balancete_Jul: '[1]04_JUL'!$A$1:$F$2500
Name Balancete_Jun: #REF!
Name Balancete_Jun: '[1]04_JUN'!$A$1:$F$2500
Name Balancete_Mai: #REF!
Name Balancete_Mai: '[1]04_MAI'!$A$1:$F$2500
Name Balancete_Mar: #REF!
Name Balancete_Mar: '[1]04_MAR'!$A$1:$F$2500
Name Balancete_Nov: #REF!
Name Balancete_Nov: '[1]04_NOV'!$A$1:$F$2500
Name Balancete_Out: #REF!
Name Balancete_Out: '[1]04_OUT'!$A$1:$F$2500
Name Balancete_Set: #REF!
Name Balancete_Set: '[1]04_SET'!$A$1:$F$2500
Name DKAFJKLADFALK: #REF!
Name DKAFJKLADFALK: #REF!
Name DKAFJKLADFALK: #REF!
Name Excel_BuiltIn_Criteria_12: #REF!
Name Excel_BuiltIn_Criteria_12: #REF!
Name Excel_BuiltIn_Criteria_12: #REF!
Name Excel_BuiltIn_Criteria_7: #REF!
Name Excel_BuiltIn_Criteria_7: #REF!
Name Excel_BuiltIn_Criteria_7: #REF!
Name Excel_BuiltIn_Criteria_7___7: #REF!
Name Excel_BuiltIn_Criteria_7___7: #REF!
Name Excel_BuiltIn_Criteria_7___7: #REF!
Name Excel_BuiltIn_Criteria_7___7___0: #REF!
Name Excel_BuiltIn_Criteria_7___7___0: #REF!
Name Excel_BuiltIn_Criteria_7___7___0: #REF!
Name Excel_BuiltIn_Criteria_7___7___0___0: #REF!
Name Excel_BuiltIn_Criteria_7___7___0___0: #REF!
Name Excel_BuiltIn_Criteria_7___7___0___0: #REF!
Name GGHHG: #REF!
Name GGHHG: #REF!
Name GGHHG: #REF!
Name NEGADO: #REF!
Name NEGADO: #REF!
Name NEGADO: #REF!
Name PASSIVO: #REF!
Name PASSIVO: #REF!
Name PASSIVO: #REF!
Name resultado: #REF!
Name resultado: #REF!
Name resultado: #REF!
Name risco: #REF!

Sheet BP Balanço Patrimonial
D2: AGÊNCIA GOIANA DE HABITAÇÃO S/A
D3: CNPJ: 01.274.240/0001-47
D4: 30 de Setembro de 2025
D5: (Valores expressos em milhares de reais)
D8: BALANÇO PATRIMONIAL (BP)
D10: ATIVO | K10: PASSIVO
D12: DESCRIÇÃO | E12: Nota | F12: 45930 | G12: 45657 | H12: 45565 | K12: DESCRIÇÃO | L12: Nota | M12: 45930 | N12: 45657 | O12: 45565
D14: ATIVO CIRCULANTE | F14: =SUM(F15:F23) -> 1.0249183e+08 | G14: =SUM(G15:G23) -> 1.8231238e+08 | H14: =SUM(H15:H23) -> 1.7009244e+08 | K14: PASSIVO CIRCULANTE | M14: =SUM(M15:M24) -> 1.2123814e+08 | N14: =SUM(N15:N24) -> 1.7254965e+08 | O14: =SUM(O15:O24) -> 1.7881631e+08
D15: Caixa e Equivalente de Caixa | E15: 5 | F15: =[2]Balanço!$B$2+[2]Balanço!$B$3 -> 28772156 | G15: =34190.02+160684168.9+98+24421.56+65774.2 -> 1.6080865e+08 | H15: 1.4813192e+08 | K15: Obrigações Trabalhistas | L15: 14 | M15: 246590.51 | N15: =124150.92 -> 124150.92 | O15: 189203.98
D16: Títulos e Valores Mobiliários | E16: 5 | F16: =[2]Balanço!$B$4 -> 62905248 | G16: 11582048 | H16: 11242169 | K16: Obrigações Sociais | L16: 14 | M16: 2993525.4 | N16: =532490.97 -> 532490.97 | O16: 2957568.6
D17: Contas a Receber | E17: 6 | F17: =[2]Balanço!$B$19 -> 382430.94 | G17: 391399.9 | H17: 369740.81 | K17: Obrigações Tributárias | L17: 14 | M17: 1138799.5 | N17: 142469.06 | O17: 788914.64
D18: Adiantamentos Concedidos a Obras | E18: 7 | F18: 8573488.5 | G18: 8573488.5 | H18: 8573488.5 | K18: Contas a Pagar | L18: 15 | M18: 26651898 | N18: 1135742.2 | O18: 22988840
D19: Antecipações a Empregados | E19: 8 | F19: 1444170.9 | G19: 399128.31 | H19: 1376181.6 | K19: Provisões Trabalhistas | L19: 16 | M19: 9418016.7 | N19: 6273793.4 | O19: 8871397
D20: Tributos a Recuperar | E20: 9 | F20: 300981.09 | G20: 443064.49 | H20: 267484.82 | K20: Subvenção Governamental a Realizar | L20: 17 | M20: 68465951 | N20: 1.599139e+08 | O20: 1.3857698e+08
D21: Despesas Antecipadas | E21: 10 | F21: 1072.8 | G21: 8988.41 | H21: 1069.97 | K21: Créditos Vinculados Convênios | L21: 18 | M21: 12323361 | N21: 4427110.7 | O21: 4443414.3
D22: Estoque de bens do almoxarifado | E22: 11 | F22: 112278.26 | G22: 105608.83 | H22: 130386.06
D25: ATIVO NÃO CIRCULANTE | F25: =F26+F35+F39 -> 6.689014e+08 | G25: =G26+G35+G39 -> 5.1452954e+08 | H25: =H26+H35+H39 -> 5.3748911e+08
D26: Realizável a Longo Prazo | E26: 12 | F26: =SUM(F27:F34) -> 6.6175831e+08 | G26: =SUM(G27:G34) -> 5.0940171e+08 | H26: =SUM(H27:H34) -> 5.3314287e+08
D27: Devedores com Vendas Compromissadas | E27: 12.1 | F27: 91991.72 | G27: 91991.72 | H27: 124608.88
D28: Devedores por Créditos Repassados | E28: 12.2 | F28: 0 | G28: 0 | H28: 0 | K28: PASSIVO NÃO CIRCULANTE | M28: =SUM(M29:M33) -> 2084201.3 | N28: =SUM(N29:N33) -> 2088000 | O28: =SUM(O29:O33) -> 4783025.9
D29: Unidades Residenciais | E29: 12.3 | F29: 1038372 | G29: 1129756.8 | H29: 1129756.8 | K29: Contingências Judiciais | L29: 19/20 | M29: 2084201.3 | N29: 2088000 | O29: 4783025.9
D30: Terrenos Edificações ou Urbanização | E30: 12.4 | F30: 2163854.6 | G30: 2213981.3 | H30: 2213981.3
D31: Tributos a Recuperar | E31: 12.5 | F31: 362820.76 | G31: 332902.37 | H31: 647774.5
D32: Obras em Andamento - Programas Habitacionais | E32: 12.6 | F32: 6.5810127e+08 | G32: 5.0563307e+08 | H32: 5.2902674e+08
D35: Imobilizado | E35: 13 | F35: =SUM(F36:F37) -> 2650718.4 | G35: =SUM(G36:G37) -> 2225792.1 | H35: =SUM(H36:H37) -> 2414785.2
D36: Bens Tangíveis | E36: 13.1 | F36: 6784688.8 | G36: 5886971.7 | H36: 5886971.7 | K36: PATRIMÔNIO LÍQUIDO | L36: 21 | M36: =SUM(M37:M41) -> 6.4807089e+08 | N36: =SUM(N37:N41) -> 5.2220426e+08 | O36: =SUM(O37:O41) -> 5.2398221e+08
D37: (-)Depreciações Acumuladas | F37: -4133970.4 | G37: -3661179.6 | H37: -3472186.5 | K37: Capital Social | L37: 21.1 | M37: 1.9613357e+08 | N37: 1.9613357e+08 | O37: 1.9613357e+08
K38: (-) Capital a Integralizar | L38: 21.1 | M38: -8877149.1 | N38: -8877149.1 | O38: -8877149.1
D39: Intangível | F39: =SUM(F40:F41) -> 4492375.7 | G39: =SUM(G40:G41) -> 2902040.9 | H39: =SUM(H40:H41) -> 1931459.9 | K39: Reserva Subvenção Governamental | L39: 21.2 | M39: 7.7378798e+08 | N39: 7.7378798e+08 | O39: 6.2651651e+08
D40: Software | E40: 13.2 | F40: 6652155.4 | G40: 4375009.5 | H40: 3236442.5 | K40: Resultados Acumulados | L40: 21.3 | M40: -3.1297188e+08 | N40: -4.388385e+08 | O40: -2.8978908e+08
D41: (-)Amortizações Acumuladas | F41: -2159779.7 | G41: -1472968.7 | H41: -1304982.6 | K41: (-) Ações Em Tesouraria | L41: 21.4 | M41: -1636 | N41: -1636 | O41: -1636
D43: TOTAL DO ATIVO | F43: =F14+F25 -> 7.7139323e+08 | G43: =G14+G25 -> 6.9684192e+08 | H43: =H14+H25 -> 7.0758155e+08 | K43: TOTAL DO PASSIVO | M43: =M14+M28+M36 -> 7.7139323e+08 | N43: =N14+N28+N36 -> 6.9684192e+08 | O43: =O14+O28+O36 -> 7.0758155e+08
F44: =F43-M43 -> 0 | G44: =G43-N43 -> 0 | H44: =H43-O43 -> 0
D46: RECONHECEMOS A EXATIDÃO DO PRESENTE BALANÇO PATRIMONIAL ENCERRADO EM 30/09/2025, TOTALIZANDO NO ATIVO E PASSIVO O VALOR DE R$ 771.393.230,24 ( SETECENTOS E SETENTA E UM MILHÕES, TREZENTOS E NOVENTA E TRÊS MIL, DUZENTOS E TRINTA REAIS E VINTE E QUATRO CENTAVOS)
D47: ESTRUTURADAS CONFORME RESOLUÇÃO CFC Nº 1.374/2011.
D49: Goiânia-Goiás, 30 de Setembro de 2025
D68: CPF: 002.080.231-51
D69: Presidente

Sheet DMPL
A2: AGÊNCIA GOIANA DE HABITAÇÃO S/A
A3: CNPJ: 01.274.240/0001-47
A4: 30 de Setembro de 2025
A5: (Valores Expressos em Reais)
C8: DEMONSTRAÇÃO DAS MUTAÇÕES DO PATRIMÔNIO LÍQUIDO (DMPL)
C10: DESCRIÇÃO | D10: Capital Realizado Atualizado | F10: Reservas de Lucros | G10: Resultado Acumulado | H10: Ações em Tesouraria | I10: Total Geral
D11: Capital Subscrito | E11: Capital a Realizar | F11: Subvenção Governamental para Investimento
C14: Saldo em 31/12/2022 | D14: 1.9613357e+08 | E14: -8877149.1 | F14: 2.1232066e+08 | G14: -2.6867404e+08 | H14: 0 | I14: =SUM(D14:H14) -> 1.3090303e+08
C16: Capital Subscrito | D16: 0 | E16: 0 | F16: 0 | G16: 0 | H16: 0 | I16: =SUM(D16:H16) -> 0
C17: Capital a Realizar | D17: 0 | E17: 0 | F17: 0 | G17: 0 | H17: 0 | I17: =SUM(D17:H17) -> 0
C18: Subvenção Governamental/Investimento | D18: 0 | E18: 0 | F18: 4.1419585e+08 | G18: -4.1419585e+08 | H18: 0 | I18: =SUM(D18:H18) -> 0
C19: Ajuste de Exercícios Anteriores | D19: 0 | E19: 0 | F19: 0 | G19: 0 | H19: 0 | I19: =SUM(D19:H19) -> 0
C20: Resultado do Exercício | D20: 0 | E20: 0 | F20: 0 | G20: 2.4435223e+08 | H20: 0 | I20: =SUM(D20:H20) -> 2.4435223e+08
C21: (-) Ações Em Tesouraria | D21: 0 | E21: 0 | F21: 0 | G21: 0 | H21: 0 | I21: =SUM(D21:H21) -> 0
C23: Saldo em 31/12/2023 | D23: 1.9613357e+08 | E23: -8877149.1 | F23: 6.2651651e+08 | G23: -4.3851766e+08 | H23: 0 | I23: =SUM(D23:H23) -> 3.7525526e+08
C25: Capital Subscrito | D25: 0 | E25: 0 | F25: 0 | G25: 0 | H25: 0 | I25: =SUM(D25:H25) -> 0
C26: Capital a Realizar | D26: 0 | E26: 0 | F26: 0 | G26: 0 | H26: 0 | I26: =SUM(D26:H26) -> 0
C27: Subvenção Governamental/Investimento | D27: 0 | E27: 0 | F27: 1.4727147e+08 | G27: -1.4727147e+08 | H27: 0 | I27: =SUM(D27:H27) -> 0
C28: Ajuste de Exercícios Anteriores | D28: 0 | E28: 0 | F28: 0 | G28: 0 | H28: 0 | I28: =SUM(D28:H28) -> 0
... C30: (-) Ações Em Tesouraria | D30: 0 | E30: 0 | F30: 0 | G30: 0 | H30: -1636 | I30: =SUM(D30:H30) -> -1636
C32: Saldo em 31/12/2024 | D32: =D23+SUM(D25:D30) -> 1.9613357e+08 | E32: =E23+SUM(E25:E30) -> -8877149.1 | F32: =F23+SUM(F25:F30) -> 7.7378798e+08 | G32: =G23+SUM(G25:G30) -> -4.388385e+08 | H32: =H23+SUM(H25:H30) -> -1636 | I32: =I23+SUM(I25:I30) -> 5.2220426e+08
C34: Capital Subscrito | D34: 0 | E34: 0 | F34: 0 | G34: 0 | H34: 0 | I34: =SUM(D34:H34) -> 0
C35: Capital a Realizar | D35: 0 | E35: 0 | F35: 0 | G35: 0 | H35: 0 | I35: =SUM(D35:H35) -> 0
C36: Subvenção Governamental/Investimento | D36: 0 | E36: 0 | F36: 0 | G36: 0 | H36: 0 | I36: =SUM(D36:H36) -> 0
C37: Ajuste de Exercícios Anteriores | D37: 0 | E37: 0 | F37: 0 | G37: 0 | H37: 0 | I37: =SUM(D37:H37) -> 0
C38: Resultado do Exercício | D38: 0 | E38: 0 | F38: 0 | G38: 30152528 | H38: 0 | I38: =SUM(D38:H38) -> 30152528
C39: (-) Ações Em Tesouraria | D39: 0 | E39: 0 | F39: 0 | G39: 0 | H39: 0 | I39: =SUM(D39:H39) -> 0
C41: Saldo em 31/03/2025 | D41: =D32+SUM(D34:D39) -> 1.9613357e+08 | E41: =E32+SUM(E34:E39) -> -8877149.1 | F41: =F32+SUM(F34:F39) -> 7.7378798e+08 | G41: =G32+SUM(G34:G39) -> -4.0868597e+08 | H41: =H32+SUM(H34:H39) -> -1636 | I41: =I32+SUM(I34:I39) -> 5.5235679e+08
C43: Capital Subscrito | D43: 0 | E43: 0 | F43: 0 | G43: 0 | H43: 0 | I43: =SUM(D43:H43) -> 0
C44: Capital a Realizar | D44: 0 | E44: 0 | F44: 0 | G44: 0 | H44: 0 | I44: =SUM(D44:H44) -> 0
C45: Subvenção Governamental/Investimento | D45: 0 | E45: 0 | F45: 0 | G45: 0 | H45: 0 | I45: =SUM(D45:H45) -> 0
C46: Ajuste de Exercícios Anteriores | D46: 0 | E46: 0 | F46: 0 | G46: 0 | H46: 0 | I46: =SUM(D46:H46) -> 0
C47: Resultado do Exercício | D47: 0 | E47: 0 | F47: 0 | G47: 53443194 | H47: 0 | I47: =SUM(D47:H47) -> 53443194
C48: (-) Ações Em Tesouraria | D48: 0 | E48: 0 | F48: 0 | G48: 0 | H48: 0 | I48: =SUM(D48:H48) -> 0
C50: Saldo em 30/06/2025 | D50: =D41+SUM(D43:D48) -> 1.9613357e+08 | E50: =E41+SUM(E43:E48) -> -8877149.1 | F50: =F41+SUM(F43:F48) -> 7.7378798e+08 | G50: =G41+SUM(G43:G48) -> -3.5524278e+08 | H50: =H41+SUM(H43:H48) -> -1636 | I50: =I41+SUM(I43:I48) -> 6.0579999e+08
C52: Capital Subscrito | D52: 0 | E52: 0 | F52: 0 | G52: 0 | H52: 0 | I52: =SUM(D52:H52) -> 0
C53: Capital a Realizar | D53: 0 | E53: 0 | F53: 0 | G53: 0 | H53: 0 | I53: =SUM(D53:H53) -> 0
C54: Subvenção Governamental/Investimento | D54: 0 | E54: 0 | F54: 0 | G54: 0 | H54: 0 | I54: =SUM(D54:H54) -> 0
C55: Ajuste de Exercícios Anteriores | D55: 0 | E55: 0 | F55: 0 | G55: 0 | H55: 0 | I55: =SUM(D55:H55) -> 0
C56: Resultado do Exercício | D56: 0 | E56: 0 | F56: 0 | G56: 42270901 | H56: 0 | I56: =SUM(D56:H56) -> 42270901
...

Sheet DRE 
A2: AGÊNCIA GOIANA DE HABITAÇÃO S/A
A3: CNPJ: 01.274.240/0001-47
A4: 30 de Setembro de 2025
A5: (Valores expressos em milhares de reais)
C7: DEMONSTRAÇÃO DO RESULTADO DO EXERCÍCIO (DRE)
C10: DESCRIÇÃO | D10: Nota | E10: 45930 | F10: 45657 | G10: 45565
C11: RECEITA OPERACIONAL BRUTA | D11: 23.1 | E11: =SUM(E12:E16) -> 1666898.1 | F11: =SUM(F12:F16) -> 5537585.8 | G11: =SUM(G12:G16) -> 1186996.5
C12: Receita de Alienação de Bens Imóveis (1) | E12: 383299.75 | F12: 831261.2 | G12: 10110.37
C13: Receitas Bruta de Serviço (2) | E13: 1283598.3 | F13: 4706324.6 | G13: 1176886.2
E14: 0 | F14: 0 | G14: 0
E15: 0 | F15: 0 | G15: 0
C17: (-)Impostos Incidentes e Desvinculações (3) | D17: 23.1 | E17: -184922.77 | F17: =-670651.26-1098649.27 -> -1769300.5 | G17: -169701.27
C19: (=) RECEITA OPERACIONAL LÍQUIDA | D19: 23.1 | E19: =E11+E17 -> 1481975.3 | F19: =F11+F17 -> 3768285.3 | G19: =G11+G17 -> 1017295.3
C21: OUTRAS RECEITAS | D21: 23.2 | E21: =E22 -> 1.8654652e+08 | F21: =F22 -> 4.4716681e+08 | G21: =G22 -> 1.0477196e+08
C22: SUBVENÇÃO GOVERNAMENTAL | E22: =SUM(E23:E25) -> 1.8654652e+08 | F22: =SUM(F23:F25) -> 4.4716681e+08 | G22: =SUM(G23:G25) -> 1.0477196e+08
C23: Subvenção de Custeio - Recursos Tesouro Estadual (a) | E23: 23129033 | F23: =72678517.43-244265.69 -> 72434252 | G23: 18401981
C24: Subvenção Programas Habitacionais - Recursos Tesouro Estadual (b) | E24: 1.63302e+08 | F24: 3.7383887e+08 | G24: 86291247
C25: Subvenção Programas Habitacionais - Recursos União (c) | E25: 115493.86 | F25: 893695.85 | G25: 78736.47
C27: CUSTO DOS SERVIÇOS PRESTADOS | D27: 23.3 | E27: =E29+E34 -> -1.3850332e+08 | F27: =F29+F34 -> -2.8804089e+08 | G27: =G29+G34 -> -21537633
C29: APLICAÇÃO PROGRAMAS HABITACIONAIS | D29: 23.3.1 | E29: =SUM(E30:E31) -> -1.2111518e+08 | F29: =SUM(F30:F31) -> -2.271937e+08 | G29: =SUM(G30:G31) -> -6237449.6
C30: Com Recursos - União (a) | E30: -235960.62 | F30: -766542.46 | G30: -256888.44
C31: Com Recursos - Tesouro Estadual (b) | E31: =-4979.62-120874238.73 -> -1.2087922e+08 | F31: -2.2642716e+08 | G31: -5980561.1
C34: OUTROS CUSTO DOS SERVIÇOS PRESTADOS | D34: 23.3.2 | E34: =SUM(E35:E39) -> -17388136 | F34: =SUM(F35:F39) -> -60847185 | G34: =SUM(G35:G39) -> -15300183
C35: Mão de Obra (a) | E35: -14185809 | F35: -51702797 | G35: -12782294
C36: Serviços de Terceiros (b) | E36: -2951352.6 | F36: -7716428.2 | G36: -1673174.1
C37: Outros Custos Operacionais (c) | E37: =-248237.22-2737.53 -> -250974.75 | F37: =-20604.17-723971.25 -> -744575.42 | G37: =-850-2730.47-166392.5 -> -169972.97
C38: Custo com Obras Administradas (d) | E38: 0 | F38: -683385.05 | G38: -674742.52
C42: (=) RESULTADO OPERACIONAL BRUTO | E42: =E19+E21+E27 -> 49525183 | F42: =F19+F21+F27 -> 1.6289421e+08 | G42: =G19+G21+G27 -> 84251627
C44: DESPESAS OPERACIONAIS | D44: 23.4 | E44: =SUM(E45:E49) -> -7850127.4 | F44: =SUM(F45:F49) -> -16849557 | G44: =SUM(G45:G49) -> -4723544.4
C45: Despesas com Pessoal (a) | E45: -3678852.1 | F45: -13477399 | G45: =-3394065.11 -> -3394065.1
C46: Serviço de Terceiros (b) | E46: -906076.58 | F46: -2461170.1 | G46: -643614.03
C47: Despesas Gerais Administrativas (c) | E47: -1438190.6 | F47: -822530.46 | G47: -210211.87
C48: Despesas Tributárias (d) | E48: -113161.04 | F48: -143256.18 | G48: -17961.19
C49: Outras Receitas e Outras Despesas Operacionais (e) | E49: =165847.5-1879694.57 -> -1713847.1 | F49: =-3021932.55+3076730.79 -> 54798.24 | G49: =3495.4-461187.64 -> -457692.24
C51: (=) RESULTADO OPERACIONAL | E51: =E42+E44 -> 41675055 | F51: =F42+F44 -> 1.4604465e+08 | G51: =G42+G44 -> 79528083
C53: RESULTADO FINANCEIRO LÍQUIDO | D53: 23.5 | E53: =E54+E55 -> 595845.52 | F53: =F54+F55 -> 905982.89 | G53: =G54+G55 -> 196786.78
C54: Receitas Financeiras | E54: 603408.71 | F54: 1037746.6 | G54: 204542.06
C55: Despesas Financeiras | E55: -7563.19 | F55: -131763.7 | G55: -7755.28
C57: (=) RESULTADO OPERACIONAL LÍQUIDO | E57: =E51+E53 -> 42270901 | F57: =F51+F53 -> 1.4695064e+08 | G57: =G51+G53 -> 79724869
C59: PROVISÃO IRPJ E CSLL | E59: =E60+E61 -> 0 | F59: =F60+F61 -> 0 | G59: =G60+G61 -> 0
...

Sheet DFC
A3: AGÊNCIA GOIANA DE HABITAÇÃO S/A
A4: CNPJ: 01.274.240/0001-47
A5: 30 de Setembro de 2025
A6: (Valores expressos em milhares de reais)
B8: DEMONSTRAÇÃO DOS FLUXOS DE CAIXA - MÉTODO INDIRETO (DFC)
B10: DESCRIÇÃO | D10: 45930 | E10: 45657 | F10: 45565
B12: Atividades Operacionais | C12: 24.1
B13: Lucro Líquido | D13: ='DRE '!E63 -> 42270901 | E13: ='DRE '!F63 -> 1.4695064e+08 | F13: ='DRE '!G63 -> 79724869
B14: Ajustes de: | D14: =D15 -> 527964.78 | E14: =E15 -> 1356535.2 | F14: =F15 -> 365904.5
B15: Depreciação e Amortização | D15: 527964.78 | E15: 1356535.2 | F15: 365904.5
B16: Variação no Capital Circulante e Não Circulante | D16: =SUM(D17:D31) -> -425537.69 | E16: =SUM(E17:E31) -> -1.3156185e+08 | F16: =SUM(F17:F31) -> -69552815
B17: Aumento/Redução em Contas a Receber | D17: 10022.25 | E17: =-391399.9+404284.69 -> 12884.79 | F17: 10833.9 | I17: 0
B18: Aumento/Redução em Adiantamento a Obras | D18: ='BP Balanço Patrimonial'!G18-'BP Balanço Patrimonial'!F18 -> 0 | E18: =-8573488.46+10002080.36 -> 1428591.9 | F18: =-8573488.46+10002080.36 -> 1428591.9
B19: Aumento/Redução em Antecipações a Empregados | D19: -56563.48 | E19: -76454.73 | F19: -197823.52
B20: Aumento/Redução em Tributos a Recuperar | D20: -75041.75 | E20: =-443064.49+347761.64 -> -95302.85 | F20: -70579.28
B21: Aumento/Redução em Despesas Antecipadas | D21: 2667.53 | E21: =-8988.41+8993.55 -> 5.14 | F21: 2660.47
B22: Aumento/Redução em Estoque de Bens do almoxarifado | D22: -26741.96 | E22: =-105608.83+67070.7 -> -38538.13 | F22: -22274.07 | K22: 0
B23: Aumento/Redução em Obrigações Trabalhistas | D23: 18350.5 | E23: -47459.25 | F23: -122453.75
B24: Aumento/Redução em Obrigações Sociais | D24: 649443.29 | E24: =532490.97-1688717.03 -> -1156226.1 | F24: 1048625.6
B25: Aumento/Redução em Obrigações Tributárias | D25: 257454.9 | E25: =142469.06-88490.61 -> 53978.45 | F25: 181233.16
B26: Aumento/Redução em Contas a Pagar | D26: 16976637 | E26: =1135742.17-1114304.6 -> 21437.57 | F26: 13876286
B27: Aumento/Redução em Tributos Parcelados | D27: 0 | E27: -78411.32 | F27: 0
B28: Aumento/Redução em Provisões Trabalhistas | D28: 736716.85 | E28: =6273793.41-4949438.74 -> 1324354.7 | F28: 849897.07
B29: Aumento/Redução em Subvenção Governamental a Realizar | D29: -26804343 | E29: =159913896.67-292343011.91 -> -1.3242912e+08 | F29: -86046665
B30: Aumento/Redução em Cauções a Restituir | D30: 0 | E30: =-1483.37 -> -1483.37 | F30: 0
B31: Aumento/Redução em Créditos Vinculados Convênios | D31: 7885859.7 | E31: =4427110.7-4907226.6 -> -480115.9 | F31: -491147.51
B32: ( = ) Caixa Líquido Consumido nas Atividades Operacionais | D32: =D13+D14+D16 -> 42373328 | E32: =E13+E14+E16 -> 16745317 | F32: =F13+F14+F16 -> 10537959
B35: Atividades De Investimento | C35: 24.2
B36: Aquisição/Venda de Imobilizado | D36: -639091.01 | E36: =-49506.7-2795505.12 -> -2845011.8 | F36: -682958.51
B37: Baixa de Imobilizado | D37: 10338.1 | E37: 0 | F37: 0
B38: ( = ) Caixa Líquido Consumido nas Atividades de Investimentos | D38: =SUM(D36:D37) -> -628752.91 | E38: =SUM(E36:E37) -> -2845011.8 | F38: =SUM(F36:F37) -> -682958.51
B41: Atividades de Financiamento | C41: 24.3
B42: Aumento/Redução Devedores com Vendas Compromissadas | E42: =-91991.72+124608.88 -> 32617.16 | F42: 0
B43: Aumento/Redução Unidades Residenciais Programas de Governo | D43: =953012.33-861627.54 -> 91384.79 | E43: 0 | F43: 0
B44: Aumento/Redução Terrenos Edificações ou Urbanização | D44: 0 | E44: =-2213981.33+2224352.37 -> 10371.04 | F44: 1728.51
B45: Aumento/Redução Tributos a Recuperar | D45: 407913.94 | E45: =-332902.37+994457.27 -> 661554.9 | F45: 714507.77
B46: Aumento/Redução em Obras em Andamento Programas Habitacionais | D46: -60161802 | E46: =-505633074.85+359510092.36 -> -1.4612298e+08 | F46: -94055898
B47: Aumento/Redução em Contingencias Judiciais | D47: -3798.74 | E47: =2088000-4869957.91 -> -2781957.9 | F47: -8216.52
B48: Aquisição de ações para tesouraria | D48: 0 | E48: -1636 | F48: 0
B49: ( = ) Caixa Líquido Consumido nas Atividades de Financiamento | D49: =SUM(D42:D48) -> -59666302 | E49: =SUM(E42:E48) -> -1.4820203e+08 | F49: =SUM(F42:F48) -> -93347879
...

Sheet DVA
B2: AGÊNCIA GOIANA DE HABITAÇÃO S/A
B3: CNPJ: 01.274.240/0001-47
B4: 30 de Setembro de 2025
B5: (Valores expressos em milhares de reais)
B7: DEMONSTRAÇÃO DO VALOR ADICIONADO (DVA)
B9: DESCRIÇÃO | D9: 45930 | E9: 45657 | F9: 45565
B10: RECEITAS | C10: 25.1 | D10: =SUM(D11:D16) -> 1.8837927e+08 | E10: =SUM(E11:E16) -> 4.5468248e+08 | F10: =SUM(F11:F16) -> 1.0596246e+08
B11: Receita de Alienação de Bens Imóveis | D11: ='DRE '!E12 -> 383299.75 | E11: ='DRE '!F12 -> 831261.2 | F11: ='DRE '!G12 -> 10110.37
B12: Receita Bruta de Serviço | D12: 1283598.3 | E12: ='DRE '!F13-1098649.27 -> 3607675.4 | F12: 1176886.2
B13: Subvenção de Custeio - Recursos Tesouro Estadual | D13: ='DRE '!E23 -> 23129033 | E13: ='DRE '!F23 -> 72434252 | F13: ='DRE '!G23 -> 18401981
B14: Subvenção Programas Habitacionais - Recursos Tesouro Estadual | D14: ='DRE '!E24 -> 1.63302e+08 | E14: ='DRE '!F24 -> 3.7383887e+08 | F14: ='DRE '!G24 -> 86291247
B15: Subvenção Programas Habitacionais - Recursos União | D15: ='DRE '!E25 -> 115493.86 | E15: ='DRE '!F25 -> 893695.85 | F15: ='DRE '!G25 -> 78736.47
B16: Outras Receitas | D16: 165847.5 | E16: 3076730.8 | F16: 3495.4
B19: (-)INSUMOS ADQUIRIDOS DE TERCEIROS | C19: 25.2 | D19: =SUM(D20:D23) -> 1.2806655e+08 | E19: =SUM(E20:E23) -> 2.4151449e+08 | F19: =SUM(F20:F23) -> 9737229.3
B20: Materiais, Energia, Serviços de Terceiros e Outros | D20: 1.2666177e+08 | E20: 2.3962179e+08 | F20: 9609165.1
B21: Perda/Recuperação de Valores Ativos | D21: 10447.62 | E21: 349573.04 | F21: 11197.16
B22: Outras Despesas | D22: 1386769.1 | E22: 1411355.1 | F22: 109111.75
B23: Despesas Financeiras | D23: 7563.19 | E23: 131763.7 | F23: =-'DRE '!G55 -> 7755.28
B25: (=)VALOR ADICIONADO BRUTO | C25: 25.2 | D25: =D10-D19 -> 60312715 | E25: =E10-E19 -> 2.13168e+08 | F25: =F10-F19 -> 96225227
B27: (-)RETENÇÕES | C27: 25.2 | D27: =SUM(D28:D28) -> 482477.86 | E27: =SUM(E28:E28) -> 1261004.4 | F27: =SUM(F28:F28) -> 340878.73
B28: Depreciação, Amortização e Exaustão | D28: 482477.86 | E28: 1261004.4 | F28: 340878.73
B30: (=)VALOR ADICIONADO LÍQUIDO PRODUZIDO PELA ENTIDADE | C30: 25.2 | D30: =D25-D27 -> 59830237 | E30: =E25-E27 -> 2.1190699e+08 | F30: =F25-F27 -> 95884349
B32: (+)VALOR ADICIONADO RECEBIDO EM TRANSFERÊNCIA | C32: 25.2 | D32: =D33 -> 603408.71 | E32: =E33 -> 1037746.6 | F32: =F33 -> 204542.06
B33: Receitas Financeiras | D33: ='DRE '!E54 -> 603408.71 | E33: ='DRE '!F54 -> 1037746.6 | F33: ='DRE '!G54 -> 204542.06
B35: (=)VALOR ADICIONADO TOTAL A DISTRIBUIR | C35: 25.2 | D35: =D30+D32 -> 60433646 | E35: =E30+E32 -> 2.1294474e+08 | F35: =F30+F32 -> 96088891
B37: (+)DISTRIBUIÇÃO DO VALOR ADICIONADO | C37: 25.3 | D37: =D38+D39+D40 -> 60433646 | E37: =E38+E39+E40 -> 2.1294474e+08 | F37: =F38+F39+F40 -> 96088891
B38: Pessoal e Encargos | D38: =-'DRE '!E35-'DRE '!E45 -> 17864661 | E38: =51702796.55+13477398.65 -> 65180195 | F38: =-'DRE '!G35-'DRE '!G45 -> 16176359
B39: Impostos, Taxas e Contribuições | D39: 298083.81 | E39: 813907.44 | F39: 187662.46
B40: Lucros Retidos/Prejuízos do Exercício | D40: ='DRE '!E63 -> 42270901 | E40: ='DRE '!F63 -> 1.4695064e+08 | F40: ='DRE '!G63 -> 79724869
B42: Goiânia-Goiás, 30 de Setembro de 2025
B44: Reconhecemos a exatidão da presente Demonstração do Valor Adicionado - Nota Explicativa nº 25

Sheet DRA
F2: AGÊNCIA GOIANA DE HABITAÇÃO S/A
F3: CNPJ: 01.274.240/0001-47
F4: 30 de Setembro de 2025
F5: (Valores expressos em milhares de reais)
G9: DEMONSTRAÇÃO DO RESULTADO ABRANGENTE (DRA)
G11: DESCRIÇÃO | H11: 45930 | I11: 45657 | J11: 45565
G12: RESULTADO LÍQUIDO DO PERÍODO | H12: ='DRE '!E63 -> 42270901 | I12: ='DRE '!F63 -> 1.4695064e+08 | J12: ='DRE '!G63 -> 79724869
G14: Outros resultados abrangentes classificados conforme sua natureza (outras receitas e outras despesas abrangentes) | H14: 0 | I14: 0 | J14: 0
G15: Parcela dos outros resultados abrangentes de empresas investidas reconhecida por meio do método de equivalência patrimonial | H15: 0 | I15: 0 | J15: 0
G17: RESULTADO ABRANGENTE DO PERÍODO | H17: =SUM(H12:H15) -> 42270901 | I17: =SUM(I12:I15) -> 1.4695064e+08 | J17: =SUM(J12:J15) -> 79724869
G20: Goiânia-Goiás, 30 de Setembro de 2025
G23: Reconhecemos a exatidão da presente Demonstração do Resultado Abrangente - Nota Explicativa nº 26
